{"text_format":"1","workbook":"xlsx","n_sheets":22,"sheets":["Setup & Instructions","Video Tutorials","My Settings","eBay SELLING","eBay BUYING","Profit Chart","Profit & Loss","Expenses","Mileage","Inventory","Monthly Summary","Yearly Summary","Clients","Invoices","Checks","Donations","eBay Fees","Formulas","Pivot Tables","References","Yearly Summary 2","Config"],"not_rendered":{"charts":3,"images":12,"macros":1,"external_links":0,"defined_names":70,"comments":10,"pivot_tables":8},"unopened":[{"sheet":"Profit Chart","index":5,"reason":"not_a_worksheet"}],"bounds":{"document_bytes":16777216,"sheet_cells":100000,"rows_first":2000,"rows_last":500,"rows_between":2000,"halvings":0,"cell_chars":16384,"cell_head_chars":4096},"cells_cut":0,"cells_raw":0,"read":"whole","date_system":"1900"}

{"sheet":"Setup & Instructions","index":0,"n_rows":1728,"n_cols":4,"rows_kept":1728,"cut":false,"hidden":false,"merged":[[11,1,11,2],[13,1,13,2]]}
[null,"Version","2019A"]
[null,null,"Disclaimer"]
[null,null,"The information contained in this spreadsheet is for general information purposes only. The information is provided by \"Easy Auctions Tracker\" and while we strive to provide you with a high quality product, we make no representations or warranties of any kind, express or implied, about the completeness, accuracy, reliability, suitability or availability with respect to the spreadsheet or the information, products, services, or related graphics contained in this workbook for any purpose. Any reliance you place on such information is therefore strictly at your own risk."]
[]
[null,null,"In no event will we be liable for any loss or damage including without  imitation, indirect or consequential loss or damage, or any loss or damage whatsoever arising from loss of data or profits arising out of, or in connection with, the use of this spreadsheet."]
[]
[null,null,"Through this spreadsheet you are able to link to other websites which are not under the control of \"Easy Auctions Tracker.\" We have no control over the nature, content and availability of those sites. The inclusion of any links does not necessarily imply a recommendation or endorsement of the views expressed within them."]
[]
[null,null,"Every effort is made to keep the spreadsheet up and running smoothly. However, \"Easy Auctions Tracker\" takes no responsibility for, and will not be liable for, the spreadsheet being temporarily unavailable due to technical issues beyond our control."]
[]
[]
[null,"Quick Setup Buttons for Experienced Easy Auctions Tracker Users \n(New Users: Please see detailed step-by-step instructions below)"]
[]
[null,"Select Country :                                                   US Users Select Your State:"]
[null,"Warning: Do not change the country after you have setup the spreadsheet. This will cause errors in your data."]
[]
[]
[]
[null,"Step 1:","Depending of the version of Excel you are using, the security warning may not be displayed as shown below. Macros must be enabled for the spreadsheet work. Click on the button in step 3 to create your Authentication Token. If a \"Create Token\" window is displayed, your macros are running and everything will work. If the \"Create Token\" window does not appear, macros are most likely disabled. Please visit the Microsoft page to get the instructions on how to enable macros for your version of Excel. "]
[]
[]
[]
[null,null,"For Excel 2007: Enable Macro Instructions "]
[null,null,"For Excel 2010/2013/2016: Enable Macro Instructions "]
[]
[null,null,"For Excel 2007"]
[]
[null,null,"Click on the Options button "]
[]
[]
[]
[]
[]
[]
[]
[]
[]
[]
[]
[]
[]
[]
[]
[]
[null,null,"Select the \"Trust all documents from this publisher\" option and click OK"]
[]
[]
[]
[]
[]
[]
[]
[]
[]
[]
[]
[]
[]
[]
[]
[]
[]
[]
[]
[]
[]
[]
[null,null,"For Excel 2010/2013/2016/2019 Office 365 PC Install"]
[]
[null,null,"Click on the text “ Enable Content\" Button."]
[]
[]
[]
[]
[]
[]
[]
[]
[]
[]
[]
[]
[]
[]
[]
[]
[null,"Step 2:","Click on the \"Create Auth Token\" button, and follow the prompts to complete setup."]
[null,null,"You must complete both Steps 1 & 2 in the \"Create Token\" popup window. After agreeing to link our spreadsheet "]
[null,null,"to your eBay account amd retrieved the token. You will then be prompted for a spreadsheet username to "]
[null,null,"associate with your new token. You will get a \"token created successfully\" message when everything is setup"]
[null,null,"correctly. Note: this can be any name, it does not need to be your eBay user ID."]
[]
[null,null,"Select Country :                                                   US Users Select Your State:"]
[]
[null,"Warning: Do not change the country after you have setup the spreadsheet. This will cause errors in your data."]
[]
[]
[null,"Step 3:","Select the \"eBay Selling\" tab near the bottom of your screen. All of the controls to import your transaction"]
[null,null," information are located on this tab. The two methods of importing your data are described in Step 4:"]
[]
[]
[]
[]
[]
[]
[]
[]
[null,"Step 4:","To import your transaction information for a entire month, select the Month, Year and User for which you want to retrieve your sold & unsold items. "]
[null,null,"(This was the month the listing was last modified, such as shipped or feedback left/received for the item.)"]
[null,null,"Then click on the  \"Get All Items\" button ** Please note: only sold items which have been marked as shipped in your eBay account will be pulled into the spreadsheet."]
[]
[]
[]
[]
[]
[]
[]
[]
[]
[]
[]
[]
[null,null,"OR to retrieve just a single item, by selecting the Month, Year and User for which you want to retrieve your sold items. "]
[null,null,"Then click on the  \"Get Item\" button. Note: Unsold items are only retrieved when the \"Get All Items\" button is used."]
[]
[]
[]
[null,"Step 5:","Verify the retrieved information against eBay's records in My eBay, Selling Manager, etc."]
[]
[]
[]
[null,"Step 6:","To purchase the full version"]
[null,null,"This is a trial program and will only retrieve information from Jan/Apr/Jul/Oct of 2019 from eBay."]
[null,null,"To purchase this year's full version please visit"]
[null,null,"https://www.easyauctionstracker.com/"]
[]
[]
[]
[null,"Step 7:","Enter Payment Information to unlock all of 2019"]
[]
[null,null,"                                                         Lookup Your Unlock Key at:  "]
[null,null,"                                                         https://easyauctionstracker.com/unlock-code/"]
[]
[]
[null,"Step 8:","If you are already using a previous 2019 version of this spreadsheet, you can use the \"Migrate My Information\" button to move your data to this new version. It will also move your token and unlock key."]
[]
[null,null,"***DO NOT MIGRATE WITH YOUR 2019 VERSION****"]
[]
[]
[]
[]
[]
[]
[]
[]
[]
[]
[]
[]
[]
[]
[]
[]
[]
[]
[]
[]
[]
[]
[]
[]
[]
[]
[]
[]
[]
[]
[]
[]
[]
[]
[]
[]
[]
[]
[]
[]
[]
[]
[]
[]
[]
[]
[]
[]
[]
[]
[]
[]
[]
[]
[]
[]
[]
[]
[]
[]
[]
[]
[]
[]
[]
[]
[]
[]
[]
[]
[]
[]
[]
[]
[]
[]
[]
[]
[]
[]
[]
[]
[]
[]
[]
[]
[]
[]
[]
[]
[]
[]
[]
[]
[]
[]
[]
[]
[]
[]
[]
[]
[]
[]
[]
[]
[]
[]
[]
[]
[]
[]
[]
[]
[]
[]
[]
[]
[]
[]
[]
[]
[]
[]
[]
[]
[]
[]
[]
[]
[]
[]
[]
[]
[]
[]
[]
[]
[]
[]
[]
[]
[]
[]
[]
[]
[]
[]
[]
[]
[]
[]
[]
[]
[]
[]
[]
[]
[]
[]
[]
[]
[]
[]
[]
[]
[]
[]
[]
[]
[]
[]
[]
[]
[]
[]
[]
[]
[]
[]
[]
[]
[]
[]
[]
[]
[]
[]
[]
[]
[]
[]
[]
[]
[]
[]
[]
[]
[]
[]
[]
[]
[]
[]
[]
[]
[]
[]
[]
[]
[]
[]
[]
[]
[]
[]
[]
[]
[]
[]
[]
[]
[]
[]
[]
[]
[]
[]
[]
[]
[]
[]
[]
[]
[]
[]
[]
[]
[]
[]
[]
[]
[]
[]
[]
[]
[]
[]
[]
[]
[]
[]
[]
[]
[]
[]
[]
[]
[]
[]
[]
[]
[]
[]
[]
[]
[]
[]
[]
[]
[]
[]
[]
[]
[]
[]
[]
[]
[]
[]
[]
[]
[]
[]
[]
[]
[]
[]
[]
[]
[]
[]
[]
[]
[]
[]
[]
[]
[]
[]
[]
[]
[]
[]
[]
[]
[]
[]
[]
[]
[]
[]
[]
[]
[]
[]
[]
[]
[]
[]
[]
[]
[]
[]
[]
[]
[]
[]
[]
[]
[]
[]
[]
[]
[]
[]
[]
[]
[]
[]
[]
[]
[]
[]
[]
[]
[]
[]
[]
[]
[]
[]
[]
[]
[]
[]
[]
[]
[]
[]
[]
[]
[]
[]
[]
[]
[]
[]
[]
[]
[]
[]
[]
[]
[]
[]
[]
[]
[]
[]
[]
[]
[]
[]
[]
[]
[]
[]
[]
[]
[]
[]
[]
[]
[]
[]
[]
[]
[]
[]
[]
[]
[]
[]
[]
[]
[]
[]
[]
[]
[]
[]
[]
[]
[]
[]
[]
[]
[]
[]
[]
[]
[]
[]
[]
[]
[]
[]
[]
[]
[]
[]
[]
[]
[]
[]
[]
[]
[]
[]
[]
[]
[]
[]
[]
[]
[]
[]
[]
[]
[]
[]
[]
[]
[]
[]
[]
[]
[]
[]
[]
[]
[]
[]
[]
[]
[]
[]
[]
[]
[]
[]
[]
[]
[]
[]
[]
[]
[]
[]
[]
[]
[]
[]
[]
[]
[]
[]
[]
[]
[]
[]
[]
[]
[]
[]
[]
[]
[]
[]
[]
[]
[]
[]
[]
[]
[]
[]
[]
[]
[]
[]
[]
[]
[]
[]
[]
[]
[]
[]
[]
[]
[]
[]
[]
[]
[]
[]
[]
[]
[]
[]
[]
[]
[]
[]
[]
[]
[]
[]
[]
[]
[]
[]
[]
[]
[]
[]
[]
[]
[]
[]
[]
[]
[]
[]
[]
[]
[]
[]
[]
[]
[]
[]
[]
[]
[]
[]
[]
[]
[]
[]
[]
[]
[]
[]
[]
[]
[]
[]
[]
[]
[]
[]
[]
[]
[]
[]
[]
[]
[]
[]
[]
[]
[]
[]
[]
[]
[]
[]
[]
[]
[]
[]
[]
[]
[]
[]
[]
[]
[]
[]
[]
[]
[]
[]
[]
[]
[]
[]
[]
[]
[]
[]
[]
[]
[]
[]
[]
[]
[]
[]
[]
[]
[]
[]
[]
[]
[]
[]
[]
[]
[]
[]
[]
[]
[]
[]
[]
[]
[]
[]
[]
[]
[]
[]
[]
[]
[]
[]
[]
[]
[]
[]
[]
[]
[]
[]
[]
[]
[]
[]
[]
[]
[]
[]
[]
[]
[]
[]
[]
[]
[]
[]
[]
[]
[]
[]
[]
[]
[]
[]
[]
[]
[]
[]
[]
[]
[]
[]
[]
[]
[]
[]
[]
[]
[]
[]
[]
[]
[]
[]
[]
[]
[]
[]
[]
[]
[]
[]
[]
[]
[]
[]
[]
[]
[]
[]
[]
[]
[]
[]
[]
[]
[]
[]
[]
[]
[]
[]
[]
[]
[]
[]
[]
[]
[]
[]
[]
[]
[]
[]
[]
[]
[]
[]
[]
[]
[]
[]
[]
[]
[]
[]
[]
[]
[]
[]
[]
[]
[]
[]
[]
[]
[]
[]
[]
[]
[]
[]
[]
[]
[]
[]
[]
[]
[]
[]
[]
[]
[]
[]
[]
[]
[]
[]
[]
[]
[]
[]
[]
[]
[]
[]
[]
[]
[]
[]
[]
[]
[]
[]
[]
[]
[]
[]
[]
[]
[]
[]
[]
[]
[]
[]
[]
[]
[]
[]
[]
[]
[]
[]
[]
[]
[]
[]
[]
[]
[]
[]
[]
[]
[]
[]
[]
[]
[]
[]
[]
[]
[]
[]
[]
[]
[]
[]
[]
[]
[]
[]
[]
[]
[]
[]
[]
[]
[]
[]
[]
[]
[]
[]
[]
[]
[]
[]
[]
[]
[]
[]
[]
[]
[]
[]
[]
[]
[]
[]
[]
[]
[]
[]
[]
[]
[]
[]
[]
[]
[]
[]
[]
[]
[]
[]
[]
[]
[]
[]
[]
[]
[]
[]
[]
[]
[]
[]
[]
[]
[]
[]
[]
[]
[]
[]
[]
[]
[]
[]
[]
[]
[]
[]
[]
[]
[]
[]
[]
[]
[]
[]
[]
[]
[]
[]
[]
[]
[]
[]
[]
[]
[]
[]
[]
[]
[]
[]
[]
[]
[]
[]
[]
[]
[]
[]
[]
[]
[]
[]
[]
[]
[]
[]
[]
[]
[]
[]
[]
[]
[]
[]
[]
[]
[]
[]
[]
[]
[]
[]
[]
[]
[]
[]
[]
[]
[]
[]
[]
[]
[]
[]
[]
[]
[]
[]
[]
[]
[]
[]
[]
[]
[]
[]
[]
[]
[]
[]
[]
[]
[]
[]
[]
[]
[]
[]
[]
[]
[]
[]
[]
[]
[]
[]
[]
[]
[]
[]
[]
[]
[]
[]
[]
[]
[]
[]
[]
[]
[]
[]
[]
[]
[]
[]
[]
[]
[]
[]
[]
[]
[]
[]
[]
[]
[]
[]
[]
[]
[]
[]
[]
[]
[]
[]
[]
[]
[]
[]
[]
[]
[]
[]
[]
[]
[]
[]
[]
[]
[]
[]
[]
[]
[]
[]
[]
[]
[]
[]
[]
[]
[]
[]
[]
[]
[]
[]
[]
[]
[]
[]
[]
[]
[]
[]
[]
[]
[]
[]
[]
[]
[]
[]
[]
[]
[]
[]
[]
[]
[]
[]
[]
[]
[]
[]
[]
[]
[]
[]
[]
[]
[]
[]
[]
[]
[]
[]
[]
[]
[]
[]
[]
[]
[]
[]
[]
[]
[]
[]
[]
[]
[]
[]
[]
[]
[]
[]
[]
[]
[]
[]
[]
[]
[]
[]
[]
[]
[]
[]
[]
[]
[]
[]
[]
[]
[]
[]
[]
[]
[]
[]
[]
[]
[]
[]
[]
[]
[]
[]
[]
[]
[]
[]
[]
[]
[]
[]
[]
[]
[]
[]
[]
[]
[]
[]
[]
[]
[]
[]
[]
[]
[]
[]
[]
[]
[]
[]
[]
[]
[]
[]
[]
[]
[]
[]
[]
[]
[]
[]
[]
[]
[]
[]
[]
[]
[]
[]
[]
[]
[]
[]
[]
[]
[]
[]
[]
[]
[]
[]
[]
[]
[]
[]
[]
[]
[]
[]
[]
[]
[]
[]
[]
[]
[]
[]
[]
[]
[]
[]
[]
[]
[]
[]
[]
[]
[]
[]
[]
[]
[]
[]
[]
[]
[]
[]
[]
[]
[]
[]
[]
[]
[]
[]
[]
[]
[]
[]
[]
[]
[]
[]
[]
[]
[]
[]
[]
[]
[]
[]
[]
[]
[]
[]
[]
[]
[]
[]
[]
[]
[]
[]
[]
[]
[]
[]
[]
[]
[]
[]
[]
[]
[]
[]
[]
[]
[]
[]
[]
[]
[]
[]
[]
[]
[]
[]
[]
[]
[]
[]
[]
[]
[]
[]
[]
[]
[]
[]
[]
[]
[]
[]
[]
[]
[]
[]
[]
[]
[]
[]
[]
[]
[]
[]
[]
[]
[]
[]
[]
[]
[]
[]
[]
[]
[]
[]
[]
[]
[]
[]
[]
[]
[]
[]
[]
[]
[]
[]
[]
[]
[]
[]
[]
[]
[]
[]
[]
[]
[]
[]
[]
[]
[]
[]
[]
[]
[]
[]
[]
[]
[]
[]
[]
[]
[]
[]
[]
[]
[]
[]
[]
[]
[]
[]
[]
[]
[]
[]
[]
[]
[]
[]
[]
[]
[]
[]
[]
[]
[]
[]
[]
[]
[]
[]
[]
[]
[]
[]
[]
[]
[]
[]
[]
[]
[]
[]
[]
[]
[]
[]
[]
[]
[]
[]
[]
[]
[]
[]
[]
[]
[]
[]
[]
[]
[]
[]
[]
[]
[]
[]
[]
[]
[]
[]
[]
[]
[]
[]
[]
[]
[]
[]
[]
[]
[]
[]
[]
[]
[]
[]
[]
[]
[]
[]
[]
[]
[]
[]
[]
[]
[]
[]
[]
[]
[]
[]
[]
[]
[]
[]
[]
[]
[]
[]
[]
[]
[]
[]
[]
[]
[]
[]
[]
[]
[]
[]
[]
[]
[]
[]
[]
[]
[]
[]
[]
[]
[]
[]
[]
[]
[]
[]
[]
[]
[]
[]
[]
[]
[]
[]
[]
[]
[]
[]
[null,null,null,0]

{"sheet":"Video Tutorials","index":1,"n_rows":29,"n_cols":5,"rows_kept":29,"cut":false,"hidden":true,"merged":[[28,4,28,11]]}
[]
[]
[]
[]
[]
[]
[]
[]
[]
[]
[]
[]
[]
[]
[]
[]
[]
[]
[]
[]
[]
[]
[]
[]
[]
[]
[]
[]
[null,null,null,null,"If you can't see these videos, go to https://easyauctionstracker.com/videos/"]

{"sheet":"My Settings","index":2,"n_rows":78,"n_cols":18,"rows_kept":78,"cut":false,"hidden":false,"merged":[[55,8,59,8],[0,2,0,8]]}
[null,null,"This tab is optional, but will allow you to customize the way the data is displayed on the eBay Selling tab.  It also gives you five blank fields to use for your own purposes.\n\nYou can change the column letter in Column “G” below to rearrange the order (a dropdown will appear when you click on the cell). If any of the rows are highlighted yellow, it means the column has been selected more than once and must be adjusted.  You can also use column “L” below to determine how many times you assigned each column letter.\n\nIf Cell K1 says 'FALSE', meaning duplicate column selections have been made, the “Apply Changes” button will not make the changes. This checks to be sure each field has been assigned to display in only one column. \n",null,null,null,null,null,null,null,{"$f":"SUMPRODUCT(1/COUNTIF(G3:G60,G3:G60))=COUNTA(G3:G60)","v":true},null,{"$f":"COUNTA(INDIRECT(\"'eBay SELLING'!\"&M3&7):INDIRECT(\"'eBay SELLING'!\"&M3&50000))","v":0}]
[null,null,"Column Label (Fields)","Formula Reference","Format Type","Input Type","Column Letter","Column Number","Description",null,"Do Not Edit","# of Fields Assigned to Column","Temp Column Letter","Temp Column Number","Default Columns",null,"ebay Call","Version"]
[null,null,"SM Record # /User","ItemSMSRNCol",1,2,"A",{"$f":"IF(LEN($G3)>1,IF(LEFT($G3,1)=\"A\",CODE(RIGHT($G3,1))-64+26,CODE(RIGHT($G3,1))-64+52),CODE($G3)-64)","v":1},"Selling Manager Record Number and the Token ID/Spreadsheet Username combined.  If you do not use Selling Manager, it is a sequential number which starts at 1.",null,"A",{"$f":"COUNTIF($G$3:$G$60,K3)","v":1},"A",{"$f":"IF(LEN($M3)>1,IF(LEFT($M3,1)=\"A\",CODE(RIGHT($M3,1))-64+26+58,CODE(RIGHT($M3,1))-64+52+58),CODE($M3)-64+58)","v":59},"A",null,"GetItemTransactions",1085]
[null,null,"eBay Item Number","ItemIDCol",1,2,"B",2,"The ID is generated by eBay after an item is listed. ",null,"B",{"$f":"COUNTIF($G$3:$G$60,K4)","v":1},"B",{"$f":"IF(LEN($M4)>1,IF(LEFT($M4,1)=\"A\",CODE(RIGHT($M4,1))-64+26+58,CODE(RIGHT($M4,1))-64+52+58),CODE($M4)-64+58)","v":60},"B",null,"GetSellerTransactions",1085]
[null,null,"Item Title","ItemTitleCol",1,2,"C",3,"Name of the item as it appears in the listing or search results.",null,"C",1,"C",61,"C",null,"GetOrders",1085]
[null,null,"Order ID","OrderIDCol",5,2,"W",23,"A unique identifier that identifies a single line item or multiple line item order.",null,"D",1,"W",81,"W",null,"GetSellingManagerSaleRecord",1085]
[null,null,"Transaction ID","TransactionIDCol",5,2,"X",24,"Unique identifier for an eBay order line item. An order line item is created once there is a commitment from a buyer to purchase an item. Since an auction listing can only have one order line item during the duration of the listing, the TransactionID for auction listings is always 0.",null,"E",1,"X",82,"X",null,"GetOrderTransactions",1085]
[null,null,{"$f":"CONCATENATE(\"Date Sold              \",IF(Config!B27=0,\"MM/DD/YY\",\"DD/MM/YY\"))","v":"Date Sold              MM/DD/YY"},"DateSoldCol",7,2,"T",20,"Indicates the creation time of the order line item. For auction listings, an order line item is created when that listing ends with a high bidder whose bid meets or exceeds the Reserve Price (if set). For a fixed-price listing or a Buy It Now auction listing, an order line item is created once the buyer clicks the Buy button.",null,"F",1,"T",78,"T",null,"GetAccount",1077]
[null,null,"Auction Type","AuctionTypeCol",1,2,"AD",30,"The type of auction/listing used for an item.",null,"G",1,"AD",88,"AD",null,"GetMyeBaySelling",1081]
[null,null,"My Cost","MyCostCol",2,1,"D",4,"The amount an item cost you to purchase, consignment items would have no cost. ",null,"H",1,"D",62,"D",null,"GetItem",1085]
[null,null,"Purchase Price","TransactionPriceCol",2,2,"E",5,"The amount the buyer paid for an item(s).",null,"I",1,"E",63,"E",null,"GetMyeBayBuying",1027]
[null,null,"S&H Charged","ShippingServiceCostCol",2,2,"F",6,"The amount the buyer paid to ship an item(s).",null,"J",1,"F",64,"F",null,"GetSessionID"]
[null,null,"Refund or Additional Payment","RefundorCreditCol",2,2,"G",7,"The amount of refund (shown as a negative number) or additional payment (shown as a positive number) processed after the initial transaction. ",null,"K",1,"G",65,"G",null,"FetchToken",557]
[null,null,"Qty Sold","QuantityCol",5,2,"H",8,"The number of items purchased by the buyer.",null,"L",1,"H",66,"H"]
[null,null,"Actual Shipping Cost ","ActualShippingCostCol",2,1,"I",9,"The amount you paid to ship an item. This is only retrieved if you use eBay selling manager.",null,"M",1,"I",67,"I"]
[null,null,"Insertion Fees ","EbayInsertionFeeCol",2,2,"J",10,"The fee charged by eBay to list an item for sale.",null,"N",1,"J",68,"J"]
[null,null,"Paypal Fee ","PaypalFeeCol",2,2,"K",11,"The fee charged by Paypal to handle the financial transaction between the seller and buyer.",null,"O",1,"K",69,"K"]
[null,null,"Final Value Fee + Final Value Fee on Shipping ","EbayFinalValueFeeCol",2,2,"L",12,"A seller is charged a Final Value Fee (FVF) when the item is sold, ends with a winning bid, or is purchased. This fee applies whether or not the sale is completed with the buyer and is generated before the buyer makes a payment.",null,"P",1,"L",70,"L"]
[null,null,"Net Profit or Loss ","NetProfitCol",2,0,"M",13,"The profit you made on an item after all fees and shipping costs are deducted.",null,"Q",1,"M",71,"M"]
[null,null,"Payment Method","PaymentMethodUsedCol",1,2,"Q",17,"The method of payment used by the buyer.",null,"R",1,"Q",75,"Q"]
[null,null,"Buyer's Name","BuyerNameCol",1,2,"N",14,"Buyer's first and last name.",null,"S",1,"N",72,"N"]
[null,null,"Buyer's eBay UserID","UserIdCol",1,2,"O",15,"Buyer's eBay user ID.",null,"T",1,"O",73,"O"]
[null,null,"Buyer's Email","BuyerEmailCol",1,2,"P",16,"This is the buyer's email address. This information will be displayed as 'invalid request' if items are not retrieved within 5 days of their sold date.",null,"U",1,"P",74,"P"]
[null,null,"Shipping Service","ShippingServiceUsedCol",1,2,"R",18,"Name of the shipping service used to ship the item.",null,"V",1,"R",76,"R"]
[null,null,"Shipment Tracking Number","ShipmentTrackingNumberCol",1,2,"S",19,"The tracking number assigned to the item shipment by the shipping carrier.",null,"W",1,"S",77,"S"]
[null,null,{"$f":"CONCATENATE(\"Date Shipped     \",IF(Config!B27=0,\"MM/DD/YY\",\"DD/MM/YY\"))","v":"Date Shipped     MM/DD/YY"},"ShippedTimeCol",7,2,"U",21,"Indicates the time when the item(s) associated with the order were marked as shipped.",null,"X",1,"U",79,"U"]
[null,null,{"$f":"CONCATENATE(\"Date Delivered    \",IF(Config!B27=0,\"MM/DD/YY\",\"DD/MM/YY\"))","v":"Date Delivered    MM/DD/YY"},"DateDeliveredCol",7,2,"V",22,"Optional column to manually enter the date the item was delivered to the buyer. ",null,"Y",1,"V",80,"V"]
[null,null,"Owner","OwnerCol",1,1,"Z",26,"This field is used to specify the owner of a consignment item",null,"Z",1,"Z",84,"Z"]
[null,null,"Selling Commission %","PercentCommissionCol",3,0,"AA",27,"The percentage of commission you are charging for a consigned item.",null,"AA",1,"AA",85,"AA"]
[null,null,"Net Profit Invoice","NetProfitInvoiceCol",2,0,"AC",29,"The amount of money owed to the owner of a consigned item after deducting all commission and selling fees.",null,"AB",1,"AC",87,"AC"]
[null,null,"Check Number","CheckNumberCol",4,1,"AE",31,"The check number used to pay an owner/client for their item(s).",null,"AC",1,"AE",89,"AE"]
[null,null,"Commission Amount","CommissionCol",2,0,"AB",28,"The amount of commission you made on an item. ",null,"AD",1,"AB",86,"AB"]
[null,null,"Sales Tax Collected","SalesTaxCol",2,2,"AK",37,"This value indicates the total tax amount for the order line item, including the sales tax on the item, the sales tax on shipping and handling, and any electronic waste recycling fee.",null,"AE",1,"AK",95,"AK"]
[null,null,"Buyers State / Province","BuyerStateCol",1,2,"AL",38,"The state the buyer is registered in. ",null,"AF",1,"AL",96,"AL"]
[null,null,"Charity","CharityCol",1,2,"AH",34,"The chosen charity selected when creating an item listing.",null,"AG",1,"AH",92,"AH"]
[null,null,"Donation %","PercentCharityCol",3,2,"AI",35,"The percentage of purchase price donated to the charity.",null,"AH",1,"AI",93,"AI"]
[null,null,"Donation Amount","DonationAmtCol",2,0,"AJ",36,"The total amount donated to the selected charity.",null,"AI",1,"AJ",94,"AJ"]
[null,null,"Month/Year","MonthIDCol",8,0,"Y",25,"The month and year the item was sold in. ",null,"AJ",1,"Y",83,"Y"]
[null,null,"User","UserCol",1,0,"AG",33,"The spreadsheet username associated with the token for the item sold. ",null,"AK",1,"AG",91,"AG"]
[null,null,"Monthly Rev","MonthlyRevCol",2,0,"AF",32,"The revenue of an item reported on the Profit Chart tab. ",null,"AL",1,"AF",90,"AF"]
[null,null,"PP","PurchasePricePTCol",2,0,"AM",39,"The purchase price for use in the pivot tables. ",null,"AM",1,"AM",97,"AM"]
[null,null,"PPF","PaypalFeePTCol",2,0,"AN",40,"The Paypal fee for use in the pivot tables. ",null,"AN",1,"AN",98,"AN"]
[null,null,"FVF","FinalValueFeePTCol",2,0,"AO",41,"The Final Value Fee for use in the pivot tables. ",null,"AO",1,"AO",99,"AO"]
[null,null,"IF","InsertionFeePTCol",2,0,"AP",42,"The Insertion fee for use in the pivot tables. ",null,"AP",1,"AP",100,"AP"]
[null,null,"SKU","SKUCol",1,0,"AQ",43,"Unique ID of an item used to link the Inventory and eBay Selling tabs together. ",null,"AQ",1,"AQ",101,"AQ"]
[null,null,"L1%","CommSL1PercentCol",3,0,"AR",44,"First commission percentage for sliding scale commissions. See Clients Tab for details.",null,"AR",1,"AR",102,"AR"]
[null,null,"L1$","CommSL1AmountCol",2,0,"AS",45,"First commission amount for sliding scale commissions.",null,"AS",1,"AS",103,"AS"]
[null,null,"L2%","CommSL2PercentCol",3,0,"AT",46,"Second commission percentage for sliding scale commissions. ",null,"AT",1,"AT",104,"AT"]
[null,null,"L2$","CommSL2AmountCol",2,0,"AU",47,"Second commission amount for sliding scale commissions.",null,"AU",1,"AU",105,"AU"]
[null,null,"L3%","CommSL3PercentCol",3,0,"AV",48,"Third commission percentage for sliding scale commissions.",null,"AV",1,"AV",106,"AV"]
[null,null,"L3$","CommSL3AmountCol",2,0,"AW",49,"Third commission amount for sliding scale commissions.",null,"AW",1,"AW",107,"AW"]
[null,null,">L4%","CommSL4AmountCol",3,0,"AX",50,"Final commission percentage for sliding scale commissions.",null,"AX",1,"AX",108,"AX"]
[null,null,"Min","CommSLMinCol",2,0,"AY",51,"Minimum commission charged for each item listed.",null,"AY",1,"AY",109,"AY"]
[null,null,"Global Shipping","GlobalShippingCol",1,2,"AZ",52,"Used to indicate items shipped through the Global Shipping Program.",null,"AZ",1,"AZ",110,"AZ"]
[null,null,{"$f":"CONCATENATE(\"Date Last Modified    \",IF(Config!B27=0,\"MM/DD/YY\",\"DD/MM/YY\"))","v":"Date Last Modified    MM/DD/YY"},"DateLastModifiedCol",6,2,"BA",53,"Time the transaction record was last modified on eBay's servers.",null,"BA",1,"BA",111,"BA"]
[null,null,"SH","Blank1Col",2,0,"BB",54,"User fields which can be used to add any additional information you require. If you need to perform a calculation, there are rows on the Formulas tab to allow entering a formula for each of the user-specified fields. Set the titles for these fields in cells C58-C60 on this tab, then click the 'Apply Changes' button above. These titles will update on the Formulas tab & eBay SELLING tabs.",null,"BB",1,"BB",112,"BB"]
[null,null,"Variation","Blank2Col",1,2,"BC",55,null,null,"BC",1,"BC",113,"BC"]
[null,null,"Blank 3","Blank3Col",1,1,"BD",56,null,null,"BD",1,"BD",114,"BD"]
[null,null,"Blank 4","Blank4Col",1,1,"BE",57,null,null,"BE",1,"BE",115,"BE"]
[null,null,"Blank 5","Blank5Col",1,1,"BF",58,null,null,"BF",1,"BF",116,"BF"]
[]
[]
[null,null,"Paypal % to use in the Calculations when not reported by ebay","Adjust if you have a volume discount",null,null,null,null,"US\n$0 - $3,000 (2.9% + $0.30)\n$3,000.01 - $12,000 (2.5% + $0.30)\n$12,000.01 - $125,000 (2.2% + $0.30)\n$125,000.01+ (1.9% + $0.30)"]
[null,null,"US to US",2.9000000000000001E-2]
[null,null,"International to US",3.9E-2]
[null,null,"Flat Fee",0.3]
[]
[null,null,"Paypal % to use in the Calculations when not reported by ebay","Adjust if you have a volume discount",null,null,null,null,"UK  \n£0.01 to £1,500 (3.4% + 20p)\n£1,500.01 - £6,000.00 (2.9% + 20p) \n£6,000.01 - £15,000.00 (2.4% + 20p)\n£15,000.01 - £55,000.00 (1.9% + 20p)\n£55,000.00 and over  (call Paypal)"]
[null,null,"UK to UK ",3.4000000000000002E-2]
[null,null,"Flat Fee",0.2]
[]
[null,null,"Paypal % to use in the Calculations when not reported by ebay","Adjust if you have a volume discount",null,null,null,null,"CA\n$0 - $3,000 (2.9% + $0.30)\n$3,000.01 - $12,000 (2.5% + $0.30)\n$12,000.01 - $125,000 (2.2% + $0.30)\n$125,000.01+ (1.9% + $0.30)"]
[null,null,"CA to CA",2.9000000000000001E-2]
[null,null,"Flat Fee",0.3]
[]
[null,null,"Paypal % to use in the Calculations when not reported by ebay","Adjust if you have a volume discount",null,null,null,null,"AU\nUp to $2,500 (2.6% + $0.30)\n$2,500.01 - $5,000 (2.2% + $0.30)\n$5,000.01 - $15,000 (2.0% + $0.30)\n$15,000.01 - $150,000 (1.5% + $0.30)\n$150,000.01 and over (1.1% + $0.30)"]
[null,null,"AU to AU",2.5999999999999999E-2]
[null,null,"Flat Fee",0.3]

{"sheet":"eBay SELLING","index":3,"n_rows":6,"n_cols":58,"rows_kept":6,"cut":false,"hidden":false,"merged":[[2,2,3,2],[1,0,4,0]]}
["Date Last Modified:",null,"User","No. of Items",{"$f":"COUNTA(INDEX(ItemSMSRNCol,7):INDEX(ItemSMSRNCol,50000))","v":0},"Listing Fees",{"$f":"-SUM('eBay Fees'!O7:O18)","v":0},"Total Revenue",{"$f":"E2+E3","v":0},null,null,null,null,null,null,null,"Do NOT Erase Will Cause Duplicates"]
["If either Month or Year show as \"Friday\" click Reset.",null,"System Messages: (Can Retrieve past 90 Days of Transaction Information)","Amount Sold",{"$f":"SUM(INDEX(TransactionPriceCol,7):INDEX(TransactionPriceCol,E1+7))","v":0},"FVF+FVFS Fees",{"$f":"SUM(INDEX(EbayFinalValueFeeCol,7):INDEX(EbayFinalValueFeeCol,$E$1+7))","v":0},"Total Cost",{"$f":"E5+G2+G3+G4+G5+G1-E4","v":0},null,null,null,null,null,null,null,null,"eBay Item Number","Transaction ID"]
[null,null,"Select Month, Year, & User. Click on 'Get All Items' for that month's items OR insert Item No. and click on 'Get Item' for a single item ","S&H Charged",{"$f":"SUM(INDEX(ShippingServiceCostCol,7):INDEX(ShippingServiceCostCol,$E$1+7))","v":0},"Paypal Fees",{"$f":"SUM(INDEX(PaypalFeeCol,7):INDEX(PaypalFeeCol,$E$1+7))","v":0},"Total Expenses",{"$f":"-Expenses!E2","v":0},null,null,null,null,null,null,null,{"$f":"DCOUNT(INDEX(A:A,6):INDEX(BF:BF,$E$1+7),\"Transaction ID\",R2:S3)","v":0}]
[null,null,null,"Commission Paid",{"$f":"SUM(INDEX(NetProfitInvoiceCol,7):INDEX(NetProfitInvoiceCol,$E$1+7))","v":0},"S&H Cost",{"$f":"SUM(INDEX(ActualShippingCostCol,7):INDEX(ActualShippingCostCol,$E$1+7))","v":0},"Total Profit",{"$f":"I1+I2+I3","v":0}]
[null,null,null,"My Cost",{"$f":"SUM(INDEX(MyCostCol,7):INDEX(MyCostCol,$E$1+7))","v":0},"Refunds",{"$f":"SUM(INDEX(RefundorCreditCol,7):INDEX(RefundorCreditCol,$E$1+7))","v":0},"ROI",{"$f":"IFERROR(-(I4/I2),\" \")","v":" "}]
["SM Record # /User","eBay Item Number","Item Title","My Cost","Purchase Price","S&H Charged","Refund or Additional Payment","Qty Sold","Actual Shipping Cost ","Insertion Fees ","Paypal Fee ","Final Value Fee + Final Value Fee on Shipping ","Net Profit or Loss ","Buyer's Name","Buyer's eBay UserID","Buyer's Email","Payment Method","Shipping Service","Shipment Tracking Number","Date Sold              MM/DD/YY","Date Shipped     MM/DD/YY","Date Delivered    MM/DD/YY","Order ID","Transaction ID","Month/Year","Owner","Selling Commission %","Commission Amount","Net Profit Invoice","Auction Type","Check Number","Monthly Rev","User","Charity","Donation %","Donation Amount","Sales Tax Collected","Buyers State / Province","PP","PPF","FVF","IF","SKU","L1%","L1$","L2%","L2$","L3%","L3$",">L4%","Min","Global Shipping","Date Last Modified    MM/DD/YY","SH","Variation","Blank 3","Blank 4","Blank 5"]

{"sheet":"eBay BUYING","index":4,"n_rows":6,"n_cols":12,"rows_kept":6,"cut":false,"hidden":false,"merged":[[2,2,3,2]]}
[null,"User:",null,"No. of Items",{"$f":"COUNTA(INDEX(A:A,7):INDEX(A:A,50000))","v":0},null,null,null,"Do NOT Erase Will Cause Duplicates"]
[null,null,"System Messages: (Retrieves past 60 Days of Transaction Information)","Cost",{"$f":"SUM((INDEX(D:D,7):INDEX(D:D,E1+7)))","v":0},null,null,null,null,"eBay Item Number","Transaction ID"]
[null,null,"Click on 'Get All Items' to get purchases","S&H Paid",{"$f":"SUM((INDEX(E:E,7):INDEX(E:E,E1+7)))","v":0},null,null,null,{"$f":"DCOUNT(INDEX(A:A,6):INDEX(L:L,$E$1+7),\"Transaction ID\",J2:K3)","v":0},0,0]
[null,null,null,"Total",{"$f":"E2+E3","v":0}]
[]
["SM Record #      /User","eBay Item Number","Item Title","Purchase Price","S&H Paid","Quantity Purchased","Total Cost","Sellers's eBay UserID","Seller's Email","Payment Method","Date Purchased   MM/DD/YY","Transaction ID"]

{"sheet":"Profit & Loss","index":6,"n_rows":77,"n_cols":39,"rows_kept":77,"cut":false,"hidden":false,"merged":[]}
[]
[null,null,null,null,null,null,null,null,"Quarter"]
[{"$f":"OFFSET(A72,A4-1,0)","v":"All"},null,null,null,null,null,null,null,"Q1"]
[1,null,null,null,"MONTHLY PROFIT AND LOSS",null,null,null,"Q2",null,null,null,"QUARTERLY PROFIT AND LOSS",null,null,null,null,null,null,"YEARLY PROFIT AND LOSS",null,null,null,null,null,null,null,null,"MONTHLY PROFIT AND LOSS",null,null,null,null,null,null,"MONTHLY PROFIT AND LOSS"]
[1,null,null,null,{"$f":"DATE(2019,A5,1)","v":"2019-01-01"},null,null,null,"Q3",null,null,null,{"$f":"IF(I7=1,\"Q1 2019\",IF(I7=2,\"Q2 2019\",IF(I7=3,\"Q3 2019\",\"Q4 2019\")))","v":"Q1 2019"},null,null,null,null,null,null,"2019-01-01",null,null,null,null,null,null,null,null,"Page 1",null,null,null,null,null,null,"Page 2"]
[null,null,null,null,null,null,null,null,"Q4"]
[43466,null,"INCOME",null,null,null,null,null,1,null,"INCOME",null,null,null,null,null,null,"INCOME",null,null,null,null,null,null,"Month",null,"2019-01-01","2019-02-01","2019-03-01","2019-04-01","2019-05-01","2019-06-01","2019-07-01","2019-08-01","2019-09-01","2019-10-01","2019-11-01","2019-12-01","2019 Total "]
[43497,null,null,null,null,null,null,null,{"$f":"IF($I$7=1,DATE(2019,1,1),IF($I$7=2,DATE(2019,4,1),IF($I$7=3,DATE(2019,7,1),DATE(2019,10,1))))","v":"2019-01-01"}]
[43525,null,null,"Sales",null,{"$f":"IF($A$4>1,IFERROR(GETPIVOTDATA(\" Purchase Price\",'Yearly Summary 2'!$B$5,\"User\",$A$3,\"Month\",E5),0),IFERROR(GETPIVOTDATA(\" Purchase Price\",'Yearly Summary 2'!$B$5,\"Month\",E5),0))","v":0},null,null,{"$f":"IF($I$7=1,DATE(2019,2,1),IF($I$7=2,DATE(2019,5,1),IF($I$7=3,DATE(2019,8,1),DATE(2019,11,1))))","v":"2019-02-01"},null,null,"Sales",null,{"$f":"IF($I$7=4,SUM(AJ9:AL9),IF($I$7=3,SUM(AG9:AI9),IF($I$7=2,SUM(AD9:AF9),SUM(AA9:AC9))))","v":0},null,null,null,null,"Sales",null,{"$f":"SUM(AA9:AL9)","v":0},null,null,null,{"$f":"S9","v":"Sales"},null,{"$f":"IF($A$4>1,IFERROR(GETPIVOTDATA(\" Purchase Price\",'Yearly Summary 2'!$B$5,\"User\",$A$3,\"Month\",AA7),0),IFERROR(GETPIVOTDATA(\" Purchase Price\",'Yearly Summary 2'!$B$5,\"Month\",AA7),0))","v":0},{"$f":"IF($A$4>1,IFERROR(GETPIVOTDATA(\" Purchase Price\",'Yearly Summary 2'!$B$5,\"User\",$A$3,\"Month\",AB7),0),IFERROR(GETPIVOTDATA(\" Purchase Price\",'Yearly Summary 2'!$B$5,\"Month\",AB7),0))","v":0},{"$f":"IF($A$4>1,IFERROR(GETPIVOTDATA(\" Purchase Price\",'Yearly Summary 2'!$B$5,\"User\",$A$3,\"Month\",AC7),0),IFERROR(GETPIVOTDATA(\" Purchase Price\",'Yearly Summary 2'!$B$5,\"Month\",AC7),0))","v":0},{"$f":"IF($A$4>1,IFERROR(GETPIVOTDATA(\" Purchase Price\",'Yearly Summary 2'!$B$5,\"User\",$A$3,\"Month\",AD7),0),IFERROR(GETPIVOTDATA(\" Purchase Price\",'Yearly Summary 2'!$B$5,\"Month\",AD7),0))","v":0},{"$f":"IF($A$4>1,IFERROR(GETPIVOTDATA(\" Purchase Price\",'Yearly Summary 2'!$B$5,\"User\",$A$3,\"Month\",AE7),0),IFERROR(GETPIVOTDATA(\" Purchase Price\",'Yearly Summary 2'!$B$5,\"Month\",AE7),0))","v":0},{"$f":"IF($A$4>1,IFERROR(GETPIVOTDATA(\" Purchase Price\",'Yearly Summary 2'!$B$5,\"User\",$A$3,\"Month\",AF7),0),IFERROR(GETPIVOTDATA(\" Purchase Price\",'Yearly Summary 2'!$B$5,\"Month\",AF7),0))","v":0},{"$f":"IF($A$4>1,IFERROR(GETPIVOTDATA(\" Purchase Price\",'Yearly Summary 2'!$B$5,\"User\",$A$3,\"Month\",AG7),0),IFERROR(GETPIVOTDATA(\" Purchase Price\",'Yearly Summary 2'!$B$5,\"Month\",AG7),0))","v":0},{"$f":"IF($A$4>1,IFERROR(GETPIVOTDATA(\" Purchase Price\",'Yearly Summary 2'!$B$5,\"User\",$A$3,\"Month\",AH7),0),IFERROR(GETPIVOTDATA(\" Purchase Price\",'Yearly Summary 2'!$B$5,\"Month\",AH7),0))","v":0},{"$f":"IF($A$4>1,IFERROR(GETPIVOTDATA(\" Purchase Price\",'Yearly Summary 2'!$B$5,\"User\",$A$3,\"Month\",AI7),0),IFERROR(GETPIVOTDATA(\" Purchase Price\",'Yearly Summary 2'!$B$5,\"Month\",AI7),0))","v":0},{"$f":"IF($A$4>1,IFERROR(GETPIVOTDATA(\" Purchase Price\",'Yearly Summary 2'!$B$5,\"User\",$A$3,\"Month\",AJ7),0),IFERROR(GETPIVOTDATA(\" Purchase Price\",'Yearly Summary 2'!$B$5,\"Month\",AJ7),0))","v":0},{"$f":"IF($A$4>1,IFERROR(GETPIVOTDATA(\" Purchase Price\",'Yearly Summary 2'!$B$5,\"User\",$A$3,\"Month\",AK7),0),IFERROR(GETPIVOTDATA(\" Purchase Price\",'Yearly Summary 2'!$B$5,\"Month\",AK7),0))","v":0},{"$f":"IF($A$4>1,IFERROR(GETPIVOTDATA(\" Purchase Price\",'Yearly Summary 2'!$B$5,\"User\",$A$3,\"Month\",AL7),0),IFERROR(GETPIVOTDATA(\" Purchase Price\",'Yearly Summary 2'!$B$5,\"Month\",AL7),0))","v":0},{"$f":"SUM(AA9:AL9)","v":0}]
[43556,null,null,"S&H Charged",null,{"$f":"IF($A$4>1,IFERROR(GETPIVOTDATA(\" S&H Charged\",'Yearly Summary 2'!$B$5,\"Month\",E5,\"User\",$A$3),0),IFERROR(GETPIVOTDATA(\" S&H Charged\",'Yearly Summary 2'!$B$5,\"Month\",E5),0))","v":0},null,null,{"$f":"IF($I$7=1,DATE(2019,3,1),IF($I$7=2,DATE(2019,6,1),IF($I$7=3,DATE(2019,9,1),DATE(2019,12,1))))","v":"2019-03-01"},null,null,"S&H Charged",null,{"$f":"IF($I$7=4,SUM(AJ10:AL10),IF($I$7=3,SUM(AG10:AI10),IF($I$7=2,SUM(AD10:AF10),SUM(AA10:AC10))))","v":0},null,null,null,null,"S&H Charged",null,{"$f":"SUM(AA10:AL10)","v":0},null,null,null,{"$f":"S10","v":"S&H Charged"},null,{"$f":"IF($A$4>1,IFERROR(GETPIVOTDATA(\" S&H Charged\",'Yearly Summary 2'!$B$5,\"Month\",AA7,\"User\",$A$3),0),IFERROR(GETPIVOTDATA(\" S&H Charged\",'Yearly Summary 2'!$B$5,\"Month\",AA7),0))","v":0},{"$f":"IF($A$4>1,IFERROR(GETPIVOTDATA(\" S&H Charged\",'Yearly Summary 2'!$B$5,\"Month\",AB7,\"User\",$A$3),0),IFERROR(GETPIVOTDATA(\" S&H Charged\",'Yearly Summary 2'!$B$5,\"Month\",AB7),0))","v":0},{"$f":"IF($A$4>1,IFERROR(GETPIVOTDATA(\" S&H Charged\",'Yearly Summary 2'!$B$5,\"Month\",AC7,\"User\",$A$3),0),IFERROR(GETPIVOTDATA(\" S&H Charged\",'Yearly Summary 2'!$B$5,\"Month\",AC7),0))","v":0},{"$f":"IF($A$4>1,IFERROR(GETPIVOTDATA(\" S&H Charged\",'Yearly Summary 2'!$B$5,\"Month\",AD7,\"User\",$A$3),0),IFERROR(GETPIVOTDATA(\" S&H Charged\",'Yearly Summary 2'!$B$5,\"Month\",AD7),0))","v":0},{"$f":"IF($A$4>1,IFERROR(GETPIVOTDATA(\" S&H Charged\",'Yearly Summary 2'!$B$5,\"Month\",AE7,\"User\",$A$3),0),IFERROR(GETPIVOTDATA(\" S&H Charged\",'Yearly Summary 2'!$B$5,\"Month\",AE7),0))","v":0},{"$f":"IF($A$4>1,IFERROR(GETPIVOTDATA(\" S&H Charged\",'Yearly Summary 2'!$B$5,\"Month\",AF7,\"User\",$A$3),0),IFERROR(GETPIVOTDATA(\" S&H Charged\",'Yearly Summary 2'!$B$5,\"Month\",AF7),0))","v":0},{"$f":"IF($A$4>1,IFERROR(GETPIVOTDATA(\" S&H Charged\",'Yearly Summary 2'!$B$5,\"Month\",AG7,\"User\",$A$3),0),IFERROR(GETPIVOTDATA(\" S&H Charged\",'Yearly Summary 2'!$B$5,\"Month\",AG7),0))","v":0},{"$f":"IF($A$4>1,IFERROR(GETPIVOTDATA(\" S&H Charged\",'Yearly Summary 2'!$B$5,\"Month\",AH7,\"User\",$A$3),0),IFERROR(GETPIVOTDATA(\" S&H Charged\",'Yearly Summary 2'!$B$5,\"Month\",AH7),0))","v":0},{"$f":"IF($A$4>1,IFERROR(GETPIVOTDATA(\" S&H Charged\",'Yearly Summary 2'!$B$5,\"Month\",AI7,\"User\",$A$3),0),IFERROR(GETPIVOTDATA(\" S&H Charged\",'Yearly Summary 2'!$B$5,\"Month\",AI7),0))","v":0},{"$f":"IF($A$4>1,IFERROR(GETPIVOTDATA(\" S&H Charged\",'Yearly Summary 2'!$B$5,\"Month\",AJ7,\"User\",$A$3),0),IFERROR(GETPIVOTDATA(\" S&H Charged\",'Yearly Summary 2'!$B$5,\"Month\",AJ7),0))","v":0},{"$f":"IF($A$4>1,IFERROR(GETPIVOTDATA(\" S&H Charged\",'Yearly Summary 2'!$B$5,\"Month\",AK7,\"User\",$A$3),0),IFERROR(GETPIVOTDATA(\" S&H Charged\",'Yearly Summary 2'!$B$5,\"Month\",AK7),0))","v":0},{"$f":"IF($A$4>1,IFERROR(GETPIVOTDATA(\" S&H Charged\",'Yearly Summary 2'!$B$5,\"Month\",AL7,\"User\",$A$3),0),IFERROR(GETPIVOTDATA(\" S&H Charged\",'Yearly Summary 2'!$B$5,\"Month\",AL7),0))","v":0},{"$f":"SUM(AA10:AL10)","v":0}]
[43586]
[43617]
[43647,null,null,"TOTAL INCOME",null,{"$f":"SUM(F9:F10)","v":0},null,null,null,null,null,"TOTAL INCOME",null,{"$f":"IF($I$7=4,SUM(AJ13:AL13),IF($I$7=3,SUM(AG13:AI13),IF($I$7=2,SUM(AD13:AF13),SUM(AA13:AC13))))","v":0},null,null,null,null,"TOTAL INCOME",null,{"$f":"SUM(AA13:AL13)","v":0},null,null,null,"TOTAL INCOME",null,{"$f":"SUM(AA9:AA10)","v":0},{"$f":"SUM(AB9:AB10)","v":0},0,0,0,0,0,0,0,0,0,0,{"$f":"SUM(AA13:AL13)","v":0}]
[43678]
[43709,null,"EXPENSES",null,null,null,null,null,null,null,"EXPENSES",null,null,null,null,null,null,"EXPENSES"]
[43739]
[43770,null,null,"Cost of Goods",null,{"$f":"IF($A$4>1,IFERROR(GETPIVOTDATA(\" My Cost\",'Yearly Summary 2'!$B$5,\"Month\",E5,\"User\",$A$3)*-1,0),IFERROR(GETPIVOTDATA(\" My Cost\",'Yearly Summary 2'!$B$5,\"Month\",E5)*-1,0))","v":0},null,null,null,null,null,"Cost of Goods",null,{"$f":"IF($I$7=4,SUM(AJ17:AL17),IF($I$7=3,SUM(AG17:AI17),IF($I$7=2,SUM(AD17:AF17),SUM(AA17:AC17))))","v":0},null,null,null,null,"Cost of Goods",null,{"$f":"SUM(AA17:AL17)","v":0},null,null,null,"Cost of Goods",null,{"$f":"IF($A$4>1,IFERROR(GETPIVOTDATA(\" My Cost\",'Yearly Summary 2'!$B$5,\"Month\",AA7,\"User\",$A$3)*-1,0),IFERROR(GETPIVOTDATA(\" My Cost\",'Yearly Summary 2'!$B$5,\"Month\",AA7)*-1,0))","v":0},{"$f":"IF($A$4>1,IFERROR(GETPIVOTDATA(\" My Cost\",'Yearly Summary 2'!$B$5,\"Month\",AB7,\"User\",$A$3)*-1,0),IFERROR(GETPIVOTDATA(\" My Cost\",'Yearly Summary 2'!$B$5,\"Month\",AB7)*-1,0))","v":0},{"$f":"IF($A$4>1,IFERROR(GETPIVOTDATA(\" My Cost\",'Yearly Summary 2'!$B$5,\"Month\",AC7,\"User\",$A$3)*-1,0),IFERROR(GETPIVOTDATA(\" My Cost\",'Yearly Summary 2'!$B$5,\"Month\",AC7)*-1,0))","v":0},{"$f":"IF($A$4>1,IFERROR(GETPIVOTDATA(\" My Cost\",'Yearly Summary 2'!$B$5,\"Month\",AD7,\"User\",$A$3)*-1,0),IFERROR(GETPIVOTDATA(\" My Cost\",'Yearly Summary 2'!$B$5,\"Month\",AD7)*-1,0))","v":0},{"$f":"IF($A$4>1,IFERROR(GETPIVOTDATA(\" My Cost\",'Yearly Summary 2'!$B$5,\"Month\",AE7,\"User\",$A$3)*-1,0),IFERROR(GETPIVOTDATA(\" My Cost\",'Yearly Summary 2'!$B$5,\"Month\",AE7)*-1,0))","v":0},{"$f":"IF($A$4>1,IFERROR(GETPIVOTDATA(\" My Cost\",'Yearly Summary 2'!$B$5,\"Month\",AF7,\"User\",$A$3)*-1,0),IFERROR(GETPIVOTDATA(\" My Cost\",'Yearly Summary 2'!$B$5,\"Month\",AF7)*-1,0))","v":0},{"$f":"IF($A$4>1,IFERROR(GETPIVOTDATA(\" My Cost\",'Yearly Summary 2'!$B$5,\"Month\",AG7,\"User\",$A$3)*-1,0),IFERROR(GETPIVOTDATA(\" My Cost\",'Yearly Summary 2'!$B$5,\"Month\",AG7)*-1,0))","v":0},{"$f":"IF($A$4>1,IFERROR(GETPIVOTDATA(\" My Cost\",'Yearly Summary 2'!$B$5,\"Month\",AH7,\"User\",$A$3)*-1,0),IFERROR(GETPIVOTDATA(\" My Cost\",'Yearly Summary 2'!$B$5,\"Month\",AH7)*-1,0))","v":0},{"$f":"IF($A$4>1,IFERROR(GETPIVOTDATA(\" My Cost\",'Yearly Summary 2'!$B$5,\"Month\",AI7,\"User\",$A$3)*-1,0),IFERROR(GETPIVOTDATA(\" My Cost\",'Yearly Summary 2'!$B$5,\"Month\",AI7)*-1,0))","v":0},{"$f":"IF($A$4>1,IFERROR(GETPIVOTDATA(\" My Cost\",'Yearly Summary 2'!$B$5,\"Month\",AJ7,\"User\",$A$3)*-1,0),IFERROR(GETPIVOTDATA(\" My Cost\",'Yearly Summary 2'!$B$5,\"Month\",AJ7)*-1,0))","v":0},{"$f":"IF($A$4>1,IFERROR(GETPIVOTDATA(\" My Cost\",'Yearly Summary 2'!$B$5,\"Month\",AK7,\"User\",$A$3)*-1,0),IFERROR(GETPIVOTDATA(\" My Cost\",'Yearly Summary 2'!$B$5,\"Month\",AK7)*-1,0))","v":0},{"$f":"IF($A$4>1,IFERROR(GETPIVOTDATA(\" My Cost\",'Yearly Summary 2'!$B$5,\"Month\",AL7,\"User\",$A$3)*-1,0),IFERROR(GETPIVOTDATA(\" My Cost\",'Yearly Summary 2'!$B$5,\"Month\",AL7)*-1,0))","v":0},{"$f":"SUM(AA17:AL17)","v":0}]
[43800,null,null,"Actual Shipping Costs",null,{"$f":"IF($A$4>1,IFERROR(GETPIVOTDATA(\" Actual Shipping Cost \",'Yearly Summary 2'!$B$5,\"Month\",E5,\"User\",$A$3)*-1,0),IFERROR(GETPIVOTDATA(\" Actual Shipping Cost \",'Yearly Summary 2'!$B$5,\"Month\",E5)*-1,0))","v":0},null,null,null,null,null,"Actual Shipping Costs",null,0,null,null,null,null,"Actual Shipping Costs",null,0,null,null,null,"Actual Shipping Costs",null,{"$f":"IF($A$4>1,IFERROR(GETPIVOTDATA(\" Actual Shipping Cost \",'Yearly Summary 2'!$B$5,\"Month\",AA7,\"User\",$A$3)*-1,0),IFERROR(GETPIVOTDATA(\" Actual Shipping Cost \",'Yearly Summary 2'!$B$5,\"Month\",AA7)*-1,0))","v":0},{"$f":"IF($A$4>1,IFERROR(GETPIVOTDATA(\" Actual Shipping Cost \",'Yearly Summary 2'!$B$5,\"Month\",AB7,\"User\",$A$3)*-1,0),IFERROR(GETPIVOTDATA(\" Actual Shipping Cost \",'Yearly Summary 2'!$B$5,\"Month\",AB7)*-1,0))","v":0},{"$f":"IF($A$4>1,IFERROR(GETPIVOTDATA(\" Actual Shipping Cost \",'Yearly Summary 2'!$B$5,\"Month\",AC7,\"User\",$A$3)*-1,0),IFERROR(GETPIVOTDATA(\" Actual Shipping Cost \",'Yearly Summary 2'!$B$5,\"Month\",AC7)*-1,0))","v":0},{"$f":"IF($A$4>1,IFERROR(GETPIVOTDATA(\" Actual Shipping Cost \",'Yearly Summary 2'!$B$5,\"Month\",AD7,\"User\",$A$3)*-1,0),IFERROR(GETPIVOTDATA(\" Actual Shipping Cost \",'Yearly Summary 2'!$B$5,\"Month\",AD7)*-1,0))","v":0},{"$f":"IF($A$4>1,IFERROR(GETPIVOTDATA(\" Actual Shipping Cost \",'Yearly Summary 2'!$B$5,\"Month\",AE7,\"User\",$A$3)*-1,0),IFERROR(GETPIVOTDATA(\" Actual Shipping Cost \",'Yearly Summary 2'!$B$5,\"Month\",AE7)*-1,0))","v":0},{"$f":"IF($A$4>1,IFERROR(GETPIVOTDATA(\" Actual Shipping Cost \",'Yearly Summary 2'!$B$5,\"Month\",AF7,\"User\",$A$3)*-1,0),IFERROR(GETPIVOTDATA(\" Actual Shipping Cost \",'Yearly Summary 2'!$B$5,\"Month\",AF7)*-1,0))","v":0},{"$f":"IF($A$4>1,IFERROR(GETPIVOTDATA(\" Actual Shipping Cost \",'Yearly Summary 2'!$B$5,\"Month\",AG7,\"User\",$A$3)*-1,0),IFERROR(GETPIVOTDATA(\" Actual Shipping Cost \",'Yearly Summary 2'!$B$5,\"Month\",AG7)*-1,0))","v":0},{"$f":"IF($A$4>1,IFERROR(GETPIVOTDATA(\" Actual Shipping Cost \",'Yearly Summary 2'!$B$5,\"Month\",AH7,\"User\",$A$3)*-1,0),IFERROR(GETPIVOTDATA(\" Actual Shipping Cost \",'Yearly Summary 2'!$B$5,\"Month\",AH7)*-1,0))","v":0},{"$f":"IF($A$4>1,IFERROR(GETPIVOTDATA(\" Actual Shipping Cost \",'Yearly Summary 2'!$B$5,\"Month\",AI7,\"User\",$A$3)*-1,0),IFERROR(GETPIVOTDATA(\" Actual Shipping Cost \",'Yearly Summary 2'!$B$5,\"Month\",AI7)*-1,0))","v":0},{"$f":"IF($A$4>1,IFERROR(GETPIVOTDATA(\" Actual Shipping Cost \",'Yearly Summary 2'!$B$5,\"Month\",AJ7,\"User\",$A$3)*-1,0),IFERROR(GETPIVOTDATA(\" Actual Shipping Cost \",'Yearly Summary 2'!$B$5,\"Month\",AJ7)*-1,0))","v":0},{"$f":"IF($A$4>1,IFERROR(GETPIVOTDATA(\" Actual Shipping Cost \",'Yearly Summary 2'!$B$5,\"Month\",AK7,\"User\",$A$3)*-1,0),IFERROR(GETPIVOTDATA(\" Actual Shipping Cost \",'Yearly Summary 2'!$B$5,\"Month\",AK7)*-1,0))","v":0},{"$f":"IF($A$4>1,IFERROR(GETPIVOTDATA(\" Actual Shipping Cost \",'Yearly Summary 2'!$B$5,\"Month\",AL7,\"User\",$A$3)*-1,0),IFERROR(GETPIVOTDATA(\" Actual Shipping Cost \",'Yearly Summary 2'!$B$5,\"Month\",AL7)*-1,0))","v":0},0]
[{"$f":"CONCATENATE(INDEX(A21:A70,A20,1))","v":"AL, United States"},null,null,"Listing Fees",null,{"$f":"OFFSET('eBay Fees'!$O$7,$A$5-1,IF($A$4=1,6,$A$4-2))","v":0},null,null,null,null,null,"Listing Fees",null,0,null,null,null,null,"Listing Fees",null,0,null,null,null,"Listing Fees",null,{"$f":"OFFSET('eBay Fees'!$O$7,MONTH(AA7)-1,IF($A$4=1,6,$A$4-2))","v":0},{"$f":"OFFSET('eBay Fees'!$O$7,MONTH(AB7)-1,IF($A$4=1,6,$A$4-2))","v":0},{"$f":"OFFSET('eBay Fees'!$O$7,MONTH(AC7)-1,IF($A$4=1,6,$A$4-2))","v":0},{"$f":"OFFSET('eBay Fees'!$O$7,MONTH(AD7)-1,IF($A$4=1,6,$A$4-2))","v":0},{"$f":"OFFSET('eBay Fees'!$O$7,MONTH(AE7)-1,IF($A$4=1,6,$A$4-2))","v":0},{"$f":"OFFSET('eBay Fees'!$O$7,MONTH(AF7)-1,IF($A$4=1,6,$A$4-2))","v":0},{"$f":"OFFSET('eBay Fees'!$O$7,MONTH(AG7)-1,IF($A$4=1,6,$A$4-2))","v":0},{"$f":"OFFSET('eBay Fees'!$O$7,MONTH(AH7)-1,IF($A$4=1,6,$A$4-2))","v":0},{"$f":"OFFSET('eBay Fees'!$O$7,MONTH(AI7)-1,IF($A$4=1,6,$A$4-2))","v":0},{"$f":"OFFSET('eBay Fees'!$O$7,MONTH(AJ7)-1,IF($A$4=1,6,$A$4-2))","v":0},{"$f":"OFFSET('eBay Fees'!$O$7,MONTH(AK7)-1,IF($A$4=1,6,$A$4-2))","v":0},{"$f":"OFFSET('eBay Fees'!$O$7,MONTH(AL7)-1,IF($A$4=1,6,$A$4-2))","v":0},0]
[1,null,null,"Final Value Fees + Final Value Fees on Shipping",null,{"$f":"IF($A$4>1,IFERROR(GETPIVOTDATA(\" Final Value Fee + Final Value Fee on Shipping \",'Yearly Summary 2'!$B$5,\"Month\",E5,\"User\",$A$3)*-1,0),IFERROR(GETPIVOTDATA(\" Final Value Fee + Final Value Fee on Shipping \",'Yearly Summary 2'!$B$5,\"Month\",E5)*-1,0))","v":0},null,null,null,null,null,"Final Value Fees + Final Value Fees on Shipping",null,0,null,null,null,null,"Final Value Fees + Final Value Fees on Shipping",null,0,null,null,null,"Final Value Fees + Final Value Fees on Shipping",null,{"$f":"IF($A$4>1,IFERROR(GETPIVOTDATA(\" Final Value Fee + Final Value Fee on Shipping \",'Yearly Summary 2'!$B$5,\"Month\",AA7,\"User\",$A$3)*-1,0),IFERROR(GETPIVOTDATA(\" Final Value Fee + Final Value Fee on Shipping \",'Yearly Summary 2'!$B$5,\"Month\",AA7)*-1,0))","v":0},{"$f":"IF($A$4>1,IFERROR(GETPIVOTDATA(\" Final Value Fee + Final Value Fee on Shipping \",'Yearly Summary 2'!$B$5,\"Month\",AB7,\"User\",$A$3)*-1,0),IFERROR(GETPIVOTDATA(\" Final Value Fee + Final Value Fee on Shipping \",'Yearly Summary 2'!$B$5,\"Month\",AB7)*-1,0))","v":0},{"$f":"IF($A$4>1,IFERROR(GETPIVOTDATA(\" Final Value Fee + Final Value Fee on Shipping \",'Yearly Summary 2'!$B$5,\"Month\",AC7,\"User\",$A$3)*-1,0),IFERROR(GETPIVOTDATA(\" Final Value Fee + Final Value Fee on Shipping \",'Yearly Summary 2'!$B$5,\"Month\",AC7)*-1,0))","v":0},{"$f":"IF($A$4>1,IFERROR(GETPIVOTDATA(\" Final Value Fee + Final Value Fee on Shipping \",'Yearly Summary 2'!$B$5,\"Month\",AD7,\"User\",$A$3)*-1,0),IFERROR(GETPIVOTDATA(\" Final Value Fee + Final Value Fee on Shipping \",'Yearly Summary 2'!$B$5,\"Month\",AD7)*-1,0))","v":0},{"$f":"IF($A$4>1,IFERROR(GETPIVOTDATA(\" Final Value Fee + Final Value Fee on Shipping \",'Yearly Summary 2'!$B$5,\"Month\",AE7,\"User\",$A$3)*-1,0),IFERROR(GETPIVOTDATA(\" Final Value Fee + Final Value Fee on Shipping \",'Yearly Summary 2'!$B$5,\"Month\",AE7)*-1,0))","v":0},{"$f":"IF($A$4>1,IFERROR(GETPIVOTDATA(\" Final Value Fee + Final Value Fee on Shipping \",'Yearly Summary 2'!$B$5,\"Month\",AF7,\"User\",$A$3)*-1,0),IFERROR(GETPIVOTDATA(\" Final Value Fee + Final Value Fee on Shipping \",'Yearly Summary 2'!$B$5,\"Month\",AF7)*-1,0))","v":0},{"$f":"IF($A$4>1,IFERROR(GETPIVOTDATA(\" Final Value Fee + Final Value Fee on Shipping \",'Yearly Summary 2'!$B$5,\"Month\",AG7,\"User\",$A$3)*-1,0),IFERROR(GETPIVOTDATA(\" Final Value Fee + Final Value Fee on Shipping \",'Yearly Summary 2'!$B$5,\"Month\",AG7)*-1,0))","v":0},{"$f":"IF($A$4>1,IFERROR(GETPIVOTDATA(\" Final Value Fee + Final Value Fee on Shipping \",'Yearly Summary 2'!$B$5,\"Month\",AH7,\"User\",$A$3)*-1,0),IFERROR(GETPIVOTDATA(\" Final Value Fee + Final Value Fee on Shipping \",'Yearly Summary 2'!$B$5,\"Month\",AH7)*-1,0))","v":0},{"$f":"IF($A$4>1,IFERROR(GETPIVOTDATA(\" Final Value Fee + Final Value Fee on Shipping \",'Yearly Summary 2'!$B$5,\"Month\",AI7,\"User\",$A$3)*-1,0),IFERROR(GETPIVOTDATA(\" Final Value Fee + Final Value Fee on Shipping \",'Yearly Summary 2'!$B$5,\"Month\",AI7)*-1,0))","v":0},{"$f":"IF($A$4>1,IFERROR(GETPIVOTDATA(\" Final Value Fee + Final Value Fee on Shipping \",'Yearly Summary 2'!$B$5,\"Month\",AJ7,\"User\",$A$3)*-1,0),IFERROR(GETPIVOTDATA(\" Final Value Fee + Final Value Fee on Shipping \",'Yearly Summary 2'!$B$5,\"Month\",AJ7)*-1,0))","v":0},{"$f":"IF($A$4>1,IFERROR(GETPIVOTDATA(\" Final Value Fee + Final Value Fee on Shipping \",'Yearly Summary 2'!$B$5,\"Month\",AK7,\"User\",$A$3)*-1,0),IFERROR(GETPIVOTDATA(\" Final Value Fee + Final Value Fee on Shipping \",'Yearly Summary 2'!$B$5,\"Month\",AK7)*-1,0))","v":0},{"$f":"IF($A$4>1,IFERROR(GETPIVOTDATA(\" Final Value Fee + Final Value Fee on Shipping \",'Yearly Summary 2'!$B$5,\"Month\",AL7,\"User\",$A$3)*-1,0),IFERROR(GETPIVOTDATA(\" Final Value Fee + Final Value Fee on Shipping \",'Yearly Summary 2'!$B$5,\"Month\",AL7)*-1,0))","v":0},0]
["AL, United States",null,null,"Paypal Fees",null,{"$f":"IF($A$4>1,IFERROR(GETPIVOTDATA(\" Paypal Fees \",'Yearly Summary 2'!$B$5,\"Month\",E5,\"User\",$A$3)*-1,0),IFERROR(GETPIVOTDATA(\" Paypal Fees \",'Yearly Summary 2'!$B$5,\"Month\",E5)*-1,0))","v":0},null,null,null,null,null,"Paypal Fees",null,0,null,null,null,null,"Paypal Fees",null,0,null,null,null,"Paypal Fees",null,{"$f":"IF($A$4>1,IFERROR(GETPIVOTDATA(\" Paypal Fees \",'Yearly Summary 2'!$B$5,\"Month\",AA7,\"User\",$A$3)*-1,0),IFERROR(GETPIVOTDATA(\" Paypal Fees \",'Yearly Summary 2'!$B$5,\"Month\",AA7)*-1,0))","v":0},{"$f":"IF($A$4>1,IFERROR(GETPIVOTDATA(\" Paypal Fees \",'Yearly Summary 2'!$B$5,\"Month\",AB7,\"User\",$A$3)*-1,0),IFERROR(GETPIVOTDATA(\" Paypal Fees \",'Yearly Summary 2'!$B$5,\"Month\",AB7)*-1,0))","v":0},{"$f":"IF($A$4>1,IFERROR(GETPIVOTDATA(\" Paypal Fees \",'Yearly Summary 2'!$B$5,\"Month\",AC7,\"User\",$A$3)*-1,0),IFERROR(GETPIVOTDATA(\" Paypal Fees \",'Yearly Summary 2'!$B$5,\"Month\",AC7)*-1,0))","v":0},{"$f":"IF($A$4>1,IFERROR(GETPIVOTDATA(\" Paypal Fees \",'Yearly Summary 2'!$B$5,\"Month\",AD7,\"User\",$A$3)*-1,0),IFERROR(GETPIVOTDATA(\" Paypal Fees \",'Yearly Summary 2'!$B$5,\"Month\",AD7)*-1,0))","v":0},{"$f":"IF($A$4>1,IFERROR(GETPIVOTDATA(\" Paypal Fees \",'Yearly Summary 2'!$B$5,\"Month\",AE7,\"User\",$A$3)*-1,0),IFERROR(GETPIVOTDATA(\" Paypal Fees \",'Yearly Summary 2'!$B$5,\"Month\",AE7)*-1,0))","v":0},{"$f":"IF($A$4>1,IFERROR(GETPIVOTDATA(\" Paypal Fees \",'Yearly Summary 2'!$B$5,\"Month\",AF7,\"User\",$A$3)*-1,0),IFERROR(GETPIVOTDATA(\" Paypal Fees \",'Yearly Summary 2'!$B$5,\"Month\",AF7)*-1,0))","v":0},{"$f":"IF($A$4>1,IFERROR(GETPIVOTDATA(\" Paypal Fees \",'Yearly Summary 2'!$B$5,\"Month\",AG7,\"User\",$A$3)*-1,0),IFERROR(GETPIVOTDATA(\" Paypal Fees \",'Yearly Summary 2'!$B$5,\"Month\",AG7)*-1,0))","v":0},{"$f":"IF($A$4>1,IFERROR(GETPIVOTDATA(\" Paypal Fees \",'Yearly Summary 2'!$B$5,\"Month\",AH7,\"User\",$A$3)*-1,0),IFERROR(GETPIVOTDATA(\" Paypal Fees \",'Yearly Summary 2'!$B$5,\"Month\",AH7)*-1,0))","v":0},{"$f":"IF($A$4>1,IFERROR(GETPIVOTDATA(\" Paypal Fees \",'Yearly Summary 2'!$B$5,\"Month\",AI7,\"User\",$A$3)*-1,0),IFERROR(GETPIVOTDATA(\" Paypal Fees \",'Yearly Summary 2'!$B$5,\"Month\",AI7)*-1,0))","v":0},{"$f":"IF($A$4>1,IFERROR(GETPIVOTDATA(\" Paypal Fees \",'Yearly Summary 2'!$B$5,\"Month\",AJ7,\"User\",$A$3)*-1,0),IFERROR(GETPIVOTDATA(\" Paypal Fees \",'Yearly Summary 2'!$B$5,\"Month\",AJ7)*-1,0))","v":0},{"$f":"IF($A$4>1,IFERROR(GETPIVOTDATA(\" Paypal Fees \",'Yearly Summary 2'!$B$5,\"Month\",AK7,\"User\",$A$3)*-1,0),IFERROR(GETPIVOTDATA(\" Paypal Fees \",'Yearly Summary 2'!$B$5,\"Month\",AK7)*-1,0))","v":0},{"$f":"IF($A$4>1,IFERROR(GETPIVOTDATA(\" Paypal Fees \",'Yearly Summary 2'!$B$5,\"Month\",AL7,\"User\",$A$3)*-1,0),IFERROR(GETPIVOTDATA(\" Paypal Fees \",'Yearly Summary 2'!$B$5,\"Month\",AL7)*-1,0))","v":0},0]
["AK, United States",null,null,"Amount Due Consignors",null,{"$f":"IF($A$4>1,IFERROR(GETPIVOTDATA(\" Net Profit Invoice\",'Yearly Summary 2'!$B$5,\"Month\",E5,\"User\",A3),0),IFERROR(GETPIVOTDATA(\" Net Profit Invoice\",'Yearly Summary 2'!$B$5,\"Month\",E5),0))","v":0},null,null,null,null,null,"Amount Due Consignors",null,0,null,null,null,null,"Amount Due Consignors",null,0,null,null,null,"Amount Due Consignors",null,{"$f":"IF($A$4>1,IFERROR(GETPIVOTDATA(\" Net Profit Invoice\",'Yearly Summary 2'!$B$5,\"Month\",AA7,\"User\",$A$3),0),IFERROR(GETPIVOTDATA(\" Net Profit Invoice\",'Yearly Summary 2'!$B$5,\"Month\",AA7),0))","v":0},{"$f":"IF($A$4>1,IFERROR(GETPIVOTDATA(\" Net Profit Invoice\",'Yearly Summary 2'!$B$5,\"Month\",AB7,\"User\",$A$3),0),IFERROR(GETPIVOTDATA(\" Net Profit Invoice\",'Yearly Summary 2'!$B$5,\"Month\",AB7),0))","v":0},{"$f":"IF($A$4>1,IFERROR(GETPIVOTDATA(\" Net Profit Invoice\",'Yearly Summary 2'!$B$5,\"Month\",AC7,\"User\",$A$3),0),IFERROR(GETPIVOTDATA(\" Net Profit Invoice\",'Yearly Summary 2'!$B$5,\"Month\",AC7),0))","v":0},{"$f":"IF($A$4>1,IFERROR(GETPIVOTDATA(\" Net Profit Invoice\",'Yearly Summary 2'!$B$5,\"Month\",AD7,\"User\",$A$3),0),IFERROR(GETPIVOTDATA(\" Net Profit Invoice\",'Yearly Summary 2'!$B$5,\"Month\",AD7),0))","v":0},{"$f":"IF($A$4>1,IFERROR(GETPIVOTDATA(\" Net Profit Invoice\",'Yearly Summary 2'!$B$5,\"Month\",AE7,\"User\",$A$3),0),IFERROR(GETPIVOTDATA(\" Net Profit Invoice\",'Yearly Summary 2'!$B$5,\"Month\",AE7),0))","v":0},{"$f":"IF($A$4>1,IFERROR(GETPIVOTDATA(\" Net Profit Invoice\",'Yearly Summary 2'!$B$5,\"Month\",AF7,\"User\",$A$3),0),IFERROR(GETPIVOTDATA(\" Net Profit Invoice\",'Yearly Summary 2'!$B$5,\"Month\",AF7),0))","v":0},{"$f":"IF($A$4>1,IFERROR(GETPIVOTDATA(\" Net Profit Invoice\",'Yearly Summary 2'!$B$5,\"Month\",AG7,\"User\",$A$3),0),IFERROR(GETPIVOTDATA(\" Net Profit Invoice\",'Yearly Summary 2'!$B$5,\"Month\",AG7),0))","v":0},{"$f":"IF($A$4>1,IFERROR(GETPIVOTDATA(\" Net Profit Invoice\",'Yearly Summary 2'!$B$5,\"Month\",AH7,\"User\",$A$3),0),IFERROR(GETPIVOTDATA(\" Net Profit Invoice\",'Yearly Summary 2'!$B$5,\"Month\",AH7),0))","v":0},{"$f":"IF($A$4>1,IFERROR(GETPIVOTDATA(\" Net Profit Invoice\",'Yearly Summary 2'!$B$5,\"Month\",AI7,\"User\",$A$3),0),IFERROR(GETPIVOTDATA(\" Net Profit Invoice\",'Yearly Summary 2'!$B$5,\"Month\",AI7),0))","v":0},{"$f":"IF($A$4>1,IFERROR(GETPIVOTDATA(\" Net Profit Invoice\",'Yearly Summary 2'!$B$5,\"Month\",AJ7,\"User\",$A$3),0),IFERROR(GETPIVOTDATA(\" Net Profit Invoice\",'Yearly Summary 2'!$B$5,\"Month\",AJ7),0))","v":0},{"$f":"IF($A$4>1,IFERROR(GETPIVOTDATA(\" Net Profit Invoice\",'Yearly Summary 2'!$B$5,\"Month\",AK7,\"User\",$A$3),0),IFERROR(GETPIVOTDATA(\" Net Profit Invoice\",'Yearly Summary 2'!$B$5,\"Month\",AK7),0))","v":0},{"$f":"IF($A$4>1,IFERROR(GETPIVOTDATA(\" Net Profit Invoice\",'Yearly Summary 2'!$B$5,\"Month\",AL7,\"User\",$A$3),0),IFERROR(GETPIVOTDATA(\" Net Profit Invoice\",'Yearly Summary 2'!$B$5,\"Month\",AL7),0))","v":0},0]
["AZ, United States",null,null,"Amount from Expenses Tab",null,{"$f":"IF($A$4>1,IFERROR(GETPIVOTDATA(\"Cost\",Expenses!$L$3,\"Month\",E5,\"User Token\",$A$3),0),IFERROR(GETPIVOTDATA(\"Cost\",Expenses!$L$3,\"Month\",E5),0))","v":0},null,null,null,null,null,"Amount from Expenses Tab",null,0,null,null,null,null,"Amount from Expenses Tab",null,0,null,null,null,"Amount from Expenses Tab",null,{"$f":"IF($A$4>1,IFERROR(GETPIVOTDATA(\"Cost\",Expenses!$L$3,\"Month\",AA7,\"User Token\",$A$3),0),IFERROR(GETPIVOTDATA(\"Cost\",Expenses!$L$3,\"Month\",AA7),0))","v":0},{"$f":"IF($A$4>1,IFERROR(GETPIVOTDATA(\"Cost\",Expenses!$L$3,\"Month\",AB7,\"User Token\",$A$3),0),IFERROR(GETPIVOTDATA(\"Cost\",Expenses!$L$3,\"Month\",AB7),0))","v":0},{"$f":"IF($A$4>1,IFERROR(GETPIVOTDATA(\"Cost\",Expenses!$L$3,\"Month\",AC7,\"User Token\",$A$3),0),IFERROR(GETPIVOTDATA(\"Cost\",Expenses!$L$3,\"Month\",AC7),0))","v":0},{"$f":"IF($A$4>1,IFERROR(GETPIVOTDATA(\"Cost\",Expenses!$L$3,\"Month\",AD7,\"User Token\",$A$3),0),IFERROR(GETPIVOTDATA(\"Cost\",Expenses!$L$3,\"Month\",AD7),0))","v":0},{"$f":"IF($A$4>1,IFERROR(GETPIVOTDATA(\"Cost\",Expenses!$L$3,\"Month\",AE7,\"User Token\",$A$3),0),IFERROR(GETPIVOTDATA(\"Cost\",Expenses!$L$3,\"Month\",AE7),0))","v":0},{"$f":"IF($A$4>1,IFERROR(GETPIVOTDATA(\"Cost\",Expenses!$L$3,\"Month\",AF7,\"User Token\",$A$3),0),IFERROR(GETPIVOTDATA(\"Cost\",Expenses!$L$3,\"Month\",AF7),0))","v":0},{"$f":"IF($A$4>1,IFERROR(GETPIVOTDATA(\"Cost\",Expenses!$L$3,\"Month\",AG7,\"User Token\",$A$3),0),IFERROR(GETPIVOTDATA(\"Cost\",Expenses!$L$3,\"Month\",AG7),0))","v":0},{"$f":"IF($A$4>1,IFERROR(GETPIVOTDATA(\"Cost\",Expenses!$L$3,\"Month\",AH7,\"User Token\",$A$3),0),IFERROR(GETPIVOTDATA(\"Cost\",Expenses!$L$3,\"Month\",AH7),0))","v":0},{"$f":"IF($A$4>1,IFERROR(GETPIVOTDATA(\"Cost\",Expenses!$L$3,\"Month\",AI7,\"User Token\",$A$3),0),IFERROR(GETPIVOTDATA(\"Cost\",Expenses!$L$3,\"Month\",AI7),0))","v":0},{"$f":"IF($A$4>1,IFERROR(GETPIVOTDATA(\"Cost\",Expenses!$L$3,\"Month\",AJ7,\"User Token\",$A$3),0),IFERROR(GETPIVOTDATA(\"Cost\",Expenses!$L$3,\"Month\",AJ7),0))","v":0},{"$f":"IF($A$4>1,IFERROR(GETPIVOTDATA(\"Cost\",Expenses!$L$3,\"Month\",AK7,\"User Token\",$A$3),0),IFERROR(GETPIVOTDATA(\"Cost\",Expenses!$L$3,\"Month\",AK7),0))","v":0},{"$f":"IF($A$4>1,IFERROR(GETPIVOTDATA(\"Cost\",Expenses!$L$3,\"Month\",AL7,\"User Token\",$A$3),0),IFERROR(GETPIVOTDATA(\"Cost\",Expenses!$L$3,\"Month\",AL7),0))","v":0},0]
["AR, United States",null,null,"Refunds/Additional Payments/TRS Discounts",null,{"$f":"IF($A$4>1,-IFERROR(GETPIVOTDATA(\" Refund or Additional Payment\",'Yearly Summary 2'!$B$5,\"Month\",E5,\"User\",$A$3),0),-IFERROR(GETPIVOTDATA(\" Refund or Additional Payment\",'Yearly Summary 2'!$B$5,\"Month\",E5),0))","v":0},null,null,null,null,null,"Refunds/Additional Payments/TRS Discounts",null,0,null,null,null,null,"Refunds/Additional Payments/TRS Discounts",null,0,null,null,null,"Refunds/Additional Payments/TRS Discounts",null,{"$f":"IF($A$4>1,-IFERROR(GETPIVOTDATA(\" Refund or Additional Payment\",'Yearly Summary 2'!$B$5,\"Month\",AA7,\"User\",$A$3),0),-IFERROR(GETPIVOTDATA(\" Refund or Additional Payment\",'Yearly Summary 2'!$B$5,\"Month\",AA7),0))","v":0},{"$f":"IF($A$4>1,-IFERROR(GETPIVOTDATA(\" Refund or Additional Payment\",'Yearly Summary 2'!$B$5,\"Month\",AB7,\"User\",$A$3),0),-IFERROR(GETPIVOTDATA(\" Refund or Additional Payment\",'Yearly Summary 2'!$B$5,\"Month\",AB7),0))","v":0},{"$f":"IF($A$4>1,-IFERROR(GETPIVOTDATA(\" Refund or Additional Payment\",'Yearly Summary 2'!$B$5,\"Month\",AC7,\"User\",$A$3),0),-IFERROR(GETPIVOTDATA(\" Refund or Additional Payment\",'Yearly Summary 2'!$B$5,\"Month\",AC7),0))","v":0},{"$f":"IF($A$4>1,-IFERROR(GETPIVOTDATA(\" Refund or Additional Payment\",'Yearly Summary 2'!$B$5,\"Month\",AD7,\"User\",$A$3),0),-IFERROR(GETPIVOTDATA(\" Refund or Additional Payment\",'Yearly Summary 2'!$B$5,\"Month\",AD7),0))","v":0},{"$f":"IF($A$4>1,-IFERROR(GETPIVOTDATA(\" Refund or Additional Payment\",'Yearly Summary 2'!$B$5,\"Month\",AE7,\"User\",$A$3),0),-IFERROR(GETPIVOTDATA(\" Refund or Additional Payment\",'Yearly Summary 2'!$B$5,\"Month\",AE7),0))","v":0},{"$f":"IF($A$4>1,-IFERROR(GETPIVOTDATA(\" Refund or Additional Payment\",'Yearly Summary 2'!$B$5,\"Month\",AF7,\"User\",$A$3),0),-IFERROR(GETPIVOTDATA(\" Refund or Additional Payment\",'Yearly Summary 2'!$B$5,\"Month\",AF7),0))","v":0},{"$f":"IF($A$4>1,-IFERROR(GETPIVOTDATA(\" Refund or Additional Payment\",'Yearly Summary 2'!$B$5,\"Month\",AG7,\"User\",$A$3),0),-IFERROR(GETPIVOTDATA(\" Refund or Additional Payment\",'Yearly Summary 2'!$B$5,\"Month\",AG7),0))","v":0},{"$f":"IF($A$4>1,-IFERROR(GETPIVOTDATA(\" Refund or Additional Payment\",'Yearly Summary 2'!$B$5,\"Month\",AH7,\"User\",$A$3),0),-IFERROR(GETPIVOTDATA(\" Refund or Additional Payment\",'Yearly Summary 2'!$B$5,\"Month\",AH7),0))","v":0},{"$f":"IF($A$4>1,-IFERROR(GETPIVOTDATA(\" Refund or Additional Payment\",'Yearly Summary 2'!$B$5,\"Month\",AI7,\"User\",$A$3),0),-IFERROR(GETPIVOTDATA(\" Refund or Additional Payment\",'Yearly Summary 2'!$B$5,\"Month\",AI7),0))","v":0},{"$f":"IF($A$4>1,-IFERROR(GETPIVOTDATA(\" Refund or Additional Payment\",'Yearly Summary 2'!$B$5,\"Month\",AJ7,\"User\",$A$3),0),-IFERROR(GETPIVOTDATA(\" Refund or Additional Payment\",'Yearly Summary 2'!$B$5,\"Month\",AJ7),0))","v":0},{"$f":"IF($A$4>1,-IFERROR(GETPIVOTDATA(\" Refund or Additional Payment\",'Yearly Summary 2'!$B$5,\"Month\",AK7,\"User\",$A$3),0),-IFERROR(GETPIVOTDATA(\" Refund or Additional Payment\",'Yearly Summary 2'!$B$5,\"Month\",AK7),0))","v":0},{"$f":"IF($A$4>1,-IFERROR(GETPIVOTDATA(\" Refund or Additional Payment\",'Yearly Summary 2'!$B$5,\"Month\",AL7,\"User\",$A$3),0),-IFERROR(GETPIVOTDATA(\" Refund or Additional Payment\",'Yearly Summary 2'!$B$5,\"Month\",AL7),0))","v":0},0]
["CA, United States"]
["CO, United States",null,null,"TOTAL EXPENSES",null,{"$f":"SUM(F17:F24)","v":0},null,null,null,null,null,"TOTAL EXPENSES",null,{"$f":"IF($I$7=4,SUM(AJ26:AL26),IF($I$7=3,SUM(AG26:AI26),IF($I$7=2,SUM(AD26:AF26),SUM(AA26:AC26))))","v":0},null,null,null,null,"TOTAL EXPENSES",null,{"$f":"SUM(AA26:AL26)","v":0},null,null,null,"TOTAL EXPENSES",null,{"$f":"SUM(AA17:AA24)","v":0},{"$f":"SUM(AB17:AB24)","v":0},0,0,0,0,0,0,0,0,0,0,{"$f":"SUM(AA26:AL26)","v":0}]
["CT, United States"]
["DE, United States"]
["FL, United States"]
["GA, United States",null,null,"PROFIT/LOSS",null,{"$f":"F13-F26","v":0},null,null,null,null,null,"PROFIT/LOSS",null,{"$f":"IF($I$7=4,SUM(AJ30:AL30),IF($I$7=3,SUM(AG30:AI30),IF($I$7=2,SUM(AD30:AF30),SUM(AA30:AC30))))","v":0},null,null,null,null,"PROFIT/LOSS",null,{"$f":"SUM(AA30:AL30)","v":0},null,null,null,"PROFIT/LOSS",null,{"$f":"AA13-AA26","v":0},{"$f":"AB13-AB26","v":0},0,0,0,0,0,0,0,0,0,0,{"$f":"SUM(AA30:AL30)","v":0}]
["HI, United States"]
["ID, United States",null,{"$f":"CONCATENATE(A19,\" MONTHLY SALES TAX REPORT\")","v":"AL, United States MONTHLY SALES TAX REPORT"},null,null,null,null,null,null,null,{"$f":"CONCATENATE(A19,\" QUARTERLY SALES TAX REPORT\")","v":"AL, United States QUARTERLY SALES TAX REPORT"},null,null,null,null,null,null,{"$f":"CONCATENATE(A19,\" YEARLY SALES TAX REPORT\")","v":"AL, United States YEARLY SALES TAX REPORT"}]
["IL, United States"]
["IN, United States",null,null,"Gross Sales",null,{"$f":"F9","v":0},null,null,null,null,null,"Gross Sales",null,{"$f":"IF($I$7=4,SUM(AJ34:AL34),IF($I$7=3,SUM(AG34:AI34),IF($I$7=2,SUM(AD34:AF34),SUM(AA34:AC34))))","v":0},null,null,null,null,"Gross Sales",null,{"$f":"SUM(AA34:AL34)","v":0},null,null,null,"Gross Sales",null,{"$f":"AA9","v":0},{"$f":"AB9","v":0},0,0,0,0,0,0,0,0,0,0,{"$f":"SUM(AA34:AL34)","v":0}]
["IA, United States",null,null,"Exempt Sales",null,{"$f":"F34-F36","v":0},null,null,null,null,null,"Exempt Sales",null,0,null,null,null,null,"Exempt Sales",null,{"$f":"SUM(AA35:AL35)","v":0},null,null,null,"Exempt Sales",null,{"$f":"AA34-AA36","v":0},{"$f":"AB34-AB36","v":0},0,0,0,0,0,0,0,0,0,0,0]
["KS, United States",null,null,{"$f":"CONCATENATE(A19,\" Taxable Sales\")","v":"AL, United States Taxable Sales"},null,{"$f":"IF($A$4>1,IFERROR(GETPIVOTDATA(\" Purchase Price\",'Yearly Summary 2'!$B$5,\"Month\",E5,\"Buyers State / Province\",$A$19,\"User\",$A$3),0),IFERROR(GETPIVOTDATA(\" Purchase Price\",'Yearly Summary 2'!$B$5,\"Month\",E5,\"Buyers State / Province\",$A$19),0))","v":0},null,null,null,null,null,{"$f":"CONCATENATE(A19,\" Taxable Sales\")","v":"AL, United States Taxable Sales"},null,0,null,null,null,null,{"$f":"CONCATENATE(A19,\" Taxable Sales\")","v":"AL, United States Taxable Sales"},null,{"$f":"SUM(AA36:AL36)","v":0},null,null,null,"AL, United States Taxable Sales",null,{"$f":"IF($A$4>1,IFERROR(GETPIVOTDATA(\" Purchase Price\",'Yearly Summary 2'!$B$5,\"Month\",AA7,\"Buyers State / Province\",$A$19,\"User\",$A$3),0),IFERROR(GETPIVOTDATA(\" Purchase Price\",'Yearly Summary 2'!$B$5,\"Month\",AA7,\"Buyers State / Province\",$A$19),0))","v":0},{"$f":"IF($A$4>1,IFERROR(GETPIVOTDATA(\" Purchase Price\",'Yearly Summary 2'!$B$5,\"Month\",AB7,\"Buyers State / Province\",$A$19,\"User\",$A$3),0),IFERROR(GETPIVOTDATA(\" Purchase Price\",'Yearly Summary 2'!$B$5,\"Month\",AB7,\"Buyers State / Province\",$A$19),0))","v":0},{"$f":"IF($A$4>1,IFERROR(GETPIVOTDATA(\" Purchase Price\",'Yearly Summary 2'!$B$5,\"Month\",AC7,\"Buyers State / Province\",$A$19,\"User\",$A$3),0),IFERROR(GETPIVOTDATA(\" Purchase Price\",'Yearly Summary 2'!$B$5,\"Month\",AC7,\"Buyers State / Province\",$A$19),0))","v":0},{"$f":"IF($A$4>1,IFERROR(GETPIVOTDATA(\" Purchase Price\",'Yearly Summary 2'!$B$5,\"Month\",AD7,\"Buyers State / Province\",$A$19,\"User\",$A$3),0),IFERROR(GETPIVOTDATA(\" Purchase Price\",'Yearly Summary 2'!$B$5,\"Month\",AD7,\"Buyers State / Province\",$A$19),0))","v":0},{"$f":"IF($A$4>1,IFERROR(GETPIVOTDATA(\" Purchase Price\",'Yearly Summary 2'!$B$5,\"Month\",AE7,\"Buyers State / Province\",$A$19,\"User\",$A$3),0),IFERROR(GETPIVOTDATA(\" Purchase Price\",'Yearly Summary 2'!$B$5,\"Month\",AE7,\"Buyers State / Province\",$A$19),0))","v":0},{"$f":"IF($A$4>1,IFERROR(GETPIVOTDATA(\" Purchase Price\",'Yearly Summary 2'!$B$5,\"Month\",AF7,\"Buyers State / Province\",$A$19,\"User\",$A$3),0),IFERROR(GETPIVOTDATA(\" Purchase Price\",'Yearly Summary 2'!$B$5,\"Month\",AF7,\"Buyers State / Province\",$A$19),0))","v":0},{"$f":"IF($A$4>1,IFERROR(GETPIVOTDATA(\" Purchase Price\",'Yearly Summary 2'!$B$5,\"Month\",AG7,\"Buyers State / Province\",$A$19,\"User\",$A$3),0),IFERROR(GETPIVOTDATA(\" Purchase Price\",'Yearly Summary 2'!$B$5,\"Month\",AG7,\"Buyers State / Province\",$A$19),0))","v":0},{"$f":"IF($A$4>1,IFERROR(GETPIVOTDATA(\" Purchase Price\",'Yearly Summary 2'!$B$5,\"Month\",AH7,\"Buyers State / Province\",$A$19,\"User\",$A$3),0),IFERROR(GETPIVOTDATA(\" Purchase Price\",'Yearly Summary 2'!$B$5,\"Month\",AH7,\"Buyers State / Province\",$A$19),0))","v":0},{"$f":"IF($A$4>1,IFERROR(GETPIVOTDATA(\" Purchase Price\",'Yearly Summary 2'!$B$5,\"Month\",AI7,\"Buyers State / Province\",$A$19,\"User\",$A$3),0),IFERROR(GETPIVOTDATA(\" Purchase Price\",'Yearly Summary 2'!$B$5,\"Month\",AI7,\"Buyers State / Province\",$A$19),0))","v":0},{"$f":"IF($A$4>1,IFERROR(GETPIVOTDATA(\" Purchase Price\",'Yearly Summary 2'!$B$5,\"Month\",AJ7,\"Buyers State / Province\",$A$19,\"User\",$A$3),0),IFERROR(GETPIVOTDATA(\" Purchase Price\",'Yearly Summary 2'!$B$5,\"Month\",AJ7,\"Buyers State / Province\",$A$19),0))","v":0},{"$f":"IF($A$4>1,IFERROR(GETPIVOTDATA(\" Purchase Price\",'Yearly Summary 2'!$B$5,\"Month\",AK7,\"Buyers State / Province\",$A$19,\"User\",$A$3),0),IFERROR(GETPIVOTDATA(\" Purchase Price\",'Yearly Summary 2'!$B$5,\"Month\",AK7,\"Buyers State / Province\",$A$19),0))","v":0},{"$f":"IF($A$4>1,IFERROR(GETPIVOTDATA(\" Purchase Price\",'Yearly Summary 2'!$B$5,\"Month\",AL7,\"Buyers State / Province\",$A$19,\"User\",$A$3),0),IFERROR(GETPIVOTDATA(\" Purchase Price\",'Yearly Summary 2'!$B$5,\"Month\",AL7,\"Buyers State / Province\",$A$19),0))","v":0},0]
["KY, United States",null,null,{"$f":"CONCATENATE(A19,\" Tax Collected\")","v":"AL, United States Tax Collected"},null,{"$f":"IF($A$4>1,IFERROR(GETPIVOTDATA(\" Sales Tax Collected\",'Yearly Summary 2'!$B$5,\"Month\",E5,\"Buyers State / Province\",$A$19,\"User\",$A$3),0),IFERROR(GETPIVOTDATA(\" Sales Tax Collected\",'Yearly Summary 2'!$B$5,\"Month\",E5,\"Buyers State / Province\",$A$19),0))","v":0},null,null,null,null,null,{"$f":"CONCATENATE(A19,\" Tax Collected\")","v":"AL, United States Tax Collected"},null,0,null,null,null,null,{"$f":"CONCATENATE(A19,\" Tax Collected\")","v":"AL, United States Tax Collected"},null,{"$f":"SUM(AA37:AL37)","v":0},null,null,null,"AL, United States Tax Collected",null,{"$f":"IF($A$4>1,IFERROR(GETPIVOTDATA(\" Sales Tax Collected\",'Yearly Summary 2'!$B$5,\"Month\",AA7,\"Buyers State / Province\",$A$19,\"User\",$A$3),0),IFERROR(GETPIVOTDATA(\" Sales Tax Collected\",'Yearly Summary 2'!$B$5,\"Month\",AA7,\"Buyers State / Province\",$A$19),0))","v":0},{"$f":"IF($A$4>1,IFERROR(GETPIVOTDATA(\" Sales Tax Collected\",'Yearly Summary 2'!$B$5,\"Month\",AB7,\"Buyers State / Province\",$A$19,\"User\",$A$3),0),IFERROR(GETPIVOTDATA(\" Sales Tax Collected\",'Yearly Summary 2'!$B$5,\"Month\",AB7,\"Buyers State / Province\",$A$19),0))","v":0},{"$f":"IF($A$4>1,IFERROR(GETPIVOTDATA(\" Sales Tax Collected\",'Yearly Summary 2'!$B$5,\"Month\",AC7,\"Buyers State / Province\",$A$19,\"User\",$A$3),0),IFERROR(GETPIVOTDATA(\" Sales Tax Collected\",'Yearly Summary 2'!$B$5,\"Month\",AC7,\"Buyers State / Province\",$A$19),0))","v":0},{"$f":"IF($A$4>1,IFERROR(GETPIVOTDATA(\" Sales Tax Collected\",'Yearly Summary 2'!$B$5,\"Month\",AD7,\"Buyers State / Province\",$A$19,\"User\",$A$3),0),IFERROR(GETPIVOTDATA(\" Sales Tax Collected\",'Yearly Summary 2'!$B$5,\"Month\",AD7,\"Buyers State / Province\",$A$19),0))","v":0},{"$f":"IF($A$4>1,IFERROR(GETPIVOTDATA(\" Sales Tax Collected\",'Yearly Summary 2'!$B$5,\"Month\",AE7,\"Buyers State / Province\",$A$19,\"User\",$A$3),0),IFERROR(GETPIVOTDATA(\" Sales Tax Collected\",'Yearly Summary 2'!$B$5,\"Month\",AE7,\"Buyers State / Province\",$A$19),0))","v":0},{"$f":"IF($A$4>1,IFERROR(GETPIVOTDATA(\" Sales Tax Collected\",'Yearly Summary 2'!$B$5,\"Month\",AF7,\"Buyers State / Province\",$A$19,\"User\",$A$3),0),IFERROR(GETPIVOTDATA(\" Sales Tax Collected\",'Yearly Summary 2'!$B$5,\"Month\",AF7,\"Buyers State / Province\",$A$19),0))","v":0},{"$f":"IF($A$4>1,IFERROR(GETPIVOTDATA(\" Sales Tax Collected\",'Yearly Summary 2'!$B$5,\"Month\",AG7,\"Buyers State / Province\",$A$19,\"User\",$A$3),0),IFERROR(GETPIVOTDATA(\" Sales Tax Collected\",'Yearly Summary 2'!$B$5,\"Month\",AG7,\"Buyers State / Province\",$A$19),0))","v":0},{"$f":"IF($A$4>1,IFERROR(GETPIVOTDATA(\" Sales Tax Collected\",'Yearly Summary 2'!$B$5,\"Month\",AH7,\"Buyers State / Province\",$A$19,\"User\",$A$3),0),IFERROR(GETPIVOTDATA(\" Sales Tax Collected\",'Yearly Summary 2'!$B$5,\"Month\",AH7,\"Buyers State / Province\",$A$19),0))","v":0},{"$f":"IF($A$4>1,IFERROR(GETPIVOTDATA(\" Sales Tax Collected\",'Yearly Summary 2'!$B$5,\"Month\",AI7,\"Buyers State / Province\",$A$19,\"User\",$A$3),0),IFERROR(GETPIVOTDATA(\" Sales Tax Collected\",'Yearly Summary 2'!$B$5,\"Month\",AI7,\"Buyers State / Province\",$A$19),0))","v":0},{"$f":"IF($A$4>1,IFERROR(GETPIVOTDATA(\" Sales Tax Collected\",'Yearly Summary 2'!$B$5,\"Month\",AJ7,\"Buyers State / Province\",$A$19,\"User\",$A$3),0),IFERROR(GETPIVOTDATA(\" Sales Tax Collected\",'Yearly Summary 2'!$B$5,\"Month\",AJ7,\"Buyers State / Province\",$A$19),0))","v":0},{"$f":"IF($A$4>1,IFERROR(GETPIVOTDATA(\" Sales Tax Collected\",'Yearly Summary 2'!$B$5,\"Month\",AK7,\"Buyers State / Province\",$A$19,\"User\",$A$3),0),IFERROR(GETPIVOTDATA(\" Sales Tax Collected\",'Yearly Summary 2'!$B$5,\"Month\",AK7,\"Buyers State / Province\",$A$19),0))","v":0},{"$f":"IF($A$4>1,IFERROR(GETPIVOTDATA(\" Sales Tax Collected\",'Yearly Summary 2'!$B$5,\"Month\",AL7,\"Buyers State / Province\",$A$19,\"User\",$A$3),0),IFERROR(GETPIVOTDATA(\" Sales Tax Collected\",'Yearly Summary 2'!$B$5,\"Month\",AL7,\"Buyers State / Province\",$A$19),0))","v":0},0]
["LA, United States"]
["ME, United States",null,null,null,null,null,null,null,null,null,null,null,null,null,null,null,null,null,null,null,null,null,null,null,"% Monthly Net Profit",null,{"$f":"IFERROR(AA30/AA13,AA40)","v":" "},{"$f":"IFERROR(AB30/AB13,AB40)","v":" "}," "," "," "," "," "," "," "," "," "," "]
["MD, United States",null,null,null,"Printed on:",{"$f":"+NOW()","v":43479.572795486114},null,null,null,null,null,null,"Printed on:",{"$f":"+NOW()","v":43479.572795486114},null,null,null,null,null,"Printed on:",{"$f":"+NOW()","v":43479.572795486114},null,null,null,"Cumulative % Net Profit",null,{"$f":"IFERROR(SUM($AA$30:AA30)/SUM($AA$13:AA13),\" \")","v":" "},{"$f":"IFERROR(SUM($AA$30:AB30)/SUM($AA$13:AB13),\" \")","v":" "},{"$f":"IFERROR(SUM($AA$30:AC30)/SUM($AA$13:AC13),\" \")","v":" "},{"$f":"IFERROR(SUM($AA$30:AD30)/SUM($AA$13:AD13),\" \")","v":" "},{"$f":"IFERROR(SUM($AA$30:AE30)/SUM($AA$13:AE13),\" \")","v":" "},{"$f":"IFERROR(SUM($AA$30:AF30)/SUM($AA$13:AF13),\" \")","v":" "},{"$f":"IFERROR(SUM($AA$30:AG30)/SUM($AA$13:AG13),\" \")","v":" "},{"$f":"IFERROR(SUM($AA$30:AH30)/SUM($AA$13:AH13),\" \")","v":" "},{"$f":"IFERROR(SUM($AA$30:AI30)/SUM($AA$13:AI13),\" \")","v":" "},{"$f":"IFERROR(SUM($AA$30:AJ30)/SUM($AA$13:AJ13),\" \")","v":" "},{"$f":"IFERROR(SUM($AA$30:AK30)/SUM($AA$13:AK13),\" \")","v":" "},{"$f":"IFERROR(SUM($AA$30:AL30)/SUM($AA$13:AL13),\" \")","v":" "}]
["MA, United States"]
["MI, United States"]
["MN, United States"]
["MS, United States"]
["MO, United States"]
["MT, United States"]
["NE, United States"]
["NV, United States"]
["NH, United States"]
["NJ, United States"]
["NM, United States"]
["NY, United States"]
["NC, United States"]
["ND, United States"]
["OH, United States"]
["OK, United States"]
["OR, United States"]
["PA, United States"]
["RI, United States"]
["SC, United States"]
["SD, United States"]
["TN, United States"]
["TX, United States"]
["UT, United States"]
["VT, United States"]
["VA, United States"]
["WA, United States"]
["WV, United States"]
["WI, United States"]
["WY, United States"]
[]
["All"]
[{"$f":"Config!H27","v":"No Tokens Created"}]
[{"$f":"Config!H28","v":""}]
[{"$f":"Config!H29","v":""}]
[{"$f":"Config!H30","v":""}]
[{"$f":"Config!H31","v":""}]

{"sheet":"Expenses","index":7,"n_rows":1000,"n_cols":18,"rows_kept":1000,"cut":false,"hidden":false,"merged":[]}
[null,"Expenses"]
[null,null,"Do not use this column","Grand Total",{"$f":"SUM(E4:E1000)","v":0},{"$f":"COUNTA(B:B)-COUNTA(B1:B3)","v":0}]
[null,"Date","Month","Item/Description","Cost","Purchased From","Category","User Token",null,"Categories",null," Cost",null,null,null,null,"Sum of Cost"]
[null,null,{"$f":"VALUE(MONTH(B4) &\"/\"& (YEAR(B4)))","v":1},null,null,null,"Select a Category","Select a User Token",null,"Select a Category",null,"Month","User Token","Category","Total",null,"Category","Total"]
[null,null,1,null,null,null,"Select a Category","Select a User Token",null,"Accountant Fees",null,1,"Select a User Token","Select a Category",null,null,"Select a Category"]
[null,null,1,null,null,null,"Select a Category","Select a User Token",null,"Consultant Fees",null,null,"Select a User Token Total",null,null,null,"Grand Total"]
[null,null,1,null,null,null,"Select a Category","Select a User Token",null,"Entertainment and Gifts",null,"1/1/1900 Total"]
[null,null,1,null,null,null,"Select a Category","Select a User Token",null,"Equipment ",null,"Grand Total"]
[null,null,1,null,null,null,"Select a Category","Select a User Token",null,"Internet Service"]
[null,null,1,null,null,null,"Select a Category","Select a User Token",null,"Marketing and Advertising"]
[null,null,1,null,null,null,"Select a Category","Select a User Token",null,"Meals"]
[null,null,1,null,null,null,"Select a Category","Select a User Token",null,"Memberships and Subscriptions"]
[null,null,1,null,null,null,"Select a Category","Select a User Token",null,"Office Supplies"]
[null,null,1,null,null,null,"Select a Category","Select a User Token",null,"Other"]
[null,null,1,null,null,null,"Select a Category","Select a User Token",null,"Packing/Shipping Supplies"]
[null,null,1,null,null,null,"Select a Category","Select a User Token",null,"Rent and Utilities"]
[null,null,1,null,null,null,"Select a Category","Select a User Token",null,"Salaries and Insurance"]
[null,null,1,null,null,null,"Select a Category","Select a User Token",null,"Software"]
[null,null,1,null,null,null,"Select a Category","Select a User Token",null,"Travel and Trade Shows"]
[null,null,1,null,null,null,"Select a Category","Select a User Token"]
[null,null,1,null,null,null,"Select a Category","Select a User Token"]
[null,null,1,null,null,null,"Select a Category","Select a User Token"]
[null,null,1,null,null,null,"Select a Category","Select a User Token"]
[null,null,1,null,null,null,"Select a Category","Select a User Token"]
[null,null,1,null,null,null,"Select a Category","Select a User Token"]
[null,null,1,null,null,null,"Select a Category","Select a User Token"]
[null,null,1,null,null,null,"Select a Category","Select a User Token"]
[null,null,1,null,null,null,"Select a Category","Select a User Token"]
[null,null,1,null,null,null,"Select a Category","Select a User Token"]
[null,null,1,null,null,null,"Select a Category","Select a User Token"]
[null,null,1,null,null,null,"Select a Category","Select a User Token"]
[null,null,1,null,null,null,"Select a Category","Select a User Token"]
[null,null,1,null,null,null,"Select a Category","Select a User Token"]
[null,null,1,null,null,null,"Select a Category","Select a User Token"]
[null,null,1,null,null,null,"Select a Category","Select a User Token",null,"List ends in the cell above."]
[null,null,1,null,null,null,"Select a Category","Select a User Token"]
[null,null,1,null,null,null,"Select a Category","Select a User Token"]
[null,null,1,null,null,null,"Select a Category","Select a User Token"]
[null,null,1,null,null,null,"Select a Category","Select a User Token"]
[null,null,1,null,null,null,"Select a Category","Select a User Token"]
[null,null,1,null,null,null,"Select a Category","Select a User Token"]
[null,null,1,null,null,null,"Select a Category","Select a User Token"]
[null,null,1,null,null,null,"Select a Category","Select a User Token"]
[null,null,1,null,null,null,"Select a Category","Select a User Token"]
[null,null,1,null,null,null,"Select a Category","Select a User Token"]
[null,null,1,null,null,null,"Select a Category","Select a User Token"]
[null,null,1,null,null,null,"Select a Category","Select a User Token"]
[null,null,1,null,null,null,"Select a Category","Select a User Token"]
[null,null,1,null,null,null,"Select a Category","Select a User Token"]
[null,null,1,null,null,null,"Select a Category","Select a User Token"]
[null,null,1,null,null,null,"Select a Category","Select a User Token"]
[null,null,1,null,null,null,"Select a Category","Select a User Token"]
[null,null,1,null,null,null,"Select a Category","Select a User Token"]
[null,null,1,null,null,null,"Select a Category","Select a User Token"]
[null,null,1,null,null,null,"Select a Category","Select a User Token"]
[null,null,1,null,null,null,"Select a Category","Select a User Token"]
[null,null,1,null,null,null,"Select a Category","Select a User Token"]
[null,null,1,null,null,null,"Select a Category","Select a User Token"]
[null,null,1,null,null,null,"Select a Category","Select a User Token"]
[null,null,1,null,null,null,"Select a Category","Select a User Token"]
[null,null,1,null,null,null,"Select a Category","Select a User Token"]
[null,null,1,null,null,null,"Select a Category","Select a User Token"]
[null,null,1,null,null,null,"Select a Category","Select a User Token"]
[null,null,1,null,null,null,"Select a Category","Select a User Token"]
[null,null,1,null,null,null,"Select a Category","Select a User Token"]
[null,null,1,null,null,null,"Select a Category","Select a User Token"]
[null,null,1,null,null,null,"Select a Category","Select a User Token"]
[null,null,{"$f":"VALUE(MONTH(B68) &\"/\"& (YEAR(B68)))","v":1},null,null,null,"Select a Category","Select a User Token"]
[null,null,1,null,null,null,"Select a Category","Select a User Token"]
[null,null,1,null,null,null,"Select a Category","Select a User Token"]
[null,null,1,null,null,null,"Select a Category","Select a User Token"]
[null,null,1,null,null,null,"Select a Category","Select a User Token"]
[null,null,1,null,null,null,"Select a Category","Select a User Token"]
[null,null,1,null,null,null,"Select a Category","Select a User Token"]
[null,null,1,null,null,null,"Select a Category","Select a User Token"]
[null,null,1,null,null,null,"Select a Category","Select a User Token"]
[null,null,1,null,null,null,"Select a Category","Select a User Token"]
[null,null,1,null,null,null,"Select a Category","Select a User Token"]
[null,null,1,null,null,null,"Select a Category","Select a User Token"]
[null,null,1,null,null,null,"Select a Category","Select a User Token"]
[null,null,1,null,null,null,"Select a Category","Select a User Token"]
[null,null,1,null,null,null,"Select a Category","Select a User Token"]
[null,null,1,null,null,null,"Select a Category","Select a User Token"]
[null,null,1,null,null,null,"Select a Category","Select a User Token"]
[null,null,1,null,null,null,"Select a Category","Select a User Token"]
[null,null,1,null,null,null,"Select a Category","Select a User Token"]
[null,null,1,null,null,null,"Select a Category","Select a User Token"]
[null,null,1,null,null,null,"Select a Category","Select a User Token"]
[null,null,1,null,null,null,"Select a Category","Select a User Token"]
[null,null,1,null,null,null,"Select a Category","Select a User Token"]
[null,null,1,null,null,null,"Select a Category","Select a User Token"]
[null,null,1,null,null,null,"Select a Category","Select a User Token"]
[null,null,1,null,null,null,"Select a Category","Select a User Token"]
[null,null,1,null,null,null,"Select a Category","Select a User Token"]
[null,null,1,null,null,null,"Select a Category","Select a User Token"]
[null,null,1,null,null,null,"Select a Category","Select a User Token"]
[null,null,1,null,null,null,"Select a Category","Select a User Token"]
[null,null,1,null,null,null,"Select a Category","Select a User Token"]
[null,null,1,null,null,null,"Select a Category","Select a User Token"]
[null,null,1,null,null,null,"Select a Category","Select a User Token"]
[null,null,1,null,null,null,"Select a Category","Select a User Token"]
[null,null,1,null,null,null,"Select a Category","Select a User Token"]
[null,null,1,null,null,null,"Select a Category","Select a User Token"]
[null,null,1,null,null,null,"Select a Category","Select a User Token"]
[null,null,1,null,null,null,"Select a Category","Select a User Token"]
[null,null,1,null,null,null,"Select a Category","Select a User Token"]
[null,null,1,null,null,null,"Select a Category","Select a User Token"]
[null,null,1,null,null,null,"Select a Category","Select a User Token"]
[null,null,1,null,null,null,"Select a Category","Select a User Token"]
[null,null,1,null,null,null,"Select a Category","Select a User Token"]
[null,null,1,null,null,null,"Select a Category","Select a User Token"]
[null,null,1,null,null,null,"Select a Category","Select a User Token"]
[null,null,1,null,null,null,"Select a Category","Select a User Token"]
[null,null,1,null,null,null,"Select a Category","Select a User Token"]
[null,null,1,null,null,null,"Select a Category","Select a User Token"]
[null,null,1,null,null,null,"Select a Category","Select a User Token"]
[null,null,1,null,null,null,"Select a Category","Select a User Token"]
[null,null,1,null,null,null,"Select a Category","Select a User Token"]
[null,null,1,null,null,null,"Select a Category","Select a User Token"]
[null,null,1,null,null,null,"Select a Category","Select a User Token"]
[null,null,1,null,null,null,"Select a Category","Select a User Token"]
[null,null,1,null,null,null,"Select a Category","Select a User Token"]
[null,null,1,null,null,null,"Select a Category","Select a User Token"]
[null,null,1,null,null,null,"Select a Category","Select a User Token"]
[null,null,1,null,null,null,"Select a Category","Select a User Token"]
[null,null,1,null,null,null,"Select a Category","Select a User Token"]
[null,null,1,null,null,null,"Select a Category","Select a User Token"]
[null,null,1,null,null,null,"Select a Category","Select a User Token"]
[null,null,1,null,null,null,"Select a Category","Select a User Token"]
[null,null,1,null,null,null,"Select a Category","Select a User Token"]
[null,null,1,null,null,null,"Select a Category","Select a User Token"]
[null,null,{"$f":"VALUE(MONTH(B132) &\"/\"& (YEAR(B132)))","v":1},null,null,null,"Select a Category","Select a User Token"]
[null,null,1,null,null,null,"Select a Category","Select a User Token"]
[null,null,1,null,null,null,"Select a Category","Select a User Token"]
[null,null,1,null,null,null,"Select a Category","Select a User Token"]
[null,null,1,null,null,null,"Select a Category","Select a User Token"]
[null,null,1,null,null,null,"Select a Category","Select a User Token"]
[null,null,1,null,null,null,"Select a Category","Select a User Token"]
[null,null,1,null,null,null,"Select a Category","Select a User Token"]
[null,null,1,null,null,null,"Select a Category","Select a User Token"]
[null,null,1,null,null,null,"Select a Category","Select a User Token"]
[null,null,1,null,null,null,"Select a Category","Select a User Token"]
[null,null,1,null,null,null,"Select a Category","Select a User Token"]
[null,null,1,null,null,null,"Select a Category","Select a User Token"]
[null,null,1,null,null,null,"Select a Category","Select a User Token"]
[null,null,1,null,null,null,"Select a Category","Select a User Token"]
[null,null,1,null,null,null,"Select a Category","Select a User Token"]
[null,null,1,null,null,null,"Select a Category","Select a User Token"]
[null,null,1,null,null,null,"Select a Category","Select a User Token"]
[null,null,1,null,null,null,"Select a Category","Select a User Token"]
[null,null,1,null,null,null,"Select a Category","Select a User Token"]
[null,null,1,null,null,null,"Select a Category","Select a User Token"]
[null,null,1,null,null,null,"Select a Category","Select a User Token"]
[null,null,1,null,null,null,"Select a Category","Select a User Token"]
[null,null,1,null,null,null,"Select a Category","Select a User Token"]
[null,null,1,null,null,null,"Select a Category","Select a User Token"]
[null,null,1,null,null,null,"Select a Category","Select a User Token"]
[null,null,1,null,null,null,"Select a Category","Select a User Token"]
[null,null,1,null,null,null,"Select a Category","Select a User Token"]
[null,null,1,null,null,null,"Select a Category","Select a User Token"]
[null,null,1,null,null,null,"Select a Category","Select a User Token"]
[null,null,1,null,null,null,"Select a Category","Select a User Token"]
[null,null,1,null,null,null,"Select a Category","Select a User Token"]
[null,null,1,null,null,null,"Select a Category","Select a User Token"]
[null,null,1,null,null,null,"Select a Category","Select a User Token"]
[null,null,1,null,null,null,"Select a Category","Select a User Token"]
[null,null,1,null,null,null,"Select a Category","Select a User Token"]
[null,null,1,null,null,null,"Select a Category","Select a User Token"]
[null,null,1,null,null,null,"Select a Category","Select a User Token"]
[null,null,1,null,null,null,"Select a Category","Select a User Token"]
[null,null,1,null,null,null,"Select a Category","Select a User Token"]
[null,null,1,null,null,null,"Select a Category","Select a User Token"]
[null,null,1,null,null,null,"Select a Category","Select a User Token"]
[null,null,1,null,null,null,"Select a Category","Select a User Token"]
[null,null,1,null,null,null,"Select a Category","Select a User Token"]
[null,null,1,null,null,null,"Select a Category","Select a User Token"]
[null,null,1,null,null,null,"Select a Category","Select a User Token"]
[null,null,1,null,null,null,"Select a Category","Select a User Token"]
[null,null,1,null,null,null,"Select a Category","Select a User Token"]
[null,null,1,null,null,null,"Select a Category","Select a User Token"]
[null,null,1,null,null,null,"Select a Category","Select a User Token"]
[null,null,1,null,null,null,"Select a Category","Select a User Token"]
[null,null,1,null,null,null,"Select a Category","Select a User Token"]
[null,null,1,null,null,null,"Select a Category","Select a User Token"]
[null,null,1,null,null,null,"Select a Category","Select a User Token"]
[null,null,1,null,null,null,"Select a Category","Select a User Token"]
[null,null,1,null,null,null,"Select a Category","Select a User Token"]
[null,null,1,null,null,null,"Select a Category","Select a User Token"]
[null,null,1,null,null,null,"Select a Category","Select a User Token"]
[null,null,1,null,null,null,"Select a Category","Select a User Token"]
[null,null,1,null,null,null,"Select a Category","Select a User Token"]
[null,null,1,null,null,null,"Select a Category","Select a User Token"]
[null,null,1,null,null,null,"Select a Category","Select a User Token"]
[null,null,1,null,null,null,"Select a Category","Select a User Token"]
[null,null,1,null,null,null,"Select a Category","Select a User Token"]
[null,null,{"$f":"VALUE(MONTH(B196) &\"/\"& (YEAR(B196)))","v":1},null,null,null,"Select a Category","Select a User Token"]
[null,null,1,null,null,null,"Select a Category","Select a User Token"]
[null,null,1,null,null,null,"Select a Category","Select a User Token"]
[null,null,1,null,null,null,"Select a Category","Select a User Token"]
[null,null,1,null,null,null,"Select a Category","Select a User Token"]
[null,null,1,null,null,null,"Select a Category","Select a User Token"]
[null,null,1,null,null,null,"Select a Category","Select a User Token"]
[null,null,1,null,null,null,"Select a Category","Select a User Token"]
[null,null,1,null,null,null,"Select a Category","Select a User Token"]
[null,null,1,null,null,null,"Select a Category","Select a User Token"]
[null,null,1,null,null,null,"Select a Category","Select a User Token"]
[null,null,1,null,null,null,"Select a Category","Select a User Token"]
[null,null,1,null,null,null,"Select a Category","Select a User Token"]
[null,null,1,null,null,null,"Select a Category","Select a User Token"]
[null,null,1,null,null,null,"Select a Category","Select a User Token"]
[null,null,1,null,null,null,"Select a Category","Select a User Token"]
[null,null,1,null,null,null,"Select a Category","Select a User Token"]
[null,null,1,null,null,null,"Select a Category","Select a User Token"]
[null,null,1,null,null,null,"Select a Category","Select a User Token"]
[null,null,1,null,null,null,"Select a Category","Select a User Token"]
[null,null,1,null,null,null,"Select a Category","Select a User Token"]
[null,null,1,null,null,null,"Select a Category","Select a User Token"]
[null,null,1,null,null,null,"Select a Category","Select a User Token"]
[null,null,1,null,null,null,"Select a Category","Select a User Token"]
[null,null,1,null,null,null,"Select a Category","Select a User Token"]
[null,null,1,null,null,null,"Select a Category","Select a User Token"]
[null,null,1,null,null,null,"Select a Category","Select a User Token"]
[null,null,1,null,null,null,"Select a Category","Select a User Token"]
[null,null,1,null,null,null,"Select a Category","Select a User Token"]
[null,null,1,null,null,null,"Select a Category","Select a User Token"]
[null,null,1,null,null,null,"Select a Category","Select a User Token"]
[null,null,1,null,null,null,"Select a Category","Select a User Token"]
[null,null,1,null,null,null,"Select a Category","Select a User Token"]
[null,null,1,null,null,null,"Select a Category","Select a User Token"]
[null,null,1,null,null,null,"Select a Category","Select a User Token"]
[null,null,1,null,null,null,"Select a Category","Select a User Token"]
[null,null,1,null,null,null,"Select a Category","Select a User Token"]
[null,null,1,null,null,null,"Select a Category","Select a User Token"]
[null,null,1,null,null,null,"Select a Category","Select a User Token"]
[null,null,1,null,null,null,"Select a Category","Select a User Token"]
[null,null,1,null,null,null,"Select a Category","Select a User Token"]
[null,null,1,null,null,null,"Select a Category","Select a User Token"]
[null,null,1,null,null,null,"Select a Category","Select a User Token"]
[null,null,1,null,null,null,"Select a Category","Select a User Token"]
[null,null,1,null,null,null,"Select a Category","Select a User Token"]
[null,null,1,null,null,null,"Select a Category","Select a User Token"]
[null,null,1,null,null,null,"Select a Category","Select a User Token"]
[null,null,1,null,null,null,"Select a Category","Select a User Token"]
[null,null,1,null,null,null,"Select a Category","Select a User Token"]
[null,null,1,null,null,null,"Select a Category","Select a User Token"]
[null,null,1,null,null,null,"Select a Category","Select a User Token"]
[null,null,1,null,null,null,"Select a Category","Select a User Token"]
[null,null,1,null,null,null,"Select a Category","Select a User Token"]
[null,null,1,null,null,null,"Select a Category","Select a User Token"]
[null,null,1,null,null,null,"Select a Category","Select a User Token"]
[null,null,1,null,null,null,"Select a Category","Select a User Token"]
[null,null,1,null,null,null,"Select a Category","Select a User Token"]
[null,null,1,null,null,null,"Select a Category","Select a User Token"]
[null,null,1,null,null,null,"Select a Category","Select a User Token"]
[null,null,1,null,null,null,"Select a Category","Select a User Token"]
[null,null,1,null,null,null,"Select a Category","Select a User Token"]
[null,null,1,null,null,null,"Select a Category","Select a User Token"]
[null,null,1,null,null,null,"Select a Category","Select a User Token"]
[null,null,1,null,null,null,"Select a Category","Select a User Token"]
[null,null,{"$f":"VALUE(MONTH(B260) &\"/\"& (YEAR(B260)))","v":1},null,null,null,"Select a Category","Select a User Token"]
[null,null,1,null,null,null,"Select a Category","Select a User Token"]
[null,null,1,null,null,null,"Select a Category","Select a User Token"]
[null,null,1,null,null,null,"Select a Category","Select a User Token"]
[null,null,1,null,null,null,"Select a Category","Select a User Token"]
[null,null,1,null,null,null,"Select a Category","Select a User Token"]
[null,null,1,null,null,null,"Select a Category","Select a User Token"]
[null,null,1,null,null,null,"Select a Category","Select a User Token"]
[null,null,1,null,null,null,"Select a Category","Select a User Token"]
[null,null,1,null,null,null,"Select a Category","Select a User Token"]
[null,null,1,null,null,null,"Select a Category","Select a User Token"]
[null,null,1,null,null,null,"Select a Category","Select a User Token"]
[null,null,1,null,null,null,"Select a Category","Select a User Token"]
[null,null,1,null,null,null,"Select a Category","Select a User Token"]
[null,null,1,null,null,null,"Select a Category","Select a User Token"]
[null,null,1,null,null,null,"Select a Category","Select a User Token"]
[null,null,1,null,null,null,"Select a Category","Select a User Token"]
[null,null,1,null,null,null,"Select a Category","Select a User Token"]
[null,null,1,null,null,null,"Select a Category","Select a User Token"]
[null,null,1,null,null,null,"Select a Category","Select a User Token"]
[null,null,1,null,null,null,"Select a Category","Select a User Token"]
[null,null,1,null,null,null,"Select a Category","Select a User Token"]
[null,null,1,null,null,null,"Select a Category","Select a User Token"]
[null,null,1,null,null,null,"Select a Category","Select a User Token"]
[null,null,1,null,null,null,"Select a Category","Select a User Token"]
[null,null,1,null,null,null,"Select a Category","Select a User Token"]
[null,null,1,null,null,null,"Select a Category","Select a User Token"]
[null,null,1,null,null,null,"Select a Category","Select a User Token"]
[null,null,1,null,null,null,"Select a Category","Select a User Token"]
[null,null,1,null,null,null,"Select a Category","Select a User Token"]
[null,null,1,null,null,null,"Select a Category","Select a User Token"]
[null,null,1,null,null,null,"Select a Category","Select a User Token"]
[null,null,1,null,null,null,"Select a Category","Select a User Token"]
[null,null,1,null,null,null,"Select a Category","Select a User Token"]
[null,null,1,null,null,null,"Select a Category","Select a User Token"]
[null,null,1,null,null,null,"Select a Category","Select a User Token"]
[null,null,1,null,null,null,"Select a Category","Select a User Token"]
[null,null,1,null,null,null,"Select a Category","Select a User Token"]
[null,null,1,null,null,null,"Select a Category","Select a User Token"]
[null,null,1,null,null,null,"Select a Category","Select a User Token"]
[null,null,1,null,null,null,"Select a Category","Select a User Token"]
[null,null,1,null,null,null,"Select a Category","Select a User Token"]
[null,null,1,null,null,null,"Select a Category","Select a User Token"]
[null,null,1,null,null,null,"Select a Category","Select a User Token"]
[null,null,1,null,null,null,"Select a Category","Select a User Token"]
[null,null,1,null,null,null,"Select a Category","Select a User Token"]
[null,null,1,null,null,null,"Select a Category","Select a User Token"]
[null,null,1,null,null,null,"Select a Category","Select a User Token"]
[null,null,1,null,null,null,"Select a Category","Select a User Token"]
[null,null,1,null,null,null,"Select a Category","Select a User Token"]
[null,null,1,null,null,null,"Select a Category","Select a User Token"]
[null,null,1,null,null,null,"Select a Category","Select a User Token"]
[null,null,1,null,null,null,"Select a Category","Select a User Token"]
[null,null,1,null,null,null,"Select a Category","Select a User Token"]
[null,null,1,null,null,null,"Select a Category","Select a User Token"]
[null,null,1,null,null,null,"Select a Category","Select a User Token"]
[null,null,1,null,null,null,"Select a Category","Select a User Token"]
[null,null,1,null,null,null,"Select a Category","Select a User Token"]
[null,null,1,null,null,null,"Select a Category","Select a User Token"]
[null,null,1,null,null,null,"Select a Category","Select a User Token"]
[null,null,1,null,null,null,"Select a Category","Select a User Token"]
[null,null,1,null,null,null,"Select a Category","Select a User Token"]
[null,null,1,null,null,null,"Select a Category","Select a User Token"]
[null,null,1,null,null,null,"Select a Category","Select a User Token"]
[null,null,{"$f":"VALUE(MONTH(B324) &\"/\"& (YEAR(B324)))","v":1},null,null,null,"Select a Category","Select a User Token"]
[null,null,1,null,null,null,"Select a Category","Select a User Token"]
[null,null,1,null,null,null,"Select a Category","Select a User Token"]
[null,null,1,null,null,null,"Select a Category","Select a User Token"]
[null,null,1,null,null,null,"Select a Category","Select a User Token"]
[null,null,1,null,null,null,"Select a Category","Select a User Token"]
[null,null,1,null,null,null,"Select a Category","Select a User Token"]
[null,null,1,null,null,null,"Select a Category","Select a User Token"]
[null,null,1,null,null,null,"Select a Category","Select a User Token"]
[null,null,1,null,null,null,"Select a Category","Select a User Token"]
[null,null,1,null,null,null,"Select a Category","Select a User Token"]
[null,null,1,null,null,null,"Select a Category","Select a User Token"]
[null,null,1,null,null,null,"Select a Category","Select a User Token"]
[null,null,1,null,null,null,"Select a Category","Select a User Token"]
[null,null,1,null,null,null,"Select a Category","Select a User Token"]
[null,null,1,null,null,null,"Select a Category","Select a User Token"]
[null,null,1,null,null,null,"Select a Category","Select a User Token"]
[null,null,1,null,null,null,"Select a Category","Select a User Token"]
[null,null,1,null,null,null,"Select a Category","Select a User Token"]
[null,null,1,null,null,null,"Select a Category","Select a User Token"]
[null,null,1,null,null,null,"Select a Category","Select a User Token"]
[null,null,1,null,null,null,"Select a Category","Select a User Token"]
[null,null,1,null,null,null,"Select a Category","Select a User Token"]
[null,null,1,null,null,null,"Select a Category","Select a User Token"]
[null,null,1,null,null,null,"Select a Category","Select a User Token"]
[null,null,1,null,null,null,"Select a Category","Select a User Token"]
[null,null,1,null,null,null,"Select a Category","Select a User Token"]
[null,null,1,null,null,null,"Select a Category","Select a User Token"]
[null,null,1,null,null,null,"Select a Category","Select a User Token"]
[null,null,1,null,null,null,"Select a Category","Select a User Token"]
[null,null,1,null,null,null,"Select a Category","Select a User Token"]
[null,null,1,null,null,null,"Select a Category","Select a User Token"]
[null,null,1,null,null,null,"Select a Category","Select a User Token"]
[null,null,1,null,null,null,"Select a Category","Select a User Token"]
[null,null,1,null,null,null,"Select a Category","Select a User Token"]
[null,null,1,null,null,null,"Select a Category","Select a User Token"]
[null,null,1,null,null,null,"Select a Category","Select a User Token"]
[null,null,1,null,null,null,"Select a Category","Select a User Token"]
[null,null,1,null,null,null,"Select a Category","Select a User Token"]
[null,null,1,null,null,null,"Select a Category","Select a User Token"]
[null,null,1,null,null,null,"Select a Category","Select a User Token"]
[null,null,1,null,null,null,"Select a Category","Select a User Token"]
[null,null,1,null,null,null,"Select a Category","Select a User Token"]
[null,null,1,null,null,null,"Select a Category","Select a User Token"]
[null,null,1,null,null,null,"Select a Category","Select a User Token"]
[null,null,1,null,null,null,"Select a Category","Select a User Token"]
[null,null,1,null,null,null,"Select a Category","Select a User Token"]
[null,null,1,null,null,null,"Select a Category","Select a User Token"]
[null,null,1,null,null,null,"Select a Category","Select a User Token"]
[null,null,1,null,null,null,"Select a Category","Select a User Token"]
[null,null,1,null,null,null,"Select a Category","Select a User Token"]
[null,null,1,null,null,null,"Select a Category","Select a User Token"]
[null,null,1,null,null,null,"Select a Category","Select a User Token"]
[null,null,1,null,null,null,"Select a Category","Select a User Token"]
[null,null,1,null,null,null,"Select a Category","Select a User Token"]
[null,null,1,null,null,null,"Select a Category","Select a User Token"]
[null,null,1,null,null,null,"Select a Category","Select a User Token"]
[null,null,1,null,null,null,"Select a Category","Select a User Token"]
[null,null,1,null,null,null,"Select a Category","Select a User Token"]
[null,null,1,null,null,null,"Select a Category","Select a User Token"]
[null,null,1,null,null,null,"Select a Category","Select a User Token"]
[null,null,1,null,null,null,"Select a Category","Select a User Token"]
[null,null,1,null,null,null,"Select a Category","Select a User Token"]
[null,null,1,null,null,null,"Select a Category","Select a User Token"]
[null,null,{"$f":"VALUE(MONTH(B388) &\"/\"& (YEAR(B388)))","v":1},null,null,null,"Select a Category","Select a User Token"]
[null,null,1,null,null,null,"Select a Category","Select a User Token"]
[null,null,1,null,null,null,"Select a Category","Select a User Token"]
[null,null,1,null,null,null,"Select a Category","Select a User Token"]
[null,null,1,null,null,null,"Select a Category","Select a User Token"]
[null,null,1,null,null,null,"Select a Category","Select a User Token"]
[null,null,1,null,null,null,"Select a Category","Select a User Token"]
[null,null,1,null,null,null,"Select a Category","Select a User Token"]
[null,null,1,null,null,null,"Select a Category","Select a User Token"]
[null,null,1,null,null,null,"Select a Category","Select a User Token"]
[null,null,1,null,null,null,"Select a Category","Select a User Token"]
[null,null,1,null,null,null,"Select a Category","Select a User Token"]
[null,null,1,null,null,null,"Select a Category","Select a User Token"]
[null,null,1,null,null,null,"Select a Category","Select a User Token"]
[null,null,1,null,null,null,"Select a Category","Select a User Token"]
[null,null,1,null,null,null,"Select a Category","Select a User Token"]
[null,null,1,null,null,null,"Select a Category","Select a User Token"]
[null,null,1,null,null,null,"Select a Category","Select a User Token"]
[null,null,1,null,null,null,"Select a Category","Select a User Token"]
[null,null,1,null,null,null,"Select a Category","Select a User Token"]
[null,null,1,null,null,null,"Select a Category","Select a User Token"]
[null,null,1,null,null,null,"Select a Category","Select a User Token"]
[null,null,1,null,null,null,"Select a Category","Select a User Token"]
[null,null,1,null,null,null,"Select a Category","Select a User Token"]
[null,null,1,null,null,null,"Select a Category","Select a User Token"]
[null,null,1,null,null,null,"Select a Category","Select a User Token"]
[null,null,1,null,null,null,"Select a Category","Select a User Token"]
[null,null,1,null,null,null,"Select a Category","Select a User Token"]
[null,null,1,null,null,null,"Select a Category","Select a User Token"]
[null,null,1,null,null,null,"Select a Category","Select a User Token"]
[null,null,1,null,null,null,"Select a Category","Select a User Token"]
[null,null,1,null,null,null,"Select a Category","Select a User Token"]
[null,null,1,null,null,null,"Select a Category","Select a User Token"]
[null,null,1,null,null,null,"Select a Category","Select a User Token"]
[null,null,1,null,null,null,"Select a Category","Select a User Token"]
[null,null,1,null,null,null,"Select a Category","Select a User Token"]
[null,null,1,null,null,null,"Select a Category","Select a User Token"]
[null,null,1,null,null,null,"Select a Category","Select a User Token"]
[null,null,1,null,null,null,"Select a Category","Select a User Token"]
[null,null,1,null,null,null,"Select a Category","Select a User Token"]
[null,null,1,null,null,null,"Select a Category","Select a User Token"]
[null,null,1,null,null,null,"Select a Category","Select a User Token"]
[null,null,1,null,null,null,"Select a Category","Select a User Token"]
[null,null,1,null,null,null,"Select a Category","Select a User Token"]
[null,null,1,null,null,null,"Select a Category","Select a User Token"]
[null,null,1,null,null,null,"Select a Category","Select a User Token"]
[null,null,1,null,null,null,"Select a Category","Select a User Token"]
[null,null,1,null,null,null,"Select a Category","Select a User Token"]
[null,null,1,null,null,null,"Select a Category","Select a User Token"]
[null,null,1,null,null,null,"Select a Category","Select a User Token"]
[null,null,1,null,null,null,"Select a Category","Select a User Token"]
[null,null,1,null,null,null,"Select a Category","Select a User Token"]
[null,null,1,null,null,null,"Select a Category","Select a User Token"]
[null,null,1,null,null,null,"Select a Category","Select a User Token"]
[null,null,1,null,null,null,"Select a Category","Select a User Token"]
[null,null,1,null,null,null,"Select a Category","Select a User Token"]
[null,null,1,null,null,null,"Select a Category","Select a User Token"]
[null,null,1,null,null,null,"Select a Category","Select a User Token"]
[null,null,1,null,null,null,"Select a Category","Select a User Token"]
[null,null,1,null,null,null,"Select a Category","Select a User Token"]
[null,null,1,null,null,null,"Select a Category","Select a User Token"]
[null,null,1,null,null,null,"Select a Category","Select a User Token"]
[null,null,1,null,null,null,"Select a Category","Select a User Token"]
[null,null,1,null,null,null,"Select a Category","Select a User Token"]
[null,null,{"$f":"VALUE(MONTH(B452) &\"/\"& (YEAR(B452)))","v":1},null,null,null,"Select a Category","Select a User Token"]
[null,null,1,null,null,null,"Select a Category","Select a User Token"]
[null,null,1,null,null,null,"Select a Category","Select a User Token"]
[null,null,1,null,null,null,"Select a Category","Select a User Token"]
[null,null,1,null,null,null,"Select a Category","Select a User Token"]
[null,null,1,null,null,null,"Select a Category","Select a User Token"]
[null,null,1,null,null,null,"Select a Category","Select a User Token"]
[null,null,1,null,null,null,"Select a Category","Select a User Token"]
[null,null,1,null,null,null,"Select a Category","Select a User Token"]
[null,null,1,null,null,null,"Select a Category","Select a User Token"]
[null,null,1,null,null,null,"Select a Category","Select a User Token"]
[null,null,1,null,null,null,"Select a Category","Select a User Token"]
[null,null,1,null,null,null,"Select a Category","Select a User Token"]
[null,null,1,null,null,null,"Select a Category","Select a User Token"]
[null,null,1,null,null,null,"Select a Category","Select a User Token"]
[null,null,1,null,null,null,"Select a Category","Select a User Token"]
[null,null,1,null,null,null,"Select a Category","Select a User Token"]
[null,null,1,null,null,null,"Select a Category","Select a User Token"]
[null,null,1,null,null,null,"Select a Category","Select a User Token"]
[null,null,1,null,null,null,"Select a Category","Select a User Token"]
[null,null,1,null,null,null,"Select a Category","Select a User Token"]
[null,null,1,null,null,null,"Select a Category","Select a User Token"]
[null,null,1,null,null,null,"Select a Category","Select a User Token"]
[null,null,1,null,null,null,"Select a Category","Select a User Token"]
[null,null,1,null,null,null,"Select a Category","Select a User Token"]
[null,null,1,null,null,null,"Select a Category","Select a User Token"]
[null,null,1,null,null,null,"Select a Category","Select a User Token"]
[null,null,1,null,null,null,"Select a Category","Select a User Token"]
[null,null,1,null,null,null,"Select a Category","Select a User Token"]
[null,null,1,null,null,null,"Select a Category","Select a User Token"]
[null,null,1,null,null,null,"Select a Category","Select a User Token"]
[null,null,1,null,null,null,"Select a Category","Select a User Token"]
[null,null,1,null,null,null,"Select a Category","Select a User Token"]
[null,null,1,null,null,null,"Select a Category","Select a User Token"]
[null,null,1,null,null,null,"Select a Category","Select a User Token"]
[null,null,1,null,null,null,"Select a Category","Select a User Token"]
[null,null,1,null,null,null,"Select a Category","Select a User Token"]
[null,null,1,null,null,null,"Select a Category","Select a User Token"]
[null,null,1,null,null,null,"Select a Category","Select a User Token"]
[null,null,1,null,null,null,"Select a Category","Select a User Token"]
[null,null,1,null,null,null,"Select a Category","Select a User Token"]
[null,null,1,null,null,null,"Select a Category","Select a User Token"]
[null,null,1,null,null,null,"Select a Category","Select a User Token"]
[null,null,1,null,null,null,"Select a Category","Select a User Token"]
[null,null,1,null,null,null,"Select a Category","Select a User Token"]
[null,null,1,null,null,null,"Select a Category","Select a User Token"]
[null,null,1,null,null,null,"Select a Category","Select a User Token"]
[null,null,1,null,null,null,"Select a Category","Select a User Token"]
[null,null,1,null,null,null,"Select a Category","Select a User Token"]
[null,null,{"$f":"VALUE(MONTH(B501) &\"/\"& (YEAR(B501)))","v":1},null,null,null,"Select a Category","Select a User Token"]
[null,null,1,null,null,null,"Select a Category","Select a User Token"]
[null,null,1,null,null,null,"Select a Category","Select a User Token"]
[null,null,1,null,null,null,"Select a Category","Select a User Token"]
[null,null,1,null,null,null,"Select a Category","Select a User Token"]
[null,null,1,null,null,null,"Select a Category","Select a User Token"]
[null,null,1,null,null,null,"Select a Category","Select a User Token"]
[null,null,1,null,null,null,"Select a Category","Select a User Token"]
[null,null,1,null,null,null,"Select a Category","Select a User Token"]
[null,null,1,null,null,null,"Select a Category","Select a User Token"]
[null,null,1,null,null,null,"Select a Category","Select a User Token"]
[null,null,1,null,null,null,"Select a Category","Select a User Token"]
[null,null,1,null,null,null,"Select a Category","Select a User Token"]
[null,null,1,null,null,null,"Select a Category","Select a User Token"]
[null,null,1,null,null,null,"Select a Category","Select a User Token"]
[null,null,1,null,null,null,"Select a Category","Select a User Token"]
[null,null,1,null,null,null,"Select a Category","Select a User Token"]
[null,null,1,null,null,null,"Select a Category","Select a User Token"]
[null,null,1,null,null,null,"Select a Category","Select a User Token"]
[null,null,1,null,null,null,"Select a Category","Select a User Token"]
[null,null,1,null,null,null,"Select a Category","Select a User Token"]
[null,null,1,null,null,null,"Select a Category","Select a User Token"]
[null,null,1,null,null,null,"Select a Category","Select a User Token"]
[null,null,1,null,null,null,"Select a Category","Select a User Token"]
[null,null,1,null,null,null,"Select a Category","Select a User Token"]
[null,null,1,null,null,null,"Select a Category","Select a User Token"]
[null,null,1,null,null,null,"Select a Category","Select a User Token"]
[null,null,1,null,null,null,"Select a Category","Select a User Token"]
[null,null,1,null,null,null,"Select a Category","Select a User Token"]
[null,null,1,null,null,null,"Select a Category","Select a User Token"]
[null,null,1,null,null,null,"Select a Category","Select a User Token"]
[null,null,1,null,null,null,"Select a Category","Select a User Token"]
[null,null,1,null,null,null,"Select a Category","Select a User Token"]
[null,null,1,null,null,null,"Select a Category","Select a User Token"]
[null,null,1,null,null,null,"Select a Category","Select a User Token"]
[null,null,1,null,null,null,"Select a Category","Select a User Token"]
[null,null,1,null,null,null,"Select a Category","Select a User Token"]
[null,null,1,null,null,null,"Select a Category","Select a User Token"]
[null,null,1,null,null,null,"Select a Category","Select a User Token"]
[null,null,1,null,null,null,"Select a Category","Select a User Token"]
[null,null,1,null,null,null,"Select a Category","Select a User Token"]
[null,null,1,null,null,null,"Select a Category","Select a User Token"]
[null,null,1,null,null,null,"Select a Category","Select a User Token"]
[null,null,1,null,null,null,"Select a Category","Select a User Token"]
[null,null,1,null,null,null,"Select a Category","Select a User Token"]
[null,null,1,null,null,null,"Select a Category","Select a User Token"]
[null,null,1,null,null,null,"Select a Category","Select a User Token"]
[null,null,1,null,null,null,"Select a Category","Select a User Token"]
[null,null,1,null,null,null,"Select a Category","Select a User Token"]
[null,null,1,null,null,null,"Select a Category","Select a User Token"]
[null,null,1,null,null,null,"Select a Category","Select a User Token"]
[null,null,1,null,null,null,"Select a Category","Select a User Token"]
[null,null,1,null,null,null,"Select a Category","Select a User Token"]
[null,null,1,null,null,null,"Select a Category","Select a User Token"]
[null,null,1,null,null,null,"Select a Category","Select a User Token"]
[null,null,1,null,null,null,"Select a Category","Select a User Token"]
[null,null,1,null,null,null,"Select a Category","Select a User Token"]
[null,null,1,null,null,null,"Select a Category","Select a User Token"]
[null,null,1,null,null,null,"Select a Category","Select a User Token"]
[null,null,1,null,null,null,"Select a Category","Select a User Token"]
[null,null,1,null,null,null,"Select a Category","Select a User Token"]
[null,null,1,null,null,null,"Select a Category","Select a User Token"]
[null,null,1,null,null,null,"Select a Category","Select a User Token"]
[null,null,{"$f":"VALUE(MONTH(B564) &\"/\"& (YEAR(B564)))","v":1},null,null,null,"Select a Category","Select a User Token"]
[null,null,1,null,null,null,"Select a Category","Select a User Token"]
[null,null,1,null,null,null,"Select a Category","Select a User Token"]
[null,null,1,null,null,null,"Select a Category","Select a User Token"]
[null,null,1,null,null,null,"Select a Category","Select a User Token"]
[null,null,1,null,null,null,"Select a Category","Select a User Token"]
[null,null,1,null,null,null,"Select a Category","Select a User Token"]
[null,null,1,null,null,null,"Select a Category","Select a User Token"]
[null,null,1,null,null,null,"Select a Category","Select a User Token"]
[null,null,1,null,null,null,"Select a Category","Select a User Token"]
[null,null,1,null,null,null,"Select a Category","Select a User Token"]
[null,null,1,null,null,null,"Select a Category","Select a User Token"]
[null,null,1,null,null,null,"Select a Category","Select a User Token"]
[null,null,1,null,null,null,"Select a Category","Select a User Token"]
[null,null,1,null,null,null,"Select a Category","Select a User Token"]
[null,null,1,null,null,null,"Select a Category","Select a User Token"]
[null,null,1,null,null,null,"Select a Category","Select a User Token"]
[null,null,1,null,null,null,"Select a Category","Select a User Token"]
[null,null,1,null,null,null,"Select a Category","Select a User Token"]
[null,null,1,null,null,null,"Select a Category","Select a User Token"]
[null,null,1,null,null,null,"Select a Category","Select a User Token"]
[null,null,1,null,null,null,"Select a Category","Select a User Token"]
[null,null,1,null,null,null,"Select a Category","Select a User Token"]
[null,null,1,null,null,null,"Select a Category","Select a User Token"]
[null,null,1,null,null,null,"Select a Category","Select a User Token"]
[null,null,1,null,null,null,"Select a Category","Select a User Token"]
[null,null,1,null,null,null,"Select a Category","Select a User Token"]
[null,null,1,null,null,null,"Select a Category","Select a User Token"]
[null,null,1,null,null,null,"Select a Category","Select a User Token"]
[null,null,1,null,null,null,"Select a Category","Select a User Token"]
[null,null,1,null,null,null,"Select a Category","Select a User Token"]
[null,null,1,null,null,null,"Select a Category","Select a User Token"]
[null,null,1,null,null,null,"Select a Category","Select a User Token"]
[null,null,1,null,null,null,"Select a Category","Select a User Token"]
[null,null,1,null,null,null,"Select a Category","Select a User Token"]
[null,null,1,null,null,null,"Select a Category","Select a User Token"]
[null,null,1,null,null,null,"Select a Category","Select a User Token"]
[null,null,1,null,null,null,"Select a Category","Select a User Token"]
[null,null,1,null,null,null,"Select a Category","Select a User Token"]
[null,null,1,null,null,null,"Select a Category","Select a User Token"]
[null,null,1,null,null,null,"Select a Category","Select a User Token"]
[null,null,1,null,null,null,"Select a Category","Select a User Token"]
[null,null,1,null,null,null,"Select a Category","Select a User Token"]
[null,null,1,null,null,null,"Select a Category","Select a User Token"]
[null,null,1,null,null,null,"Select a Category","Select a User Token"]
[null,null,1,null,null,null,"Select a Category","Select a User Token"]
[null,null,1,null,null,null,"Select a Category","Select a User Token"]
[null,null,1,null,null,null,"Select a Category","Select a User Token"]
[null,null,1,null,null,null,"Select a Category","Select a User Token"]
[null,null,1,null,null,null,"Select a Category","Select a User Token"]
[null,null,1,null,null,null,"Select a Category","Select a User Token"]
[null,null,1,null,null,null,"Select a Category","Select a User Token"]
[null,null,1,null,null,null,"Select a Category","Select a User Token"]
[null,null,1,null,null,null,"Select a Category","Select a User Token"]
[null,null,1,null,null,null,"Select a Category","Select a User Token"]
[null,null,1,null,null,null,"Select a Category","Select a User Token"]
[null,null,1,null,null,null,"Select a Category","Select a User Token"]
[null,null,1,null,null,null,"Select a Category","Select a User Token"]
[null,null,1,null,null,null,"Select a Category","Select a User Token"]
[null,null,1,null,null,null,"Select a Category","Select a User Token"]
[null,null,1,null,null,null,"Select a Category","Select a User Token"]
[null,null,1,null,null,null,"Select a Category","Select a User Token"]
[null,null,1,null,null,null,"Select a Category","Select a User Token"]
[null,null,1,null,null,null,"Select a Category","Select a User Token"]
[null,null,{"$f":"VALUE(MONTH(B628) &\"/\"& (YEAR(B628)))","v":1},null,null,null,"Select a Category","Select a User Token"]
[null,null,1,null,null,null,"Select a Category","Select a User Token"]
[null,null,1,null,null,null,"Select a Category","Select a User Token"]
[null,null,1,null,null,null,"Select a Category","Select a User Token"]
[null,null,1,null,null,null,"Select a Category","Select a User Token"]
[null,null,1,null,null,null,"Select a Category","Select a User Token"]
[null,null,1,null,null,null,"Select a Category","Select a User Token"]
[null,null,1,null,null,null,"Select a Category","Select a User Token"]
[null,null,1,null,null,null,"Select a Category","Select a User Token"]
[null,null,1,null,null,null,"Select a Category","Select a User Token"]
[null,null,1,null,null,null,"Select a Category","Select a User Token"]
[null,null,1,null,null,null,"Select a Category","Select a User Token"]
[null,null,1,null,null,null,"Select a Category","Select a User Token"]
[null,null,1,null,null,null,"Select a Category","Select a User Token"]
[null,null,1,null,null,null,"Select a Category","Select a User Token"]
[null,null,1,null,null,null,"Select a Category","Select a User Token"]
[null,null,1,null,null,null,"Select a Category","Select a User Token"]
[null,null,1,null,null,null,"Select a Category","Select a User Token"]
[null,null,1,null,null,null,"Select a Category","Select a User Token"]
[null,null,1,null,null,null,"Select a Category","Select a User Token"]
[null,null,1,null,null,null,"Select a Category","Select a User Token"]
[null,null,1,null,null,null,"Select a Category","Select a User Token"]
[null,null,1,null,null,null,"Select a Category","Select a User Token"]
[null,null,1,null,null,null,"Select a Category","Select a User Token"]
[null,null,1,null,null,null,"Select a Category","Select a User Token"]
[null,null,1,null,null,null,"Select a Category","Select a User Token"]
[null,null,1,null,null,null,"Select a Category","Select a User Token"]
[null,null,1,null,null,null,"Select a Category","Select a User Token"]
[null,null,1,null,null,null,"Select a Category","Select a User Token"]
[null,null,1,null,null,null,"Select a Category","Select a User Token"]
[null,null,1,null,null,null,"Select a Category","Select a User Token"]
[null,null,1,null,null,null,"Select a Category","Select a User Token"]
[null,null,1,null,null,null,"Select a Category","Select a User Token"]
[null,null,1,null,null,null,"Select a Category","Select a User Token"]
[null,null,1,null,null,null,"Select a Category","Select a User Token"]
[null,null,1,null,null,null,"Select a Category","Select a User Token"]
[null,null,1,null,null,null,"Select a Category","Select a User Token"]
[null,null,1,null,null,null,"Select a Category","Select a User Token"]
[null,null,1,null,null,null,"Select a Category","Select a User Token"]
[null,null,1,null,null,null,"Select a Category","Select a User Token"]
[null,null,1,null,null,null,"Select a Category","Select a User Token"]
[null,null,1,null,null,null,"Select a Category","Select a User Token"]
[null,null,1,null,null,null,"Select a Category","Select a User Token"]
[null,null,1,null,null,null,"Select a Category","Select a User Token"]
[null,null,1,null,null,null,"Select a Category","Select a User Token"]
[null,null,1,null,null,null,"Select a Category","Select a User Token"]
[null,null,1,null,null,null,"Select a Category","Select a User Token"]
[null,null,1,null,null,null,"Select a Category","Select a User Token"]
[null,null,1,null,null,null,"Select a Category","Select a User Token"]
[null,null,1,null,null,null,"Select a Category","Select a User Token"]
[null,null,1,null,null,null,"Select a Category","Select a User Token"]
[null,null,1,null,null,null,"Select a Category","Select a User Token"]
[null,null,1,null,null,null,"Select a Category","Select a User Token"]
[null,null,1,null,null,null,"Select a Category","Select a User Token"]
[null,null,1,null,null,null,"Select a Category","Select a User Token"]
[null,null,1,null,null,null,"Select a Category","Select a User Token"]
[null,null,1,null,null,null,"Select a Category","Select a User Token"]
[null,null,1,null,null,null,"Select a Category","Select a User Token"]
[null,null,1,null,null,null,"Select a Category","Select a User Token"]
[null,null,1,null,null,null,"Select a Category","Select a User Token"]
[null,null,1,null,null,null,"Select a Category","Select a User Token"]
[null,null,1,null,null,null,"Select a Category","Select a User Token"]
[null,null,1,null,null,null,"Select a Category","Select a User Token"]
[null,null,1,null,null,null,"Select a Category","Select a User Token"]
[null,null,{"$f":"VALUE(MONTH(B692) &\"/\"& (YEAR(B692)))","v":1},null,null,null,"Select a Category","Select a User Token"]
[null,null,1,null,null,null,"Select a Category","Select a User Token"]
[null,null,1,null,null,null,"Select a Category","Select a User Token"]
[null,null,1,null,null,null,"Select a Category","Select a User Token"]
[null,null,1,null,null,null,"Select a Category","Select a User Token"]
[null,null,1,null,null,null,"Select a Category","Select a User Token"]
[null,null,1,null,null,null,"Select a Category","Select a User Token"]
[null,null,1,null,null,null,"Select a Category","Select a User Token"]
[null,null,1,null,null,null,"Select a Category","Select a User Token"]
[null,null,1,null,null,null,"Select a Category","Select a User Token"]
[null,null,1,null,null,null,"Select a Category","Select a User Token"]
[null,null,1,null,null,null,"Select a Category","Select a User Token"]
[null,null,1,null,null,null,"Select a Category","Select a User Token"]
[null,null,1,null,null,null,"Select a Category","Select a User Token"]
[null,null,1,null,null,null,"Select a Category","Select a User Token"]
[null,null,1,null,null,null,"Select a Category","Select a User Token"]
[null,null,1,null,null,null,"Select a Category","Select a User Token"]
[null,null,1,null,null,null,"Select a Category","Select a User Token"]
[null,null,1,null,null,null,"Select a Category","Select a User Token"]
[null,null,1,null,null,null,"Select a Category","Select a User Token"]
[null,null,1,null,null,null,"Select a Category","Select a User Token"]
[null,null,1,null,null,null,"Select a Category","Select a User Token"]
[null,null,1,null,null,null,"Select a Category","Select a User Token"]
[null,null,1,null,null,null,"Select a Category","Select a User Token"]
[null,null,1,null,null,null,"Select a Category","Select a User Token"]
[null,null,1,null,null,null,"Select a Category","Select a User Token"]
[null,null,1,null,null,null,"Select a Category","Select a User Token"]
[null,null,1,null,null,null,"Select a Category","Select a User Token"]
[null,null,1,null,null,null,"Select a Category","Select a User Token"]
[null,null,1,null,null,null,"Select a Category","Select a User Token"]
[null,null,1,null,null,null,"Select a Category","Select a User Token"]
[null,null,1,null,null,null,"Select a Category","Select a User Token"]
[null,null,1,null,null,null,"Select a Category","Select a User Token"]
[null,null,1,null,null,null,"Select a Category","Select a User Token"]
[null,null,1,null,null,null,"Select a Category","Select a User Token"]
[null,null,1,null,null,null,"Select a Category","Select a User Token"]
[null,null,1,null,null,null,"Select a Category","Select a User Token"]
[null,null,1,null,null,null,"Select a Category","Select a User Token"]
[null,null,1,null,null,null,"Select a Category","Select a User Token"]
[null,null,1,null,null,null,"Select a Category","Select a User Token"]
[null,null,1,null,null,null,"Select a Category","Select a User Token"]
[null,null,1,null,null,null,"Select a Category","Select a User Token"]
[null,null,1,null,null,null,"Select a Category","Select a User Token"]
[null,null,1,null,null,null,"Select a Category","Select a User Token"]
[null,null,1,null,null,null,"Select a Category","Select a User Token"]
[null,null,1,null,null,null,"Select a Category","Select a User Token"]
[null,null,1,null,null,null,"Select a Category","Select a User Token"]
[null,null,1,null,null,null,"Select a Category","Select a User Token"]
[null,null,1,null,null,null,"Select a Category","Select a User Token"]
[null,null,1,null,null,null,"Select a Category","Select a User Token"]
[null,null,1,null,null,null,"Select a Category","Select a User Token"]
[null,null,1,null,null,null,"Select a Category","Select a User Token"]
[null,null,1,null,null,null,"Select a Category","Select a User Token"]
[null,null,1,null,null,null,"Select a Category","Select a User Token"]
[null,null,1,null,null,null,"Select a Category","Select a User Token"]
[null,null,1,null,null,null,"Select a Category","Select a User Token"]
[null,null,1,null,null,null,"Select a Category","Select a User Token"]
[null,null,1,null,null,null,"Select a Category","Select a User Token"]
[null,null,1,null,null,null,"Select a Category","Select a User Token"]
[null,null,1,null,null,null,"Select a Category","Select a User Token"]
[null,null,1,null,null,null,"Select a Category","Select a User Token"]
[null,null,1,null,null,null,"Select a Category","Select a User Token"]
[null,null,1,null,null,null,"Select a Category","Select a User Token"]
[null,null,1,null,null,null,"Select a Category","Select a User Token"]
[null,null,{"$f":"VALUE(MONTH(B756) &\"/\"& (YEAR(B756)))","v":1},null,null,null,"Select a Category","Select a User Token"]
[null,null,1,null,null,null,"Select a Category","Select a User Token"]
[null,null,1,null,null,null,"Select a Category","Select a User Token"]
[null,null,1,null,null,null,"Select a Category","Select a User Token"]
[null,null,1,null,null,null,"Select a Category","Select a User Token"]
[null,null,1,null,null,null,"Select a Category","Select a User Token"]
[null,null,1,null,null,null,"Select a Category","Select a User Token"]
[null,null,1,null,null,null,"Select a Category","Select a User Token"]
[null,null,1,null,null,null,"Select a Category","Select a User Token"]
[null,null,1,null,null,null,"Select a Category","Select a User Token"]
[null,null,1,null,null,null,"Select a Category","Select a User Token"]
[null,null,1,null,null,null,"Select a Category","Select a User Token"]
[null,null,1,null,null,null,"Select a Category","Select a User Token"]
[null,null,1,null,null,null,"Select a Category","Select a User Token"]
[null,null,1,null,null,null,"Select a Category","Select a User Token"]
[null,null,1,null,null,null,"Select a Category","Select a User Token"]
[null,null,1,null,null,null,"Select a Category","Select a User Token"]
[null,null,1,null,null,null,"Select a Category","Select a User Token"]
[null,null,1,null,null,null,"Select a Category","Select a User Token"]
[null,null,1,null,null,null,"Select a Category","Select a User Token"]
[null,null,1,null,null,null,"Select a Category","Select a User Token"]
[null,null,1,null,null,null,"Select a Category","Select a User Token"]
[null,null,1,null,null,null,"Select a Category","Select a User Token"]
[null,null,1,null,null,null,"Select a Category","Select a User Token"]
[null,null,1,null,null,null,"Select a Category","Select a User Token"]
[null,null,1,null,null,null,"Select a Category","Select a User Token"]
[null,null,1,null,null,null,"Select a Category","Select a User Token"]
[null,null,1,null,null,null,"Select a Category","Select a User Token"]
[null,null,1,null,null,null,"Select a Category","Select a User Token"]
[null,null,1,null,null,null,"Select a Category","Select a User Token"]
[null,null,1,null,null,null,"Select a Category","Select a User Token"]
[null,null,1,null,null,null,"Select a Category","Select a User Token"]
[null,null,1,null,null,null,"Select a Category","Select a User Token"]
[null,null,1,null,null,null,"Select a Category","Select a User Token"]
[null,null,1,null,null,null,"Select a Category","Select a User Token"]
[null,null,1,null,null,null,"Select a Category","Select a User Token"]
[null,null,1,null,null,null,"Select a Category","Select a User Token"]
[null,null,1,null,null,null,"Select a Category","Select a User Token"]
[null,null,1,null,null,null,"Select a Category","Select a User Token"]
[null,null,1,null,null,null,"Select a Category","Select a User Token"]
[null,null,1,null,null,null,"Select a Category","Select a User Token"]
[null,null,1,null,null,null,"Select a Category","Select a User Token"]
[null,null,1,null,null,null,"Select a Category","Select a User Token"]
[null,null,1,null,null,null,"Select a Category","Select a User Token"]
[null,null,1,null,null,null,"Select a Category","Select a User Token"]
[null,null,1,null,null,null,"Select a Category","Select a User Token"]
[null,null,1,null,null,null,"Select a Category","Select a User Token"]
[null,null,1,null,null,null,"Select a Category","Select a User Token"]
[null,null,1,null,null,null,"Select a Category","Select a User Token"]
[null,null,1,null,null,null,"Select a Category","Select a User Token"]
[null,null,1,null,null,null,"Select a Category","Select a User Token"]
[null,null,1,null,null,null,"Select a Category","Select a User Token"]
[null,null,1,null,null,null,"Select a Category","Select a User Token"]
[null,null,1,null,null,null,"Select a Category","Select a User Token"]
[null,null,1,null,null,null,"Select a Category","Select a User Token"]
[null,null,1,null,null,null,"Select a Category","Select a User Token"]
[null,null,1,null,null,null,"Select a Category","Select a User Token"]
[null,null,1,null,null,null,"Select a Category","Select a User Token"]
[null,null,1,null,null,null,"Select a Category","Select a User Token"]
[null,null,1,null,null,null,"Select a Category","Select a User Token"]
[null,null,1,null,null,null,"Select a Category","Select a User Token"]
[null,null,1,null,null,null,"Select a Category","Select a User Token"]
[null,null,1,null,null,null,"Select a Category","Select a User Token"]
[null,null,1,null,null,null,"Select a Category","Select a User Token"]
[null,null,{"$f":"VALUE(MONTH(B820) &\"/\"& (YEAR(B820)))","v":1},null,null,null,"Select a Category","Select a User Token"]
[null,null,1,null,null,null,"Select a Category","Select a User Token"]
[null,null,1,null,null,null,"Select a Category","Select a User Token"]
[null,null,1,null,null,null,"Select a Category","Select a User Token"]
[null,null,1,null,null,null,"Select a Category","Select a User Token"]
[null,null,1,null,null,null,"Select a Category","Select a User Token"]
[null,null,1,null,null,null,"Select a Category","Select a User Token"]
[null,null,1,null,null,null,"Select a Category","Select a User Token"]
[null,null,1,null,null,null,"Select a Category","Select a User Token"]
[null,null,1,null,null,null,"Select a Category","Select a User Token"]
[null,null,1,null,null,null,"Select a Category","Select a User Token"]
[null,null,1,null,null,null,"Select a Category","Select a User Token"]
[null,null,1,null,null,null,"Select a Category","Select a User Token"]
[null,null,1,null,null,null,"Select a Category","Select a User Token"]
[null,null,1,null,null,null,"Select a Category","Select a User Token"]
[null,null,1,null,null,null,"Select a Category","Select a User Token"]
[null,null,1,null,null,null,"Select a Category","Select a User Token"]
[null,null,1,null,null,null,"Select a Category","Select a User Token"]
[null,null,1,null,null,null,"Select a Category","Select a User Token"]
[null,null,1,null,null,null,"Select a Category","Select a User Token"]
[null,null,1,null,null,null,"Select a Category","Select a User Token"]
[null,null,1,null,null,null,"Select a Category","Select a User Token"]
[null,null,1,null,null,null,"Select a Category","Select a User Token"]
[null,null,1,null,null,null,"Select a Category","Select a User Token"]
[null,null,1,null,null,null,"Select a Category","Select a User Token"]
[null,null,1,null,null,null,"Select a Category","Select a User Token"]
[null,null,1,null,null,null,"Select a Category","Select a User Token"]
[null,null,1,null,null,null,"Select a Category","Select a User Token"]
[null,null,1,null,null,null,"Select a Category","Select a User Token"]
[null,null,1,null,null,null,"Select a Category","Select a User Token"]
[null,null,1,null,null,null,"Select a Category","Select a User Token"]
[null,null,1,null,null,null,"Select a Category","Select a User Token"]
[null,null,1,null,null,null,"Select a Category","Select a User Token"]
[null,null,1,null,null,null,"Select a Category","Select a User Token"]
[null,null,1,null,null,null,"Select a Category","Select a User Token"]
[null,null,1,null,null,null,"Select a Category","Select a User Token"]
[null,null,1,null,null,null,"Select a Category","Select a User Token"]
[null,null,1,null,null,null,"Select a Category","Select a User Token"]
[null,null,1,null,null,null,"Select a Category","Select a User Token"]
[null,null,1,null,null,null,"Select a Category","Select a User Token"]
[null,null,1,null,null,null,"Select a Category","Select a User Token"]
[null,null,1,null,null,null,"Select a Category","Select a User Token"]
[null,null,1,null,null,null,"Select a Category","Select a User Token"]
[null,null,1,null,null,null,"Select a Category","Select a User Token"]
[null,null,1,null,null,null,"Select a Category","Select a User Token"]
[null,null,1,null,null,null,"Select a Category","Select a User Token"]
[null,null,1,null,null,null,"Select a Category","Select a User Token"]
[null,null,1,null,null,null,"Select a Category","Select a User Token"]
[null,null,1,null,null,null,"Select a Category","Select a User Token"]
[null,null,1,null,null,null,"Select a Category","Select a User Token"]
[null,null,1,null,null,null,"Select a Category","Select a User Token"]
[null,null,1,null,null,null,"Select a Category","Select a User Token"]
[null,null,1,null,null,null,"Select a Category","Select a User Token"]
[null,null,1,null,null,null,"Select a Category","Select a User Token"]
[null,null,1,null,null,null,"Select a Category","Select a User Token"]
[null,null,1,null,null,null,"Select a Category","Select a User Token"]
[null,null,1,null,null,null,"Select a Category","Select a User Token"]
[null,null,1,null,null,null,"Select a Category","Select a User Token"]
[null,null,1,null,null,null,"Select a Category","Select a User Token"]
[null,null,1,null,null,null,"Select a Category","Select a User Token"]
[null,null,1,null,null,null,"Select a Category","Select a User Token"]
[null,null,1,null,null,null,"Select a Category","Select a User Token"]
[null,null,1,null,null,null,"Select a Category","Select a User Token"]
[null,null,1,null,null,null,"Select a Category","Select a User Token"]
[null,null,{"$f":"VALUE(MONTH(B884) &\"/\"& (YEAR(B884)))","v":1},null,null,null,"Select a Category","Select a User Token"]
[null,null,1,null,null,null,"Select a Category","Select a User Token"]
[null,null,1,null,null,null,"Select a Category","Select a User Token"]
[null,null,1,null,null,null,"Select a Category","Select a User Token"]
[null,null,1,null,null,null,"Select a Category","Select a User Token"]
[null,null,1,null,null,null,"Select a Category","Select a User Token"]
[null,null,1,null,null,null,"Select a Category","Select a User Token"]
[null,null,1,null,null,null,"Select a Category","Select a User Token"]
[null,null,1,null,null,null,"Select a Category","Select a User Token"]
[null,null,1,null,null,null,"Select a Category","Select a User Token"]
[null,null,1,null,null,null,"Select a Category","Select a User Token"]
[null,null,1,null,null,null,"Select a Category","Select a User Token"]
[null,null,1,null,null,null,"Select a Category","Select a User Token"]
[null,null,1,null,null,null,"Select a Category","Select a User Token"]
[null,null,1,null,null,null,"Select a Category","Select a User Token"]
[null,null,1,null,null,null,"Select a Category","Select a User Token"]
[null,null,1,null,null,null,"Select a Category","Select a User Token"]
[null,null,1,null,null,null,"Select a Category","Select a User Token"]
[null,null,1,null,null,null,"Select a Category","Select a User Token"]
[null,null,1,null,null,null,"Select a Category","Select a User Token"]
[null,null,1,null,null,null,"Select a Category","Select a User Token"]
[null,null,1,null,null,null,"Select a Category","Select a User Token"]
[null,null,1,null,null,null,"Select a Category","Select a User Token"]
[null,null,1,null,null,null,"Select a Category","Select a User Token"]
[null,null,1,null,null,null,"Select a Category","Select a User Token"]
[null,null,1,null,null,null,"Select a Category","Select a User Token"]
[null,null,1,null,null,null,"Select a Category","Select a User Token"]
[null,null,1,null,null,null,"Select a Category","Select a User Token"]
[null,null,1,null,null,null,"Select a Category","Select a User Token"]
[null,null,1,null,null,null,"Select a Category","Select a User Token"]
[null,null,1,null,null,null,"Select a Category","Select a User Token"]
[null,null,1,null,null,null,"Select a Category","Select a User Token"]
[null,null,1,null,null,null,"Select a Category","Select a User Token"]
[null,null,1,null,null,null,"Select a Category","Select a User Token"]
[null,null,1,null,null,null,"Select a Category","Select a User Token"]
[null,null,1,null,null,null,"Select a Category","Select a User Token"]
[null,null,1,null,null,null,"Select a Category","Select a User Token"]
[null,null,1,null,null,null,"Select a Category","Select a User Token"]
[null,null,1,null,null,null,"Select a Category","Select a User Token"]
[null,null,1,null,null,null,"Select a Category","Select a User Token"]
[null,null,1,null,null,null,"Select a Category","Select a User Token"]
[null,null,1,null,null,null,"Select a Category","Select a User Token"]
[null,null,1,null,null,null,"Select a Category","Select a User Token"]
[null,null,1,null,null,null,"Select a Category","Select a User Token"]
[null,null,1,null,null,null,"Select a Category","Select a User Token"]
[null,null,1,null,null,null,"Select a Category","Select a User Token"]
[null,null,1,null,null,null,"Select a Category","Select a User Token"]
[null,null,1,null,null,null,"Select a Category","Select a User Token"]
[null,null,1,null,null,null,"Select a Category","Select a User Token"]
[null,null,1,null,null,null,"Select a Category","Select a User Token"]
[null,null,1,null,null,null,"Select a Category","Select a User Token"]
[null,null,1,null,null,null,"Select a Category","Select a User Token"]
[null,null,1,null,null,null,"Select a Category","Select a User Token"]
[null,null,1,null,null,null,"Select a Category","Select a User Token"]
[null,null,1,null,null,null,"Select a Category","Select a User Token"]
[null,null,1,null,null,null,"Select a Category","Select a User Token"]
[null,null,1,null,null,null,"Select a Category","Select a User Token"]
[null,null,1,null,null,null,"Select a Category","Select a User Token"]
[null,null,1,null,null,null,"Select a Category","Select a User Token"]
[null,null,1,null,null,null,"Select a Category","Select a User Token"]
[null,null,1,null,null,null,"Select a Category","Select a User Token"]
[null,null,1,null,null,null,"Select a Category","Select a User Token"]
[null,null,1,null,null,null,"Select a Category","Select a User Token"]
[null,null,1,null,null,null,"Select a Category","Select a User Token"]
[null,null,{"$f":"VALUE(MONTH(B948) &\"/\"& (YEAR(B948)))","v":1},null,null,null,"Select a Category","Select a User Token"]
[null,null,1,null,null,null,"Select a Category","Select a User Token"]
[null,null,1,null,null,null,"Select a Category","Select a User Token"]
[null,null,1,null,null,null,"Select a Category","Select a User Token"]
[null,null,1,null,null,null,"Select a Category","Select a User Token"]
[null,null,1,null,null,null,"Select a Category","Select a User Token"]
[null,null,1,null,null,null,"Select a Category","Select a User Token"]
[null,null,1,null,null,null,"Select a Category","Select a User Token"]
[null,null,1,null,null,null,"Select a Category","Select a User Token"]
[null,null,1,null,null,null,"Select a Category","Select a User Token"]
[null,null,1,null,null,null,"Select a Category","Select a User Token"]
[null,null,1,null,null,null,"Select a Category","Select a User Token"]
[null,null,1,null,null,null,"Select a Category","Select a User Token"]
[null,null,1,null,null,null,"Select a Category","Select a User Token"]
[null,null,1,null,null,null,"Select a Category","Select a User Token"]
[null,null,1,null,null,null,"Select a Category","Select a User Token"]
[null,null,1,null,null,null,"Select a Category","Select a User Token"]
[null,null,1,null,null,null,"Select a Category","Select a User Token"]
[null,null,1,null,null,null,"Select a Category","Select a User Token"]
[null,null,1,null,null,null,"Select a Category","Select a User Token"]
[null,null,1,null,null,null,"Select a Category","Select a User Token"]
[null,null,1,null,null,null,"Select a Category","Select a User Token"]
[null,null,1,null,null,null,"Select a Category","Select a User Token"]
[null,null,1,null,null,null,"Select a Category","Select a User Token"]
[null,null,1,null,null,null,"Select a Category","Select a User Token"]
[null,null,1,null,null,null,"Select a Category","Select a User Token"]
[null,null,1,null,null,null,"Select a Category","Select a User Token"]
[null,null,1,null,null,null,"Select a Category","Select a User Token"]
[null,null,1,null,null,null,"Select a Category","Select a User Token"]
[null,null,1,null,null,null,"Select a Category","Select a User Token"]
[null,null,1,null,null,null,"Select a Category","Select a User Token"]
[null,null,1,null,null,null,"Select a Category","Select a User Token"]
[null,null,1,null,null,null,"Select a Category","Select a User Token"]
[null,null,1,null,null,null,"Select a Category","Select a User Token"]
[null,null,1,null,null,null,"Select a Category","Select a User Token"]
[null,null,1,null,null,null,"Select a Category","Select a User Token"]
[null,null,1,null,null,null,"Select a Category","Select a User Token"]
[null,null,{"$f":"VALUE(MONTH(B985) &\"/\"& (YEAR(B985)))","v":1},null,null,null,"Select a Category","Select a User Token"]
[null,null,1,null,null,null,"Select a Category","Select a User Token"]
[null,null,1,null,null,null,"Select a Category","Select a User Token"]
[null,null,1,null,null,null,"Select a Category","Select a User Token"]
[null,null,1,null,null,null,"Select a Category","Select a User Token"]
[null,null,1,null,null,null,"Select a Category","Select a User Token"]
[null,null,1,null,null,null,"Select a Category","Select a User Token"]
[null,null,1,null,null,null,"Select a Category","Select a User Token"]
[null,null,1,null,null,null,"Select a Category","Select a User Token"]
[null,null,1,null,null,null,"Select a Category","Select a User Token"]
[null,null,1,null,null,null,"Select a Category","Select a User Token"]
[null,null,1,null,null,null,"Select a Category","Select a User Token"]
[null,null,1,null,null,null,"Select a Category","Select a User Token"]
[null,null,1,null,null,null,"Select a Category","Select a User Token"]
[null,null,1,null,null,null,"Select a Category","Select a User Token"]
[null,null,1,null,null,null,"Select a Category","Select a User Token"]

{"sheet":"Mileage","index":8,"n_rows":3,"n_cols":4,"rows_kept":3,"cut":false,"hidden":false,"merged":[]}
[null,"Mileage Log"]
[null,null,"Grand Total",{"$f":"SUM(D4:D1001)","v":0}]
[null,"Date","Location","Mileage"]

{"sheet":"Inventory","index":9,"n_rows":4001,"n_cols":17,"rows_kept":4001,"cut":false,"hidden":false,"merged":[]}
[null,"Inventory",null,null,true,null,null,null,{"$f":"K4*H4","v":0},{"$f":"IF(F4=\"\",0,SUMPRODUCT((Quantity_Sold_1=F4)*Quantity_Sold_2))","v":0},{"$f":"G4-J4","v":0}]
[null,null,null,null,null,null,null,"Grand Total Inventory On Hand",{"$f":"SUM(I4:I4001)","v":0}]
[null,"Date","Item","Size","Color","Item SKU/ID","Quantity","Cost/Unit","Total Cost On Hand","Quantity Sold","Quantity Remaining","Storage Location","Purchased From","Weight","Total Cost Year","Total Net Profit","Profit Each"]
[null,null,null,null,null,null,null,null,{"$f":"K4*H4","v":0},{"$f":"IF(F4=\"\",0,SUMPRODUCT((Quantity_Sold_1=F4)*Quantity_Sold_2))","v":0},{"$f":"G4-J4","v":0},null,null,null,{"$f":"K4*H4","v":0},{"$f":"IF(Inventory[[#This Row],[Item SKU/ID]]=\"\",0,SUMPRODUCT((Quantity_Sold_1=Inventory[[#This Row],[Item SKU/ID]])*Net_Profit))","v":0},{"$f":"IFERROR(AVERAGE(Inventory[[#This Row],[Total Net Profit]]/Inventory[[#This Row],[Quantity Sold]]),0)","v":0}]
[null,null,null,null,null,null,null,null,0,0,0,null,null,null,0,{"$f":"IF(Inventory[[#This Row],[Item SKU/ID]]=\"\",0,SUMPRODUCT((Quantity_Sold_1=Inventory[[#This Row],[Item SKU/ID]])*Net_Profit))","v":0},{"$f":"IFERROR(AVERAGE(Inventory[[#This Row],[Total Net Profit]]/Inventory[[#This Row],[Quantity Sold]]),0)","v":0}]
[null,null,null,null,null,null,null,null,0,0,0,null,null,null,0,{"$f":"IF(Inventory[[#This Row],[Item SKU/ID]]=\"\",0,SUMPRODUCT((Quantity_Sold_1=Inventory[[#This Row],[Item SKU/ID]])*Net_Profit))","v":0},{"$f":"IFERROR(AVERAGE(Inventory[[#This Row],[Total Net Profit]]/Inventory[[#This Row],[Quantity Sold]]),0)","v":0}]
[null,null,null,null,null,null,null,null,0,0,0,null,null,null,0,{"$f":"IF(Inventory[[#This Row],[Item SKU/ID]]=\"\",0,SUMPRODUCT((Quantity_Sold_1=Inventory[[#This Row],[Item SKU/ID]])*Net_Profit))","v":0},{"$f":"IFERROR(AVERAGE(Inventory[[#This Row],[Total Net Profit]]/Inventory[[#This Row],[Quantity Sold]]),0)","v":0}]
[null,null,null,null,null,null,null,null,0,0,0,null,null,null,0,{"$f":"IF(Inventory[[#This Row],[Item SKU/ID]]=\"\",0,SUMPRODUCT((Quantity_Sold_1=Inventory[[#This Row],[Item SKU/ID]])*Net_Profit))","v":0},{"$f":"IFERROR(AVERAGE(Inventory[[#This Row],[Total Net Profit]]/Inventory[[#This Row],[Quantity Sold]]),0)","v":0}]
[null,null,null,null,null,null,null,null,0,0,0,null,null,null,0,{"$f":"IF(Inventory[[#This Row],[Item SKU/ID]]=\"\",0,SUMPRODUCT((Quantity_Sold_1=Inventory[[#This Row],[Item SKU/ID]])*Net_Profit))","v":0},{"$f":"IFERROR(AVERAGE(Inventory[[#This Row],[Total Net Profit]]/Inventory[[#This Row],[Quantity Sold]]),0)","v":0}]
[null,null,null,null,null,null,null,null,0,0,0,null,null,null,0,{"$f":"IF(Inventory[[#This Row],[Item SKU/ID]]=\"\",0,SUMPRODUCT((Quantity_Sold_1=Inventory[[#This Row],[Item SKU/ID]])*Net_Profit))","v":0},{"$f":"IFERROR(AVERAGE(Inventory[[#This Row],[Total Net Profit]]/Inventory[[#This Row],[Quantity Sold]]),0)","v":0}]
[null,null,null,null,null,null,null,null,0,0,0,null,null,null,0,{"$f":"IF(Inventory[[#This Row],[Item SKU/ID]]=\"\",0,SUMPRODUCT((Quantity_Sold_1=Inventory[[#This Row],[Item SKU/ID]])*Net_Profit))","v":0},{"$f":"IFERROR(AVERAGE(Inventory[[#This Row],[Total Net Profit]]/Inventory[[#This Row],[Quantity Sold]]),0)","v":0}]
[null,null,null,null,null,null,null,null,0,0,0,null,null,null,0,{"$f":"IF(Inventory[[#This Row],[Item SKU/ID]]=\"\",0,SUMPRODUCT((Quantity_Sold_1=Inventory[[#This Row],[Item SKU/ID]])*Net_Profit))","v":0},{"$f":"IFERROR(AVERAGE(Inventory[[#This Row],[Total Net Profit]]/Inventory[[#This Row],[Quantity Sold]]),0)","v":0}]
[null,null,null,null,null,null,null,null,0,0,0,null,null,null,0,{"$f":"IF(Inventory[[#This Row],[Item SKU/ID]]=\"\",0,SUMPRODUCT((Quantity_Sold_1=Inventory[[#This Row],[Item SKU/ID]])*Net_Profit))","v":0},{"$f":"IFERROR(AVERAGE(Inventory[[#This Row],[Total Net Profit]]/Inventory[[#This Row],[Quantity Sold]]),0)","v":0}]
[null,null,null,null,null,null,null,null,0,0,0,null,null,null,0,{"$f":"IF(Inventory[[#This Row],[Item SKU/ID]]=\"\",0,SUMPRODUCT((Quantity_Sold_1=Inventory[[#This Row],[Item SKU/ID]])*Net_Profit))","v":0},{"$f":"IFERROR(AVERAGE(Inventory[[#This Row],[Total Net Profit]]/Inventory[[#This Row],[Quantity Sold]]),0)","v":0}]
[null,null,null,null,null,null,null,null,0,0,0,null,null,null,0,{"$f":"IF(Inventory[[#This Row],[Item SKU/ID]]=\"\",0,SUMPRODUCT((Quantity_Sold_1=Inventory[[#This Row],[Item SKU/ID]])*Net_Profit))","v":0},{"$f":"IFERROR(AVERAGE(Inventory[[#This Row],[Total Net Profit]]/Inventory[[#This Row],[Quantity Sold]]),0)","v":0}]
[null,null,null,null,null,null,null,null,0,0,0,null,null,null,0,{"$f":"IF(Inventory[[#This Row],[Item SKU/ID]]=\"\",0,SUMPRODUCT((Quantity_Sold_1=Inventory[[#This Row],[Item SKU/ID]])*Net_Profit))","v":0},{"$f":"IFERROR(AVERAGE(Inventory[[#This Row],[Total Net Profit]]/Inventory[[#This Row],[Quantity Sold]]),0)","v":0}]
[null,null,null,null,null,null,null,null,0,0,0,null,null,null,0,{"$f":"IF(Inventory[[#This Row],[Item SKU/ID]]=\"\",0,SUMPRODUCT((Quantity_Sold_1=Inventory[[#This Row],[Item SKU/ID]])*Net_Profit))","v":0},{"$f":"IFERROR(AVERAGE(Inventory[[#This Row],[Total Net Profit]]/Inventory[[#This Row],[Quantity Sold]]),0)","v":0}]
[null,null,null,null,null,null,null,null,0,0,0,null,null,null,0,{"$f":"IF(Inventory[[#This Row],[Item SKU/ID]]=\"\",0,SUMPRODUCT((Quantity_Sold_1=Inventory[[#This Row],[Item SKU/ID]])*Net_Profit))","v":0},{"$f":"IFERROR(AVERAGE(Inventory[[#This Row],[Total Net Profit]]/Inventory[[#This Row],[Quantity Sold]]),0)","v":0}]
[null,null,null,null,null,null,null,null,0,0,0,null,null,null,0,{"$f":"IF(Inventory[[#This Row],[Item SKU/ID]]=\"\",0,SUMPRODUCT((Quantity_Sold_1=Inventory[[#This Row],[Item SKU/ID]])*Net_Profit))","v":0},{"$f":"IFERROR(AVERAGE(Inventory[[#This Row],[Total Net Profit]]/Inventory[[#This Row],[Quantity Sold]]),0)","v":0}]
[null,null,null,null,null,null,null,null,0,0,0,null,null,null,0,{"$f":"IF(Inventory[[#This Row],[Item SKU/ID]]=\"\",0,SUMPRODUCT((Quantity_Sold_1=Inventory[[#This Row],[Item SKU/ID]])*Net_Profit))","v":0},{"$f":"IFERROR(AVERAGE(Inventory[[#This Row],[Total Net Profit]]/Inventory[[#This Row],[Quantity Sold]]),0)","v":0}]
[null,null,null,null,null,null,null,null,0,0,0,null,null,null,0,{"$f":"IF(Inventory[[#This Row],[Item SKU/ID]]=\"\",0,SUMPRODUCT((Quantity_Sold_1=Inventory[[#This Row],[Item SKU/ID]])*Net_Profit))","v":0},{"$f":"IFERROR(AVERAGE(Inventory[[#This Row],[Total Net Profit]]/Inventory[[#This Row],[Quantity Sold]]),0)","v":0}]
[null,null,null,null,null,null,null,null,0,0,0,null,null,null,0,{"$f":"IF(Inventory[[#This Row],[Item SKU/ID]]=\"\",0,SUMPRODUCT((Quantity_Sold_1=Inventory[[#This Row],[Item SKU/ID]])*Net_Profit))","v":0},{"$f":"IFERROR(AVERAGE(Inventory[[#This Row],[Total Net Profit]]/Inventory[[#This Row],[Quantity Sold]]),0)","v":0}]
[null,null,null,null,null,null,null,null,0,0,0,null,null,null,0,{"$f":"IF(Inventory[[#This Row],[Item SKU/ID]]=\"\",0,SUMPRODUCT((Quantity_Sold_1=Inventory[[#This Row],[Item SKU/ID]])*Net_Profit))","v":0},{"$f":"IFERROR(AVERAGE(Inventory[[#This Row],[Total Net Profit]]/Inventory[[#This Row],[Quantity Sold]]),0)","v":0}]
[null,null,null,null,null,null,null,null,0,0,0,null,null,null,0,{"$f":"IF(Inventory[[#This Row],[Item SKU/ID]]=\"\",0,SUMPRODUCT((Quantity_Sold_1=Inventory[[#This Row],[Item SKU/ID]])*Net_Profit))","v":0},{"$f":"IFERROR(AVERAGE(Inventory[[#This Row],[Total Net Profit]]/Inventory[[#This Row],[Quantity Sold]]),0)","v":0}]
[null,null,null,null,null,null,null,null,0,0,0,null,null,null,0,{"$f":"IF(Inventory[[#This Row],[Item SKU/ID]]=\"\",0,SUMPRODUCT((Quantity_Sold_1=Inventory[[#This Row],[Item SKU/ID]])*Net_Profit))","v":0},{"$f":"IFERROR(AVERAGE(Inventory[[#This Row],[Total Net Profit]]/Inventory[[#This Row],[Quantity Sold]]),0)","v":0}]
[null,null,null,null,null,null,null,null,0,0,0,null,null,null,0,{"$f":"IF(Inventory[[#This Row],[Item SKU/ID]]=\"\",0,SUMPRODUCT((Quantity_Sold_1=Inventory[[#This Row],[Item SKU/ID]])*Net_Profit))","v":0},{"$f":"IFERROR(AVERAGE(Inventory[[#This Row],[Total Net Profit]]/Inventory[[#This Row],[Quantity Sold]]),0)","v":0}]
[null,null,null,null,null,null,null,null,0,0,0,null,null,null,0,{"$f":"IF(Inventory[[#This Row],[Item SKU/ID]]=\"\",0,SUMPRODUCT((Quantity_Sold_1=Inventory[[#This Row],[Item SKU/ID]])*Net_Profit))","v":0},{"$f":"IFERROR(AVERAGE(Inventory[[#This Row],[Total Net Profit]]/Inventory[[#This Row],[Quantity Sold]]),0)","v":0}]
[null,null,null,null,null,null,null,null,0,0,0,null,null,null,0,{"$f":"IF(Inventory[[#This Row],[Item SKU/ID]]=\"\",0,SUMPRODUCT((Quantity_Sold_1=Inventory[[#This Row],[Item SKU/ID]])*Net_Profit))","v":0},{"$f":"IFERROR(AVERAGE(Inventory[[#This Row],[Total Net Profit]]/Inventory[[#This Row],[Quantity Sold]]),0)","v":0}]
[null,null,null,null,null,null,null,null,0,0,0,null,null,null,0,{"$f":"IF(Inventory[[#This Row],[Item SKU/ID]]=\"\",0,SUMPRODUCT((Quantity_Sold_1=Inventory[[#This Row],[Item SKU/ID]])*Net_Profit))","v":0},{"$f":"IFERROR(AVERAGE(Inventory[[#This Row],[Total Net Profit]]/Inventory[[#This Row],[Quantity Sold]]),0)","v":0}]
[null,null,null,null,null,null,null,null,0,0,0,null,null,null,0,{"$f":"IF(Inventory[[#This Row],[Item SKU/ID]]=\"\",0,SUMPRODUCT((Quantity_Sold_1=Inventory[[#This Row],[Item SKU/ID]])*Net_Profit))","v":0},{"$f":"IFERROR(AVERAGE(Inventory[[#This Row],[Total Net Profit]]/Inventory[[#This Row],[Quantity Sold]]),0)","v":0}]
[null,null,null,null,null,null,null,null,0,0,0,null,null,null,0,{"$f":"IF(Inventory[[#This Row],[Item SKU/ID]]=\"\",0,SUMPRODUCT((Quantity_Sold_1=Inventory[[#This Row],[Item SKU/ID]])*Net_Profit))","v":0},{"$f":"IFERROR(AVERAGE(Inventory[[#This Row],[Total Net Profit]]/Inventory[[#This Row],[Quantity Sold]]),0)","v":0}]
[null,null,null,null,null,null,null,null,0,0,0,null,null,null,0,{"$f":"IF(Inventory[[#This Row],[Item SKU/ID]]=\"\",0,SUMPRODUCT((Quantity_Sold_1=Inventory[[#This Row],[Item SKU/ID]])*Net_Profit))","v":0},{"$f":"IFERROR(AVERAGE(Inventory[[#This Row],[Total Net Profit]]/Inventory[[#This Row],[Quantity Sold]]),0)","v":0}]
[null,null,null,null,null,null,null,null,0,0,0,null,null,null,0,{"$f":"IF(Inventory[[#This Row],[Item SKU/ID]]=\"\",0,SUMPRODUCT((Quantity_Sold_1=Inventory[[#This Row],[Item SKU/ID]])*Net_Profit))","v":0},{"$f":"IFERROR(AVERAGE(Inventory[[#This Row],[Total Net Profit]]/Inventory[[#This Row],[Quantity Sold]]),0)","v":0}]
[null,null,null,null,null,null,null,null,0,0,0,null,null,null,0,{"$f":"IF(Inventory[[#This Row],[Item SKU/ID]]=\"\",0,SUMPRODUCT((Quantity_Sold_1=Inventory[[#This Row],[Item SKU/ID]])*Net_Profit))","v":0},{"$f":"IFERROR(AVERAGE(Inventory[[#This Row],[Total Net Profit]]/Inventory[[#This Row],[Quantity Sold]]),0)","v":0}]
[null,null,null,null,null,null,null,null,0,0,0,null,null,null,0,{"$f":"IF(Inventory[[#This Row],[Item SKU/ID]]=\"\",0,SUMPRODUCT((Quantity_Sold_1=Inventory[[#This Row],[Item SKU/ID]])*Net_Profit))","v":0},{"$f":"IFERROR(AVERAGE(Inventory[[#This Row],[Total Net Profit]]/Inventory[[#This Row],[Quantity Sold]]),0)","v":0}]
[null,null,null,null,null,null,null,null,0,0,0,null,null,null,0,{"$f":"IF(Inventory[[#This Row],[Item SKU/ID]]=\"\",0,SUMPRODUCT((Quantity_Sold_1=Inventory[[#This Row],[Item SKU/ID]])*Net_Profit))","v":0},{"$f":"IFERROR(AVERAGE(Inventory[[#This Row],[Total Net Profit]]/Inventory[[#This Row],[Quantity Sold]]),0)","v":0}]
[null,null,null,null,null,null,null,null,0,0,0,null,null,null,0,{"$f":"IF(Inventory[[#This Row],[Item SKU/ID]]=\"\",0,SUMPRODUCT((Quantity_Sold_1=Inventory[[#This Row],[Item SKU/ID]])*Net_Profit))","v":0},{"$f":"IFERROR(AVERAGE(Inventory[[#This Row],[Total Net Profit]]/Inventory[[#This Row],[Quantity Sold]]),0)","v":0}]
[null,null,null,null,null,null,null,null,0,0,0,null,null,null,0,{"$f":"IF(Inventory[[#This Row],[Item SKU/ID]]=\"\",0,SUMPRODUCT((Quantity_Sold_1=Inventory[[#This Row],[Item SKU/ID]])*Net_Profit))","v":0},{"$f":"IFERROR(AVERAGE(Inventory[[#This Row],[Total Net Profit]]/Inventory[[#This Row],[Quantity Sold]]),0)","v":0}]
[null,null,null,null,null,null,null,null,0,0,0,null,null,null,0,{"$f":"IF(Inventory[[#This Row],[Item SKU/ID]]=\"\",0,SUMPRODUCT((Quantity_Sold_1=Inventory[[#This Row],[Item SKU/ID]])*Net_Profit))","v":0},{"$f":"IFERROR(AVERAGE(Inventory[[#This Row],[Total Net Profit]]/Inventory[[#This Row],[Quantity Sold]]),0)","v":0}]
[null,null,null,null,null,null,null,null,0,0,0,null,null,null,0,{"$f":"IF(Inventory[[#This Row],[Item SKU/ID]]=\"\",0,SUMPRODUCT((Quantity_Sold_1=Inventory[[#This Row],[Item SKU/ID]])*Net_Profit))","v":0},{"$f":"IFERROR(AVERAGE(Inventory[[#This Row],[Total Net Profit]]/Inventory[[#This Row],[Quantity Sold]]),0)","v":0}]
[null,null,null,null,null,null,null,null,0,0,0,null,null,null,0,{"$f":"IF(Inventory[[#This Row],[Item SKU/ID]]=\"\",0,SUMPRODUCT((Quantity_Sold_1=Inventory[[#This Row],[Item SKU/ID]])*Net_Profit))","v":0},{"$f":"IFERROR(AVERAGE(Inventory[[#This Row],[Total Net Profit]]/Inventory[[#This Row],[Quantity Sold]]),0)","v":0}]
[null,null,null,null,null,null,null,null,0,0,0,null,null,null,0,{"$f":"IF(Inventory[[#This Row],[Item SKU/ID]]=\"\",0,SUMPRODUCT((Quantity_Sold_1=Inventory[[#This Row],[Item SKU/ID]])*Net_Profit))","v":0},{"$f":"IFERROR(AVERAGE(Inventory[[#This Row],[Total Net Profit]]/Inventory[[#This Row],[Quantity Sold]]),0)","v":0}]
[null,null,null,null,null,null,null,null,0,0,0,null,null,null,0,{"$f":"IF(Inventory[[#This Row],[Item SKU/ID]]=\"\",0,SUMPRODUCT((Quantity_Sold_1=Inventory[[#This Row],[Item SKU/ID]])*Net_Profit))","v":0},{"$f":"IFERROR(AVERAGE(Inventory[[#This Row],[Total Net Profit]]/Inventory[[#This Row],[Quantity Sold]]),0)","v":0}]
[null,null,null,null,null,null,null,null,0,0,0,null,null,null,0,{"$f":"IF(Inventory[[#This Row],[Item SKU/ID]]=\"\",0,SUMPRODUCT((Quantity_Sold_1=Inventory[[#This Row],[Item SKU/ID]])*Net_Profit))","v":0},{"$f":"IFERROR(AVERAGE(Inventory[[#This Row],[Total Net Profit]]/Inventory[[#This Row],[Quantity Sold]]),0)","v":0}]
[null,null,null,null,null,null,null,null,0,0,0,null,null,null,0,{"$f":"IF(Inventory[[#This Row],[Item SKU/ID]]=\"\",0,SUMPRODUCT((Quantity_Sold_1=Inventory[[#This Row],[Item SKU/ID]])*Net_Profit))","v":0},{"$f":"IFERROR(AVERAGE(Inventory[[#This Row],[Total Net Profit]]/Inventory[[#This Row],[Quantity Sold]]),0)","v":0}]
[null,null,null,null,null,null,null,null,0,0,0,null,null,null,0,{"$f":"IF(Inventory[[#This Row],[Item SKU/ID]]=\"\",0,SUMPRODUCT((Quantity_Sold_1=Inventory[[#This Row],[Item SKU/ID]])*Net_Profit))","v":0},{"$f":"IFERROR(AVERAGE(Inventory[[#This Row],[Total Net Profit]]/Inventory[[#This Row],[Quantity Sold]]),0)","v":0}]
[null,null,null,null,null,null,null,null,0,0,0,null,null,null,0,{"$f":"IF(Inventory[[#This Row],[Item SKU/ID]]=\"\",0,SUMPRODUCT((Quantity_Sold_1=Inventory[[#This Row],[Item SKU/ID]])*Net_Profit))","v":0},{"$f":"IFERROR(AVERAGE(Inventory[[#This Row],[Total Net Profit]]/Inventory[[#This Row],[Quantity Sold]]),0)","v":0}]
[null,null,null,null,null,null,null,null,0,0,0,null,null,null,0,{"$f":"IF(Inventory[[#This Row],[Item SKU/ID]]=\"\",0,SUMPRODUCT((Quantity_Sold_1=Inventory[[#This Row],[Item SKU/ID]])*Net_Profit))","v":0},{"$f":"IFERROR(AVERAGE(Inventory[[#This Row],[Total Net Profit]]/Inventory[[#This Row],[Quantity Sold]]),0)","v":0}]
[null,null,null,null,null,null,null,null,0,0,0,null,null,null,0,{"$f":"IF(Inventory[[#This Row],[Item SKU/ID]]=\"\",0,SUMPRODUCT((Quantity_Sold_1=Inventory[[#This Row],[Item SKU/ID]])*Net_Profit))","v":0},{"$f":"IFERROR(AVERAGE(Inventory[[#This Row],[Total Net Profit]]/Inventory[[#This Row],[Quantity Sold]]),0)","v":0}]
[null,null,null,null,null,null,null,null,0,0,0,null,null,null,0,{"$f":"IF(Inventory[[#This Row],[Item SKU/ID]]=\"\",0,SUMPRODUCT((Quantity_Sold_1=Inventory[[#This Row],[Item SKU/ID]])*Net_Profit))","v":0},{"$f":"IFERROR(AVERAGE(Inventory[[#This Row],[Total Net Profit]]/Inventory[[#This Row],[Quantity Sold]]),0)","v":0}]
[null,null,null,null,null,null,null,null,0,0,0,null,null,null,0,{"$f":"IF(Inventory[[#This Row],[Item SKU/ID]]=\"\",0,SUMPRODUCT((Quantity_Sold_1=Inventory[[#This Row],[Item SKU/ID]])*Net_Profit))","v":0},{"$f":"IFERROR(AVERAGE(Inventory[[#This Row],[Total Net Profit]]/Inventory[[#This Row],[Quantity Sold]]),0)","v":0}]
[null,null,null,null,null,null,null,null,0,0,0,null,null,null,0,{"$f":"IF(Inventory[[#This Row],[Item SKU/ID]]=\"\",0,SUMPRODUCT((Quantity_Sold_1=Inventory[[#This Row],[Item SKU/ID]])*Net_Profit))","v":0},{"$f":"IFERROR(AVERAGE(Inventory[[#This Row],[Total Net Profit]]/Inventory[[#This Row],[Quantity Sold]]),0)","v":0}]
[null,null,null,null,null,null,null,null,0,0,0,null,null,null,0,{"$f":"IF(Inventory[[#This Row],[Item SKU/ID]]=\"\",0,SUMPRODUCT((Quantity_Sold_1=Inventory[[#This Row],[Item SKU/ID]])*Net_Profit))","v":0},{"$f":"IFERROR(AVERAGE(Inventory[[#This Row],[Total Net Profit]]/Inventory[[#This Row],[Quantity Sold]]),0)","v":0}]
[null,null,null,null,null,null,null,null,0,0,0,null,null,null,0,{"$f":"IF(Inventory[[#This Row],[Item SKU/ID]]=\"\",0,SUMPRODUCT((Quantity_Sold_1=Inventory[[#This Row],[Item SKU/ID]])*Net_Profit))","v":0},{"$f":"IFERROR(AVERAGE(Inventory[[#This Row],[Total Net Profit]]/Inventory[[#This Row],[Quantity Sold]]),0)","v":0}]
[null,null,null,null,null,null,null,null,0,0,0,null,null,null,0,{"$f":"IF(Inventory[[#This Row],[Item SKU/ID]]=\"\",0,SUMPRODUCT((Quantity_Sold_1=Inventory[[#This Row],[Item SKU/ID]])*Net_Profit))","v":0},{"$f":"IFERROR(AVERAGE(Inventory[[#This Row],[Total Net Profit]]/Inventory[[#This Row],[Quantity Sold]]),0)","v":0}]
[null,null,null,null,null,null,null,null,0,0,0,null,null,null,0,{"$f":"IF(Inventory[[#This Row],[Item SKU/ID]]=\"\",0,SUMPRODUCT((Quantity_Sold_1=Inventory[[#This Row],[Item SKU/ID]])*Net_Profit))","v":0},{"$f":"IFERROR(AVERAGE(Inventory[[#This Row],[Total Net Profit]]/Inventory[[#This Row],[Quantity Sold]]),0)","v":0}]
[null,null,null,null,null,null,null,null,0,0,0,null,null,null,0,{"$f":"IF(Inventory[[#This Row],[Item SKU/ID]]=\"\",0,SUMPRODUCT((Quantity_Sold_1=Inventory[[#This Row],[Item SKU/ID]])*Net_Profit))","v":0},{"$f":"IFERROR(AVERAGE(Inventory[[#This Row],[Total Net Profit]]/Inventory[[#This Row],[Quantity Sold]]),0)","v":0}]
[null,null,null,null,null,null,null,null,0,0,0,null,null,null,0,{"$f":"IF(Inventory[[#This Row],[Item SKU/ID]]=\"\",0,SUMPRODUCT((Quantity_Sold_1=Inventory[[#This Row],[Item SKU/ID]])*Net_Profit))","v":0},{"$f":"IFERROR(AVERAGE(Inventory[[#This Row],[Total Net Profit]]/Inventory[[#This Row],[Quantity Sold]]),0)","v":0}]
[null,null,null,null,null,null,null,null,0,0,0,null,null,null,0,{"$f":"IF(Inventory[[#This Row],[Item SKU/ID]]=\"\",0,SUMPRODUCT((Quantity_Sold_1=Inventory[[#This Row],[Item SKU/ID]])*Net_Profit))","v":0},{"$f":"IFERROR(AVERAGE(Inventory[[#This Row],[Total Net Profit]]/Inventory[[#This Row],[Quantity Sold]]),0)","v":0}]
[null,null,null,null,null,null,null,null,0,0,0,null,null,null,0,{"$f":"IF(Inventory[[#This Row],[Item SKU/ID]]=\"\",0,SUMPRODUCT((Quantity_Sold_1=Inventory[[#This Row],[Item SKU/ID]])*Net_Profit))","v":0},{"$f":"IFERROR(AVERAGE(Inventory[[#This Row],[Total Net Profit]]/Inventory[[#This Row],[Quantity Sold]]),0)","v":0}]
[null,null,null,null,null,null,null,null,0,0,0,null,null,null,0,{"$f":"IF(Inventory[[#This Row],[Item SKU/ID]]=\"\",0,SUMPRODUCT((Quantity_Sold_1=Inventory[[#This Row],[Item SKU/ID]])*Net_Profit))","v":0},{"$f":"IFERROR(AVERAGE(Inventory[[#This Row],[Total Net Profit]]/Inventory[[#This Row],[Quantity Sold]]),0)","v":0}]
[null,null,null,null,null,null,null,null,0,0,0,null,null,null,0,{"$f":"IF(Inventory[[#This Row],[Item SKU/ID]]=\"\",0,SUMPRODUCT((Quantity_Sold_1=Inventory[[#This Row],[Item SKU/ID]])*Net_Profit))","v":0},{"$f":"IFERROR(AVERAGE(Inventory[[#This Row],[Total Net Profit]]/Inventory[[#This Row],[Quantity Sold]]),0)","v":0}]
[null,null,null,null,null,null,null,null,0,0,0,null,null,null,0,{"$f":"IF(Inventory[[#This Row],[Item SKU/ID]]=\"\",0,SUMPRODUCT((Quantity_Sold_1=Inventory[[#This Row],[Item SKU/ID]])*Net_Profit))","v":0},{"$f":"IFERROR(AVERAGE(Inventory[[#This Row],[Total Net Profit]]/Inventory[[#This Row],[Quantity Sold]]),0)","v":0}]
[null,null,null,null,null,null,null,null,0,0,0,null,null,null,0,{"$f":"IF(Inventory[[#This Row],[Item SKU/ID]]=\"\",0,SUMPRODUCT((Quantity_Sold_1=Inventory[[#This Row],[Item SKU/ID]])*Net_Profit))","v":0},{"$f":"IFERROR(AVERAGE(Inventory[[#This Row],[Total Net Profit]]/Inventory[[#This Row],[Quantity Sold]]),0)","v":0}]
[null,null,null,null,null,null,null,null,0,0,0,null,null,null,0,{"$f":"IF(Inventory[[#This Row],[Item SKU/ID]]=\"\",0,SUMPRODUCT((Quantity_Sold_1=Inventory[[#This Row],[Item SKU/ID]])*Net_Profit))","v":0},{"$f":"IFERROR(AVERAGE(Inventory[[#This Row],[Total Net Profit]]/Inventory[[#This Row],[Quantity Sold]]),0)","v":0}]
[null,null,null,null,null,null,null,null,0,0,0,null,null,null,0,{"$f":"IF(Inventory[[#This Row],[Item SKU/ID]]=\"\",0,SUMPRODUCT((Quantity_Sold_1=Inventory[[#This Row],[Item SKU/ID]])*Net_Profit))","v":0},{"$f":"IFERROR(AVERAGE(Inventory[[#This Row],[Total Net Profit]]/Inventory[[#This Row],[Quantity Sold]]),0)","v":0}]
[null,null,null,null,null,null,null,null,0,0,0,null,null,null,0,{"$f":"IF(Inventory[[#This Row],[Item SKU/ID]]=\"\",0,SUMPRODUCT((Quantity_Sold_1=Inventory[[#This Row],[Item SKU/ID]])*Net_Profit))","v":0},{"$f":"IFERROR(AVERAGE(Inventory[[#This Row],[Total Net Profit]]/Inventory[[#This Row],[Quantity Sold]]),0)","v":0}]
[null,null,null,null,null,null,null,null,{"$f":"K68*H68","v":0},{"$f":"IF(F68=\"\",0,SUMPRODUCT((Quantity_Sold_1=F68)*Quantity_Sold_2))","v":0},{"$f":"G68-J68","v":0},null,null,null,{"$f":"K68*H68","v":0},{"$f":"IF(Inventory[[#This Row],[Item SKU/ID]]=\"\",0,SUMPRODUCT((Quantity_Sold_1=Inventory[[#This Row],[Item SKU/ID]])*Net_Profit))","v":0},{"$f":"IFERROR(AVERAGE(Inventory[[#This Row],[Total Net Profit]]/Inventory[[#This Row],[Quantity Sold]]),0)","v":0}]
[null,null,null,null,null,null,null,null,0,0,0,null,null,null,0,{"$f":"IF(Inventory[[#This Row],[Item SKU/ID]]=\"\",0,SUMPRODUCT((Quantity_Sold_1=Inventory[[#This Row],[Item SKU/ID]])*Net_Profit))","v":0},{"$f":"IFERROR(AVERAGE(Inventory[[#This Row],[Total Net Profit]]/Inventory[[#This Row],[Quantity Sold]]),0)","v":0}]
[null,null,null,null,null,null,null,null,0,0,0,null,null,null,0,{"$f":"IF(Inventory[[#This Row],[Item SKU/ID]]=\"\",0,SUMPRODUCT((Quantity_Sold_1=Inventory[[#This Row],[Item SKU/ID]])*Net_Profit))","v":0},{"$f":"IFERROR(AVERAGE(Inventory[[#This Row],[Total Net Profit]]/Inventory[[#This Row],[Quantity Sold]]),0)","v":0}]
[null,null,null,null,null,null,null,null,0,0,0,null,null,null,0,{"$f":"IF(Inventory[[#This Row],[Item SKU/ID]]=\"\",0,SUMPRODUCT((Quantity_Sold_1=Inventory[[#This Row],[Item SKU/ID]])*Net_Profit))","v":0},{"$f":"IFERROR(AVERAGE(Inventory[[#This Row],[Total Net Profit]]/Inventory[[#This Row],[Quantity Sold]]),0)","v":0}]
[null,null,null,null,null,null,null,null,0,0,0,null,null,null,0,{"$f":"IF(Inventory[[#This Row],[Item SKU/ID]]=\"\",0,SUMPRODUCT((Quantity_Sold_1=Inventory[[#This Row],[Item SKU/ID]])*Net_Profit))","v":0},{"$f":"IFERROR(AVERAGE(Inventory[[#This Row],[Total Net Profit]]/Inventory[[#This Row],[Quantity Sold]]),0)","v":0}]
[null,null,null,null,null,null,null,null,0,0,0,null,null,null,0,{"$f":"IF(Inventory[[#This Row],[Item SKU/ID]]=\"\",0,SUMPRODUCT((Quantity_Sold_1=Inventory[[#This Row],[Item SKU/ID]])*Net_Profit))","v":0},{"$f":"IFERROR(AVERAGE(Inventory[[#This Row],[Total Net Profit]]/Inventory[[#This Row],[Quantity Sold]]),0)","v":0}]
[null,null,null,null,null,null,null,null,0,0,0,null,null,null,0,{"$f":"IF(Inventory[[#This Row],[Item SKU/ID]]=\"\",0,SUMPRODUCT((Quantity_Sold_1=Inventory[[#This Row],[Item SKU/ID]])*Net_Profit))","v":0},{"$f":"IFERROR(AVERAGE(Inventory[[#This Row],[Total Net Profit]]/Inventory[[#This Row],[Quantity Sold]]),0)","v":0}]
[null,null,null,null,null,null,null,null,0,0,0,null,null,null,0,{"$f":"IF(Inventory[[#This Row],[Item SKU/ID]]=\"\",0,SUMPRODUCT((Quantity_Sold_1=Inventory[[#This Row],[Item SKU/ID]])*Net_Profit))","v":0},{"$f":"IFERROR(AVERAGE(Inventory[[#This Row],[Total Net Profit]]/Inventory[[#This Row],[Quantity Sold]]),0)","v":0}]
[null,null,null,null,null,null,null,null,0,0,0,null,null,null,0,{"$f":"IF(Inventory[[#This Row],[Item SKU/ID]]=\"\",0,SUMPRODUCT((Quantity_Sold_1=Inventory[[#This Row],[Item SKU/ID]])*Net_Profit))","v":0},{"$f":"IFERROR(AVERAGE(Inventory[[#This Row],[Total Net Profit]]/Inventory[[#This Row],[Quantity Sold]]),0)","v":0}]
[null,null,null,null,null,null,null,null,0,0,0,null,null,null,0,{"$f":"IF(Inventory[[#This Row],[Item SKU/ID]]=\"\",0,SUMPRODUCT((Quantity_Sold_1=Inventory[[#This Row],[Item SKU/ID]])*Net_Profit))","v":0},{"$f":"IFERROR(AVERAGE(Inventory[[#This Row],[Total Net Profit]]/Inventory[[#This Row],[Quantity Sold]]),0)","v":0}]
[null,null,null,null,null,null,null,null,0,0,0,null,null,null,0,{"$f":"IF(Inventory[[#This Row],[Item SKU/ID]]=\"\",0,SUMPRODUCT((Quantity_Sold_1=Inventory[[#This Row],[Item SKU/ID]])*Net_Profit))","v":0},{"$f":"IFERROR(AVERAGE(Inventory[[#This Row],[Total Net Profit]]/Inventory[[#This Row],[Quantity Sold]]),0)","v":0}]
[null,null,null,null,null,null,null,null,0,0,0,null,null,null,0,{"$f":"IF(Inventory[[#This Row],[Item SKU/ID]]=\"\",0,SUMPRODUCT((Quantity_Sold_1=Inventory[[#This Row],[Item SKU/ID]])*Net_Profit))","v":0},{"$f":"IFERROR(AVERAGE(Inventory[[#This Row],[Total Net Profit]]/Inventory[[#This Row],[Quantity Sold]]),0)","v":0}]
[null,null,null,null,null,null,null,null,0,0,0,null,null,null,0,{"$f":"IF(Inventory[[#This Row],[Item SKU/ID]]=\"\",0,SUMPRODUCT((Quantity_Sold_1=Inventory[[#This Row],[Item SKU/ID]])*Net_Profit))","v":0},{"$f":"IFERROR(AVERAGE(Inventory[[#This Row],[Total Net Profit]]/Inventory[[#This Row],[Quantity Sold]]),0)","v":0}]
[null,null,null,null,null,null,null,null,0,0,0,null,null,null,0,{"$f":"IF(Inventory[[#This Row],[Item SKU/ID]]=\"\",0,SUMPRODUCT((Quantity_Sold_1=Inventory[[#This Row],[Item SKU/ID]])*Net_Profit))","v":0},{"$f":"IFERROR(AVERAGE(Inventory[[#This Row],[Total Net Profit]]/Inventory[[#This Row],[Quantity Sold]]),0)","v":0}]
[null,null,null,null,null,null,null,null,0,0,0,null,null,null,0,{"$f":"IF(Inventory[[#This Row],[Item SKU/ID]]=\"\",0,SUMPRODUCT((Quantity_Sold_1=Inventory[[#This Row],[Item SKU/ID]])*Net_Profit))","v":0},{"$f":"IFERROR(AVERAGE(Inventory[[#This Row],[Total Net Profit]]/Inventory[[#This Row],[Quantity Sold]]),0)","v":0}]
[null,null,null,null,null,null,null,null,0,0,0,null,null,null,0,{"$f":"IF(Inventory[[#This Row],[Item SKU/ID]]=\"\",0,SUMPRODUCT((Quantity_Sold_1=Inventory[[#This Row],[Item SKU/ID]])*Net_Profit))","v":0},{"$f":"IFERROR(AVERAGE(Inventory[[#This Row],[Total Net Profit]]/Inventory[[#This Row],[Quantity Sold]]),0)","v":0}]
[null,null,null,null,null,null,null,null,0,0,0,null,null,null,0,{"$f":"IF(Inventory[[#This Row],[Item SKU/ID]]=\"\",0,SUMPRODUCT((Quantity_Sold_1=Inventory[[#This Row],[Item SKU/ID]])*Net_Profit))","v":0},{"$f":"IFERROR(AVERAGE(Inventory[[#This Row],[Total Net Profit]]/Inventory[[#This Row],[Quantity Sold]]),0)","v":0}]
[null,null,null,null,null,null,null,null,0,0,0,null,null,null,0,{"$f":"IF(Inventory[[#This Row],[Item SKU/ID]]=\"\",0,SUMPRODUCT((Quantity_Sold_1=Inventory[[#This Row],[Item SKU/ID]])*Net_Profit))","v":0},{"$f":"IFERROR(AVERAGE(Inventory[[#This Row],[Total Net Profit]]/Inventory[[#This Row],[Quantity Sold]]),0)","v":0}]
[null,null,null,null,null,null,null,null,0,0,0,null,null,null,0,{"$f":"IF(Inventory[[#This Row],[Item SKU/ID]]=\"\",0,SUMPRODUCT((Quantity_Sold_1=Inventory[[#This Row],[Item SKU/ID]])*Net_Profit))","v":0},{"$f":"IFERROR(AVERAGE(Inventory[[#This Row],[Total Net Profit]]/Inventory[[#This Row],[Quantity Sold]]),0)","v":0}]
[null,null,null,null,null,null,null,null,0,0,0,null,null,null,0,{"$f":"IF(Inventory[[#This Row],[Item SKU/ID]]=\"\",0,SUMPRODUCT((Quantity_Sold_1=Inventory[[#This Row],[Item SKU/ID]])*Net_Profit))","v":0},{"$f":"IFERROR(AVERAGE(Inventory[[#This Row],[Total Net Profit]]/Inventory[[#This Row],[Quantity Sold]]),0)","v":0}]
[null,null,null,null,null,null,null,null,0,0,0,null,null,null,0,{"$f":"IF(Inventory[[#This Row],[Item SKU/ID]]=\"\",0,SUMPRODUCT((Quantity_Sold_1=Inventory[[#This Row],[Item SKU/ID]])*Net_Profit))","v":0},{"$f":"IFERROR(AVERAGE(Inventory[[#This Row],[Total Net Profit]]/Inventory[[#This Row],[Quantity Sold]]),0)","v":0}]
[null,null,null,null,null,null,null,null,0,0,0,null,null,null,0,{"$f":"IF(Inventory[[#This Row],[Item SKU/ID]]=\"\",0,SUMPRODUCT((Quantity_Sold_1=Inventory[[#This Row],[Item SKU/ID]])*Net_Profit))","v":0},{"$f":"IFERROR(AVERAGE(Inventory[[#This Row],[Total Net Profit]]/Inventory[[#This Row],[Quantity Sold]]),0)","v":0}]
[null,null,null,null,null,null,null,null,0,0,0,null,null,null,0,{"$f":"IF(Inventory[[#This Row],[Item SKU/ID]]=\"\",0,SUMPRODUCT((Quantity_Sold_1=Inventory[[#This Row],[Item SKU/ID]])*Net_Profit))","v":0},{"$f":"IFERROR(AVERAGE(Inventory[[#This Row],[Total Net Profit]]/Inventory[[#This Row],[Quantity Sold]]),0)","v":0}]
[null,null,null,null,null,null,null,null,0,0,0,null,null,null,0,{"$f":"IF(Inventory[[#This Row],[Item SKU/ID]]=\"\",0,SUMPRODUCT((Quantity_Sold_1=Inventory[[#This Row],[Item SKU/ID]])*Net_Profit))","v":0},{"$f":"IFERROR(AVERAGE(Inventory[[#This Row],[Total Net Profit]]/Inventory[[#This Row],[Quantity Sold]]),0)","v":0}]
[null,null,null,null,null,null,null,null,0,0,0,null,null,null,0,{"$f":"IF(Inventory[[#This Row],[Item SKU/ID]]=\"\",0,SUMPRODUCT((Quantity_Sold_1=Inventory[[#This Row],[Item SKU/ID]])*Net_Profit))","v":0},{"$f":"IFERROR(AVERAGE(Inventory[[#This Row],[Total Net Profit]]/Inventory[[#This Row],[Quantity Sold]]),0)","v":0}]
[null,null,null,null,null,null,null,null,0,0,0,null,null,null,0,{"$f":"IF(Inventory[[#This Row],[Item SKU/ID]]=\"\",0,SUMPRODUCT((Quantity_Sold_1=Inventory[[#This Row],[Item SKU/ID]])*Net_Profit))","v":0},{"$f":"IFERROR(AVERAGE(Inventory[[#This Row],[Total Net Profit]]/Inventory[[#This Row],[Quantity Sold]]),0)","v":0}]
[null,null,null,null,null,null,null,null,0,0,0,null,null,null,0,{"$f":"IF(Inventory[[#This Row],[Item SKU/ID]]=\"\",0,SUMPRODUCT((Quantity_Sold_1=Inventory[[#This Row],[Item SKU/ID]])*Net_Profit))","v":0},{"$f":"IFERROR(AVERAGE(Inventory[[#This Row],[Total Net Profit]]/Inventory[[#This Row],[Quantity Sold]]),0)","v":0}]
[null,null,null,null,null,null,null,null,0,0,0,null,null,null,0,{"$f":"IF(Inventory[[#This Row],[Item SKU/ID]]=\"\",0,SUMPRODUCT((Quantity_Sold_1=Inventory[[#This Row],[Item SKU/ID]])*Net_Profit))","v":0},{"$f":"IFERROR(AVERAGE(Inventory[[#This Row],[Total Net Profit]]/Inventory[[#This Row],[Quantity Sold]]),0)","v":0}]
[null,null,null,null,null,null,null,null,0,0,0,null,null,null,0,{"$f":"IF(Inventory[[#This Row],[Item SKU/ID]]=\"\",0,SUMPRODUCT((Quantity_Sold_1=Inventory[[#This Row],[Item SKU/ID]])*Net_Profit))","v":0},{"$f":"IFERROR(AVERAGE(Inventory[[#This Row],[Total Net Profit]]/Inventory[[#This Row],[Quantity Sold]]),0)","v":0}]
[null,null,null,null,null,null,null,null,0,0,0,null,null,null,0,{"$f":"IF(Inventory[[#This Row],[Item SKU/ID]]=\"\",0,SUMPRODUCT((Quantity_Sold_1=Inventory[[#This Row],[Item SKU/ID]])*Net_Profit))","v":0},{"$f":"IFERROR(AVERAGE(Inventory[[#This Row],[Total Net Profit]]/Inventory[[#This Row],[Quantity Sold]]),0)","v":0}]
[null,null,null,null,null,null,null,null,0,0,0,null,null,null,0,{"$f":"IF(Inventory[[#This Row],[Item SKU/ID]]=\"\",0,SUMPRODUCT((Quantity_Sold_1=Inventory[[#This Row],[Item SKU/ID]])*Net_Profit))","v":0},{"$f":"IFERROR(AVERAGE(Inventory[[#This Row],[Total Net Profit]]/Inventory[[#This Row],[Quantity Sold]]),0)","v":0}]
[null,null,null,null,null,null,null,null,0,0,0,null,null,null,0,{"$f":"IF(Inventory[[#This Row],[Item SKU/ID]]=\"\",0,SUMPRODUCT((Quantity_Sold_1=Inventory[[#This Row],[Item SKU/ID]])*Net_Profit))","v":0},{"$f":"IFERROR(AVERAGE(Inventory[[#This Row],[Total Net Profit]]/Inventory[[#This Row],[Quantity Sold]]),0)","v":0}]
[null,null,null,null,null,null,null,null,0,0,0,null,null,null,0,{"$f":"IF(Inventory[[#This Row],[Item SKU/ID]]=\"\",0,SUMPRODUCT((Quantity_Sold_1=Inventory[[#This Row],[Item SKU/ID]])*Net_Profit))","v":0},{"$f":"IFERROR(AVERAGE(Inventory[[#This Row],[Total Net Profit]]/Inventory[[#This Row],[Quantity Sold]]),0)","v":0}]
[null,null,null,null,null,null,null,null,0,0,0,null,null,null,0,{"$f":"IF(Inventory[[#This Row],[Item SKU/ID]]=\"\",0,SUMPRODUCT((Quantity_Sold_1=Inventory[[#This Row],[Item SKU/ID]])*Net_Profit))","v":0},{"$f":"IFERROR(AVERAGE(Inventory[[#This Row],[Total Net Profit]]/Inventory[[#This Row],[Quantity Sold]]),0)","v":0}]
[null,null,null,null,null,null,null,null,0,0,0,null,null,null,0,{"$f":"IF(Inventory[[#This Row],[Item SKU/ID]]=\"\",0,SUMPRODUCT((Quantity_Sold_1=Inventory[[#This Row],[Item SKU/ID]])*Net_Profit))","v":0},{"$f":"IFERROR(AVERAGE(Inventory[[#This Row],[Total Net Profit]]/Inventory[[#This Row],[Quantity Sold]]),0)","v":0}]
[null,null,null,null,null,null,null,null,0,0,0,null,null,null,0,{"$f":"IF(Inventory[[#This Row],[Item SKU/ID]]=\"\",0,SUMPRODUCT((Quantity_Sold_1=Inventory[[#This Row],[Item SKU/ID]])*Net_Profit))","v":0},{"$f":"IFERROR(AVERAGE(Inventory[[#This Row],[Total Net Profit]]/Inventory[[#This Row],[Quantity Sold]]),0)","v":0}]
[null,null,null,null,null,null,null,null,0,0,0,null,null,null,0,{"$f":"IF(Inventory[[#This Row],[Item SKU/ID]]=\"\",0,SUMPRODUCT((Quantity_Sold_1=Inventory[[#This Row],[Item SKU/ID]])*Net_Profit))","v":0},{"$f":"IFERROR(AVERAGE(Inventory[[#This Row],[Total Net Profit]]/Inventory[[#This Row],[Quantity Sold]]),0)","v":0}]
[null,null,null,null,null,null,null,null,0,0,0,null,null,null,0,{"$f":"IF(Inventory[[#This Row],[Item SKU/ID]]=\"\",0,SUMPRODUCT((Quantity_Sold_1=Inventory[[#This Row],[Item SKU/ID]])*Net_Profit))","v":0},{"$f":"IFERROR(AVERAGE(Inventory[[#This Row],[Total Net Profit]]/Inventory[[#This Row],[Quantity Sold]]),0)","v":0}]
[null,null,null,null,null,null,null,null,0,0,0,null,null,null,0,{"$f":"IF(Inventory[[#This Row],[Item SKU/ID]]=\"\",0,SUMPRODUCT((Quantity_Sold_1=Inventory[[#This Row],[Item SKU/ID]])*Net_Profit))","v":0},{"$f":"IFERROR(AVERAGE(Inventory[[#This Row],[Total Net Profit]]/Inventory[[#This Row],[Quantity Sold]]),0)","v":0}]
[null,null,null,null,null,null,null,null,0,0,0,null,null,null,0,{"$f":"IF(Inventory[[#This Row],[Item SKU/ID]]=\"\",0,SUMPRODUCT((Quantity_Sold_1=Inventory[[#This Row],[Item SKU/ID]])*Net_Profit))","v":0},{"$f":"IFERROR(AVERAGE(Inventory[[#This Row],[Total Net Profit]]/Inventory[[#This Row],[Quantity Sold]]),0)","v":0}]
[null,null,null,null,null,null,null,null,0,0,0,null,null,null,0,{"$f":"IF(Inventory[[#This Row],[Item SKU/ID]]=\"\",0,SUMPRODUCT((Quantity_Sold_1=Inventory[[#This Row],[Item SKU/ID]])*Net_Profit))","v":0},{"$f":"IFERROR(AVERAGE(Inventory[[#This Row],[Total Net Profit]]/Inventory[[#This Row],[Quantity Sold]]),0)","v":0}]
[null,null,null,null,null,null,null,null,0,0,0,null,null,null,0,{"$f":"IF(Inventory[[#This Row],[Item SKU/ID]]=\"\",0,SUMPRODUCT((Quantity_Sold_1=Inventory[[#This Row],[Item SKU/ID]])*Net_Profit))","v":0},{"$f":"IFERROR(AVERAGE(Inventory[[#This Row],[Total Net Profit]]/Inventory[[#This Row],[Quantity Sold]]),0)","v":0}]
[null,null,null,null,null,null,null,null,0,0,0,null,null,null,0,{"$f":"IF(Inventory[[#This Row],[Item SKU/ID]]=\"\",0,SUMPRODUCT((Quantity_Sold_1=Inventory[[#This Row],[Item SKU/ID]])*Net_Profit))","v":0},{"$f":"IFERROR(AVERAGE(Inventory[[#This Row],[Total Net Profit]]/Inventory[[#This Row],[Quantity Sold]]),0)","v":0}]
[null,null,null,null,null,null,null,null,0,0,0,null,null,null,0,{"$f":"IF(Inventory[[#This Row],[Item SKU/ID]]=\"\",0,SUMPRODUCT((Quantity_Sold_1=Inventory[[#This Row],[Item SKU/ID]])*Net_Profit))","v":0},{"$f":"IFERROR(AVERAGE(Inventory[[#This Row],[Total Net Profit]]/Inventory[[#This Row],[Quantity Sold]]),0)","v":0}]
[null,null,null,null,null,null,null,null,0,0,0,null,null,null,0,{"$f":"IF(Inventory[[#This Row],[Item SKU/ID]]=\"\",0,SUMPRODUCT((Quantity_Sold_1=Inventory[[#This Row],[Item SKU/ID]])*Net_Profit))","v":0},{"$f":"IFERROR(AVERAGE(Inventory[[#This Row],[Total Net Profit]]/Inventory[[#This Row],[Quantity Sold]]),0)","v":0}]
[null,null,null,null,null,null,null,null,0,0,0,null,null,null,0,{"$f":"IF(Inventory[[#This Row],[Item SKU/ID]]=\"\",0,SUMPRODUCT((Quantity_Sold_1=Inventory[[#This Row],[Item SKU/ID]])*Net_Profit))","v":0},{"$f":"IFERROR(AVERAGE(Inventory[[#This Row],[Total Net Profit]]/Inventory[[#This Row],[Quantity Sold]]),0)","v":0}]
[null,null,null,null,null,null,null,null,0,0,0,null,null,null,0,{"$f":"IF(Inventory[[#This Row],[Item SKU/ID]]=\"\",0,SUMPRODUCT((Quantity_Sold_1=Inventory[[#This Row],[Item SKU/ID]])*Net_Profit))","v":0},{"$f":"IFERROR(AVERAGE(Inventory[[#This Row],[Total Net Profit]]/Inventory[[#This Row],[Quantity Sold]]),0)","v":0}]
[null,null,null,null,null,null,null,null,0,0,0,null,null,null,0,{"$f":"IF(Inventory[[#This Row],[Item SKU/ID]]=\"\",0,SUMPRODUCT((Quantity_Sold_1=Inventory[[#This Row],[Item SKU/ID]])*Net_Profit))","v":0},{"$f":"IFERROR(AVERAGE(Inventory[[#This Row],[Total Net Profit]]/Inventory[[#This Row],[Quantity Sold]]),0)","v":0}]
[null,null,null,null,null,null,null,null,0,0,0,null,null,null,0,{"$f":"IF(Inventory[[#This Row],[Item SKU/ID]]=\"\",0,SUMPRODUCT((Quantity_Sold_1=Inventory[[#This Row],[Item SKU/ID]])*Net_Profit))","v":0},{"$f":"IFERROR(AVERAGE(Inventory[[#This Row],[Total Net Profit]]/Inventory[[#This Row],[Quantity Sold]]),0)","v":0}]
[null,null,null,null,null,null,null,null,0,0,0,null,null,null,0,{"$f":"IF(Inventory[[#This Row],[Item SKU/ID]]=\"\",0,SUMPRODUCT((Quantity_Sold_1=Inventory[[#This Row],[Item SKU/ID]])*Net_Profit))","v":0},{"$f":"IFERROR(AVERAGE(Inventory[[#This Row],[Total Net Profit]]/Inventory[[#This Row],[Quantity Sold]]),0)","v":0}]
[null,null,null,null,null,null,null,null,0,0,0,null,null,null,0,{"$f":"IF(Inventory[[#This Row],[Item SKU/ID]]=\"\",0,SUMPRODUCT((Quantity_Sold_1=Inventory[[#This Row],[Item SKU/ID]])*Net_Profit))","v":0},{"$f":"IFERROR(AVERAGE(Inventory[[#This Row],[Total Net Profit]]/Inventory[[#This Row],[Quantity Sold]]),0)","v":0}]
[null,null,null,null,null,null,null,null,0,0,0,null,null,null,0,{"$f":"IF(Inventory[[#This Row],[Item SKU/ID]]=\"\",0,SUMPRODUCT((Quantity_Sold_1=Inventory[[#This Row],[Item SKU/ID]])*Net_Profit))","v":0},{"$f":"IFERROR(AVERAGE(Inventory[[#This Row],[Total Net Profit]]/Inventory[[#This Row],[Quantity Sold]]),0)","v":0}]
[null,null,null,null,null,null,null,null,0,0,0,null,null,null,0,{"$f":"IF(Inventory[[#This Row],[Item SKU/ID]]=\"\",0,SUMPRODUCT((Quantity_Sold_1=Inventory[[#This Row],[Item SKU/ID]])*Net_Profit))","v":0},{"$f":"IFERROR(AVERAGE(Inventory[[#This Row],[Total Net Profit]]/Inventory[[#This Row],[Quantity Sold]]),0)","v":0}]
[null,null,null,null,null,null,null,null,0,0,0,null,null,null,0,{"$f":"IF(Inventory[[#This Row],[Item SKU/ID]]=\"\",0,SUMPRODUCT((Quantity_Sold_1=Inventory[[#This Row],[Item SKU/ID]])*Net_Profit))","v":0},{"$f":"IFERROR(AVERAGE(Inventory[[#This Row],[Total Net Profit]]/Inventory[[#This Row],[Quantity Sold]]),0)","v":0}]
[null,null,null,null,null,null,null,null,0,0,0,null,null,null,0,{"$f":"IF(Inventory[[#This Row],[Item SKU/ID]]=\"\",0,SUMPRODUCT((Quantity_Sold_1=Inventory[[#This Row],[Item SKU/ID]])*Net_Profit))","v":0},{"$f":"IFERROR(AVERAGE(Inventory[[#This Row],[Total Net Profit]]/Inventory[[#This Row],[Quantity Sold]]),0)","v":0}]
[null,null,null,null,null,null,null,null,0,0,0,null,null,null,0,{"$f":"IF(Inventory[[#This Row],[Item SKU/ID]]=\"\",0,SUMPRODUCT((Quantity_Sold_1=Inventory[[#This Row],[Item SKU/ID]])*Net_Profit))","v":0},{"$f":"IFERROR(AVERAGE(Inventory[[#This Row],[Total Net Profit]]/Inventory[[#This Row],[Quantity Sold]]),0)","v":0}]
[null,null,null,null,null,null,null,null,0,0,0,null,null,null,0,{"$f":"IF(Inventory[[#This Row],[Item SKU/ID]]=\"\",0,SUMPRODUCT((Quantity_Sold_1=Inventory[[#This Row],[Item SKU/ID]])*Net_Profit))","v":0},{"$f":"IFERROR(AVERAGE(Inventory[[#This Row],[Total Net Profit]]/Inventory[[#This Row],[Quantity Sold]]),0)","v":0}]
[null,null,null,null,null,null,null,null,0,0,0,null,null,null,0,{"$f":"IF(Inventory[[#This Row],[Item SKU/ID]]=\"\",0,SUMPRODUCT((Quantity_Sold_1=Inventory[[#This Row],[Item SKU/ID]])*Net_Profit))","v":0},{"$f":"IFERROR(AVERAGE(Inventory[[#This Row],[Total Net Profit]]/Inventory[[#This Row],[Quantity Sold]]),0)","v":0}]
[null,null,null,null,null,null,null,null,0,0,0,null,null,null,0,{"$f":"IF(Inventory[[#This Row],[Item SKU/ID]]=\"\",0,SUMPRODUCT((Quantity_Sold_1=Inventory[[#This Row],[Item SKU/ID]])*Net_Profit))","v":0},{"$f":"IFERROR(AVERAGE(Inventory[[#This Row],[Total Net Profit]]/Inventory[[#This Row],[Quantity Sold]]),0)","v":0}]
[null,null,null,null,null,null,null,null,0,0,0,null,null,null,0,{"$f":"IF(Inventory[[#This Row],[Item SKU/ID]]=\"\",0,SUMPRODUCT((Quantity_Sold_1=Inventory[[#This Row],[Item SKU/ID]])*Net_Profit))","v":0},{"$f":"IFERROR(AVERAGE(Inventory[[#This Row],[Total Net Profit]]/Inventory[[#This Row],[Quantity Sold]]),0)","v":0}]
[null,null,null,null,null,null,null,null,0,0,0,null,null,null,0,{"$f":"IF(Inventory[[#This Row],[Item SKU/ID]]=\"\",0,SUMPRODUCT((Quantity_Sold_1=Inventory[[#This Row],[Item SKU/ID]])*Net_Profit))","v":0},{"$f":"IFERROR(AVERAGE(Inventory[[#This Row],[Total Net Profit]]/Inventory[[#This Row],[Quantity Sold]]),0)","v":0}]
[null,null,null,null,null,null,null,null,0,0,0,null,null,null,0,{"$f":"IF(Inventory[[#This Row],[Item SKU/ID]]=\"\",0,SUMPRODUCT((Quantity_Sold_1=Inventory[[#This Row],[Item SKU/ID]])*Net_Profit))","v":0},{"$f":"IFERROR(AVERAGE(Inventory[[#This Row],[Total Net Profit]]/Inventory[[#This Row],[Quantity Sold]]),0)","v":0}]
[null,null,null,null,null,null,null,null,0,0,0,null,null,null,0,{"$f":"IF(Inventory[[#This Row],[Item SKU/ID]]=\"\",0,SUMPRODUCT((Quantity_Sold_1=Inventory[[#This Row],[Item SKU/ID]])*Net_Profit))","v":0},{"$f":"IFERROR(AVERAGE(Inventory[[#This Row],[Total Net Profit]]/Inventory[[#This Row],[Quantity Sold]]),0)","v":0}]
[null,null,null,null,null,null,null,null,0,0,0,null,null,null,0,{"$f":"IF(Inventory[[#This Row],[Item SKU/ID]]=\"\",0,SUMPRODUCT((Quantity_Sold_1=Inventory[[#This Row],[Item SKU/ID]])*Net_Profit))","v":0},{"$f":"IFERROR(AVERAGE(Inventory[[#This Row],[Total Net Profit]]/Inventory[[#This Row],[Quantity Sold]]),0)","v":0}]
[null,null,null,null,null,null,null,null,{"$f":"K132*H132","v":0},{"$f":"IF(F132=\"\",0,SUMPRODUCT((Quantity_Sold_1=F132)*Quantity_Sold_2))","v":0},{"$f":"G132-J132","v":0},null,null,null,{"$f":"K132*H132","v":0},{"$f":"IF(Inventory[[#This Row],[Item SKU/ID]]=\"\",0,SUMPRODUCT((Quantity_Sold_1=Inventory[[#This Row],[Item SKU/ID]])*Net_Profit))","v":0},{"$f":"IFERROR(AVERAGE(Inventory[[#This Row],[Total Net Profit]]/Inventory[[#This Row],[Quantity Sold]]),0)","v":0}]
[null,null,null,null,null,null,null,null,0,0,0,null,null,null,0,{"$f":"IF(Inventory[[#This Row],[Item SKU/ID]]=\"\",0,SUMPRODUCT((Quantity_Sold_1=Inventory[[#This Row],[Item SKU/ID]])*Net_Profit))","v":0},{"$f":"IFERROR(AVERAGE(Inventory[[#This Row],[Total Net Profit]]/Inventory[[#This Row],[Quantity Sold]]),0)","v":0}]
[null,null,null,null,null,null,null,null,0,0,0,null,null,null,0,{"$f":"IF(Inventory[[#This Row],[Item SKU/ID]]=\"\",0,SUMPRODUCT((Quantity_Sold_1=Inventory[[#This Row],[Item SKU/ID]])*Net_Profit))","v":0},{"$f":"IFERROR(AVERAGE(Inventory[[#This Row],[Total Net Profit]]/Inventory[[#This Row],[Quantity Sold]]),0)","v":0}]
[null,null,null,null,null,null,null,null,0,0,0,null,null,null,0,{"$f":"IF(Inventory[[#This Row],[Item SKU/ID]]=\"\",0,SUMPRODUCT((Quantity_Sold_1=Inventory[[#This Row],[Item SKU/ID]])*Net_Profit))","v":0},{"$f":"IFERROR(AVERAGE(Inventory[[#This Row],[Total Net Profit]]/Inventory[[#This Row],[Quantity Sold]]),0)","v":0}]
[null,null,null,null,null,null,null,null,0,0,0,null,null,null,0,{"$f":"IF(Inventory[[#This Row],[Item SKU/ID]]=\"\",0,SUMPRODUCT((Quantity_Sold_1=Inventory[[#This Row],[Item SKU/ID]])*Net_Profit))","v":0},{"$f":"IFERROR(AVERAGE(Inventory[[#This Row],[Total Net Profit]]/Inventory[[#This Row],[Quantity Sold]]),0)","v":0}]
[null,null,null,null,null,null,null,null,0,0,0,null,null,null,0,{"$f":"IF(Inventory[[#This Row],[Item SKU/ID]]=\"\",0,SUMPRODUCT((Quantity_Sold_1=Inventory[[#This Row],[Item SKU/ID]])*Net_Profit))","v":0},{"$f":"IFERROR(AVERAGE(Inventory[[#This Row],[Total Net Profit]]/Inventory[[#This Row],[Quantity Sold]]),0)","v":0}]
[null,null,null,null,null,null,null,null,0,0,0,null,null,null,0,{"$f":"IF(Inventory[[#This Row],[Item SKU/ID]]=\"\",0,SUMPRODUCT((Quantity_Sold_1=Inventory[[#This Row],[Item SKU/ID]])*Net_Profit))","v":0},{"$f":"IFERROR(AVERAGE(Inventory[[#This Row],[Total Net Profit]]/Inventory[[#This Row],[Quantity Sold]]),0)","v":0}]
[null,null,null,null,null,null,null,null,0,0,0,null,null,null,0,{"$f":"IF(Inventory[[#This Row],[Item SKU/ID]]=\"\",0,SUMPRODUCT((Quantity_Sold_1=Inventory[[#This Row],[Item SKU/ID]])*Net_Profit))","v":0},{"$f":"IFERROR(AVERAGE(Inventory[[#This Row],[Total Net Profit]]/Inventory[[#This Row],[Quantity Sold]]),0)","v":0}]
[null,null,null,null,null,null,null,null,0,0,0,null,null,null,0,{"$f":"IF(Inventory[[#This Row],[Item SKU/ID]]=\"\",0,SUMPRODUCT((Quantity_Sold_1=Inventory[[#This Row],[Item SKU/ID]])*Net_Profit))","v":0},{"$f":"IFERROR(AVERAGE(Inventory[[#This Row],[Total Net Profit]]/Inventory[[#This Row],[Quantity Sold]]),0)","v":0}]
[null,null,null,null,null,null,null,null,0,0,0,null,null,null,0,{"$f":"IF(Inventory[[#This Row],[Item SKU/ID]]=\"\",0,SUMPRODUCT((Quantity_Sold_1=Inventory[[#This Row],[Item SKU/ID]])*Net_Profit))","v":0},{"$f":"IFERROR(AVERAGE(Inventory[[#This Row],[Total Net Profit]]/Inventory[[#This Row],[Quantity Sold]]),0)","v":0}]
[null,null,null,null,null,null,null,null,0,0,0,null,null,null,0,{"$f":"IF(Inventory[[#This Row],[Item SKU/ID]]=\"\",0,SUMPRODUCT((Quantity_Sold_1=Inventory[[#This Row],[Item SKU/ID]])*Net_Profit))","v":0},{"$f":"IFERROR(AVERAGE(Inventory[[#This Row],[Total Net Profit]]/Inventory[[#This Row],[Quantity Sold]]),0)","v":0}]
[null,null,null,null,null,null,null,null,0,0,0,null,null,null,0,{"$f":"IF(Inventory[[#This Row],[Item SKU/ID]]=\"\",0,SUMPRODUCT((Quantity_Sold_1=Inventory[[#This Row],[Item SKU/ID]])*Net_Profit))","v":0},{"$f":"IFERROR(AVERAGE(Inventory[[#This Row],[Total Net Profit]]/Inventory[[#This Row],[Quantity Sold]]),0)","v":0}]
[null,null,null,null,null,null,null,null,0,0,0,null,null,null,0,{"$f":"IF(Inventory[[#This Row],[Item SKU/ID]]=\"\",0,SUMPRODUCT((Quantity_Sold_1=Inventory[[#This Row],[Item SKU/ID]])*Net_Profit))","v":0},{"$f":"IFERROR(AVERAGE(Inventory[[#This Row],[Total Net Profit]]/Inventory[[#This Row],[Quantity Sold]]),0)","v":0}]
[null,null,null,null,null,null,null,null,0,0,0,null,null,null,0,{"$f":"IF(Inventory[[#This Row],[Item SKU/ID]]=\"\",0,SUMPRODUCT((Quantity_Sold_1=Inventory[[#This Row],[Item SKU/ID]])*Net_Profit))","v":0},{"$f":"IFERROR(AVERAGE(Inventory[[#This Row],[Total Net Profit]]/Inventory[[#This Row],[Quantity Sold]]),0)","v":0}]
[null,null,null,null,null,null,null,null,0,0,0,null,null,null,0,{"$f":"IF(Inventory[[#This Row],[Item SKU/ID]]=\"\",0,SUMPRODUCT((Quantity_Sold_1=Inventory[[#This Row],[Item SKU/ID]])*Net_Profit))","v":0},{"$f":"IFERROR(AVERAGE(Inventory[[#This Row],[Total Net Profit]]/Inventory[[#This Row],[Quantity Sold]]),0)","v":0}]
[null,null,null,null,null,null,null,null,0,0,0,null,null,null,0,{"$f":"IF(Inventory[[#This Row],[Item SKU/ID]]=\"\",0,SUMPRODUCT((Quantity_Sold_1=Inventory[[#This Row],[Item SKU/ID]])*Net_Profit))","v":0},{"$f":"IFERROR(AVERAGE(Inventory[[#This Row],[Total Net Profit]]/Inventory[[#This Row],[Quantity Sold]]),0)","v":0}]
[null,null,null,null,null,null,null,null,0,0,0,null,null,null,0,{"$f":"IF(Inventory[[#This Row],[Item SKU/ID]]=\"\",0,SUMPRODUCT((Quantity_Sold_1=Inventory[[#This Row],[Item SKU/ID]])*Net_Profit))","v":0},{"$f":"IFERROR(AVERAGE(Inventory[[#This Row],[Total Net Profit]]/Inventory[[#This Row],[Quantity Sold]]),0)","v":0}]
[null,null,null,null,null,null,null,null,0,0,0,null,null,null,0,{"$f":"IF(Inventory[[#This Row],[Item SKU/ID]]=\"\",0,SUMPRODUCT((Quantity_Sold_1=Inventory[[#This Row],[Item SKU/ID]])*Net_Profit))","v":0},{"$f":"IFERROR(AVERAGE(Inventory[[#This Row],[Total Net Profit]]/Inventory[[#This Row],[Quantity Sold]]),0)","v":0}]
[null,null,null,null,null,null,null,null,0,0,0,null,null,null,0,{"$f":"IF(Inventory[[#This Row],[Item SKU/ID]]=\"\",0,SUMPRODUCT((Quantity_Sold_1=Inventory[[#This Row],[Item SKU/ID]])*Net_Profit))","v":0},{"$f":"IFERROR(AVERAGE(Inventory[[#This Row],[Total Net Profit]]/Inventory[[#This Row],[Quantity Sold]]),0)","v":0}]
[null,null,null,null,null,null,null,null,0,0,0,null,null,null,0,{"$f":"IF(Inventory[[#This Row],[Item SKU/ID]]=\"\",0,SUMPRODUCT((Quantity_Sold_1=Inventory[[#This Row],[Item SKU/ID]])*Net_Profit))","v":0},{"$f":"IFERROR(AVERAGE(Inventory[[#This Row],[Total Net Profit]]/Inventory[[#This Row],[Quantity Sold]]),0)","v":0}]
[null,null,null,null,null,null,null,null,0,0,0,null,null,null,0,{"$f":"IF(Inventory[[#This Row],[Item SKU/ID]]=\"\",0,SUMPRODUCT((Quantity_Sold_1=Inventory[[#This Row],[Item SKU/ID]])*Net_Profit))","v":0},{"$f":"IFERROR(AVERAGE(Inventory[[#This Row],[Total Net Profit]]/Inventory[[#This Row],[Quantity Sold]]),0)","v":0}]
[null,null,null,null,null,null,null,null,0,0,0,null,null,null,0,{"$f":"IF(Inventory[[#This Row],[Item SKU/ID]]=\"\",0,SUMPRODUCT((Quantity_Sold_1=Inventory[[#This Row],[Item SKU/ID]])*Net_Profit))","v":0},{"$f":"IFERROR(AVERAGE(Inventory[[#This Row],[Total Net Profit]]/Inventory[[#This Row],[Quantity Sold]]),0)","v":0}]
[null,null,null,null,null,null,null,null,0,0,0,null,null,null,0,{"$f":"IF(Inventory[[#This Row],[Item SKU/ID]]=\"\",0,SUMPRODUCT((Quantity_Sold_1=Inventory[[#This Row],[Item SKU/ID]])*Net_Profit))","v":0},{"$f":"IFERROR(AVERAGE(Inventory[[#This Row],[Total Net Profit]]/Inventory[[#This Row],[Quantity Sold]]),0)","v":0}]
[null,null,null,null,null,null,null,null,0,0,0,null,null,null,0,{"$f":"IF(Inventory[[#This Row],[Item SKU/ID]]=\"\",0,SUMPRODUCT((Quantity_Sold_1=Inventory[[#This Row],[Item SKU/ID]])*Net_Profit))","v":0},{"$f":"IFERROR(AVERAGE(Inventory[[#This Row],[Total Net Profit]]/Inventory[[#This Row],[Quantity Sold]]),0)","v":0}]
[null,null,null,null,null,null,null,null,0,0,0,null,null,null,0,{"$f":"IF(Inventory[[#This Row],[Item SKU/ID]]=\"\",0,SUMPRODUCT((Quantity_Sold_1=Inventory[[#This Row],[Item SKU/ID]])*Net_Profit))","v":0},{"$f":"IFERROR(AVERAGE(Inventory[[#This Row],[Total Net Profit]]/Inventory[[#This Row],[Quantity Sold]]),0)","v":0}]
[null,null,null,null,null,null,null,null,0,0,0,null,null,null,0,{"$f":"IF(Inventory[[#This Row],[Item SKU/ID]]=\"\",0,SUMPRODUCT((Quantity_Sold_1=Inventory[[#This Row],[Item SKU/ID]])*Net_Profit))","v":0},{"$f":"IFERROR(AVERAGE(Inventory[[#This Row],[Total Net Profit]]/Inventory[[#This Row],[Quantity Sold]]),0)","v":0}]
[null,null,null,null,null,null,null,null,0,0,0,null,null,null,0,{"$f":"IF(Inventory[[#This Row],[Item SKU/ID]]=\"\",0,SUMPRODUCT((Quantity_Sold_1=Inventory[[#This Row],[Item SKU/ID]])*Net_Profit))","v":0},{"$f":"IFERROR(AVERAGE(Inventory[[#This Row],[Total Net Profit]]/Inventory[[#This Row],[Quantity Sold]]),0)","v":0}]
[null,null,null,null,null,null,null,null,0,0,0,null,null,null,0,{"$f":"IF(Inventory[[#This Row],[Item SKU/ID]]=\"\",0,SUMPRODUCT((Quantity_Sold_1=Inventory[[#This Row],[Item SKU/ID]])*Net_Profit))","v":0},{"$f":"IFERROR(AVERAGE(Inventory[[#This Row],[Total Net Profit]]/Inventory[[#This Row],[Quantity Sold]]),0)","v":0}]
[null,null,null,null,null,null,null,null,0,0,0,null,null,null,0,{"$f":"IF(Inventory[[#This Row],[Item SKU/ID]]=\"\",0,SUMPRODUCT((Quantity_Sold_1=Inventory[[#This Row],[Item SKU/ID]])*Net_Profit))","v":0},{"$f":"IFERROR(AVERAGE(Inventory[[#This Row],[Total Net Profit]]/Inventory[[#This Row],[Quantity Sold]]),0)","v":0}]
[null,null,null,null,null,null,null,null,0,0,0,null,null,null,0,{"$f":"IF(Inventory[[#This Row],[Item SKU/ID]]=\"\",0,SUMPRODUCT((Quantity_Sold_1=Inventory[[#This Row],[Item SKU/ID]])*Net_Profit))","v":0},{"$f":"IFERROR(AVERAGE(Inventory[[#This Row],[Total Net Profit]]/Inventory[[#This Row],[Quantity Sold]]),0)","v":0}]
[null,null,null,null,null,null,null,null,0,0,0,null,null,null,0,{"$f":"IF(Inventory[[#This Row],[Item SKU/ID]]=\"\",0,SUMPRODUCT((Quantity_Sold_1=Inventory[[#This Row],[Item SKU/ID]])*Net_Profit))","v":0},{"$f":"IFERROR(AVERAGE(Inventory[[#This Row],[Total Net Profit]]/Inventory[[#This Row],[Quantity Sold]]),0)","v":0}]
[null,null,null,null,null,null,null,null,0,0,0,null,null,null,0,{"$f":"IF(Inventory[[#This Row],[Item SKU/ID]]=\"\",0,SUMPRODUCT((Quantity_Sold_1=Inventory[[#This Row],[Item SKU/ID]])*Net_Profit))","v":0},{"$f":"IFERROR(AVERAGE(Inventory[[#This Row],[Total Net Profit]]/Inventory[[#This Row],[Quantity Sold]]),0)","v":0}]
[null,null,null,null,null,null,null,null,0,0,0,null,null,null,0,{"$f":"IF(Inventory[[#This Row],[Item SKU/ID]]=\"\",0,SUMPRODUCT((Quantity_Sold_1=Inventory[[#This Row],[Item SKU/ID]])*Net_Profit))","v":0},{"$f":"IFERROR(AVERAGE(Inventory[[#This Row],[Total Net Profit]]/Inventory[[#This Row],[Quantity Sold]]),0)","v":0}]
[null,null,null,null,null,null,null,null,0,0,0,null,null,null,0,{"$f":"IF(Inventory[[#This Row],[Item SKU/ID]]=\"\",0,SUMPRODUCT((Quantity_Sold_1=Inventory[[#This Row],[Item SKU/ID]])*Net_Profit))","v":0},{"$f":"IFERROR(AVERAGE(Inventory[[#This Row],[Total Net Profit]]/Inventory[[#This Row],[Quantity Sold]]),0)","v":0}]
[null,null,null,null,null,null,null,null,0,0,0,null,null,null,0,{"$f":"IF(Inventory[[#This Row],[Item SKU/ID]]=\"\",0,SUMPRODUCT((Quantity_Sold_1=Inventory[[#This Row],[Item SKU/ID]])*Net_Profit))","v":0},{"$f":"IFERROR(AVERAGE(Inventory[[#This Row],[Total Net Profit]]/Inventory[[#This Row],[Quantity Sold]]),0)","v":0}]
[null,null,null,null,null,null,null,null,0,0,0,null,null,null,0,{"$f":"IF(Inventory[[#This Row],[Item SKU/ID]]=\"\",0,SUMPRODUCT((Quantity_Sold_1=Inventory[[#This Row],[Item SKU/ID]])*Net_Profit))","v":0},{"$f":"IFERROR(AVERAGE(Inventory[[#This Row],[Total Net Profit]]/Inventory[[#This Row],[Quantity Sold]]),0)","v":0}]
[null,null,null,null,null,null,null,null,0,0,0,null,null,null,0,{"$f":"IF(Inventory[[#This Row],[Item SKU/ID]]=\"\",0,SUMPRODUCT((Quantity_Sold_1=Inventory[[#This Row],[Item SKU/ID]])*Net_Profit))","v":0},{"$f":"IFERROR(AVERAGE(Inventory[[#This Row],[Total Net Profit]]/Inventory[[#This Row],[Quantity Sold]]),0)","v":0}]
[null,null,null,null,null,null,null,null,0,0,0,null,null,null,0,{"$f":"IF(Inventory[[#This Row],[Item SKU/ID]]=\"\",0,SUMPRODUCT((Quantity_Sold_1=Inventory[[#This Row],[Item SKU/ID]])*Net_Profit))","v":0},{"$f":"IFERROR(AVERAGE(Inventory[[#This Row],[Total Net Profit]]/Inventory[[#This Row],[Quantity Sold]]),0)","v":0}]
[null,null,null,null,null,null,null,null,0,0,0,null,null,null,0,{"$f":"IF(Inventory[[#This Row],[Item SKU/ID]]=\"\",0,SUMPRODUCT((Quantity_Sold_1=Inventory[[#This Row],[Item SKU/ID]])*Net_Profit))","v":0},{"$f":"IFERROR(AVERAGE(Inventory[[#This Row],[Total Net Profit]]/Inventory[[#This Row],[Quantity Sold]]),0)","v":0}]
[null,null,null,null,null,null,null,null,0,0,0,null,null,null,0,{"$f":"IF(Inventory[[#This Row],[Item SKU/ID]]=\"\",0,SUMPRODUCT((Quantity_Sold_1=Inventory[[#This Row],[Item SKU/ID]])*Net_Profit))","v":0},{"$f":"IFERROR(AVERAGE(Inventory[[#This Row],[Total Net Profit]]/Inventory[[#This Row],[Quantity Sold]]),0)","v":0}]
[null,null,null,null,null,null,null,null,0,0,0,null,null,null,0,{"$f":"IF(Inventory[[#This Row],[Item SKU/ID]]=\"\",0,SUMPRODUCT((Quantity_Sold_1=Inventory[[#This Row],[Item SKU/ID]])*Net_Profit))","v":0},{"$f":"IFERROR(AVERAGE(Inventory[[#This Row],[Total Net Profit]]/Inventory[[#This Row],[Quantity Sold]]),0)","v":0}]
[null,null,null,null,null,null,null,null,0,0,0,null,null,null,0,{"$f":"IF(Inventory[[#This Row],[Item SKU/ID]]=\"\",0,SUMPRODUCT((Quantity_Sold_1=Inventory[[#This Row],[Item SKU/ID]])*Net_Profit))","v":0},{"$f":"IFERROR(AVERAGE(Inventory[[#This Row],[Total Net Profit]]/Inventory[[#This Row],[Quantity Sold]]),0)","v":0}]
[null,null,null,null,null,null,null,null,0,0,0,null,null,null,0,{"$f":"IF(Inventory[[#This Row],[Item SKU/ID]]=\"\",0,SUMPRODUCT((Quantity_Sold_1=Inventory[[#This Row],[Item SKU/ID]])*Net_Profit))","v":0},{"$f":"IFERROR(AVERAGE(Inventory[[#This Row],[Total Net Profit]]/Inventory[[#This Row],[Quantity Sold]]),0)","v":0}]
[null,null,null,null,null,null,null,null,0,0,0,null,null,null,0,{"$f":"IF(Inventory[[#This Row],[Item SKU/ID]]=\"\",0,SUMPRODUCT((Quantity_Sold_1=Inventory[[#This Row],[Item SKU/ID]])*Net_Profit))","v":0},{"$f":"IFERROR(AVERAGE(Inventory[[#This Row],[Total Net Profit]]/Inventory[[#This Row],[Quantity Sold]]),0)","v":0}]
[null,null,null,null,null,null,null,null,0,0,0,null,null,null,0,{"$f":"IF(Inventory[[#This Row],[Item SKU/ID]]=\"\",0,SUMPRODUCT((Quantity_Sold_1=Inventory[[#This Row],[Item SKU/ID]])*Net_Profit))","v":0},{"$f":"IFERROR(AVERAGE(Inventory[[#This Row],[Total Net Profit]]/Inventory[[#This Row],[Quantity Sold]]),0)","v":0}]
[null,null,null,null,null,null,null,null,0,0,0,null,null,null,0,{"$f":"IF(Inventory[[#This Row],[Item SKU/ID]]=\"\",0,SUMPRODUCT((Quantity_Sold_1=Inventory[[#This Row],[Item SKU/ID]])*Net_Profit))","v":0},{"$f":"IFERROR(AVERAGE(Inventory[[#This Row],[Total Net Profit]]/Inventory[[#This Row],[Quantity Sold]]),0)","v":0}]
[null,null,null,null,null,null,null,null,0,0,0,null,null,null,0,{"$f":"IF(Inventory[[#This Row],[Item SKU/ID]]=\"\",0,SUMPRODUCT((Quantity_Sold_1=Inventory[[#This Row],[Item SKU/ID]])*Net_Profit))","v":0},{"$f":"IFERROR(AVERAGE(Inventory[[#This Row],[Total Net Profit]]/Inventory[[#This Row],[Quantity Sold]]),0)","v":0}]
[null,null,null,null,null,null,null,null,0,0,0,null,null,null,0,{"$f":"IF(Inventory[[#This Row],[Item SKU/ID]]=\"\",0,SUMPRODUCT((Quantity_Sold_1=Inventory[[#This Row],[Item SKU/ID]])*Net_Profit))","v":0},{"$f":"IFERROR(AVERAGE(Inventory[[#This Row],[Total Net Profit]]/Inventory[[#This Row],[Quantity Sold]]),0)","v":0}]
[null,null,null,null,null,null,null,null,0,0,0,null,null,null,0,{"$f":"IF(Inventory[[#This Row],[Item SKU/ID]]=\"\",0,SUMPRODUCT((Quantity_Sold_1=Inventory[[#This Row],[Item SKU/ID]])*Net_Profit))","v":0},{"$f":"IFERROR(AVERAGE(Inventory[[#This Row],[Total Net Profit]]/Inventory[[#This Row],[Quantity Sold]]),0)","v":0}]
[null,null,null,null,null,null,null,null,0,0,0,null,null,null,0,{"$f":"IF(Inventory[[#This Row],[Item SKU/ID]]=\"\",0,SUMPRODUCT((Quantity_Sold_1=Inventory[[#This Row],[Item SKU/ID]])*Net_Profit))","v":0},{"$f":"IFERROR(AVERAGE(Inventory[[#This Row],[Total Net Profit]]/Inventory[[#This Row],[Quantity Sold]]),0)","v":0}]
[null,null,null,null,null,null,null,null,0,0,0,null,null,null,0,{"$f":"IF(Inventory[[#This Row],[Item SKU/ID]]=\"\",0,SUMPRODUCT((Quantity_Sold_1=Inventory[[#This Row],[Item SKU/ID]])*Net_Profit))","v":0},{"$f":"IFERROR(AVERAGE(Inventory[[#This Row],[Total Net Profit]]/Inventory[[#This Row],[Quantity Sold]]),0)","v":0}]
[null,null,null,null,null,null,null,null,0,0,0,null,null,null,0,{"$f":"IF(Inventory[[#This Row],[Item SKU/ID]]=\"\",0,SUMPRODUCT((Quantity_Sold_1=Inventory[[#This Row],[Item SKU/ID]])*Net_Profit))","v":0},{"$f":"IFERROR(AVERAGE(Inventory[[#This Row],[Total Net Profit]]/Inventory[[#This Row],[Quantity Sold]]),0)","v":0}]
[null,null,null,null,null,null,null,null,0,0,0,null,null,null,0,{"$f":"IF(Inventory[[#This Row],[Item SKU/ID]]=\"\",0,SUMPRODUCT((Quantity_Sold_1=Inventory[[#This Row],[Item SKU/ID]])*Net_Profit))","v":0},{"$f":"IFERROR(AVERAGE(Inventory[[#This Row],[Total Net Profit]]/Inventory[[#This Row],[Quantity Sold]]),0)","v":0}]
[null,null,null,null,null,null,null,null,0,0,0,null,null,null,0,{"$f":"IF(Inventory[[#This Row],[Item SKU/ID]]=\"\",0,SUMPRODUCT((Quantity_Sold_1=Inventory[[#This Row],[Item SKU/ID]])*Net_Profit))","v":0},{"$f":"IFERROR(AVERAGE(Inventory[[#This Row],[Total Net Profit]]/Inventory[[#This Row],[Quantity Sold]]),0)","v":0}]
[null,null,null,null,null,null,null,null,0,0,0,null,null,null,0,{"$f":"IF(Inventory[[#This Row],[Item SKU/ID]]=\"\",0,SUMPRODUCT((Quantity_Sold_1=Inventory[[#This Row],[Item SKU/ID]])*Net_Profit))","v":0},{"$f":"IFERROR(AVERAGE(Inventory[[#This Row],[Total Net Profit]]/Inventory[[#This Row],[Quantity Sold]]),0)","v":0}]
[null,null,null,null,null,null,null,null,0,0,0,null,null,null,0,{"$f":"IF(Inventory[[#This Row],[Item SKU/ID]]=\"\",0,SUMPRODUCT((Quantity_Sold_1=Inventory[[#This Row],[Item SKU/ID]])*Net_Profit))","v":0},{"$f":"IFERROR(AVERAGE(Inventory[[#This Row],[Total Net Profit]]/Inventory[[#This Row],[Quantity Sold]]),0)","v":0}]
[null,null,null,null,null,null,null,null,0,0,0,null,null,null,0,{"$f":"IF(Inventory[[#This Row],[Item SKU/ID]]=\"\",0,SUMPRODUCT((Quantity_Sold_1=Inventory[[#This Row],[Item SKU/ID]])*Net_Profit))","v":0},{"$f":"IFERROR(AVERAGE(Inventory[[#This Row],[Total Net Profit]]/Inventory[[#This Row],[Quantity Sold]]),0)","v":0}]
[null,null,null,null,null,null,null,null,0,0,0,null,null,null,0,{"$f":"IF(Inventory[[#This Row],[Item SKU/ID]]=\"\",0,SUMPRODUCT((Quantity_Sold_1=Inventory[[#This Row],[Item SKU/ID]])*Net_Profit))","v":0},{"$f":"IFERROR(AVERAGE(Inventory[[#This Row],[Total Net Profit]]/Inventory[[#This Row],[Quantity Sold]]),0)","v":0}]
[null,null,null,null,null,null,null,null,0,0,0,null,null,null,0,{"$f":"IF(Inventory[[#This Row],[Item SKU/ID]]=\"\",0,SUMPRODUCT((Quantity_Sold_1=Inventory[[#This Row],[Item SKU/ID]])*Net_Profit))","v":0},{"$f":"IFERROR(AVERAGE(Inventory[[#This Row],[Total Net Profit]]/Inventory[[#This Row],[Quantity Sold]]),0)","v":0}]
[null,null,null,null,null,null,null,null,0,0,0,null,null,null,0,{"$f":"IF(Inventory[[#This Row],[Item SKU/ID]]=\"\",0,SUMPRODUCT((Quantity_Sold_1=Inventory[[#This Row],[Item SKU/ID]])*Net_Profit))","v":0},{"$f":"IFERROR(AVERAGE(Inventory[[#This Row],[Total Net Profit]]/Inventory[[#This Row],[Quantity Sold]]),0)","v":0}]
[null,null,null,null,null,null,null,null,0,0,0,null,null,null,0,{"$f":"IF(Inventory[[#This Row],[Item SKU/ID]]=\"\",0,SUMPRODUCT((Quantity_Sold_1=Inventory[[#This Row],[Item SKU/ID]])*Net_Profit))","v":0},{"$f":"IFERROR(AVERAGE(Inventory[[#This Row],[Total Net Profit]]/Inventory[[#This Row],[Quantity Sold]]),0)","v":0}]
[null,null,null,null,null,null,null,null,0,0,0,null,null,null,0,{"$f":"IF(Inventory[[#This Row],[Item SKU/ID]]=\"\",0,SUMPRODUCT((Quantity_Sold_1=Inventory[[#This Row],[Item SKU/ID]])*Net_Profit))","v":0},{"$f":"IFERROR(AVERAGE(Inventory[[#This Row],[Total Net Profit]]/Inventory[[#This Row],[Quantity Sold]]),0)","v":0}]
[null,null,null,null,null,null,null,null,0,0,0,null,null,null,0,{"$f":"IF(Inventory[[#This Row],[Item SKU/ID]]=\"\",0,SUMPRODUCT((Quantity_Sold_1=Inventory[[#This Row],[Item SKU/ID]])*Net_Profit))","v":0},{"$f":"IFERROR(AVERAGE(Inventory[[#This Row],[Total Net Profit]]/Inventory[[#This Row],[Quantity Sold]]),0)","v":0}]
[null,null,null,null,null,null,null,null,0,0,0,null,null,null,0,{"$f":"IF(Inventory[[#This Row],[Item SKU/ID]]=\"\",0,SUMPRODUCT((Quantity_Sold_1=Inventory[[#This Row],[Item SKU/ID]])*Net_Profit))","v":0},{"$f":"IFERROR(AVERAGE(Inventory[[#This Row],[Total Net Profit]]/Inventory[[#This Row],[Quantity Sold]]),0)","v":0}]
[null,null,null,null,null,null,null,null,{"$f":"K196*H196","v":0},{"$f":"IF(F196=\"\",0,SUMPRODUCT((Quantity_Sold_1=F196)*Quantity_Sold_2))","v":0},{"$f":"G196-J196","v":0},null,null,null,{"$f":"K196*H196","v":0},{"$f":"IF(Inventory[[#This Row],[Item SKU/ID]]=\"\",0,SUMPRODUCT((Quantity_Sold_1=Inventory[[#This Row],[Item SKU/ID]])*Net_Profit))","v":0},{"$f":"IFERROR(AVERAGE(Inventory[[#This Row],[Total Net Profit]]/Inventory[[#This Row],[Quantity Sold]]),0)","v":0}]
[null,null,null,null,null,null,null,null,0,0,0,null,null,null,0,{"$f":"IF(Inventory[[#This Row],[Item SKU/ID]]=\"\",0,SUMPRODUCT((Quantity_Sold_1=Inventory[[#This Row],[Item SKU/ID]])*Net_Profit))","v":0},{"$f":"IFERROR(AVERAGE(Inventory[[#This Row],[Total Net Profit]]/Inventory[[#This Row],[Quantity Sold]]),0)","v":0}]
[null,null,null,null,null,null,null,null,0,0,0,null,null,null,0,{"$f":"IF(Inventory[[#This Row],[Item SKU/ID]]=\"\",0,SUMPRODUCT((Quantity_Sold_1=Inventory[[#This Row],[Item SKU/ID]])*Net_Profit))","v":0},{"$f":"IFERROR(AVERAGE(Inventory[[#This Row],[Total Net Profit]]/Inventory[[#This Row],[Quantity Sold]]),0)","v":0}]
[null,null,null,null,null,null,null,null,0,0,0,null,null,null,0,{"$f":"IF(Inventory[[#This Row],[Item SKU/ID]]=\"\",0,SUMPRODUCT((Quantity_Sold_1=Inventory[[#This Row],[Item SKU/ID]])*Net_Profit))","v":0},{"$f":"IFERROR(AVERAGE(Inventory[[#This Row],[Total Net Profit]]/Inventory[[#This Row],[Quantity Sold]]),0)","v":0}]
[null,null,null,null,null,null,null,null,0,0,0,null,null,null,0,{"$f":"IF(Inventory[[#This Row],[Item SKU/ID]]=\"\",0,SUMPRODUCT((Quantity_Sold_1=Inventory[[#This Row],[Item SKU/ID]])*Net_Profit))","v":0},{"$f":"IFERROR(AVERAGE(Inventory[[#This Row],[Total Net Profit]]/Inventory[[#This Row],[Quantity Sold]]),0)","v":0}]
[null,null,null,null,null,null,null,null,0,0,0,null,null,null,0,{"$f":"IF(Inventory[[#This Row],[Item SKU/ID]]=\"\",0,SUMPRODUCT((Quantity_Sold_1=Inventory[[#This Row],[Item SKU/ID]])*Net_Profit))","v":0},{"$f":"IFERROR(AVERAGE(Inventory[[#This Row],[Total Net Profit]]/Inventory[[#This Row],[Quantity Sold]]),0)","v":0}]
[null,null,null,null,null,null,null,null,0,0,0,null,null,null,0,{"$f":"IF(Inventory[[#This Row],[Item SKU/ID]]=\"\",0,SUMPRODUCT((Quantity_Sold_1=Inventory[[#This Row],[Item SKU/ID]])*Net_Profit))","v":0},{"$f":"IFERROR(AVERAGE(Inventory[[#This Row],[Total Net Profit]]/Inventory[[#This Row],[Quantity Sold]]),0)","v":0}]
[null,null,null,null,null,null,null,null,0,0,0,null,null,null,0,{"$f":"IF(Inventory[[#This Row],[Item SKU/ID]]=\"\",0,SUMPRODUCT((Quantity_Sold_1=Inventory[[#This Row],[Item SKU/ID]])*Net_Profit))","v":0},{"$f":"IFERROR(AVERAGE(Inventory[[#This Row],[Total Net Profit]]/Inventory[[#This Row],[Quantity Sold]]),0)","v":0}]
[null,null,null,null,null,null,null,null,0,0,0,null,null,null,0,{"$f":"IF(Inventory[[#This Row],[Item SKU/ID]]=\"\",0,SUMPRODUCT((Quantity_Sold_1=Inventory[[#This Row],[Item SKU/ID]])*Net_Profit))","v":0},{"$f":"IFERROR(AVERAGE(Inventory[[#This Row],[Total Net Profit]]/Inventory[[#This Row],[Quantity Sold]]),0)","v":0}]
[null,null,null,null,null,null,null,null,0,0,0,null,null,null,0,{"$f":"IF(Inventory[[#This Row],[Item SKU/ID]]=\"\",0,SUMPRODUCT((Quantity_Sold_1=Inventory[[#This Row],[Item SKU/ID]])*Net_Profit))","v":0},{"$f":"IFERROR(AVERAGE(Inventory[[#This Row],[Total Net Profit]]/Inventory[[#This Row],[Quantity Sold]]),0)","v":0}]
[null,null,null,null,null,null,null,null,0,0,0,null,null,null,0,{"$f":"IF(Inventory[[#This Row],[Item SKU/ID]]=\"\",0,SUMPRODUCT((Quantity_Sold_1=Inventory[[#This Row],[Item SKU/ID]])*Net_Profit))","v":0},{"$f":"IFERROR(AVERAGE(Inventory[[#This Row],[Total Net Profit]]/Inventory[[#This Row],[Quantity Sold]]),0)","v":0}]
[null,null,null,null,null,null,null,null,0,0,0,null,null,null,0,{"$f":"IF(Inventory[[#This Row],[Item SKU/ID]]=\"\",0,SUMPRODUCT((Quantity_Sold_1=Inventory[[#This Row],[Item SKU/ID]])*Net_Profit))","v":0},{"$f":"IFERROR(AVERAGE(Inventory[[#This Row],[Total Net Profit]]/Inventory[[#This Row],[Quantity Sold]]),0)","v":0}]
[null,null,null,null,null,null,null,null,0,0,0,null,null,null,0,{"$f":"IF(Inventory[[#This Row],[Item SKU/ID]]=\"\",0,SUMPRODUCT((Quantity_Sold_1=Inventory[[#This Row],[Item SKU/ID]])*Net_Profit))","v":0},{"$f":"IFERROR(AVERAGE(Inventory[[#This Row],[Total Net Profit]]/Inventory[[#This Row],[Quantity Sold]]),0)","v":0}]
[null,null,null,null,null,null,null,null,0,0,0,null,null,null,0,{"$f":"IF(Inventory[[#This Row],[Item SKU/ID]]=\"\",0,SUMPRODUCT((Quantity_Sold_1=Inventory[[#This Row],[Item SKU/ID]])*Net_Profit))","v":0},{"$f":"IFERROR(AVERAGE(Inventory[[#This Row],[Total Net Profit]]/Inventory[[#This Row],[Quantity Sold]]),0)","v":0}]
[null,null,null,null,null,null,null,null,0,0,0,null,null,null,0,{"$f":"IF(Inventory[[#This Row],[Item SKU/ID]]=\"\",0,SUMPRODUCT((Quantity_Sold_1=Inventory[[#This Row],[Item SKU/ID]])*Net_Profit))","v":0},{"$f":"IFERROR(AVERAGE(Inventory[[#This Row],[Total Net Profit]]/Inventory[[#This Row],[Quantity Sold]]),0)","v":0}]
[null,null,null,null,null,null,null,null,0,0,0,null,null,null,0,{"$f":"IF(Inventory[[#This Row],[Item SKU/ID]]=\"\",0,SUMPRODUCT((Quantity_Sold_1=Inventory[[#This Row],[Item SKU/ID]])*Net_Profit))","v":0},{"$f":"IFERROR(AVERAGE(Inventory[[#This Row],[Total Net Profit]]/Inventory[[#This Row],[Quantity Sold]]),0)","v":0}]
[null,null,null,null,null,null,null,null,0,0,0,null,null,null,0,{"$f":"IF(Inventory[[#This Row],[Item SKU/ID]]=\"\",0,SUMPRODUCT((Quantity_Sold_1=Inventory[[#This Row],[Item SKU/ID]])*Net_Profit))","v":0},{"$f":"IFERROR(AVERAGE(Inventory[[#This Row],[Total Net Profit]]/Inventory[[#This Row],[Quantity Sold]]),0)","v":0}]
[null,null,null,null,null,null,null,null,0,0,0,null,null,null,0,{"$f":"IF(Inventory[[#This Row],[Item SKU/ID]]=\"\",0,SUMPRODUCT((Quantity_Sold_1=Inventory[[#This Row],[Item SKU/ID]])*Net_Profit))","v":0},{"$f":"IFERROR(AVERAGE(Inventory[[#This Row],[Total Net Profit]]/Inventory[[#This Row],[Quantity Sold]]),0)","v":0}]
[null,null,null,null,null,null,null,null,0,0,0,null,null,null,0,{"$f":"IF(Inventory[[#This Row],[Item SKU/ID]]=\"\",0,SUMPRODUCT((Quantity_Sold_1=Inventory[[#This Row],[Item SKU/ID]])*Net_Profit))","v":0},{"$f":"IFERROR(AVERAGE(Inventory[[#This Row],[Total Net Profit]]/Inventory[[#This Row],[Quantity Sold]]),0)","v":0}]
[null,null,null,null,null,null,null,null,0,0,0,null,null,null,0,{"$f":"IF(Inventory[[#This Row],[Item SKU/ID]]=\"\",0,SUMPRODUCT((Quantity_Sold_1=Inventory[[#This Row],[Item SKU/ID]])*Net_Profit))","v":0},{"$f":"IFERROR(AVERAGE(Inventory[[#This Row],[Total Net Profit]]/Inventory[[#This Row],[Quantity Sold]]),0)","v":0}]
[null,null,null,null,null,null,null,null,0,0,0,null,null,null,0,{"$f":"IF(Inventory[[#This Row],[Item SKU/ID]]=\"\",0,SUMPRODUCT((Quantity_Sold_1=Inventory[[#This Row],[Item SKU/ID]])*Net_Profit))","v":0},{"$f":"IFERROR(AVERAGE(Inventory[[#This Row],[Total Net Profit]]/Inventory[[#This Row],[Quantity Sold]]),0)","v":0}]
[null,null,null,null,null,null,null,null,0,0,0,null,null,null,0,{"$f":"IF(Inventory[[#This Row],[Item SKU/ID]]=\"\",0,SUMPRODUCT((Quantity_Sold_1=Inventory[[#This Row],[Item SKU/ID]])*Net_Profit))","v":0},{"$f":"IFERROR(AVERAGE(Inventory[[#This Row],[Total Net Profit]]/Inventory[[#This Row],[Quantity Sold]]),0)","v":0}]
[null,null,null,null,null,null,null,null,0,0,0,null,null,null,0,{"$f":"IF(Inventory[[#This Row],[Item SKU/ID]]=\"\",0,SUMPRODUCT((Quantity_Sold_1=Inventory[[#This Row],[Item SKU/ID]])*Net_Profit))","v":0},{"$f":"IFERROR(AVERAGE(Inventory[[#This Row],[Total Net Profit]]/Inventory[[#This Row],[Quantity Sold]]),0)","v":0}]
[null,null,null,null,null,null,null,null,0,0,0,null,null,null,0,{"$f":"IF(Inventory[[#This Row],[Item SKU/ID]]=\"\",0,SUMPRODUCT((Quantity_Sold_1=Inventory[[#This Row],[Item SKU/ID]])*Net_Profit))","v":0},{"$f":"IFERROR(AVERAGE(Inventory[[#This Row],[Total Net Profit]]/Inventory[[#This Row],[Quantity Sold]]),0)","v":0}]
[null,null,null,null,null,null,null,null,0,0,0,null,null,null,0,{"$f":"IF(Inventory[[#This Row],[Item SKU/ID]]=\"\",0,SUMPRODUCT((Quantity_Sold_1=Inventory[[#This Row],[Item SKU/ID]])*Net_Profit))","v":0},{"$f":"IFERROR(AVERAGE(Inventory[[#This Row],[Total Net Profit]]/Inventory[[#This Row],[Quantity Sold]]),0)","v":0}]
[null,null,null,null,null,null,null,null,0,0,0,null,null,null,0,{"$f":"IF(Inventory[[#This Row],[Item SKU/ID]]=\"\",0,SUMPRODUCT((Quantity_Sold_1=Inventory[[#This Row],[Item SKU/ID]])*Net_Profit))","v":0},{"$f":"IFERROR(AVERAGE(Inventory[[#This Row],[Total Net Profit]]/Inventory[[#This Row],[Quantity Sold]]),0)","v":0}]
[null,null,null,null,null,null,null,null,0,0,0,null,null,null,0,{"$f":"IF(Inventory[[#This Row],[Item SKU/ID]]=\"\",0,SUMPRODUCT((Quantity_Sold_1=Inventory[[#This Row],[Item SKU/ID]])*Net_Profit))","v":0},{"$f":"IFERROR(AVERAGE(Inventory[[#This Row],[Total Net Profit]]/Inventory[[#This Row],[Quantity Sold]]),0)","v":0}]
[null,null,null,null,null,null,null,null,0,0,0,null,null,null,0,{"$f":"IF(Inventory[[#This Row],[Item SKU/ID]]=\"\",0,SUMPRODUCT((Quantity_Sold_1=Inventory[[#This Row],[Item SKU/ID]])*Net_Profit))","v":0},{"$f":"IFERROR(AVERAGE(Inventory[[#This Row],[Total Net Profit]]/Inventory[[#This Row],[Quantity Sold]]),0)","v":0}]
[null,null,null,null,null,null,null,null,0,0,0,null,null,null,0,{"$f":"IF(Inventory[[#This Row],[Item SKU/ID]]=\"\",0,SUMPRODUCT((Quantity_Sold_1=Inventory[[#This Row],[Item SKU/ID]])*Net_Profit))","v":0},{"$f":"IFERROR(AVERAGE(Inventory[[#This Row],[Total Net Profit]]/Inventory[[#This Row],[Quantity Sold]]),0)","v":0}]
[null,null,null,null,null,null,null,null,0,0,0,null,null,null,0,{"$f":"IF(Inventory[[#This Row],[Item SKU/ID]]=\"\",0,SUMPRODUCT((Quantity_Sold_1=Inventory[[#This Row],[Item SKU/ID]])*Net_Profit))","v":0},{"$f":"IFERROR(AVERAGE(Inventory[[#This Row],[Total Net Profit]]/Inventory[[#This Row],[Quantity Sold]]),0)","v":0}]
[null,null,null,null,null,null,null,null,0,0,0,null,null,null,0,{"$f":"IF(Inventory[[#This Row],[Item SKU/ID]]=\"\",0,SUMPRODUCT((Quantity_Sold_1=Inventory[[#This Row],[Item SKU/ID]])*Net_Profit))","v":0},{"$f":"IFERROR(AVERAGE(Inventory[[#This Row],[Total Net Profit]]/Inventory[[#This Row],[Quantity Sold]]),0)","v":0}]
[null,null,null,null,null,null,null,null,0,0,0,null,null,null,0,{"$f":"IF(Inventory[[#This Row],[Item SKU/ID]]=\"\",0,SUMPRODUCT((Quantity_Sold_1=Inventory[[#This Row],[Item SKU/ID]])*Net_Profit))","v":0},{"$f":"IFERROR(AVERAGE(Inventory[[#This Row],[Total Net Profit]]/Inventory[[#This Row],[Quantity Sold]]),0)","v":0}]
[null,null,null,null,null,null,null,null,0,0,0,null,null,null,0,{"$f":"IF(Inventory[[#This Row],[Item SKU/ID]]=\"\",0,SUMPRODUCT((Quantity_Sold_1=Inventory[[#This Row],[Item SKU/ID]])*Net_Profit))","v":0},{"$f":"IFERROR(AVERAGE(Inventory[[#This Row],[Total Net Profit]]/Inventory[[#This Row],[Quantity Sold]]),0)","v":0}]
[null,null,null,null,null,null,null,null,0,0,0,null,null,null,0,{"$f":"IF(Inventory[[#This Row],[Item SKU/ID]]=\"\",0,SUMPRODUCT((Quantity_Sold_1=Inventory[[#This Row],[Item SKU/ID]])*Net_Profit))","v":0},{"$f":"IFERROR(AVERAGE(Inventory[[#This Row],[Total Net Profit]]/Inventory[[#This Row],[Quantity Sold]]),0)","v":0}]
[null,null,null,null,null,null,null,null,0,0,0,null,null,null,0,{"$f":"IF(Inventory[[#This Row],[Item SKU/ID]]=\"\",0,SUMPRODUCT((Quantity_Sold_1=Inventory[[#This Row],[Item SKU/ID]])*Net_Profit))","v":0},{"$f":"IFERROR(AVERAGE(Inventory[[#This Row],[Total Net Profit]]/Inventory[[#This Row],[Quantity Sold]]),0)","v":0}]
[null,null,null,null,null,null,null,null,0,0,0,null,null,null,0,{"$f":"IF(Inventory[[#This Row],[Item SKU/ID]]=\"\",0,SUMPRODUCT((Quantity_Sold_1=Inventory[[#This Row],[Item SKU/ID]])*Net_Profit))","v":0},{"$f":"IFERROR(AVERAGE(Inventory[[#This Row],[Total Net Profit]]/Inventory[[#This Row],[Quantity Sold]]),0)","v":0}]
[null,null,null,null,null,null,null,null,0,0,0,null,null,null,0,{"$f":"IF(Inventory[[#This Row],[Item SKU/ID]]=\"\",0,SUMPRODUCT((Quantity_Sold_1=Inventory[[#This Row],[Item SKU/ID]])*Net_Profit))","v":0},{"$f":"IFERROR(AVERAGE(Inventory[[#This Row],[Total Net Profit]]/Inventory[[#This Row],[Quantity Sold]]),0)","v":0}]
[null,null,null,null,null,null,null,null,0,0,0,null,null,null,0,{"$f":"IF(Inventory[[#This Row],[Item SKU/ID]]=\"\",0,SUMPRODUCT((Quantity_Sold_1=Inventory[[#This Row],[Item SKU/ID]])*Net_Profit))","v":0},{"$f":"IFERROR(AVERAGE(Inventory[[#This Row],[Total Net Profit]]/Inventory[[#This Row],[Quantity Sold]]),0)","v":0}]
[null,null,null,null,null,null,null,null,0,0,0,null,null,null,0,{"$f":"IF(Inventory[[#This Row],[Item SKU/ID]]=\"\",0,SUMPRODUCT((Quantity_Sold_1=Inventory[[#This Row],[Item SKU/ID]])*Net_Profit))","v":0},{"$f":"IFERROR(AVERAGE(Inventory[[#This Row],[Total Net Profit]]/Inventory[[#This Row],[Quantity Sold]]),0)","v":0}]
[null,null,null,null,null,null,null,null,0,0,0,null,null,null,0,{"$f":"IF(Inventory[[#This Row],[Item SKU/ID]]=\"\",0,SUMPRODUCT((Quantity_Sold_1=Inventory[[#This Row],[Item SKU/ID]])*Net_Profit))","v":0},{"$f":"IFERROR(AVERAGE(Inventory[[#This Row],[Total Net Profit]]/Inventory[[#This Row],[Quantity Sold]]),0)","v":0}]
[null,null,null,null,null,null,null,null,0,0,0,null,null,null,0,{"$f":"IF(Inventory[[#This Row],[Item SKU/ID]]=\"\",0,SUMPRODUCT((Quantity_Sold_1=Inventory[[#This Row],[Item SKU/ID]])*Net_Profit))","v":0},{"$f":"IFERROR(AVERAGE(Inventory[[#This Row],[Total Net Profit]]/Inventory[[#This Row],[Quantity Sold]]),0)","v":0}]
[null,null,null,null,null,null,null,null,0,0,0,null,null,null,0,{"$f":"IF(Inventory[[#This Row],[Item SKU/ID]]=\"\",0,SUMPRODUCT((Quantity_Sold_1=Inventory[[#This Row],[Item SKU/ID]])*Net_Profit))","v":0},{"$f":"IFERROR(AVERAGE(Inventory[[#This Row],[Total Net Profit]]/Inventory[[#This Row],[Quantity Sold]]),0)","v":0}]
[null,null,null,null,null,null,null,null,0,0,0,null,null,null,0,{"$f":"IF(Inventory[[#This Row],[Item SKU/ID]]=\"\",0,SUMPRODUCT((Quantity_Sold_1=Inventory[[#This Row],[Item SKU/ID]])*Net_Profit))","v":0},{"$f":"IFERROR(AVERAGE(Inventory[[#This Row],[Total Net Profit]]/Inventory[[#This Row],[Quantity Sold]]),0)","v":0}]
[null,null,null,null,null,null,null,null,0,0,0,null,null,null,0,{"$f":"IF(Inventory[[#This Row],[Item SKU/ID]]=\"\",0,SUMPRODUCT((Quantity_Sold_1=Inventory[[#This Row],[Item SKU/ID]])*Net_Profit))","v":0},{"$f":"IFERROR(AVERAGE(Inventory[[#This Row],[Total Net Profit]]/Inventory[[#This Row],[Quantity Sold]]),0)","v":0}]
[null,null,null,null,null,null,null,null,0,0,0,null,null,null,0,{"$f":"IF(Inventory[[#This Row],[Item SKU/ID]]=\"\",0,SUMPRODUCT((Quantity_Sold_1=Inventory[[#This Row],[Item SKU/ID]])*Net_Profit))","v":0},{"$f":"IFERROR(AVERAGE(Inventory[[#This Row],[Total Net Profit]]/Inventory[[#This Row],[Quantity Sold]]),0)","v":0}]
[null,null,null,null,null,null,null,null,0,0,0,null,null,null,0,{"$f":"IF(Inventory[[#This Row],[Item SKU/ID]]=\"\",0,SUMPRODUCT((Quantity_Sold_1=Inventory[[#This Row],[Item SKU/ID]])*Net_Profit))","v":0},{"$f":"IFERROR(AVERAGE(Inventory[[#This Row],[Total Net Profit]]/Inventory[[#This Row],[Quantity Sold]]),0)","v":0}]
[null,null,null,null,null,null,null,null,0,0,0,null,null,null,0,{"$f":"IF(Inventory[[#This Row],[Item SKU/ID]]=\"\",0,SUMPRODUCT((Quantity_Sold_1=Inventory[[#This Row],[Item SKU/ID]])*Net_Profit))","v":0},{"$f":"IFERROR(AVERAGE(Inventory[[#This Row],[Total Net Profit]]/Inventory[[#This Row],[Quantity Sold]]),0)","v":0}]
[null,null,null,null,null,null,null,null,0,0,0,null,null,null,0,{"$f":"IF(Inventory[[#This Row],[Item SKU/ID]]=\"\",0,SUMPRODUCT((Quantity_Sold_1=Inventory[[#This Row],[Item SKU/ID]])*Net_Profit))","v":0},{"$f":"IFERROR(AVERAGE(Inventory[[#This Row],[Total Net Profit]]/Inventory[[#This Row],[Quantity Sold]]),0)","v":0}]
[null,null,null,null,null,null,null,null,0,0,0,null,null,null,0,{"$f":"IF(Inventory[[#This Row],[Item SKU/ID]]=\"\",0,SUMPRODUCT((Quantity_Sold_1=Inventory[[#This Row],[Item SKU/ID]])*Net_Profit))","v":0},{"$f":"IFERROR(AVERAGE(Inventory[[#This Row],[Total Net Profit]]/Inventory[[#This Row],[Quantity Sold]]),0)","v":0}]
[null,null,null,null,null,null,null,null,0,0,0,null,null,null,0,{"$f":"IF(Inventory[[#This Row],[Item SKU/ID]]=\"\",0,SUMPRODUCT((Quantity_Sold_1=Inventory[[#This Row],[Item SKU/ID]])*Net_Profit))","v":0},{"$f":"IFERROR(AVERAGE(Inventory[[#This Row],[Total Net Profit]]/Inventory[[#This Row],[Quantity Sold]]),0)","v":0}]
[null,null,null,null,null,null,null,null,0,0,0,null,null,null,0,{"$f":"IF(Inventory[[#This Row],[Item SKU/ID]]=\"\",0,SUMPRODUCT((Quantity_Sold_1=Inventory[[#This Row],[Item SKU/ID]])*Net_Profit))","v":0},{"$f":"IFERROR(AVERAGE(Inventory[[#This Row],[Total Net Profit]]/Inventory[[#This Row],[Quantity Sold]]),0)","v":0}]
[null,null,null,null,null,null,null,null,0,0,0,null,null,null,0,{"$f":"IF(Inventory[[#This Row],[Item SKU/ID]]=\"\",0,SUMPRODUCT((Quantity_Sold_1=Inventory[[#This Row],[Item SKU/ID]])*Net_Profit))","v":0},{"$f":"IFERROR(AVERAGE(Inventory[[#This Row],[Total Net Profit]]/Inventory[[#This Row],[Quantity Sold]]),0)","v":0}]
[null,null,null,null,null,null,null,null,0,0,0,null,null,null,0,{"$f":"IF(Inventory[[#This Row],[Item SKU/ID]]=\"\",0,SUMPRODUCT((Quantity_Sold_1=Inventory[[#This Row],[Item SKU/ID]])*Net_Profit))","v":0},{"$f":"IFERROR(AVERAGE(Inventory[[#This Row],[Total Net Profit]]/Inventory[[#This Row],[Quantity Sold]]),0)","v":0}]
[null,null,null,null,null,null,null,null,0,0,0,null,null,null,0,{"$f":"IF(Inventory[[#This Row],[Item SKU/ID]]=\"\",0,SUMPRODUCT((Quantity_Sold_1=Inventory[[#This Row],[Item SKU/ID]])*Net_Profit))","v":0},{"$f":"IFERROR(AVERAGE(Inventory[[#This Row],[Total Net Profit]]/Inventory[[#This Row],[Quantity Sold]]),0)","v":0}]
[null,null,null,null,null,null,null,null,0,0,0,null,null,null,0,{"$f":"IF(Inventory[[#This Row],[Item SKU/ID]]=\"\",0,SUMPRODUCT((Quantity_Sold_1=Inventory[[#This Row],[Item SKU/ID]])*Net_Profit))","v":0},{"$f":"IFERROR(AVERAGE(Inventory[[#This Row],[Total Net Profit]]/Inventory[[#This Row],[Quantity Sold]]),0)","v":0}]
[null,null,null,null,null,null,null,null,0,0,0,null,null,null,0,{"$f":"IF(Inventory[[#This Row],[Item SKU/ID]]=\"\",0,SUMPRODUCT((Quantity_Sold_1=Inventory[[#This Row],[Item SKU/ID]])*Net_Profit))","v":0},{"$f":"IFERROR(AVERAGE(Inventory[[#This Row],[Total Net Profit]]/Inventory[[#This Row],[Quantity Sold]]),0)","v":0}]
[null,null,null,null,null,null,null,null,0,0,0,null,null,null,0,{"$f":"IF(Inventory[[#This Row],[Item SKU/ID]]=\"\",0,SUMPRODUCT((Quantity_Sold_1=Inventory[[#This Row],[Item SKU/ID]])*Net_Profit))","v":0},{"$f":"IFERROR(AVERAGE(Inventory[[#This Row],[Total Net Profit]]/Inventory[[#This Row],[Quantity Sold]]),0)","v":0}]
[null,null,null,null,null,null,null,null,0,0,0,null,null,null,0,{"$f":"IF(Inventory[[#This Row],[Item SKU/ID]]=\"\",0,SUMPRODUCT((Quantity_Sold_1=Inventory[[#This Row],[Item SKU/ID]])*Net_Profit))","v":0},{"$f":"IFERROR(AVERAGE(Inventory[[#This Row],[Total Net Profit]]/Inventory[[#This Row],[Quantity Sold]]),0)","v":0}]
[null,null,null,null,null,null,null,null,0,0,0,null,null,null,0,{"$f":"IF(Inventory[[#This Row],[Item SKU/ID]]=\"\",0,SUMPRODUCT((Quantity_Sold_1=Inventory[[#This Row],[Item SKU/ID]])*Net_Profit))","v":0},{"$f":"IFERROR(AVERAGE(Inventory[[#This Row],[Total Net Profit]]/Inventory[[#This Row],[Quantity Sold]]),0)","v":0}]
[null,null,null,null,null,null,null,null,0,0,0,null,null,null,0,{"$f":"IF(Inventory[[#This Row],[Item SKU/ID]]=\"\",0,SUMPRODUCT((Quantity_Sold_1=Inventory[[#This Row],[Item SKU/ID]])*Net_Profit))","v":0},{"$f":"IFERROR(AVERAGE(Inventory[[#This Row],[Total Net Profit]]/Inventory[[#This Row],[Quantity Sold]]),0)","v":0}]
[null,null,null,null,null,null,null,null,0,0,0,null,null,null,0,{"$f":"IF(Inventory[[#This Row],[Item SKU/ID]]=\"\",0,SUMPRODUCT((Quantity_Sold_1=Inventory[[#This Row],[Item SKU/ID]])*Net_Profit))","v":0},{"$f":"IFERROR(AVERAGE(Inventory[[#This Row],[Total Net Profit]]/Inventory[[#This Row],[Quantity Sold]]),0)","v":0}]
[null,null,null,null,null,null,null,null,0,0,0,null,null,null,0,{"$f":"IF(Inventory[[#This Row],[Item SKU/ID]]=\"\",0,SUMPRODUCT((Quantity_Sold_1=Inventory[[#This Row],[Item SKU/ID]])*Net_Profit))","v":0},{"$f":"IFERROR(AVERAGE(Inventory[[#This Row],[Total Net Profit]]/Inventory[[#This Row],[Quantity Sold]]),0)","v":0}]
[null,null,null,null,null,null,null,null,0,0,0,null,null,null,0,{"$f":"IF(Inventory[[#This Row],[Item SKU/ID]]=\"\",0,SUMPRODUCT((Quantity_Sold_1=Inventory[[#This Row],[Item SKU/ID]])*Net_Profit))","v":0},{"$f":"IFERROR(AVERAGE(Inventory[[#This Row],[Total Net Profit]]/Inventory[[#This Row],[Quantity Sold]]),0)","v":0}]
[null,null,null,null,null,null,null,null,0,0,0,null,null,null,0,{"$f":"IF(Inventory[[#This Row],[Item SKU/ID]]=\"\",0,SUMPRODUCT((Quantity_Sold_1=Inventory[[#This Row],[Item SKU/ID]])*Net_Profit))","v":0},{"$f":"IFERROR(AVERAGE(Inventory[[#This Row],[Total Net Profit]]/Inventory[[#This Row],[Quantity Sold]]),0)","v":0}]
[null,null,null,null,null,null,null,null,{"$f":"K260*H260","v":0},{"$f":"IF(F260=\"\",0,SUMPRODUCT((Quantity_Sold_1=F260)*Quantity_Sold_2))","v":0},{"$f":"G260-J260","v":0},null,null,null,{"$f":"K260*H260","v":0},{"$f":"IF(Inventory[[#This Row],[Item SKU/ID]]=\"\",0,SUMPRODUCT((Quantity_Sold_1=Inventory[[#This Row],[Item SKU/ID]])*Net_Profit))","v":0},{"$f":"IFERROR(AVERAGE(Inventory[[#This Row],[Total Net Profit]]/Inventory[[#This Row],[Quantity Sold]]),0)","v":0}]
[null,null,null,null,null,null,null,null,0,0,0,null,null,null,0,{"$f":"IF(Inventory[[#This Row],[Item SKU/ID]]=\"\",0,SUMPRODUCT((Quantity_Sold_1=Inventory[[#This Row],[Item SKU/ID]])*Net_Profit))","v":0},{"$f":"IFERROR(AVERAGE(Inventory[[#This Row],[Total Net Profit]]/Inventory[[#This Row],[Quantity Sold]]),0)","v":0}]
[null,null,null,null,null,null,null,null,0,0,0,null,null,null,0,{"$f":"IF(Inventory[[#This Row],[Item SKU/ID]]=\"\",0,SUMPRODUCT((Quantity_Sold_1=Inventory[[#This Row],[Item SKU/ID]])*Net_Profit))","v":0},{"$f":"IFERROR(AVERAGE(Inventory[[#This Row],[Total Net Profit]]/Inventory[[#This Row],[Quantity Sold]]),0)","v":0}]
[null,null,null,null,null,null,null,null,0,0,0,null,null,null,0,{"$f":"IF(Inventory[[#This Row],[Item SKU/ID]]=\"\",0,SUMPRODUCT((Quantity_Sold_1=Inventory[[#This Row],[Item SKU/ID]])*Net_Profit))","v":0},{"$f":"IFERROR(AVERAGE(Inventory[[#This Row],[Total Net Profit]]/Inventory[[#This Row],[Quantity Sold]]),0)","v":0}]
[null,null,null,null,null,null,null,null,0,0,0,null,null,null,0,{"$f":"IF(Inventory[[#This Row],[Item SKU/ID]]=\"\",0,SUMPRODUCT((Quantity_Sold_1=Inventory[[#This Row],[Item SKU/ID]])*Net_Profit))","v":0},{"$f":"IFERROR(AVERAGE(Inventory[[#This Row],[Total Net Profit]]/Inventory[[#This Row],[Quantity Sold]]),0)","v":0}]
[null,null,null,null,null,null,null,null,0,0,0,null,null,null,0,{"$f":"IF(Inventory[[#This Row],[Item SKU/ID]]=\"\",0,SUMPRODUCT((Quantity_Sold_1=Inventory[[#This Row],[Item SKU/ID]])*Net_Profit))","v":0},{"$f":"IFERROR(AVERAGE(Inventory[[#This Row],[Total Net Profit]]/Inventory[[#This Row],[Quantity Sold]]),0)","v":0}]
[null,null,null,null,null,null,null,null,0,0,0,null,null,null,0,{"$f":"IF(Inventory[[#This Row],[Item SKU/ID]]=\"\",0,SUMPRODUCT((Quantity_Sold_1=Inventory[[#This Row],[Item SKU/ID]])*Net_Profit))","v":0},{"$f":"IFERROR(AVERAGE(Inventory[[#This Row],[Total Net Profit]]/Inventory[[#This Row],[Quantity Sold]]),0)","v":0}]
[null,null,null,null,null,null,null,null,0,0,0,null,null,null,0,{"$f":"IF(Inventory[[#This Row],[Item SKU/ID]]=\"\",0,SUMPRODUCT((Quantity_Sold_1=Inventory[[#This Row],[Item SKU/ID]])*Net_Profit))","v":0},{"$f":"IFERROR(AVERAGE(Inventory[[#This Row],[Total Net Profit]]/Inventory[[#This Row],[Quantity Sold]]),0)","v":0}]
[null,null,null,null,null,null,null,null,0,0,0,null,null,null,0,{"$f":"IF(Inventory[[#This Row],[Item SKU/ID]]=\"\",0,SUMPRODUCT((Quantity_Sold_1=Inventory[[#This Row],[Item SKU/ID]])*Net_Profit))","v":0},{"$f":"IFERROR(AVERAGE(Inventory[[#This Row],[Total Net Profit]]/Inventory[[#This Row],[Quantity Sold]]),0)","v":0}]
[null,null,null,null,null,null,null,null,0,0,0,null,null,null,0,{"$f":"IF(Inventory[[#This Row],[Item SKU/ID]]=\"\",0,SUMPRODUCT((Quantity_Sold_1=Inventory[[#This Row],[Item SKU/ID]])*Net_Profit))","v":0},{"$f":"IFERROR(AVERAGE(Inventory[[#This Row],[Total Net Profit]]/Inventory[[#This Row],[Quantity Sold]]),0)","v":0}]
[null,null,null,null,null,null,null,null,0,0,0,null,null,null,0,{"$f":"IF(Inventory[[#This Row],[Item SKU/ID]]=\"\",0,SUMPRODUCT((Quantity_Sold_1=Inventory[[#This Row],[Item SKU/ID]])*Net_Profit))","v":0},{"$f":"IFERROR(AVERAGE(Inventory[[#This Row],[Total Net Profit]]/Inventory[[#This Row],[Quantity Sold]]),0)","v":0}]
[null,null,null,null,null,null,null,null,0,0,0,null,null,null,0,{"$f":"IF(Inventory[[#This Row],[Item SKU/ID]]=\"\",0,SUMPRODUCT((Quantity_Sold_1=Inventory[[#This Row],[Item SKU/ID]])*Net_Profit))","v":0},{"$f":"IFERROR(AVERAGE(Inventory[[#This Row],[Total Net Profit]]/Inventory[[#This Row],[Quantity Sold]]),0)","v":0}]
[null,null,null,null,null,null,null,null,0,0,0,null,null,null,0,{"$f":"IF(Inventory[[#This Row],[Item SKU/ID]]=\"\",0,SUMPRODUCT((Quantity_Sold_1=Inventory[[#This Row],[Item SKU/ID]])*Net_Profit))","v":0},{"$f":"IFERROR(AVERAGE(Inventory[[#This Row],[Total Net Profit]]/Inventory[[#This Row],[Quantity Sold]]),0)","v":0}]
[null,null,null,null,null,null,null,null,0,0,0,null,null,null,0,{"$f":"IF(Inventory[[#This Row],[Item SKU/ID]]=\"\",0,SUMPRODUCT((Quantity_Sold_1=Inventory[[#This Row],[Item SKU/ID]])*Net_Profit))","v":0},{"$f":"IFERROR(AVERAGE(Inventory[[#This Row],[Total Net Profit]]/Inventory[[#This Row],[Quantity Sold]]),0)","v":0}]
[null,null,null,null,null,null,null,null,0,0,0,null,null,null,0,{"$f":"IF(Inventory[[#This Row],[Item SKU/ID]]=\"\",0,SUMPRODUCT((Quantity_Sold_1=Inventory[[#This Row],[Item SKU/ID]])*Net_Profit))","v":0},{"$f":"IFERROR(AVERAGE(Inventory[[#This Row],[Total Net Profit]]/Inventory[[#This Row],[Quantity Sold]]),0)","v":0}]
[null,null,null,null,null,null,null,null,0,0,0,null,null,null,0,{"$f":"IF(Inventory[[#This Row],[Item SKU/ID]]=\"\",0,SUMPRODUCT((Quantity_Sold_1=Inventory[[#This Row],[Item SKU/ID]])*Net_Profit))","v":0},{"$f":"IFERROR(AVERAGE(Inventory[[#This Row],[Total Net Profit]]/Inventory[[#This Row],[Quantity Sold]]),0)","v":0}]
[null,null,null,null,null,null,null,null,0,0,0,null,null,null,0,{"$f":"IF(Inventory[[#This Row],[Item SKU/ID]]=\"\",0,SUMPRODUCT((Quantity_Sold_1=Inventory[[#This Row],[Item SKU/ID]])*Net_Profit))","v":0},{"$f":"IFERROR(AVERAGE(Inventory[[#This Row],[Total Net Profit]]/Inventory[[#This Row],[Quantity Sold]]),0)","v":0}]
[null,null,null,null,null,null,null,null,0,0,0,null,null,null,0,{"$f":"IF(Inventory[[#This Row],[Item SKU/ID]]=\"\",0,SUMPRODUCT((Quantity_Sold_1=Inventory[[#This Row],[Item SKU/ID]])*Net_Profit))","v":0},{"$f":"IFERROR(AVERAGE(Inventory[[#This Row],[Total Net Profit]]/Inventory[[#This Row],[Quantity Sold]]),0)","v":0}]
[null,null,null,null,null,null,null,null,0,0,0,null,null,null,0,{"$f":"IF(Inventory[[#This Row],[Item SKU/ID]]=\"\",0,SUMPRODUCT((Quantity_Sold_1=Inventory[[#This Row],[Item SKU/ID]])*Net_Profit))","v":0},{"$f":"IFERROR(AVERAGE(Inventory[[#This Row],[Total Net Profit]]/Inventory[[#This Row],[Quantity Sold]]),0)","v":0}]
[null,null,null,null,null,null,null,null,0,0,0,null,null,null,0,{"$f":"IF(Inventory[[#This Row],[Item SKU/ID]]=\"\",0,SUMPRODUCT((Quantity_Sold_1=Inventory[[#This Row],[Item SKU/ID]])*Net_Profit))","v":0},{"$f":"IFERROR(AVERAGE(Inventory[[#This Row],[Total Net Profit]]/Inventory[[#This Row],[Quantity Sold]]),0)","v":0}]
[null,null,null,null,null,null,null,null,0,0,0,null,null,null,0,{"$f":"IF(Inventory[[#This Row],[Item SKU/ID]]=\"\",0,SUMPRODUCT((Quantity_Sold_1=Inventory[[#This Row],[Item SKU/ID]])*Net_Profit))","v":0},{"$f":"IFERROR(AVERAGE(Inventory[[#This Row],[Total Net Profit]]/Inventory[[#This Row],[Quantity Sold]]),0)","v":0}]
[null,null,null,null,null,null,null,null,0,0,0,null,null,null,0,{"$f":"IF(Inventory[[#This Row],[Item SKU/ID]]=\"\",0,SUMPRODUCT((Quantity_Sold_1=Inventory[[#This Row],[Item SKU/ID]])*Net_Profit))","v":0},{"$f":"IFERROR(AVERAGE(Inventory[[#This Row],[Total Net Profit]]/Inventory[[#This Row],[Quantity Sold]]),0)","v":0}]
[null,null,null,null,null,null,null,null,0,0,0,null,null,null,0,{"$f":"IF(Inventory[[#This Row],[Item SKU/ID]]=\"\",0,SUMPRODUCT((Quantity_Sold_1=Inventory[[#This Row],[Item SKU/ID]])*Net_Profit))","v":0},{"$f":"IFERROR(AVERAGE(Inventory[[#This Row],[Total Net Profit]]/Inventory[[#This Row],[Quantity Sold]]),0)","v":0}]
[null,null,null,null,null,null,null,null,0,0,0,null,null,null,0,{"$f":"IF(Inventory[[#This Row],[Item SKU/ID]]=\"\",0,SUMPRODUCT((Quantity_Sold_1=Inventory[[#This Row],[Item SKU/ID]])*Net_Profit))","v":0},{"$f":"IFERROR(AVERAGE(Inventory[[#This Row],[Total Net Profit]]/Inventory[[#This Row],[Quantity Sold]]),0)","v":0}]
[null,null,null,null,null,null,null,null,0,0,0,null,null,null,0,{"$f":"IF(Inventory[[#This Row],[Item SKU/ID]]=\"\",0,SUMPRODUCT((Quantity_Sold_1=Inventory[[#This Row],[Item SKU/ID]])*Net_Profit))","v":0},{"$f":"IFERROR(AVERAGE(Inventory[[#This Row],[Total Net Profit]]/Inventory[[#This Row],[Quantity Sold]]),0)","v":0}]
[null,null,null,null,null,null,null,null,0,0,0,null,null,null,0,{"$f":"IF(Inventory[[#This Row],[Item SKU/ID]]=\"\",0,SUMPRODUCT((Quantity_Sold_1=Inventory[[#This Row],[Item SKU/ID]])*Net_Profit))","v":0},{"$f":"IFERROR(AVERAGE(Inventory[[#This Row],[Total Net Profit]]/Inventory[[#This Row],[Quantity Sold]]),0)","v":0}]
[null,null,null,null,null,null,null,null,0,0,0,null,null,null,0,{"$f":"IF(Inventory[[#This Row],[Item SKU/ID]]=\"\",0,SUMPRODUCT((Quantity_Sold_1=Inventory[[#This Row],[Item SKU/ID]])*Net_Profit))","v":0},{"$f":"IFERROR(AVERAGE(Inventory[[#This Row],[Total Net Profit]]/Inventory[[#This Row],[Quantity Sold]]),0)","v":0}]
[null,null,null,null,null,null,null,null,0,0,0,null,null,null,0,{"$f":"IF(Inventory[[#This Row],[Item SKU/ID]]=\"\",0,SUMPRODUCT((Quantity_Sold_1=Inventory[[#This Row],[Item SKU/ID]])*Net_Profit))","v":0},{"$f":"IFERROR(AVERAGE(Inventory[[#This Row],[Total Net Profit]]/Inventory[[#This Row],[Quantity Sold]]),0)","v":0}]
[null,null,null,null,null,null,null,null,0,0,0,null,null,null,0,{"$f":"IF(Inventory[[#This Row],[Item SKU/ID]]=\"\",0,SUMPRODUCT((Quantity_Sold_1=Inventory[[#This Row],[Item SKU/ID]])*Net_Profit))","v":0},{"$f":"IFERROR(AVERAGE(Inventory[[#This Row],[Total Net Profit]]/Inventory[[#This Row],[Quantity Sold]]),0)","v":0}]
[null,null,null,null,null,null,null,null,0,0,0,null,null,null,0,{"$f":"IF(Inventory[[#This Row],[Item SKU/ID]]=\"\",0,SUMPRODUCT((Quantity_Sold_1=Inventory[[#This Row],[Item SKU/ID]])*Net_Profit))","v":0},{"$f":"IFERROR(AVERAGE(Inventory[[#This Row],[Total Net Profit]]/Inventory[[#This Row],[Quantity Sold]]),0)","v":0}]
[null,null,null,null,null,null,null,null,0,0,0,null,null,null,0,{"$f":"IF(Inventory[[#This Row],[Item SKU/ID]]=\"\",0,SUMPRODUCT((Quantity_Sold_1=Inventory[[#This Row],[Item SKU/ID]])*Net_Profit))","v":0},{"$f":"IFERROR(AVERAGE(Inventory[[#This Row],[Total Net Profit]]/Inventory[[#This Row],[Quantity Sold]]),0)","v":0}]
[null,null,null,null,null,null,null,null,0,0,0,null,null,null,0,{"$f":"IF(Inventory[[#This Row],[Item SKU/ID]]=\"\",0,SUMPRODUCT((Quantity_Sold_1=Inventory[[#This Row],[Item SKU/ID]])*Net_Profit))","v":0},{"$f":"IFERROR(AVERAGE(Inventory[[#This Row],[Total Net Profit]]/Inventory[[#This Row],[Quantity Sold]]),0)","v":0}]
[null,null,null,null,null,null,null,null,0,0,0,null,null,null,0,{"$f":"IF(Inventory[[#This Row],[Item SKU/ID]]=\"\",0,SUMPRODUCT((Quantity_Sold_1=Inventory[[#This Row],[Item SKU/ID]])*Net_Profit))","v":0},{"$f":"IFERROR(AVERAGE(Inventory[[#This Row],[Total Net Profit]]/Inventory[[#This Row],[Quantity Sold]]),0)","v":0}]
[null,null,null,null,null,null,null,null,0,0,0,null,null,null,0,{"$f":"IF(Inventory[[#This Row],[Item SKU/ID]]=\"\",0,SUMPRODUCT((Quantity_Sold_1=Inventory[[#This Row],[Item SKU/ID]])*Net_Profit))","v":0},{"$f":"IFERROR(AVERAGE(Inventory[[#This Row],[Total Net Profit]]/Inventory[[#This Row],[Quantity Sold]]),0)","v":0}]
[null,null,null,null,null,null,null,null,0,0,0,null,null,null,0,{"$f":"IF(Inventory[[#This Row],[Item SKU/ID]]=\"\",0,SUMPRODUCT((Quantity_Sold_1=Inventory[[#This Row],[Item SKU/ID]])*Net_Profit))","v":0},{"$f":"IFERROR(AVERAGE(Inventory[[#This Row],[Total Net Profit]]/Inventory[[#This Row],[Quantity Sold]]),0)","v":0}]
[null,null,null,null,null,null,null,null,0,0,0,null,null,null,0,{"$f":"IF(Inventory[[#This Row],[Item SKU/ID]]=\"\",0,SUMPRODUCT((Quantity_Sold_1=Inventory[[#This Row],[Item SKU/ID]])*Net_Profit))","v":0},{"$f":"IFERROR(AVERAGE(Inventory[[#This Row],[Total Net Profit]]/Inventory[[#This Row],[Quantity Sold]]),0)","v":0}]
[null,null,null,null,null,null,null,null,0,0,0,null,null,null,0,{"$f":"IF(Inventory[[#This Row],[Item SKU/ID]]=\"\",0,SUMPRODUCT((Quantity_Sold_1=Inventory[[#This Row],[Item SKU/ID]])*Net_Profit))","v":0},{"$f":"IFERROR(AVERAGE(Inventory[[#This Row],[Total Net Profit]]/Inventory[[#This Row],[Quantity Sold]]),0)","v":0}]
[null,null,null,null,null,null,null,null,0,0,0,null,null,null,0,{"$f":"IF(Inventory[[#This Row],[Item SKU/ID]]=\"\",0,SUMPRODUCT((Quantity_Sold_1=Inventory[[#This Row],[Item SKU/ID]])*Net_Profit))","v":0},{"$f":"IFERROR(AVERAGE(Inventory[[#This Row],[Total Net Profit]]/Inventory[[#This Row],[Quantity Sold]]),0)","v":0}]
[null,null,null,null,null,null,null,null,0,0,0,null,null,null,0,{"$f":"IF(Inventory[[#This Row],[Item SKU/ID]]=\"\",0,SUMPRODUCT((Quantity_Sold_1=Inventory[[#This Row],[Item SKU/ID]])*Net_Profit))","v":0},{"$f":"IFERROR(AVERAGE(Inventory[[#This Row],[Total Net Profit]]/Inventory[[#This Row],[Quantity Sold]]),0)","v":0}]
[null,null,null,null,null,null,null,null,0,0,0,null,null,null,0,{"$f":"IF(Inventory[[#This Row],[Item SKU/ID]]=\"\",0,SUMPRODUCT((Quantity_Sold_1=Inventory[[#This Row],[Item SKU/ID]])*Net_Profit))","v":0},{"$f":"IFERROR(AVERAGE(Inventory[[#This Row],[Total Net Profit]]/Inventory[[#This Row],[Quantity Sold]]),0)","v":0}]
[null,null,null,null,null,null,null,null,0,0,0,null,null,null,0,{"$f":"IF(Inventory[[#This Row],[Item SKU/ID]]=\"\",0,SUMPRODUCT((Quantity_Sold_1=Inventory[[#This Row],[Item SKU/ID]])*Net_Profit))","v":0},{"$f":"IFERROR(AVERAGE(Inventory[[#This Row],[Total Net Profit]]/Inventory[[#This Row],[Quantity Sold]]),0)","v":0}]
[null,null,null,null,null,null,null,null,0,0,0,null,null,null,0,{"$f":"IF(Inventory[[#This Row],[Item SKU/ID]]=\"\",0,SUMPRODUCT((Quantity_Sold_1=Inventory[[#This Row],[Item SKU/ID]])*Net_Profit))","v":0},{"$f":"IFERROR(AVERAGE(Inventory[[#This Row],[Total Net Profit]]/Inventory[[#This Row],[Quantity Sold]]),0)","v":0}]
[null,null,null,null,null,null,null,null,0,0,0,null,null,null,0,{"$f":"IF(Inventory[[#This Row],[Item SKU/ID]]=\"\",0,SUMPRODUCT((Quantity_Sold_1=Inventory[[#This Row],[Item SKU/ID]])*Net_Profit))","v":0},{"$f":"IFERROR(AVERAGE(Inventory[[#This Row],[Total Net Profit]]/Inventory[[#This Row],[Quantity Sold]]),0)","v":0}]
[null,null,null,null,null,null,null,null,0,0,0,null,null,null,0,{"$f":"IF(Inventory[[#This Row],[Item SKU/ID]]=\"\",0,SUMPRODUCT((Quantity_Sold_1=Inventory[[#This Row],[Item SKU/ID]])*Net_Profit))","v":0},{"$f":"IFERROR(AVERAGE(Inventory[[#This Row],[Total Net Profit]]/Inventory[[#This Row],[Quantity Sold]]),0)","v":0}]
[null,null,null,null,null,null,null,null,0,0,0,null,null,null,0,{"$f":"IF(Inventory[[#This Row],[Item SKU/ID]]=\"\",0,SUMPRODUCT((Quantity_Sold_1=Inventory[[#This Row],[Item SKU/ID]])*Net_Profit))","v":0},{"$f":"IFERROR(AVERAGE(Inventory[[#This Row],[Total Net Profit]]/Inventory[[#This Row],[Quantity Sold]]),0)","v":0}]
[null,null,null,null,null,null,null,null,0,0,0,null,null,null,0,{"$f":"IF(Inventory[[#This Row],[Item SKU/ID]]=\"\",0,SUMPRODUCT((Quantity_Sold_1=Inventory[[#This Row],[Item SKU/ID]])*Net_Profit))","v":0},{"$f":"IFERROR(AVERAGE(Inventory[[#This Row],[Total Net Profit]]/Inventory[[#This Row],[Quantity Sold]]),0)","v":0}]
[null,null,null,null,null,null,null,null,0,0,0,null,null,null,0,{"$f":"IF(Inventory[[#This Row],[Item SKU/ID]]=\"\",0,SUMPRODUCT((Quantity_Sold_1=Inventory[[#This Row],[Item SKU/ID]])*Net_Profit))","v":0},{"$f":"IFERROR(AVERAGE(Inventory[[#This Row],[Total Net Profit]]/Inventory[[#This Row],[Quantity Sold]]),0)","v":0}]
[null,null,null,null,null,null,null,null,0,0,0,null,null,null,0,{"$f":"IF(Inventory[[#This Row],[Item SKU/ID]]=\"\",0,SUMPRODUCT((Quantity_Sold_1=Inventory[[#This Row],[Item SKU/ID]])*Net_Profit))","v":0},{"$f":"IFERROR(AVERAGE(Inventory[[#This Row],[Total Net Profit]]/Inventory[[#This Row],[Quantity Sold]]),0)","v":0}]
[null,null,null,null,null,null,null,null,0,0,0,null,null,null,0,{"$f":"IF(Inventory[[#This Row],[Item SKU/ID]]=\"\",0,SUMPRODUCT((Quantity_Sold_1=Inventory[[#This Row],[Item SKU/ID]])*Net_Profit))","v":0},{"$f":"IFERROR(AVERAGE(Inventory[[#This Row],[Total Net Profit]]/Inventory[[#This Row],[Quantity Sold]]),0)","v":0}]
[null,null,null,null,null,null,null,null,0,0,0,null,null,null,0,{"$f":"IF(Inventory[[#This Row],[Item SKU/ID]]=\"\",0,SUMPRODUCT((Quantity_Sold_1=Inventory[[#This Row],[Item SKU/ID]])*Net_Profit))","v":0},{"$f":"IFERROR(AVERAGE(Inventory[[#This Row],[Total Net Profit]]/Inventory[[#This Row],[Quantity Sold]]),0)","v":0}]
[null,null,null,null,null,null,null,null,0,0,0,null,null,null,0,{"$f":"IF(Inventory[[#This Row],[Item SKU/ID]]=\"\",0,SUMPRODUCT((Quantity_Sold_1=Inventory[[#This Row],[Item SKU/ID]])*Net_Profit))","v":0},{"$f":"IFERROR(AVERAGE(Inventory[[#This Row],[Total Net Profit]]/Inventory[[#This Row],[Quantity Sold]]),0)","v":0}]
[null,null,null,null,null,null,null,null,0,0,0,null,null,null,0,{"$f":"IF(Inventory[[#This Row],[Item SKU/ID]]=\"\",0,SUMPRODUCT((Quantity_Sold_1=Inventory[[#This Row],[Item SKU/ID]])*Net_Profit))","v":0},{"$f":"IFERROR(AVERAGE(Inventory[[#This Row],[Total Net Profit]]/Inventory[[#This Row],[Quantity Sold]]),0)","v":0}]
[null,null,null,null,null,null,null,null,0,0,0,null,null,null,0,{"$f":"IF(Inventory[[#This Row],[Item SKU/ID]]=\"\",0,SUMPRODUCT((Quantity_Sold_1=Inventory[[#This Row],[Item SKU/ID]])*Net_Profit))","v":0},{"$f":"IFERROR(AVERAGE(Inventory[[#This Row],[Total Net Profit]]/Inventory[[#This Row],[Quantity Sold]]),0)","v":0}]
[null,null,null,null,null,null,null,null,0,0,0,null,null,null,0,{"$f":"IF(Inventory[[#This Row],[Item SKU/ID]]=\"\",0,SUMPRODUCT((Quantity_Sold_1=Inventory[[#This Row],[Item SKU/ID]])*Net_Profit))","v":0},{"$f":"IFERROR(AVERAGE(Inventory[[#This Row],[Total Net Profit]]/Inventory[[#This Row],[Quantity Sold]]),0)","v":0}]
[null,null,null,null,null,null,null,null,0,0,0,null,null,null,0,{"$f":"IF(Inventory[[#This Row],[Item SKU/ID]]=\"\",0,SUMPRODUCT((Quantity_Sold_1=Inventory[[#This Row],[Item SKU/ID]])*Net_Profit))","v":0},{"$f":"IFERROR(AVERAGE(Inventory[[#This Row],[Total Net Profit]]/Inventory[[#This Row],[Quantity Sold]]),0)","v":0}]
[null,null,null,null,null,null,null,null,0,0,0,null,null,null,0,{"$f":"IF(Inventory[[#This Row],[Item SKU/ID]]=\"\",0,SUMPRODUCT((Quantity_Sold_1=Inventory[[#This Row],[Item SKU/ID]])*Net_Profit))","v":0},{"$f":"IFERROR(AVERAGE(Inventory[[#This Row],[Total Net Profit]]/Inventory[[#This Row],[Quantity Sold]]),0)","v":0}]
[null,null,null,null,null,null,null,null,0,0,0,null,null,null,0,{"$f":"IF(Inventory[[#This Row],[Item SKU/ID]]=\"\",0,SUMPRODUCT((Quantity_Sold_1=Inventory[[#This Row],[Item SKU/ID]])*Net_Profit))","v":0},{"$f":"IFERROR(AVERAGE(Inventory[[#This Row],[Total Net Profit]]/Inventory[[#This Row],[Quantity Sold]]),0)","v":0}]
[null,null,null,null,null,null,null,null,0,0,0,null,null,null,0,{"$f":"IF(Inventory[[#This Row],[Item SKU/ID]]=\"\",0,SUMPRODUCT((Quantity_Sold_1=Inventory[[#This Row],[Item SKU/ID]])*Net_Profit))","v":0},{"$f":"IFERROR(AVERAGE(Inventory[[#This Row],[Total Net Profit]]/Inventory[[#This Row],[Quantity Sold]]),0)","v":0}]
[null,null,null,null,null,null,null,null,0,0,0,null,null,null,0,{"$f":"IF(Inventory[[#This Row],[Item SKU/ID]]=\"\",0,SUMPRODUCT((Quantity_Sold_1=Inventory[[#This Row],[Item SKU/ID]])*Net_Profit))","v":0},{"$f":"IFERROR(AVERAGE(Inventory[[#This Row],[Total Net Profit]]/Inventory[[#This Row],[Quantity Sold]]),0)","v":0}]
[null,null,null,null,null,null,null,null,0,0,0,null,null,null,0,{"$f":"IF(Inventory[[#This Row],[Item SKU/ID]]=\"\",0,SUMPRODUCT((Quantity_Sold_1=Inventory[[#This Row],[Item SKU/ID]])*Net_Profit))","v":0},{"$f":"IFERROR(AVERAGE(Inventory[[#This Row],[Total Net Profit]]/Inventory[[#This Row],[Quantity Sold]]),0)","v":0}]
[null,null,null,null,null,null,null,null,0,0,0,null,null,null,0,{"$f":"IF(Inventory[[#This Row],[Item SKU/ID]]=\"\",0,SUMPRODUCT((Quantity_Sold_1=Inventory[[#This Row],[Item SKU/ID]])*Net_Profit))","v":0},{"$f":"IFERROR(AVERAGE(Inventory[[#This Row],[Total Net Profit]]/Inventory[[#This Row],[Quantity Sold]]),0)","v":0}]
[null,null,null,null,null,null,null,null,0,0,0,null,null,null,0,{"$f":"IF(Inventory[[#This Row],[Item SKU/ID]]=\"\",0,SUMPRODUCT((Quantity_Sold_1=Inventory[[#This Row],[Item SKU/ID]])*Net_Profit))","v":0},{"$f":"IFERROR(AVERAGE(Inventory[[#This Row],[Total Net Profit]]/Inventory[[#This Row],[Quantity Sold]]),0)","v":0}]
[null,null,null,null,null,null,null,null,0,0,0,null,null,null,0,{"$f":"IF(Inventory[[#This Row],[Item SKU/ID]]=\"\",0,SUMPRODUCT((Quantity_Sold_1=Inventory[[#This Row],[Item SKU/ID]])*Net_Profit))","v":0},{"$f":"IFERROR(AVERAGE(Inventory[[#This Row],[Total Net Profit]]/Inventory[[#This Row],[Quantity Sold]]),0)","v":0}]
[null,null,null,null,null,null,null,null,0,0,0,null,null,null,0,{"$f":"IF(Inventory[[#This Row],[Item SKU/ID]]=\"\",0,SUMPRODUCT((Quantity_Sold_1=Inventory[[#This Row],[Item SKU/ID]])*Net_Profit))","v":0},{"$f":"IFERROR(AVERAGE(Inventory[[#This Row],[Total Net Profit]]/Inventory[[#This Row],[Quantity Sold]]),0)","v":0}]
[null,null,null,null,null,null,null,null,{"$f":"K324*H324","v":0},{"$f":"IF(F324=\"\",0,SUMPRODUCT((Quantity_Sold_1=F324)*Quantity_Sold_2))","v":0},{"$f":"G324-J324","v":0},null,null,null,{"$f":"K324*H324","v":0},{"$f":"IF(Inventory[[#This Row],[Item SKU/ID]]=\"\",0,SUMPRODUCT((Quantity_Sold_1=Inventory[[#This Row],[Item SKU/ID]])*Net_Profit))","v":0},{"$f":"IFERROR(AVERAGE(Inventory[[#This Row],[Total Net Profit]]/Inventory[[#This Row],[Quantity Sold]]),0)","v":0}]
[null,null,null,null,null,null,null,null,0,0,0,null,null,null,0,{"$f":"IF(Inventory[[#This Row],[Item SKU/ID]]=\"\",0,SUMPRODUCT((Quantity_Sold_1=Inventory[[#This Row],[Item SKU/ID]])*Net_Profit))","v":0},{"$f":"IFERROR(AVERAGE(Inventory[[#This Row],[Total Net Profit]]/Inventory[[#This Row],[Quantity Sold]]),0)","v":0}]
[null,null,null,null,null,null,null,null,0,0,0,null,null,null,0,{"$f":"IF(Inventory[[#This Row],[Item SKU/ID]]=\"\",0,SUMPRODUCT((Quantity_Sold_1=Inventory[[#This Row],[Item SKU/ID]])*Net_Profit))","v":0},{"$f":"IFERROR(AVERAGE(Inventory[[#This Row],[Total Net Profit]]/Inventory[[#This Row],[Quantity Sold]]),0)","v":0}]
[null,null,null,null,null,null,null,null,0,0,0,null,null,null,0,{"$f":"IF(Inventory[[#This Row],[Item SKU/ID]]=\"\",0,SUMPRODUCT((Quantity_Sold_1=Inventory[[#This Row],[Item SKU/ID]])*Net_Profit))","v":0},{"$f":"IFERROR(AVERAGE(Inventory[[#This Row],[Total Net Profit]]/Inventory[[#This Row],[Quantity Sold]]),0)","v":0}]
[null,null,null,null,null,null,null,null,0,0,0,null,null,null,0,{"$f":"IF(Inventory[[#This Row],[Item SKU/ID]]=\"\",0,SUMPRODUCT((Quantity_Sold_1=Inventory[[#This Row],[Item SKU/ID]])*Net_Profit))","v":0},{"$f":"IFERROR(AVERAGE(Inventory[[#This Row],[Total Net Profit]]/Inventory[[#This Row],[Quantity Sold]]),0)","v":0}]
[null,null,null,null,null,null,null,null,0,0,0,null,null,null,0,{"$f":"IF(Inventory[[#This Row],[Item SKU/ID]]=\"\",0,SUMPRODUCT((Quantity_Sold_1=Inventory[[#This Row],[Item SKU/ID]])*Net_Profit))","v":0},{"$f":"IFERROR(AVERAGE(Inventory[[#This Row],[Total Net Profit]]/Inventory[[#This Row],[Quantity Sold]]),0)","v":0}]
[null,null,null,null,null,null,null,null,0,0,0,null,null,null,0,{"$f":"IF(Inventory[[#This Row],[Item SKU/ID]]=\"\",0,SUMPRODUCT((Quantity_Sold_1=Inventory[[#This Row],[Item SKU/ID]])*Net_Profit))","v":0},{"$f":"IFERROR(AVERAGE(Inventory[[#This Row],[Total Net Profit]]/Inventory[[#This Row],[Quantity Sold]]),0)","v":0}]
[null,null,null,null,null,null,null,null,0,0,0,null,null,null,0,{"$f":"IF(Inventory[[#This Row],[Item SKU/ID]]=\"\",0,SUMPRODUCT((Quantity_Sold_1=Inventory[[#This Row],[Item SKU/ID]])*Net_Profit))","v":0},{"$f":"IFERROR(AVERAGE(Inventory[[#This Row],[Total Net Profit]]/Inventory[[#This Row],[Quantity Sold]]),0)","v":0}]
[null,null,null,null,null,null,null,null,0,0,0,null,null,null,0,{"$f":"IF(Inventory[[#This Row],[Item SKU/ID]]=\"\",0,SUMPRODUCT((Quantity_Sold_1=Inventory[[#This Row],[Item SKU/ID]])*Net_Profit))","v":0},{"$f":"IFERROR(AVERAGE(Inventory[[#This Row],[Total Net Profit]]/Inventory[[#This Row],[Quantity Sold]]),0)","v":0}]
[null,null,null,null,null,null,null,null,0,0,0,null,null,null,0,{"$f":"IF(Inventory[[#This Row],[Item SKU/ID]]=\"\",0,SUMPRODUCT((Quantity_Sold_1=Inventory[[#This Row],[Item SKU/ID]])*Net_Profit))","v":0},{"$f":"IFERROR(AVERAGE(Inventory[[#This Row],[Total Net Profit]]/Inventory[[#This Row],[Quantity Sold]]),0)","v":0}]
[null,null,null,null,null,null,null,null,0,0,0,null,null,null,0,{"$f":"IF(Inventory[[#This Row],[Item SKU/ID]]=\"\",0,SUMPRODUCT((Quantity_Sold_1=Inventory[[#This Row],[Item SKU/ID]])*Net_Profit))","v":0},{"$f":"IFERROR(AVERAGE(Inventory[[#This Row],[Total Net Profit]]/Inventory[[#This Row],[Quantity Sold]]),0)","v":0}]
[null,null,null,null,null,null,null,null,0,0,0,null,null,null,0,{"$f":"IF(Inventory[[#This Row],[Item SKU/ID]]=\"\",0,SUMPRODUCT((Quantity_Sold_1=Inventory[[#This Row],[Item SKU/ID]])*Net_Profit))","v":0},{"$f":"IFERROR(AVERAGE(Inventory[[#This Row],[Total Net Profit]]/Inventory[[#This Row],[Quantity Sold]]),0)","v":0}]
[null,null,null,null,null,null,null,null,0,0,0,null,null,null,0,{"$f":"IF(Inventory[[#This Row],[Item SKU/ID]]=\"\",0,SUMPRODUCT((Quantity_Sold_1=Inventory[[#This Row],[Item SKU/ID]])*Net_Profit))","v":0},{"$f":"IFERROR(AVERAGE(Inventory[[#This Row],[Total Net Profit]]/Inventory[[#This Row],[Quantity Sold]]),0)","v":0}]
[null,null,null,null,null,null,null,null,0,0,0,null,null,null,0,{"$f":"IF(Inventory[[#This Row],[Item SKU/ID]]=\"\",0,SUMPRODUCT((Quantity_Sold_1=Inventory[[#This Row],[Item SKU/ID]])*Net_Profit))","v":0},{"$f":"IFERROR(AVERAGE(Inventory[[#This Row],[Total Net Profit]]/Inventory[[#This Row],[Quantity Sold]]),0)","v":0}]
[null,null,null,null,null,null,null,null,0,0,0,null,null,null,0,{"$f":"IF(Inventory[[#This Row],[Item SKU/ID]]=\"\",0,SUMPRODUCT((Quantity_Sold_1=Inventory[[#This Row],[Item SKU/ID]])*Net_Profit))","v":0},{"$f":"IFERROR(AVERAGE(Inventory[[#This Row],[Total Net Profit]]/Inventory[[#This Row],[Quantity Sold]]),0)","v":0}]
[null,null,null,null,null,null,null,null,0,0,0,null,null,null,0,{"$f":"IF(Inventory[[#This Row],[Item SKU/ID]]=\"\",0,SUMPRODUCT((Quantity_Sold_1=Inventory[[#This Row],[Item SKU/ID]])*Net_Profit))","v":0},{"$f":"IFERROR(AVERAGE(Inventory[[#This Row],[Total Net Profit]]/Inventory[[#This Row],[Quantity Sold]]),0)","v":0}]
[null,null,null,null,null,null,null,null,0,0,0,null,null,null,0,{"$f":"IF(Inventory[[#This Row],[Item SKU/ID]]=\"\",0,SUMPRODUCT((Quantity_Sold_1=Inventory[[#This Row],[Item SKU/ID]])*Net_Profit))","v":0},{"$f":"IFERROR(AVERAGE(Inventory[[#This Row],[Total Net Profit]]/Inventory[[#This Row],[Quantity Sold]]),0)","v":0}]
[null,null,null,null,null,null,null,null,0,0,0,null,null,null,0,{"$f":"IF(Inventory[[#This Row],[Item SKU/ID]]=\"\",0,SUMPRODUCT((Quantity_Sold_1=Inventory[[#This Row],[Item SKU/ID]])*Net_Profit))","v":0},{"$f":"IFERROR(AVERAGE(Inventory[[#This Row],[Total Net Profit]]/Inventory[[#This Row],[Quantity Sold]]),0)","v":0}]
[null,null,null,null,null,null,null,null,0,0,0,null,null,null,0,{"$f":"IF(Inventory[[#This Row],[Item SKU/ID]]=\"\",0,SUMPRODUCT((Quantity_Sold_1=Inventory[[#This Row],[Item SKU/ID]])*Net_Profit))","v":0},{"$f":"IFERROR(AVERAGE(Inventory[[#This Row],[Total Net Profit]]/Inventory[[#This Row],[Quantity Sold]]),0)","v":0}]
[null,null,null,null,null,null,null,null,0,0,0,null,null,null,0,{"$f":"IF(Inventory[[#This Row],[Item SKU/ID]]=\"\",0,SUMPRODUCT((Quantity_Sold_1=Inventory[[#This Row],[Item SKU/ID]])*Net_Profit))","v":0},{"$f":"IFERROR(AVERAGE(Inventory[[#This Row],[Total Net Profit]]/Inventory[[#This Row],[Quantity Sold]]),0)","v":0}]
[null,null,null,null,null,null,null,null,0,0,0,null,null,null,0,{"$f":"IF(Inventory[[#This Row],[Item SKU/ID]]=\"\",0,SUMPRODUCT((Quantity_Sold_1=Inventory[[#This Row],[Item SKU/ID]])*Net_Profit))","v":0},{"$f":"IFERROR(AVERAGE(Inventory[[#This Row],[Total Net Profit]]/Inventory[[#This Row],[Quantity Sold]]),0)","v":0}]
[null,null,null,null,null,null,null,null,0,0,0,null,null,null,0,{"$f":"IF(Inventory[[#This Row],[Item SKU/ID]]=\"\",0,SUMPRODUCT((Quantity_Sold_1=Inventory[[#This Row],[Item SKU/ID]])*Net_Profit))","v":0},{"$f":"IFERROR(AVERAGE(Inventory[[#This Row],[Total Net Profit]]/Inventory[[#This Row],[Quantity Sold]]),0)","v":0}]
[null,null,null,null,null,null,null,null,0,0,0,null,null,null,0,{"$f":"IF(Inventory[[#This Row],[Item SKU/ID]]=\"\",0,SUMPRODUCT((Quantity_Sold_1=Inventory[[#This Row],[Item SKU/ID]])*Net_Profit))","v":0},{"$f":"IFERROR(AVERAGE(Inventory[[#This Row],[Total Net Profit]]/Inventory[[#This Row],[Quantity Sold]]),0)","v":0}]
[null,null,null,null,null,null,null,null,0,0,0,null,null,null,0,{"$f":"IF(Inventory[[#This Row],[Item SKU/ID]]=\"\",0,SUMPRODUCT((Quantity_Sold_1=Inventory[[#This Row],[Item SKU/ID]])*Net_Profit))","v":0},{"$f":"IFERROR(AVERAGE(Inventory[[#This Row],[Total Net Profit]]/Inventory[[#This Row],[Quantity Sold]]),0)","v":0}]
[null,null,null,null,null,null,null,null,0,0,0,null,null,null,0,{"$f":"IF(Inventory[[#This Row],[Item SKU/ID]]=\"\",0,SUMPRODUCT((Quantity_Sold_1=Inventory[[#This Row],[Item SKU/ID]])*Net_Profit))","v":0},{"$f":"IFERROR(AVERAGE(Inventory[[#This Row],[Total Net Profit]]/Inventory[[#This Row],[Quantity Sold]]),0)","v":0}]
[null,null,null,null,null,null,null,null,0,0,0,null,null,null,0,{"$f":"IF(Inventory[[#This Row],[Item SKU/ID]]=\"\",0,SUMPRODUCT((Quantity_Sold_1=Inventory[[#This Row],[Item SKU/ID]])*Net_Profit))","v":0},{"$f":"IFERROR(AVERAGE(Inventory[[#This Row],[Total Net Profit]]/Inventory[[#This Row],[Quantity Sold]]),0)","v":0}]
[null,null,null,null,null,null,null,null,0,0,0,null,null,null,0,{"$f":"IF(Inventory[[#This Row],[Item SKU/ID]]=\"\",0,SUMPRODUCT((Quantity_Sold_1=Inventory[[#This Row],[Item SKU/ID]])*Net_Profit))","v":0},{"$f":"IFERROR(AVERAGE(Inventory[[#This Row],[Total Net Profit]]/Inventory[[#This Row],[Quantity Sold]]),0)","v":0}]
[null,null,null,null,null,null,null,null,0,0,0,null,null,null,0,{"$f":"IF(Inventory[[#This Row],[Item SKU/ID]]=\"\",0,SUMPRODUCT((Quantity_Sold_1=Inventory[[#This Row],[Item SKU/ID]])*Net_Profit))","v":0},{"$f":"IFERROR(AVERAGE(Inventory[[#This Row],[Total Net Profit]]/Inventory[[#This Row],[Quantity Sold]]),0)","v":0}]
[null,null,null,null,null,null,null,null,0,0,0,null,null,null,0,{"$f":"IF(Inventory[[#This Row],[Item SKU/ID]]=\"\",0,SUMPRODUCT((Quantity_Sold_1=Inventory[[#This Row],[Item SKU/ID]])*Net_Profit))","v":0},{"$f":"IFERROR(AVERAGE(Inventory[[#This Row],[Total Net Profit]]/Inventory[[#This Row],[Quantity Sold]]),0)","v":0}]
[null,null,null,null,null,null,null,null,0,0,0,null,null,null,0,{"$f":"IF(Inventory[[#This Row],[Item SKU/ID]]=\"\",0,SUMPRODUCT((Quantity_Sold_1=Inventory[[#This Row],[Item SKU/ID]])*Net_Profit))","v":0},{"$f":"IFERROR(AVERAGE(Inventory[[#This Row],[Total Net Profit]]/Inventory[[#This Row],[Quantity Sold]]),0)","v":0}]
[null,null,null,null,null,null,null,null,0,0,0,null,null,null,0,{"$f":"IF(Inventory[[#This Row],[Item SKU/ID]]=\"\",0,SUMPRODUCT((Quantity_Sold_1=Inventory[[#This Row],[Item SKU/ID]])*Net_Profit))","v":0},{"$f":"IFERROR(AVERAGE(Inventory[[#This Row],[Total Net Profit]]/Inventory[[#This Row],[Quantity Sold]]),0)","v":0}]
[null,null,null,null,null,null,null,null,0,0,0,null,null,null,0,{"$f":"IF(Inventory[[#This Row],[Item SKU/ID]]=\"\",0,SUMPRODUCT((Quantity_Sold_1=Inventory[[#This Row],[Item SKU/ID]])*Net_Profit))","v":0},{"$f":"IFERROR(AVERAGE(Inventory[[#This Row],[Total Net Profit]]/Inventory[[#This Row],[Quantity Sold]]),0)","v":0}]
[null,null,null,null,null,null,null,null,0,0,0,null,null,null,0,{"$f":"IF(Inventory[[#This Row],[Item SKU/ID]]=\"\",0,SUMPRODUCT((Quantity_Sold_1=Inventory[[#This Row],[Item SKU/ID]])*Net_Profit))","v":0},{"$f":"IFERROR(AVERAGE(Inventory[[#This Row],[Total Net Profit]]/Inventory[[#This Row],[Quantity Sold]]),0)","v":0}]
[null,null,null,null,null,null,null,null,0,0,0,null,null,null,0,{"$f":"IF(Inventory[[#This Row],[Item SKU/ID]]=\"\",0,SUMPRODUCT((Quantity_Sold_1=Inventory[[#This Row],[Item SKU/ID]])*Net_Profit))","v":0},{"$f":"IFERROR(AVERAGE(Inventory[[#This Row],[Total Net Profit]]/Inventory[[#This Row],[Quantity Sold]]),0)","v":0}]
[null,null,null,null,null,null,null,null,0,0,0,null,null,null,0,{"$f":"IF(Inventory[[#This Row],[Item SKU/ID]]=\"\",0,SUMPRODUCT((Quantity_Sold_1=Inventory[[#This Row],[Item SKU/ID]])*Net_Profit))","v":0},{"$f":"IFERROR(AVERAGE(Inventory[[#This Row],[Total Net Profit]]/Inventory[[#This Row],[Quantity Sold]]),0)","v":0}]
[null,null,null,null,null,null,null,null,0,0,0,null,null,null,0,{"$f":"IF(Inventory[[#This Row],[Item SKU/ID]]=\"\",0,SUMPRODUCT((Quantity_Sold_1=Inventory[[#This Row],[Item SKU/ID]])*Net_Profit))","v":0},{"$f":"IFERROR(AVERAGE(Inventory[[#This Row],[Total Net Profit]]/Inventory[[#This Row],[Quantity Sold]]),0)","v":0}]
[null,null,null,null,null,null,null,null,0,0,0,null,null,null,0,{"$f":"IF(Inventory[[#This Row],[Item SKU/ID]]=\"\",0,SUMPRODUCT((Quantity_Sold_1=Inventory[[#This Row],[Item SKU/ID]])*Net_Profit))","v":0},{"$f":"IFERROR(AVERAGE(Inventory[[#This Row],[Total Net Profit]]/Inventory[[#This Row],[Quantity Sold]]),0)","v":0}]
[null,null,null,null,null,null,null,null,0,0,0,null,null,null,0,{"$f":"IF(Inventory[[#This Row],[Item SKU/ID]]=\"\",0,SUMPRODUCT((Quantity_Sold_1=Inventory[[#This Row],[Item SKU/ID]])*Net_Profit))","v":0},{"$f":"IFERROR(AVERAGE(Inventory[[#This Row],[Total Net Profit]]/Inventory[[#This Row],[Quantity Sold]]),0)","v":0}]
[null,null,null,null,null,null,null,null,0,0,0,null,null,null,0,{"$f":"IF(Inventory[[#This Row],[Item SKU/ID]]=\"\",0,SUMPRODUCT((Quantity_Sold_1=Inventory[[#This Row],[Item SKU/ID]])*Net_Profit))","v":0},{"$f":"IFERROR(AVERAGE(Inventory[[#This Row],[Total Net Profit]]/Inventory[[#This Row],[Quantity Sold]]),0)","v":0}]
[null,null,null,null,null,null,null,null,0,0,0,null,null,null,0,{"$f":"IF(Inventory[[#This Row],[Item SKU/ID]]=\"\",0,SUMPRODUCT((Quantity_Sold_1=Inventory[[#This Row],[Item SKU/ID]])*Net_Profit))","v":0},{"$f":"IFERROR(AVERAGE(Inventory[[#This Row],[Total Net Profit]]/Inventory[[#This Row],[Quantity Sold]]),0)","v":0}]
[null,null,null,null,null,null,null,null,0,0,0,null,null,null,0,{"$f":"IF(Inventory[[#This Row],[Item SKU/ID]]=\"\",0,SUMPRODUCT((Quantity_Sold_1=Inventory[[#This Row],[Item SKU/ID]])*Net_Profit))","v":0},{"$f":"IFERROR(AVERAGE(Inventory[[#This Row],[Total Net Profit]]/Inventory[[#This Row],[Quantity Sold]]),0)","v":0}]
[null,null,null,null,null,null,null,null,0,0,0,null,null,null,0,{"$f":"IF(Inventory[[#This Row],[Item SKU/ID]]=\"\",0,SUMPRODUCT((Quantity_Sold_1=Inventory[[#This Row],[Item SKU/ID]])*Net_Profit))","v":0},{"$f":"IFERROR(AVERAGE(Inventory[[#This Row],[Total Net Profit]]/Inventory[[#This Row],[Quantity Sold]]),0)","v":0}]
[null,null,null,null,null,null,null,null,0,0,0,null,null,null,0,{"$f":"IF(Inventory[[#This Row],[Item SKU/ID]]=\"\",0,SUMPRODUCT((Quantity_Sold_1=Inventory[[#This Row],[Item SKU/ID]])*Net_Profit))","v":0},{"$f":"IFERROR(AVERAGE(Inventory[[#This Row],[Total Net Profit]]/Inventory[[#This Row],[Quantity Sold]]),0)","v":0}]
[null,null,null,null,null,null,null,null,0,0,0,null,null,null,0,{"$f":"IF(Inventory[[#This Row],[Item SKU/ID]]=\"\",0,SUMPRODUCT((Quantity_Sold_1=Inventory[[#This Row],[Item SKU/ID]])*Net_Profit))","v":0},{"$f":"IFERROR(AVERAGE(Inventory[[#This Row],[Total Net Profit]]/Inventory[[#This Row],[Quantity Sold]]),0)","v":0}]
[null,null,null,null,null,null,null,null,0,0,0,null,null,null,0,{"$f":"IF(Inventory[[#This Row],[Item SKU/ID]]=\"\",0,SUMPRODUCT((Quantity_Sold_1=Inventory[[#This Row],[Item SKU/ID]])*Net_Profit))","v":0},{"$f":"IFERROR(AVERAGE(Inventory[[#This Row],[Total Net Profit]]/Inventory[[#This Row],[Quantity Sold]]),0)","v":0}]
[null,null,null,null,null,null,null,null,0,0,0,null,null,null,0,{"$f":"IF(Inventory[[#This Row],[Item SKU/ID]]=\"\",0,SUMPRODUCT((Quantity_Sold_1=Inventory[[#This Row],[Item SKU/ID]])*Net_Profit))","v":0},{"$f":"IFERROR(AVERAGE(Inventory[[#This Row],[Total Net Profit]]/Inventory[[#This Row],[Quantity Sold]]),0)","v":0}]
[null,null,null,null,null,null,null,null,0,0,0,null,null,null,0,{"$f":"IF(Inventory[[#This Row],[Item SKU/ID]]=\"\",0,SUMPRODUCT((Quantity_Sold_1=Inventory[[#This Row],[Item SKU/ID]])*Net_Profit))","v":0},{"$f":"IFERROR(AVERAGE(Inventory[[#This Row],[Total Net Profit]]/Inventory[[#This Row],[Quantity Sold]]),0)","v":0}]
[null,null,null,null,null,null,null,null,0,0,0,null,null,null,0,{"$f":"IF(Inventory[[#This Row],[Item SKU/ID]]=\"\",0,SUMPRODUCT((Quantity_Sold_1=Inventory[[#This Row],[Item SKU/ID]])*Net_Profit))","v":0},{"$f":"IFERROR(AVERAGE(Inventory[[#This Row],[Total Net Profit]]/Inventory[[#This Row],[Quantity Sold]]),0)","v":0}]
[null,null,null,null,null,null,null,null,0,0,0,null,null,null,0,{"$f":"IF(Inventory[[#This Row],[Item SKU/ID]]=\"\",0,SUMPRODUCT((Quantity_Sold_1=Inventory[[#This Row],[Item SKU/ID]])*Net_Profit))","v":0},{"$f":"IFERROR(AVERAGE(Inventory[[#This Row],[Total Net Profit]]/Inventory[[#This Row],[Quantity Sold]]),0)","v":0}]
[null,null,null,null,null,null,null,null,0,0,0,null,null,null,0,{"$f":"IF(Inventory[[#This Row],[Item SKU/ID]]=\"\",0,SUMPRODUCT((Quantity_Sold_1=Inventory[[#This Row],[Item SKU/ID]])*Net_Profit))","v":0},{"$f":"IFERROR(AVERAGE(Inventory[[#This Row],[Total Net Profit]]/Inventory[[#This Row],[Quantity Sold]]),0)","v":0}]
[null,null,null,null,null,null,null,null,0,0,0,null,null,null,0,{"$f":"IF(Inventory[[#This Row],[Item SKU/ID]]=\"\",0,SUMPRODUCT((Quantity_Sold_1=Inventory[[#This Row],[Item SKU/ID]])*Net_Profit))","v":0},{"$f":"IFERROR(AVERAGE(Inventory[[#This Row],[Total Net Profit]]/Inventory[[#This Row],[Quantity Sold]]),0)","v":0}]
[null,null,null,null,null,null,null,null,0,0,0,null,null,null,0,{"$f":"IF(Inventory[[#This Row],[Item SKU/ID]]=\"\",0,SUMPRODUCT((Quantity_Sold_1=Inventory[[#This Row],[Item SKU/ID]])*Net_Profit))","v":0},{"$f":"IFERROR(AVERAGE(Inventory[[#This Row],[Total Net Profit]]/Inventory[[#This Row],[Quantity Sold]]),0)","v":0}]
[null,null,null,null,null,null,null,null,0,0,0,null,null,null,0,{"$f":"IF(Inventory[[#This Row],[Item SKU/ID]]=\"\",0,SUMPRODUCT((Quantity_Sold_1=Inventory[[#This Row],[Item SKU/ID]])*Net_Profit))","v":0},{"$f":"IFERROR(AVERAGE(Inventory[[#This Row],[Total Net Profit]]/Inventory[[#This Row],[Quantity Sold]]),0)","v":0}]
[null,null,null,null,null,null,null,null,0,0,0,null,null,null,0,{"$f":"IF(Inventory[[#This Row],[Item SKU/ID]]=\"\",0,SUMPRODUCT((Quantity_Sold_1=Inventory[[#This Row],[Item SKU/ID]])*Net_Profit))","v":0},{"$f":"IFERROR(AVERAGE(Inventory[[#This Row],[Total Net Profit]]/Inventory[[#This Row],[Quantity Sold]]),0)","v":0}]
[null,null,null,null,null,null,null,null,0,0,0,null,null,null,0,{"$f":"IF(Inventory[[#This Row],[Item SKU/ID]]=\"\",0,SUMPRODUCT((Quantity_Sold_1=Inventory[[#This Row],[Item SKU/ID]])*Net_Profit))","v":0},{"$f":"IFERROR(AVERAGE(Inventory[[#This Row],[Total Net Profit]]/Inventory[[#This Row],[Quantity Sold]]),0)","v":0}]
[null,null,null,null,null,null,null,null,0,0,0,null,null,null,0,{"$f":"IF(Inventory[[#This Row],[Item SKU/ID]]=\"\",0,SUMPRODUCT((Quantity_Sold_1=Inventory[[#This Row],[Item SKU/ID]])*Net_Profit))","v":0},{"$f":"IFERROR(AVERAGE(Inventory[[#This Row],[Total Net Profit]]/Inventory[[#This Row],[Quantity Sold]]),0)","v":0}]
[null,null,null,null,null,null,null,null,0,0,0,null,null,null,0,{"$f":"IF(Inventory[[#This Row],[Item SKU/ID]]=\"\",0,SUMPRODUCT((Quantity_Sold_1=Inventory[[#This Row],[Item SKU/ID]])*Net_Profit))","v":0},{"$f":"IFERROR(AVERAGE(Inventory[[#This Row],[Total Net Profit]]/Inventory[[#This Row],[Quantity Sold]]),0)","v":0}]
[null,null,null,null,null,null,null,null,0,0,0,null,null,null,0,{"$f":"IF(Inventory[[#This Row],[Item SKU/ID]]=\"\",0,SUMPRODUCT((Quantity_Sold_1=Inventory[[#This Row],[Item SKU/ID]])*Net_Profit))","v":0},{"$f":"IFERROR(AVERAGE(Inventory[[#This Row],[Total Net Profit]]/Inventory[[#This Row],[Quantity Sold]]),0)","v":0}]
[null,null,null,null,null,null,null,null,0,0,0,null,null,null,0,{"$f":"IF(Inventory[[#This Row],[Item SKU/ID]]=\"\",0,SUMPRODUCT((Quantity_Sold_1=Inventory[[#This Row],[Item SKU/ID]])*Net_Profit))","v":0},{"$f":"IFERROR(AVERAGE(Inventory[[#This Row],[Total Net Profit]]/Inventory[[#This Row],[Quantity Sold]]),0)","v":0}]
[null,null,null,null,null,null,null,null,0,0,0,null,null,null,0,{"$f":"IF(Inventory[[#This Row],[Item SKU/ID]]=\"\",0,SUMPRODUCT((Quantity_Sold_1=Inventory[[#This Row],[Item SKU/ID]])*Net_Profit))","v":0},{"$f":"IFERROR(AVERAGE(Inventory[[#This Row],[Total Net Profit]]/Inventory[[#This Row],[Quantity Sold]]),0)","v":0}]
[null,null,null,null,null,null,null,null,0,0,0,null,null,null,0,{"$f":"IF(Inventory[[#This Row],[Item SKU/ID]]=\"\",0,SUMPRODUCT((Quantity_Sold_1=Inventory[[#This Row],[Item SKU/ID]])*Net_Profit))","v":0},{"$f":"IFERROR(AVERAGE(Inventory[[#This Row],[Total Net Profit]]/Inventory[[#This Row],[Quantity Sold]]),0)","v":0}]
[null,null,null,null,null,null,null,null,0,0,0,null,null,null,0,{"$f":"IF(Inventory[[#This Row],[Item SKU/ID]]=\"\",0,SUMPRODUCT((Quantity_Sold_1=Inventory[[#This Row],[Item SKU/ID]])*Net_Profit))","v":0},{"$f":"IFERROR(AVERAGE(Inventory[[#This Row],[Total Net Profit]]/Inventory[[#This Row],[Quantity Sold]]),0)","v":0}]
[null,null,null,null,null,null,null,null,0,0,0,null,null,null,0,{"$f":"IF(Inventory[[#This Row],[Item SKU/ID]]=\"\",0,SUMPRODUCT((Quantity_Sold_1=Inventory[[#This Row],[Item SKU/ID]])*Net_Profit))","v":0},{"$f":"IFERROR(AVERAGE(Inventory[[#This Row],[Total Net Profit]]/Inventory[[#This Row],[Quantity Sold]]),0)","v":0}]
[null,null,null,null,null,null,null,null,0,0,0,null,null,null,0,{"$f":"IF(Inventory[[#This Row],[Item SKU/ID]]=\"\",0,SUMPRODUCT((Quantity_Sold_1=Inventory[[#This Row],[Item SKU/ID]])*Net_Profit))","v":0},{"$f":"IFERROR(AVERAGE(Inventory[[#This Row],[Total Net Profit]]/Inventory[[#This Row],[Quantity Sold]]),0)","v":0}]
[null,null,null,null,null,null,null,null,{"$f":"K388*H388","v":0},{"$f":"IF(F388=\"\",0,SUMPRODUCT((Quantity_Sold_1=F388)*Quantity_Sold_2))","v":0},{"$f":"G388-J388","v":0},null,null,null,{"$f":"K388*H388","v":0},{"$f":"IF(Inventory[[#This Row],[Item SKU/ID]]=\"\",0,SUMPRODUCT((Quantity_Sold_1=Inventory[[#This Row],[Item SKU/ID]])*Net_Profit))","v":0},{"$f":"IFERROR(AVERAGE(Inventory[[#This Row],[Total Net Profit]]/Inventory[[#This Row],[Quantity Sold]]),0)","v":0}]
[null,null,null,null,null,null,null,null,0,0,0,null,null,null,0,{"$f":"IF(Inventory[[#This Row],[Item SKU/ID]]=\"\",0,SUMPRODUCT((Quantity_Sold_1=Inventory[[#This Row],[Item SKU/ID]])*Net_Profit))","v":0},{"$f":"IFERROR(AVERAGE(Inventory[[#This Row],[Total Net Profit]]/Inventory[[#This Row],[Quantity Sold]]),0)","v":0}]
[null,null,null,null,null,null,null,null,0,0,0,null,null,null,0,{"$f":"IF(Inventory[[#This Row],[Item SKU/ID]]=\"\",0,SUMPRODUCT((Quantity_Sold_1=Inventory[[#This Row],[Item SKU/ID]])*Net_Profit))","v":0},{"$f":"IFERROR(AVERAGE(Inventory[[#This Row],[Total Net Profit]]/Inventory[[#This Row],[Quantity Sold]]),0)","v":0}]
[null,null,null,null,null,null,null,null,0,0,0,null,null,null,0,{"$f":"IF(Inventory[[#This Row],[Item SKU/ID]]=\"\",0,SUMPRODUCT((Quantity_Sold_1=Inventory[[#This Row],[Item SKU/ID]])*Net_Profit))","v":0},{"$f":"IFERROR(AVERAGE(Inventory[[#This Row],[Total Net Profit]]/Inventory[[#This Row],[Quantity Sold]]),0)","v":0}]
[null,null,null,null,null,null,null,null,0,0,0,null,null,null,0,{"$f":"IF(Inventory[[#This Row],[Item SKU/ID]]=\"\",0,SUMPRODUCT((Quantity_Sold_1=Inventory[[#This Row],[Item SKU/ID]])*Net_Profit))","v":0},{"$f":"IFERROR(AVERAGE(Inventory[[#This Row],[Total Net Profit]]/Inventory[[#This Row],[Quantity Sold]]),0)","v":0}]
[null,null,null,null,null,null,null,null,0,0,0,null,null,null,0,{"$f":"IF(Inventory[[#This Row],[Item SKU/ID]]=\"\",0,SUMPRODUCT((Quantity_Sold_1=Inventory[[#This Row],[Item SKU/ID]])*Net_Profit))","v":0},{"$f":"IFERROR(AVERAGE(Inventory[[#This Row],[Total Net Profit]]/Inventory[[#This Row],[Quantity Sold]]),0)","v":0}]
[null,null,null,null,null,null,null,null,0,0,0,null,null,null,0,{"$f":"IF(Inventory[[#This Row],[Item SKU/ID]]=\"\",0,SUMPRODUCT((Quantity_Sold_1=Inventory[[#This Row],[Item SKU/ID]])*Net_Profit))","v":0},{"$f":"IFERROR(AVERAGE(Inventory[[#This Row],[Total Net Profit]]/Inventory[[#This Row],[Quantity Sold]]),0)","v":0}]
[null,null,null,null,null,null,null,null,0,0,0,null,null,null,0,{"$f":"IF(Inventory[[#This Row],[Item SKU/ID]]=\"\",0,SUMPRODUCT((Quantity_Sold_1=Inventory[[#This Row],[Item SKU/ID]])*Net_Profit))","v":0},{"$f":"IFERROR(AVERAGE(Inventory[[#This Row],[Total Net Profit]]/Inventory[[#This Row],[Quantity Sold]]),0)","v":0}]
[null,null,null,null,null,null,null,null,0,0,0,null,null,null,0,{"$f":"IF(Inventory[[#This Row],[Item SKU/ID]]=\"\",0,SUMPRODUCT((Quantity_Sold_1=Inventory[[#This Row],[Item SKU/ID]])*Net_Profit))","v":0},{"$f":"IFERROR(AVERAGE(Inventory[[#This Row],[Total Net Profit]]/Inventory[[#This Row],[Quantity Sold]]),0)","v":0}]
[null,null,null,null,null,null,null,null,0,0,0,null,null,null,0,{"$f":"IF(Inventory[[#This Row],[Item SKU/ID]]=\"\",0,SUMPRODUCT((Quantity_Sold_1=Inventory[[#This Row],[Item SKU/ID]])*Net_Profit))","v":0},{"$f":"IFERROR(AVERAGE(Inventory[[#This Row],[Total Net Profit]]/Inventory[[#This Row],[Quantity Sold]]),0)","v":0}]
[null,null,null,null,null,null,null,null,0,0,0,null,null,null,0,{"$f":"IF(Inventory[[#This Row],[Item SKU/ID]]=\"\",0,SUMPRODUCT((Quantity_Sold_1=Inventory[[#This Row],[Item SKU/ID]])*Net_Profit))","v":0},{"$f":"IFERROR(AVERAGE(Inventory[[#This Row],[Total Net Profit]]/Inventory[[#This Row],[Quantity Sold]]),0)","v":0}]
[null,null,null,null,null,null,null,null,0,0,0,null,null,null,0,{"$f":"IF(Inventory[[#This Row],[Item SKU/ID]]=\"\",0,SUMPRODUCT((Quantity_Sold_1=Inventory[[#This Row],[Item SKU/ID]])*Net_Profit))","v":0},{"$f":"IFERROR(AVERAGE(Inventory[[#This Row],[Total Net Profit]]/Inventory[[#This Row],[Quantity Sold]]),0)","v":0}]
[null,null,null,null,null,null,null,null,0,0,0,null,null,null,0,{"$f":"IF(Inventory[[#This Row],[Item SKU/ID]]=\"\",0,SUMPRODUCT((Quantity_Sold_1=Inventory[[#This Row],[Item SKU/ID]])*Net_Profit))","v":0},{"$f":"IFERROR(AVERAGE(Inventory[[#This Row],[Total Net Profit]]/Inventory[[#This Row],[Quantity Sold]]),0)","v":0}]
[null,null,null,null,null,null,null,null,0,0,0,null,null,null,0,{"$f":"IF(Inventory[[#This Row],[Item SKU/ID]]=\"\",0,SUMPRODUCT((Quantity_Sold_1=Inventory[[#This Row],[Item SKU/ID]])*Net_Profit))","v":0},{"$f":"IFERROR(AVERAGE(Inventory[[#This Row],[Total Net Profit]]/Inventory[[#This Row],[Quantity Sold]]),0)","v":0}]
[null,null,null,null,null,null,null,null,0,0,0,null,null,null,0,{"$f":"IF(Inventory[[#This Row],[Item SKU/ID]]=\"\",0,SUMPRODUCT((Quantity_Sold_1=Inventory[[#This Row],[Item SKU/ID]])*Net_Profit))","v":0},{"$f":"IFERROR(AVERAGE(Inventory[[#This Row],[Total Net Profit]]/Inventory[[#This Row],[Quantity Sold]]),0)","v":0}]
[null,null,null,null,null,null,null,null,0,0,0,null,null,null,0,{"$f":"IF(Inventory[[#This Row],[Item SKU/ID]]=\"\",0,SUMPRODUCT((Quantity_Sold_1=Inventory[[#This Row],[Item SKU/ID]])*Net_Profit))","v":0},{"$f":"IFERROR(AVERAGE(Inventory[[#This Row],[Total Net Profit]]/Inventory[[#This Row],[Quantity Sold]]),0)","v":0}]
[null,null,null,null,null,null,null,null,0,0,0,null,null,null,0,{"$f":"IF(Inventory[[#This Row],[Item SKU/ID]]=\"\",0,SUMPRODUCT((Quantity_Sold_1=Inventory[[#This Row],[Item SKU/ID]])*Net_Profit))","v":0},{"$f":"IFERROR(AVERAGE(Inventory[[#This Row],[Total Net Profit]]/Inventory[[#This Row],[Quantity Sold]]),0)","v":0}]
[null,null,null,null,null,null,null,null,0,0,0,null,null,null,0,{"$f":"IF(Inventory[[#This Row],[Item SKU/ID]]=\"\",0,SUMPRODUCT((Quantity_Sold_1=Inventory[[#This Row],[Item SKU/ID]])*Net_Profit))","v":0},{"$f":"IFERROR(AVERAGE(Inventory[[#This Row],[Total Net Profit]]/Inventory[[#This Row],[Quantity Sold]]),0)","v":0}]
[null,null,null,null,null,null,null,null,0,0,0,null,null,null,0,{"$f":"IF(Inventory[[#This Row],[Item SKU/ID]]=\"\",0,SUMPRODUCT((Quantity_Sold_1=Inventory[[#This Row],[Item SKU/ID]])*Net_Profit))","v":0},{"$f":"IFERROR(AVERAGE(Inventory[[#This Row],[Total Net Profit]]/Inventory[[#This Row],[Quantity Sold]]),0)","v":0}]
[null,null,null,null,null,null,null,null,0,0,0,null,null,null,0,{"$f":"IF(Inventory[[#This Row],[Item SKU/ID]]=\"\",0,SUMPRODUCT((Quantity_Sold_1=Inventory[[#This Row],[Item SKU/ID]])*Net_Profit))","v":0},{"$f":"IFERROR(AVERAGE(Inventory[[#This Row],[Total Net Profit]]/Inventory[[#This Row],[Quantity Sold]]),0)","v":0}]
[null,null,null,null,null,null,null,null,0,0,0,null,null,null,0,{"$f":"IF(Inventory[[#This Row],[Item SKU/ID]]=\"\",0,SUMPRODUCT((Quantity_Sold_1=Inventory[[#This Row],[Item SKU/ID]])*Net_Profit))","v":0},{"$f":"IFERROR(AVERAGE(Inventory[[#This Row],[Total Net Profit]]/Inventory[[#This Row],[Quantity Sold]]),0)","v":0}]
[null,null,null,null,null,null,null,null,0,0,0,null,null,null,0,{"$f":"IF(Inventory[[#This Row],[Item SKU/ID]]=\"\",0,SUMPRODUCT((Quantity_Sold_1=Inventory[[#This Row],[Item SKU/ID]])*Net_Profit))","v":0},{"$f":"IFERROR(AVERAGE(Inventory[[#This Row],[Total Net Profit]]/Inventory[[#This Row],[Quantity Sold]]),0)","v":0}]
[null,null,null,null,null,null,null,null,0,0,0,null,null,null,0,{"$f":"IF(Inventory[[#This Row],[Item SKU/ID]]=\"\",0,SUMPRODUCT((Quantity_Sold_1=Inventory[[#This Row],[Item SKU/ID]])*Net_Profit))","v":0},{"$f":"IFERROR(AVERAGE(Inventory[[#This Row],[Total Net Profit]]/Inventory[[#This Row],[Quantity Sold]]),0)","v":0}]
[null,null,null,null,null,null,null,null,0,0,0,null,null,null,0,{"$f":"IF(Inventory[[#This Row],[Item SKU/ID]]=\"\",0,SUMPRODUCT((Quantity_Sold_1=Inventory[[#This Row],[Item SKU/ID]])*Net_Profit))","v":0},{"$f":"IFERROR(AVERAGE(Inventory[[#This Row],[Total Net Profit]]/Inventory[[#This Row],[Quantity Sold]]),0)","v":0}]
[null,null,null,null,null,null,null,null,0,0,0,null,null,null,0,{"$f":"IF(Inventory[[#This Row],[Item SKU/ID]]=\"\",0,SUMPRODUCT((Quantity_Sold_1=Inventory[[#This Row],[Item SKU/ID]])*Net_Profit))","v":0},{"$f":"IFERROR(AVERAGE(Inventory[[#This Row],[Total Net Profit]]/Inventory[[#This Row],[Quantity Sold]]),0)","v":0}]
[null,null,null,null,null,null,null,null,0,0,0,null,null,null,0,{"$f":"IF(Inventory[[#This Row],[Item SKU/ID]]=\"\",0,SUMPRODUCT((Quantity_Sold_1=Inventory[[#This Row],[Item SKU/ID]])*Net_Profit))","v":0},{"$f":"IFERROR(AVERAGE(Inventory[[#This Row],[Total Net Profit]]/Inventory[[#This Row],[Quantity Sold]]),0)","v":0}]
[null,null,null,null,null,null,null,null,0,0,0,null,null,null,0,{"$f":"IF(Inventory[[#This Row],[Item SKU/ID]]=\"\",0,SUMPRODUCT((Quantity_Sold_1=Inventory[[#This Row],[Item SKU/ID]])*Net_Profit))","v":0},{"$f":"IFERROR(AVERAGE(Inventory[[#This Row],[Total Net Profit]]/Inventory[[#This Row],[Quantity Sold]]),0)","v":0}]
[null,null,null,null,null,null,null,null,0,0,0,null,null,null,0,{"$f":"IF(Inventory[[#This Row],[Item SKU/ID]]=\"\",0,SUMPRODUCT((Quantity_Sold_1=Inventory[[#This Row],[Item SKU/ID]])*Net_Profit))","v":0},{"$f":"IFERROR(AVERAGE(Inventory[[#This Row],[Total Net Profit]]/Inventory[[#This Row],[Quantity Sold]]),0)","v":0}]
[null,null,null,null,null,null,null,null,0,0,0,null,null,null,0,{"$f":"IF(Inventory[[#This Row],[Item SKU/ID]]=\"\",0,SUMPRODUCT((Quantity_Sold_1=Inventory[[#This Row],[Item SKU/ID]])*Net_Profit))","v":0},{"$f":"IFERROR(AVERAGE(Inventory[[#This Row],[Total Net Profit]]/Inventory[[#This Row],[Quantity Sold]]),0)","v":0}]
[null,null,null,null,null,null,null,null,0,0,0,null,null,null,0,{"$f":"IF(Inventory[[#This Row],[Item SKU/ID]]=\"\",0,SUMPRODUCT((Quantity_Sold_1=Inventory[[#This Row],[Item SKU/ID]])*Net_Profit))","v":0},{"$f":"IFERROR(AVERAGE(Inventory[[#This Row],[Total Net Profit]]/Inventory[[#This Row],[Quantity Sold]]),0)","v":0}]
[null,null,null,null,null,null,null,null,0,0,0,null,null,null,0,{"$f":"IF(Inventory[[#This Row],[Item SKU/ID]]=\"\",0,SUMPRODUCT((Quantity_Sold_1=Inventory[[#This Row],[Item SKU/ID]])*Net_Profit))","v":0},{"$f":"IFERROR(AVERAGE(Inventory[[#This Row],[Total Net Profit]]/Inventory[[#This Row],[Quantity Sold]]),0)","v":0}]
[null,null,null,null,null,null,null,null,0,0,0,null,null,null,0,{"$f":"IF(Inventory[[#This Row],[Item SKU/ID]]=\"\",0,SUMPRODUCT((Quantity_Sold_1=Inventory[[#This Row],[Item SKU/ID]])*Net_Profit))","v":0},{"$f":"IFERROR(AVERAGE(Inventory[[#This Row],[Total Net Profit]]/Inventory[[#This Row],[Quantity Sold]]),0)","v":0}]
[null,null,null,null,null,null,null,null,0,0,0,null,null,null,0,{"$f":"IF(Inventory[[#This Row],[Item SKU/ID]]=\"\",0,SUMPRODUCT((Quantity_Sold_1=Inventory[[#This Row],[Item SKU/ID]])*Net_Profit))","v":0},{"$f":"IFERROR(AVERAGE(Inventory[[#This Row],[Total Net Profit]]/Inventory[[#This Row],[Quantity Sold]]),0)","v":0}]
[null,null,null,null,null,null,null,null,0,0,0,null,null,null,0,{"$f":"IF(Inventory[[#This Row],[Item SKU/ID]]=\"\",0,SUMPRODUCT((Quantity_Sold_1=Inventory[[#This Row],[Item SKU/ID]])*Net_Profit))","v":0},{"$f":"IFERROR(AVERAGE(Inventory[[#This Row],[Total Net Profit]]/Inventory[[#This Row],[Quantity Sold]]),0)","v":0}]
[null,null,null,null,null,null,null,null,0,0,0,null,null,null,0,{"$f":"IF(Inventory[[#This Row],[Item SKU/ID]]=\"\",0,SUMPRODUCT((Quantity_Sold_1=Inventory[[#This Row],[Item SKU/ID]])*Net_Profit))","v":0},{"$f":"IFERROR(AVERAGE(Inventory[[#This Row],[Total Net Profit]]/Inventory[[#This Row],[Quantity Sold]]),0)","v":0}]
[null,null,null,null,null,null,null,null,0,0,0,null,null,null,0,{"$f":"IF(Inventory[[#This Row],[Item SKU/ID]]=\"\",0,SUMPRODUCT((Quantity_Sold_1=Inventory[[#This Row],[Item SKU/ID]])*Net_Profit))","v":0},{"$f":"IFERROR(AVERAGE(Inventory[[#This Row],[Total Net Profit]]/Inventory[[#This Row],[Quantity Sold]]),0)","v":0}]
[null,null,null,null,null,null,null,null,0,0,0,null,null,null,0,{"$f":"IF(Inventory[[#This Row],[Item SKU/ID]]=\"\",0,SUMPRODUCT((Quantity_Sold_1=Inventory[[#This Row],[Item SKU/ID]])*Net_Profit))","v":0},{"$f":"IFERROR(AVERAGE(Inventory[[#This Row],[Total Net Profit]]/Inventory[[#This Row],[Quantity Sold]]),0)","v":0}]
[null,null,null,null,null,null,null,null,0,0,0,null,null,null,0,{"$f":"IF(Inventory[[#This Row],[Item SKU/ID]]=\"\",0,SUMPRODUCT((Quantity_Sold_1=Inventory[[#This Row],[Item SKU/ID]])*Net_Profit))","v":0},{"$f":"IFERROR(AVERAGE(Inventory[[#This Row],[Total Net Profit]]/Inventory[[#This Row],[Quantity Sold]]),0)","v":0}]
[null,null,null,null,null,null,null,null,0,0,0,null,null,null,0,{"$f":"IF(Inventory[[#This Row],[Item SKU/ID]]=\"\",0,SUMPRODUCT((Quantity_Sold_1=Inventory[[#This Row],[Item SKU/ID]])*Net_Profit))","v":0},{"$f":"IFERROR(AVERAGE(Inventory[[#This Row],[Total Net Profit]]/Inventory[[#This Row],[Quantity Sold]]),0)","v":0}]
[null,null,null,null,null,null,null,null,0,0,0,null,null,null,0,{"$f":"IF(Inventory[[#This Row],[Item SKU/ID]]=\"\",0,SUMPRODUCT((Quantity_Sold_1=Inventory[[#This Row],[Item SKU/ID]])*Net_Profit))","v":0},{"$f":"IFERROR(AVERAGE(Inventory[[#This Row],[Total Net Profit]]/Inventory[[#This Row],[Quantity Sold]]),0)","v":0}]
[null,null,null,null,null,null,null,null,0,0,0,null,null,null,0,{"$f":"IF(Inventory[[#This Row],[Item SKU/ID]]=\"\",0,SUMPRODUCT((Quantity_Sold_1=Inventory[[#This Row],[Item SKU/ID]])*Net_Profit))","v":0},{"$f":"IFERROR(AVERAGE(Inventory[[#This Row],[Total Net Profit]]/Inventory[[#This Row],[Quantity Sold]]),0)","v":0}]
[null,null,null,null,null,null,null,null,0,0,0,null,null,null,0,{"$f":"IF(Inventory[[#This Row],[Item SKU/ID]]=\"\",0,SUMPRODUCT((Quantity_Sold_1=Inventory[[#This Row],[Item SKU/ID]])*Net_Profit))","v":0},{"$f":"IFERROR(AVERAGE(Inventory[[#This Row],[Total Net Profit]]/Inventory[[#This Row],[Quantity Sold]]),0)","v":0}]
[null,null,null,null,null,null,null,null,0,0,0,null,null,null,0,{"$f":"IF(Inventory[[#This Row],[Item SKU/ID]]=\"\",0,SUMPRODUCT((Quantity_Sold_1=Inventory[[#This Row],[Item SKU/ID]])*Net_Profit))","v":0},{"$f":"IFERROR(AVERAGE(Inventory[[#This Row],[Total Net Profit]]/Inventory[[#This Row],[Quantity Sold]]),0)","v":0}]
[null,null,null,null,null,null,null,null,0,0,0,null,null,null,0,{"$f":"IF(Inventory[[#This Row],[Item SKU/ID]]=\"\",0,SUMPRODUCT((Quantity_Sold_1=Inventory[[#This Row],[Item SKU/ID]])*Net_Profit))","v":0},{"$f":"IFERROR(AVERAGE(Inventory[[#This Row],[Total Net Profit]]/Inventory[[#This Row],[Quantity Sold]]),0)","v":0}]
[null,null,null,null,null,null,null,null,0,0,0,null,null,null,0,{"$f":"IF(Inventory[[#This Row],[Item SKU/ID]]=\"\",0,SUMPRODUCT((Quantity_Sold_1=Inventory[[#This Row],[Item SKU/ID]])*Net_Profit))","v":0},{"$f":"IFERROR(AVERAGE(Inventory[[#This Row],[Total Net Profit]]/Inventory[[#This Row],[Quantity Sold]]),0)","v":0}]
[null,null,null,null,null,null,null,null,0,0,0,null,null,null,0,{"$f":"IF(Inventory[[#This Row],[Item SKU/ID]]=\"\",0,SUMPRODUCT((Quantity_Sold_1=Inventory[[#This Row],[Item SKU/ID]])*Net_Profit))","v":0},{"$f":"IFERROR(AVERAGE(Inventory[[#This Row],[Total Net Profit]]/Inventory[[#This Row],[Quantity Sold]]),0)","v":0}]
[null,null,null,null,null,null,null,null,0,0,0,null,null,null,0,{"$f":"IF(Inventory[[#This Row],[Item SKU/ID]]=\"\",0,SUMPRODUCT((Quantity_Sold_1=Inventory[[#This Row],[Item SKU/ID]])*Net_Profit))","v":0},{"$f":"IFERROR(AVERAGE(Inventory[[#This Row],[Total Net Profit]]/Inventory[[#This Row],[Quantity Sold]]),0)","v":0}]
[null,null,null,null,null,null,null,null,0,0,0,null,null,null,0,{"$f":"IF(Inventory[[#This Row],[Item SKU/ID]]=\"\",0,SUMPRODUCT((Quantity_Sold_1=Inventory[[#This Row],[Item SKU/ID]])*Net_Profit))","v":0},{"$f":"IFERROR(AVERAGE(Inventory[[#This Row],[Total Net Profit]]/Inventory[[#This Row],[Quantity Sold]]),0)","v":0}]
[null,null,null,null,null,null,null,null,0,0,0,null,null,null,0,{"$f":"IF(Inventory[[#This Row],[Item SKU/ID]]=\"\",0,SUMPRODUCT((Quantity_Sold_1=Inventory[[#This Row],[Item SKU/ID]])*Net_Profit))","v":0},{"$f":"IFERROR(AVERAGE(Inventory[[#This Row],[Total Net Profit]]/Inventory[[#This Row],[Quantity Sold]]),0)","v":0}]
[null,null,null,null,null,null,null,null,0,0,0,null,null,null,0,{"$f":"IF(Inventory[[#This Row],[Item SKU/ID]]=\"\",0,SUMPRODUCT((Quantity_Sold_1=Inventory[[#This Row],[Item SKU/ID]])*Net_Profit))","v":0},{"$f":"IFERROR(AVERAGE(Inventory[[#This Row],[Total Net Profit]]/Inventory[[#This Row],[Quantity Sold]]),0)","v":0}]
[null,null,null,null,null,null,null,null,0,0,0,null,null,null,0,{"$f":"IF(Inventory[[#This Row],[Item SKU/ID]]=\"\",0,SUMPRODUCT((Quantity_Sold_1=Inventory[[#This Row],[Item SKU/ID]])*Net_Profit))","v":0},{"$f":"IFERROR(AVERAGE(Inventory[[#This Row],[Total Net Profit]]/Inventory[[#This Row],[Quantity Sold]]),0)","v":0}]
[null,null,null,null,null,null,null,null,0,0,0,null,null,null,0,{"$f":"IF(Inventory[[#This Row],[Item SKU/ID]]=\"\",0,SUMPRODUCT((Quantity_Sold_1=Inventory[[#This Row],[Item SKU/ID]])*Net_Profit))","v":0},{"$f":"IFERROR(AVERAGE(Inventory[[#This Row],[Total Net Profit]]/Inventory[[#This Row],[Quantity Sold]]),0)","v":0}]
[null,null,null,null,null,null,null,null,0,0,0,null,null,null,0,{"$f":"IF(Inventory[[#This Row],[Item SKU/ID]]=\"\",0,SUMPRODUCT((Quantity_Sold_1=Inventory[[#This Row],[Item SKU/ID]])*Net_Profit))","v":0},{"$f":"IFERROR(AVERAGE(Inventory[[#This Row],[Total Net Profit]]/Inventory[[#This Row],[Quantity Sold]]),0)","v":0}]
[null,null,null,null,null,null,null,null,0,0,0,null,null,null,0,{"$f":"IF(Inventory[[#This Row],[Item SKU/ID]]=\"\",0,SUMPRODUCT((Quantity_Sold_1=Inventory[[#This Row],[Item SKU/ID]])*Net_Profit))","v":0},{"$f":"IFERROR(AVERAGE(Inventory[[#This Row],[Total Net Profit]]/Inventory[[#This Row],[Quantity Sold]]),0)","v":0}]
[null,null,null,null,null,null,null,null,0,0,0,null,null,null,0,{"$f":"IF(Inventory[[#This Row],[Item SKU/ID]]=\"\",0,SUMPRODUCT((Quantity_Sold_1=Inventory[[#This Row],[Item SKU/ID]])*Net_Profit))","v":0},{"$f":"IFERROR(AVERAGE(Inventory[[#This Row],[Total Net Profit]]/Inventory[[#This Row],[Quantity Sold]]),0)","v":0}]
[null,null,null,null,null,null,null,null,0,0,0,null,null,null,0,{"$f":"IF(Inventory[[#This Row],[Item SKU/ID]]=\"\",0,SUMPRODUCT((Quantity_Sold_1=Inventory[[#This Row],[Item SKU/ID]])*Net_Profit))","v":0},{"$f":"IFERROR(AVERAGE(Inventory[[#This Row],[Total Net Profit]]/Inventory[[#This Row],[Quantity Sold]]),0)","v":0}]
[null,null,null,null,null,null,null,null,0,0,0,null,null,null,0,{"$f":"IF(Inventory[[#This Row],[Item SKU/ID]]=\"\",0,SUMPRODUCT((Quantity_Sold_1=Inventory[[#This Row],[Item SKU/ID]])*Net_Profit))","v":0},{"$f":"IFERROR(AVERAGE(Inventory[[#This Row],[Total Net Profit]]/Inventory[[#This Row],[Quantity Sold]]),0)","v":0}]
[null,null,null,null,null,null,null,null,0,0,0,null,null,null,0,{"$f":"IF(Inventory[[#This Row],[Item SKU/ID]]=\"\",0,SUMPRODUCT((Quantity_Sold_1=Inventory[[#This Row],[Item SKU/ID]])*Net_Profit))","v":0},{"$f":"IFERROR(AVERAGE(Inventory[[#This Row],[Total Net Profit]]/Inventory[[#This Row],[Quantity Sold]]),0)","v":0}]
[null,null,null,null,null,null,null,null,0,0,0,null,null,null,0,{"$f":"IF(Inventory[[#This Row],[Item SKU/ID]]=\"\",0,SUMPRODUCT((Quantity_Sold_1=Inventory[[#This Row],[Item SKU/ID]])*Net_Profit))","v":0},{"$f":"IFERROR(AVERAGE(Inventory[[#This Row],[Total Net Profit]]/Inventory[[#This Row],[Quantity Sold]]),0)","v":0}]
[null,null,null,null,null,null,null,null,0,0,0,null,null,null,0,{"$f":"IF(Inventory[[#This Row],[Item SKU/ID]]=\"\",0,SUMPRODUCT((Quantity_Sold_1=Inventory[[#This Row],[Item SKU/ID]])*Net_Profit))","v":0},{"$f":"IFERROR(AVERAGE(Inventory[[#This Row],[Total Net Profit]]/Inventory[[#This Row],[Quantity Sold]]),0)","v":0}]
[null,null,null,null,null,null,null,null,0,0,0,null,null,null,0,{"$f":"IF(Inventory[[#This Row],[Item SKU/ID]]=\"\",0,SUMPRODUCT((Quantity_Sold_1=Inventory[[#This Row],[Item SKU/ID]])*Net_Profit))","v":0},{"$f":"IFERROR(AVERAGE(Inventory[[#This Row],[Total Net Profit]]/Inventory[[#This Row],[Quantity Sold]]),0)","v":0}]
[null,null,null,null,null,null,null,null,0,0,0,null,null,null,0,{"$f":"IF(Inventory[[#This Row],[Item SKU/ID]]=\"\",0,SUMPRODUCT((Quantity_Sold_1=Inventory[[#This Row],[Item SKU/ID]])*Net_Profit))","v":0},{"$f":"IFERROR(AVERAGE(Inventory[[#This Row],[Total Net Profit]]/Inventory[[#This Row],[Quantity Sold]]),0)","v":0}]
[null,null,null,null,null,null,null,null,0,0,0,null,null,null,0,{"$f":"IF(Inventory[[#This Row],[Item SKU/ID]]=\"\",0,SUMPRODUCT((Quantity_Sold_1=Inventory[[#This Row],[Item SKU/ID]])*Net_Profit))","v":0},{"$f":"IFERROR(AVERAGE(Inventory[[#This Row],[Total Net Profit]]/Inventory[[#This Row],[Quantity Sold]]),0)","v":0}]
[null,null,null,null,null,null,null,null,0,0,0,null,null,null,0,{"$f":"IF(Inventory[[#This Row],[Item SKU/ID]]=\"\",0,SUMPRODUCT((Quantity_Sold_1=Inventory[[#This Row],[Item SKU/ID]])*Net_Profit))","v":0},{"$f":"IFERROR(AVERAGE(Inventory[[#This Row],[Total Net Profit]]/Inventory[[#This Row],[Quantity Sold]]),0)","v":0}]
[null,null,null,null,null,null,null,null,{"$f":"K452*H452","v":0},{"$f":"IF(F452=\"\",0,SUMPRODUCT((Quantity_Sold_1=F452)*Quantity_Sold_2))","v":0},{"$f":"G452-J452","v":0},null,null,null,{"$f":"K452*H452","v":0},{"$f":"IF(Inventory[[#This Row],[Item SKU/ID]]=\"\",0,SUMPRODUCT((Quantity_Sold_1=Inventory[[#This Row],[Item SKU/ID]])*Net_Profit))","v":0},{"$f":"IFERROR(AVERAGE(Inventory[[#This Row],[Total Net Profit]]/Inventory[[#This Row],[Quantity Sold]]),0)","v":0}]
[null,null,null,null,null,null,null,null,0,0,0,null,null,null,0,{"$f":"IF(Inventory[[#This Row],[Item SKU/ID]]=\"\",0,SUMPRODUCT((Quantity_Sold_1=Inventory[[#This Row],[Item SKU/ID]])*Net_Profit))","v":0},{"$f":"IFERROR(AVERAGE(Inventory[[#This Row],[Total Net Profit]]/Inventory[[#This Row],[Quantity Sold]]),0)","v":0}]
[null,null,null,null,null,null,null,null,0,0,0,null,null,null,0,{"$f":"IF(Inventory[[#This Row],[Item SKU/ID]]=\"\",0,SUMPRODUCT((Quantity_Sold_1=Inventory[[#This Row],[Item SKU/ID]])*Net_Profit))","v":0},{"$f":"IFERROR(AVERAGE(Inventory[[#This Row],[Total Net Profit]]/Inventory[[#This Row],[Quantity Sold]]),0)","v":0}]
[null,null,null,null,null,null,null,null,0,0,0,null,null,null,0,{"$f":"IF(Inventory[[#This Row],[Item SKU/ID]]=\"\",0,SUMPRODUCT((Quantity_Sold_1=Inventory[[#This Row],[Item SKU/ID]])*Net_Profit))","v":0},{"$f":"IFERROR(AVERAGE(Inventory[[#This Row],[Total Net Profit]]/Inventory[[#This Row],[Quantity Sold]]),0)","v":0}]
[null,null,null,null,null,null,null,null,0,0,0,null,null,null,0,{"$f":"IF(Inventory[[#This Row],[Item SKU/ID]]=\"\",0,SUMPRODUCT((Quantity_Sold_1=Inventory[[#This Row],[Item SKU/ID]])*Net_Profit))","v":0},{"$f":"IFERROR(AVERAGE(Inventory[[#This Row],[Total Net Profit]]/Inventory[[#This Row],[Quantity Sold]]),0)","v":0}]
[null,null,null,null,null,null,null,null,0,0,0,null,null,null,0,{"$f":"IF(Inventory[[#This Row],[Item SKU/ID]]=\"\",0,SUMPRODUCT((Quantity_Sold_1=Inventory[[#This Row],[Item SKU/ID]])*Net_Profit))","v":0},{"$f":"IFERROR(AVERAGE(Inventory[[#This Row],[Total Net Profit]]/Inventory[[#This Row],[Quantity Sold]]),0)","v":0}]
[null,null,null,null,null,null,null,null,0,0,0,null,null,null,0,{"$f":"IF(Inventory[[#This Row],[Item SKU/ID]]=\"\",0,SUMPRODUCT((Quantity_Sold_1=Inventory[[#This Row],[Item SKU/ID]])*Net_Profit))","v":0},{"$f":"IFERROR(AVERAGE(Inventory[[#This Row],[Total Net Profit]]/Inventory[[#This Row],[Quantity Sold]]),0)","v":0}]
[null,null,null,null,null,null,null,null,0,0,0,null,null,null,0,{"$f":"IF(Inventory[[#This Row],[Item SKU/ID]]=\"\",0,SUMPRODUCT((Quantity_Sold_1=Inventory[[#This Row],[Item SKU/ID]])*Net_Profit))","v":0},{"$f":"IFERROR(AVERAGE(Inventory[[#This Row],[Total Net Profit]]/Inventory[[#This Row],[Quantity Sold]]),0)","v":0}]
[null,null,null,null,null,null,null,null,0,0,0,null,null,null,0,{"$f":"IF(Inventory[[#This Row],[Item SKU/ID]]=\"\",0,SUMPRODUCT((Quantity_Sold_1=Inventory[[#This Row],[Item SKU/ID]])*Net_Profit))","v":0},{"$f":"IFERROR(AVERAGE(Inventory[[#This Row],[Total Net Profit]]/Inventory[[#This Row],[Quantity Sold]]),0)","v":0}]
[null,null,null,null,null,null,null,null,0,0,0,null,null,null,0,{"$f":"IF(Inventory[[#This Row],[Item SKU/ID]]=\"\",0,SUMPRODUCT((Quantity_Sold_1=Inventory[[#This Row],[Item SKU/ID]])*Net_Profit))","v":0},{"$f":"IFERROR(AVERAGE(Inventory[[#This Row],[Total Net Profit]]/Inventory[[#This Row],[Quantity Sold]]),0)","v":0}]
[null,null,null,null,null,null,null,null,0,0,0,null,null,null,0,{"$f":"IF(Inventory[[#This Row],[Item SKU/ID]]=\"\",0,SUMPRODUCT((Quantity_Sold_1=Inventory[[#This Row],[Item SKU/ID]])*Net_Profit))","v":0},{"$f":"IFERROR(AVERAGE(Inventory[[#This Row],[Total Net Profit]]/Inventory[[#This Row],[Quantity Sold]]),0)","v":0}]
[null,null,null,null,null,null,null,null,0,0,0,null,null,null,0,{"$f":"IF(Inventory[[#This Row],[Item SKU/ID]]=\"\",0,SUMPRODUCT((Quantity_Sold_1=Inventory[[#This Row],[Item SKU/ID]])*Net_Profit))","v":0},{"$f":"IFERROR(AVERAGE(Inventory[[#This Row],[Total Net Profit]]/Inventory[[#This Row],[Quantity Sold]]),0)","v":0}]
[null,null,null,null,null,null,null,null,0,0,0,null,null,null,0,{"$f":"IF(Inventory[[#This Row],[Item SKU/ID]]=\"\",0,SUMPRODUCT((Quantity_Sold_1=Inventory[[#This Row],[Item SKU/ID]])*Net_Profit))","v":0},{"$f":"IFERROR(AVERAGE(Inventory[[#This Row],[Total Net Profit]]/Inventory[[#This Row],[Quantity Sold]]),0)","v":0}]
[null,null,null,null,null,null,null,null,0,0,0,null,null,null,0,{"$f":"IF(Inventory[[#This Row],[Item SKU/ID]]=\"\",0,SUMPRODUCT((Quantity_Sold_1=Inventory[[#This Row],[Item SKU/ID]])*Net_Profit))","v":0},{"$f":"IFERROR(AVERAGE(Inventory[[#This Row],[Total Net Profit]]/Inventory[[#This Row],[Quantity Sold]]),0)","v":0}]
[null,null,null,null,null,null,null,null,0,0,0,null,null,null,0,{"$f":"IF(Inventory[[#This Row],[Item SKU/ID]]=\"\",0,SUMPRODUCT((Quantity_Sold_1=Inventory[[#This Row],[Item SKU/ID]])*Net_Profit))","v":0},{"$f":"IFERROR(AVERAGE(Inventory[[#This Row],[Total Net Profit]]/Inventory[[#This Row],[Quantity Sold]]),0)","v":0}]
[null,null,null,null,null,null,null,null,0,0,0,null,null,null,0,{"$f":"IF(Inventory[[#This Row],[Item SKU/ID]]=\"\",0,SUMPRODUCT((Quantity_Sold_1=Inventory[[#This Row],[Item SKU/ID]])*Net_Profit))","v":0},{"$f":"IFERROR(AVERAGE(Inventory[[#This Row],[Total Net Profit]]/Inventory[[#This Row],[Quantity Sold]]),0)","v":0}]
[null,null,null,null,null,null,null,null,0,0,0,null,null,null,0,{"$f":"IF(Inventory[[#This Row],[Item SKU/ID]]=\"\",0,SUMPRODUCT((Quantity_Sold_1=Inventory[[#This Row],[Item SKU/ID]])*Net_Profit))","v":0},{"$f":"IFERROR(AVERAGE(Inventory[[#This Row],[Total Net Profit]]/Inventory[[#This Row],[Quantity Sold]]),0)","v":0}]
[null,null,null,null,null,null,null,null,0,0,0,null,null,null,0,{"$f":"IF(Inventory[[#This Row],[Item SKU/ID]]=\"\",0,SUMPRODUCT((Quantity_Sold_1=Inventory[[#This Row],[Item SKU/ID]])*Net_Profit))","v":0},{"$f":"IFERROR(AVERAGE(Inventory[[#This Row],[Total Net Profit]]/Inventory[[#This Row],[Quantity Sold]]),0)","v":0}]
[null,null,null,null,null,null,null,null,0,0,0,null,null,null,0,{"$f":"IF(Inventory[[#This Row],[Item SKU/ID]]=\"\",0,SUMPRODUCT((Quantity_Sold_1=Inventory[[#This Row],[Item SKU/ID]])*Net_Profit))","v":0},{"$f":"IFERROR(AVERAGE(Inventory[[#This Row],[Total Net Profit]]/Inventory[[#This Row],[Quantity Sold]]),0)","v":0}]
[null,null,null,null,null,null,null,null,0,0,0,null,null,null,0,{"$f":"IF(Inventory[[#This Row],[Item SKU/ID]]=\"\",0,SUMPRODUCT((Quantity_Sold_1=Inventory[[#This Row],[Item SKU/ID]])*Net_Profit))","v":0},{"$f":"IFERROR(AVERAGE(Inventory[[#This Row],[Total Net Profit]]/Inventory[[#This Row],[Quantity Sold]]),0)","v":0}]
[null,null,null,null,null,null,null,null,0,0,0,null,null,null,0,{"$f":"IF(Inventory[[#This Row],[Item SKU/ID]]=\"\",0,SUMPRODUCT((Quantity_Sold_1=Inventory[[#This Row],[Item SKU/ID]])*Net_Profit))","v":0},{"$f":"IFERROR(AVERAGE(Inventory[[#This Row],[Total Net Profit]]/Inventory[[#This Row],[Quantity Sold]]),0)","v":0}]
[null,null,null,null,null,null,null,null,0,0,0,null,null,null,0,{"$f":"IF(Inventory[[#This Row],[Item SKU/ID]]=\"\",0,SUMPRODUCT((Quantity_Sold_1=Inventory[[#This Row],[Item SKU/ID]])*Net_Profit))","v":0},{"$f":"IFERROR(AVERAGE(Inventory[[#This Row],[Total Net Profit]]/Inventory[[#This Row],[Quantity Sold]]),0)","v":0}]
[null,null,null,null,null,null,null,null,0,0,0,null,null,null,0,{"$f":"IF(Inventory[[#This Row],[Item SKU/ID]]=\"\",0,SUMPRODUCT((Quantity_Sold_1=Inventory[[#This Row],[Item SKU/ID]])*Net_Profit))","v":0},{"$f":"IFERROR(AVERAGE(Inventory[[#This Row],[Total Net Profit]]/Inventory[[#This Row],[Quantity Sold]]),0)","v":0}]
[null,null,null,null,null,null,null,null,0,0,0,null,null,null,0,{"$f":"IF(Inventory[[#This Row],[Item SKU/ID]]=\"\",0,SUMPRODUCT((Quantity_Sold_1=Inventory[[#This Row],[Item SKU/ID]])*Net_Profit))","v":0},{"$f":"IFERROR(AVERAGE(Inventory[[#This Row],[Total Net Profit]]/Inventory[[#This Row],[Quantity Sold]]),0)","v":0}]
[null,null,null,null,null,null,null,null,0,0,0,null,null,null,0,{"$f":"IF(Inventory[[#This Row],[Item SKU/ID]]=\"\",0,SUMPRODUCT((Quantity_Sold_1=Inventory[[#This Row],[Item SKU/ID]])*Net_Profit))","v":0},{"$f":"IFERROR(AVERAGE(Inventory[[#This Row],[Total Net Profit]]/Inventory[[#This Row],[Quantity Sold]]),0)","v":0}]
[null,null,null,null,null,null,null,null,0,0,0,null,null,null,0,{"$f":"IF(Inventory[[#This Row],[Item SKU/ID]]=\"\",0,SUMPRODUCT((Quantity_Sold_1=Inventory[[#This Row],[Item SKU/ID]])*Net_Profit))","v":0},{"$f":"IFERROR(AVERAGE(Inventory[[#This Row],[Total Net Profit]]/Inventory[[#This Row],[Quantity Sold]]),0)","v":0}]
[null,null,null,null,null,null,null,null,0,0,0,null,null,null,0,{"$f":"IF(Inventory[[#This Row],[Item SKU/ID]]=\"\",0,SUMPRODUCT((Quantity_Sold_1=Inventory[[#This Row],[Item SKU/ID]])*Net_Profit))","v":0},{"$f":"IFERROR(AVERAGE(Inventory[[#This Row],[Total Net Profit]]/Inventory[[#This Row],[Quantity Sold]]),0)","v":0}]
[null,null,null,null,null,null,null,null,0,0,0,null,null,null,0,{"$f":"IF(Inventory[[#This Row],[Item SKU/ID]]=\"\",0,SUMPRODUCT((Quantity_Sold_1=Inventory[[#This Row],[Item SKU/ID]])*Net_Profit))","v":0},{"$f":"IFERROR(AVERAGE(Inventory[[#This Row],[Total Net Profit]]/Inventory[[#This Row],[Quantity Sold]]),0)","v":0}]
[null,null,null,null,null,null,null,null,0,0,0,null,null,null,0,{"$f":"IF(Inventory[[#This Row],[Item SKU/ID]]=\"\",0,SUMPRODUCT((Quantity_Sold_1=Inventory[[#This Row],[Item SKU/ID]])*Net_Profit))","v":0},{"$f":"IFERROR(AVERAGE(Inventory[[#This Row],[Total Net Profit]]/Inventory[[#This Row],[Quantity Sold]]),0)","v":0}]
[null,null,null,null,null,null,null,null,0,0,0,null,null,null,0,{"$f":"IF(Inventory[[#This Row],[Item SKU/ID]]=\"\",0,SUMPRODUCT((Quantity_Sold_1=Inventory[[#This Row],[Item SKU/ID]])*Net_Profit))","v":0},{"$f":"IFERROR(AVERAGE(Inventory[[#This Row],[Total Net Profit]]/Inventory[[#This Row],[Quantity Sold]]),0)","v":0}]
[null,null,null,null,null,null,null,null,0,0,0,null,null,null,0,{"$f":"IF(Inventory[[#This Row],[Item SKU/ID]]=\"\",0,SUMPRODUCT((Quantity_Sold_1=Inventory[[#This Row],[Item SKU/ID]])*Net_Profit))","v":0},{"$f":"IFERROR(AVERAGE(Inventory[[#This Row],[Total Net Profit]]/Inventory[[#This Row],[Quantity Sold]]),0)","v":0}]
[null,null,null,null,null,null,null,null,0,0,0,null,null,null,0,{"$f":"IF(Inventory[[#This Row],[Item SKU/ID]]=\"\",0,SUMPRODUCT((Quantity_Sold_1=Inventory[[#This Row],[Item SKU/ID]])*Net_Profit))","v":0},{"$f":"IFERROR(AVERAGE(Inventory[[#This Row],[Total Net Profit]]/Inventory[[#This Row],[Quantity Sold]]),0)","v":0}]
[null,null,null,null,null,null,null,null,0,0,0,null,null,null,0,{"$f":"IF(Inventory[[#This Row],[Item SKU/ID]]=\"\",0,SUMPRODUCT((Quantity_Sold_1=Inventory[[#This Row],[Item SKU/ID]])*Net_Profit))","v":0},{"$f":"IFERROR(AVERAGE(Inventory[[#This Row],[Total Net Profit]]/Inventory[[#This Row],[Quantity Sold]]),0)","v":0}]
[null,null,null,null,null,null,null,null,0,0,0,null,null,null,0,{"$f":"IF(Inventory[[#This Row],[Item SKU/ID]]=\"\",0,SUMPRODUCT((Quantity_Sold_1=Inventory[[#This Row],[Item SKU/ID]])*Net_Profit))","v":0},{"$f":"IFERROR(AVERAGE(Inventory[[#This Row],[Total Net Profit]]/Inventory[[#This Row],[Quantity Sold]]),0)","v":0}]
[null,null,null,null,null,null,null,null,0,0,0,null,null,null,0,{"$f":"IF(Inventory[[#This Row],[Item SKU/ID]]=\"\",0,SUMPRODUCT((Quantity_Sold_1=Inventory[[#This Row],[Item SKU/ID]])*Net_Profit))","v":0},{"$f":"IFERROR(AVERAGE(Inventory[[#This Row],[Total Net Profit]]/Inventory[[#This Row],[Quantity Sold]]),0)","v":0}]
[null,null,null,null,null,null,null,null,0,0,0,null,null,null,0,{"$f":"IF(Inventory[[#This Row],[Item SKU/ID]]=\"\",0,SUMPRODUCT((Quantity_Sold_1=Inventory[[#This Row],[Item SKU/ID]])*Net_Profit))","v":0},{"$f":"IFERROR(AVERAGE(Inventory[[#This Row],[Total Net Profit]]/Inventory[[#This Row],[Quantity Sold]]),0)","v":0}]
[null,null,null,null,null,null,null,null,0,0,0,null,null,null,0,{"$f":"IF(Inventory[[#This Row],[Item SKU/ID]]=\"\",0,SUMPRODUCT((Quantity_Sold_1=Inventory[[#This Row],[Item SKU/ID]])*Net_Profit))","v":0},{"$f":"IFERROR(AVERAGE(Inventory[[#This Row],[Total Net Profit]]/Inventory[[#This Row],[Quantity Sold]]),0)","v":0}]
[null,null,null,null,null,null,null,null,0,0,0,null,null,null,0,{"$f":"IF(Inventory[[#This Row],[Item SKU/ID]]=\"\",0,SUMPRODUCT((Quantity_Sold_1=Inventory[[#This Row],[Item SKU/ID]])*Net_Profit))","v":0},{"$f":"IFERROR(AVERAGE(Inventory[[#This Row],[Total Net Profit]]/Inventory[[#This Row],[Quantity Sold]]),0)","v":0}]
[null,null,null,null,null,null,null,null,0,0,0,null,null,null,0,{"$f":"IF(Inventory[[#This Row],[Item SKU/ID]]=\"\",0,SUMPRODUCT((Quantity_Sold_1=Inventory[[#This Row],[Item SKU/ID]])*Net_Profit))","v":0},{"$f":"IFERROR(AVERAGE(Inventory[[#This Row],[Total Net Profit]]/Inventory[[#This Row],[Quantity Sold]]),0)","v":0}]
[null,null,null,null,null,null,null,null,0,0,0,null,null,null,0,{"$f":"IF(Inventory[[#This Row],[Item SKU/ID]]=\"\",0,SUMPRODUCT((Quantity_Sold_1=Inventory[[#This Row],[Item SKU/ID]])*Net_Profit))","v":0},{"$f":"IFERROR(AVERAGE(Inventory[[#This Row],[Total Net Profit]]/Inventory[[#This Row],[Quantity Sold]]),0)","v":0}]
[null,null,null,null,null,null,null,null,0,0,0,null,null,null,0,{"$f":"IF(Inventory[[#This Row],[Item SKU/ID]]=\"\",0,SUMPRODUCT((Quantity_Sold_1=Inventory[[#This Row],[Item SKU/ID]])*Net_Profit))","v":0},{"$f":"IFERROR(AVERAGE(Inventory[[#This Row],[Total Net Profit]]/Inventory[[#This Row],[Quantity Sold]]),0)","v":0}]
[null,null,null,null,null,null,null,null,0,0,0,null,null,null,0,{"$f":"IF(Inventory[[#This Row],[Item SKU/ID]]=\"\",0,SUMPRODUCT((Quantity_Sold_1=Inventory[[#This Row],[Item SKU/ID]])*Net_Profit))","v":0},{"$f":"IFERROR(AVERAGE(Inventory[[#This Row],[Total Net Profit]]/Inventory[[#This Row],[Quantity Sold]]),0)","v":0}]
[null,null,null,null,null,null,null,null,0,0,0,null,null,null,0,{"$f":"IF(Inventory[[#This Row],[Item SKU/ID]]=\"\",0,SUMPRODUCT((Quantity_Sold_1=Inventory[[#This Row],[Item SKU/ID]])*Net_Profit))","v":0},{"$f":"IFERROR(AVERAGE(Inventory[[#This Row],[Total Net Profit]]/Inventory[[#This Row],[Quantity Sold]]),0)","v":0}]
[null,null,null,null,null,null,null,null,0,0,0,null,null,null,0,{"$f":"IF(Inventory[[#This Row],[Item SKU/ID]]=\"\",0,SUMPRODUCT((Quantity_Sold_1=Inventory[[#This Row],[Item SKU/ID]])*Net_Profit))","v":0},{"$f":"IFERROR(AVERAGE(Inventory[[#This Row],[Total Net Profit]]/Inventory[[#This Row],[Quantity Sold]]),0)","v":0}]
[null,null,null,null,null,null,null,null,0,0,0,null,null,null,0,{"$f":"IF(Inventory[[#This Row],[Item SKU/ID]]=\"\",0,SUMPRODUCT((Quantity_Sold_1=Inventory[[#This Row],[Item SKU/ID]])*Net_Profit))","v":0},{"$f":"IFERROR(AVERAGE(Inventory[[#This Row],[Total Net Profit]]/Inventory[[#This Row],[Quantity Sold]]),0)","v":0}]
[null,null,null,null,null,null,null,null,0,0,0,null,null,null,0,{"$f":"IF(Inventory[[#This Row],[Item SKU/ID]]=\"\",0,SUMPRODUCT((Quantity_Sold_1=Inventory[[#This Row],[Item SKU/ID]])*Net_Profit))","v":0},{"$f":"IFERROR(AVERAGE(Inventory[[#This Row],[Total Net Profit]]/Inventory[[#This Row],[Quantity Sold]]),0)","v":0}]
[null,null,null,null,null,null,null,null,0,0,0,null,null,null,0,{"$f":"IF(Inventory[[#This Row],[Item SKU/ID]]=\"\",0,SUMPRODUCT((Quantity_Sold_1=Inventory[[#This Row],[Item SKU/ID]])*Net_Profit))","v":0},{"$f":"IFERROR(AVERAGE(Inventory[[#This Row],[Total Net Profit]]/Inventory[[#This Row],[Quantity Sold]]),0)","v":0}]
[null,null,null,null,null,null,null,null,0,0,0,null,null,null,0,{"$f":"IF(Inventory[[#This Row],[Item SKU/ID]]=\"\",0,SUMPRODUCT((Quantity_Sold_1=Inventory[[#This Row],[Item SKU/ID]])*Net_Profit))","v":0},{"$f":"IFERROR(AVERAGE(Inventory[[#This Row],[Total Net Profit]]/Inventory[[#This Row],[Quantity Sold]]),0)","v":0}]
[null,null,null,null,null,null,null,null,0,0,0,null,null,null,0,{"$f":"IF(Inventory[[#This Row],[Item SKU/ID]]=\"\",0,SUMPRODUCT((Quantity_Sold_1=Inventory[[#This Row],[Item SKU/ID]])*Net_Profit))","v":0},{"$f":"IFERROR(AVERAGE(Inventory[[#This Row],[Total Net Profit]]/Inventory[[#This Row],[Quantity Sold]]),0)","v":0}]
[null,null,null,null,null,null,null,null,0,0,0,null,null,null,0,{"$f":"IF(Inventory[[#This Row],[Item SKU/ID]]=\"\",0,SUMPRODUCT((Quantity_Sold_1=Inventory[[#This Row],[Item SKU/ID]])*Net_Profit))","v":0},{"$f":"IFERROR(AVERAGE(Inventory[[#This Row],[Total Net Profit]]/Inventory[[#This Row],[Quantity Sold]]),0)","v":0}]
[null,null,null,null,null,null,null,null,0,0,0,null,null,null,0,{"$f":"IF(Inventory[[#This Row],[Item SKU/ID]]=\"\",0,SUMPRODUCT((Quantity_Sold_1=Inventory[[#This Row],[Item SKU/ID]])*Net_Profit))","v":0},{"$f":"IFERROR(AVERAGE(Inventory[[#This Row],[Total Net Profit]]/Inventory[[#This Row],[Quantity Sold]]),0)","v":0}]
[null,null,null,null,null,null,null,null,0,0,0,null,null,null,0,{"$f":"IF(Inventory[[#This Row],[Item SKU/ID]]=\"\",0,SUMPRODUCT((Quantity_Sold_1=Inventory[[#This Row],[Item SKU/ID]])*Net_Profit))","v":0},{"$f":"IFERROR(AVERAGE(Inventory[[#This Row],[Total Net Profit]]/Inventory[[#This Row],[Quantity Sold]]),0)","v":0}]
[null,null,null,null,null,null,null,null,0,0,0,null,null,null,0,{"$f":"IF(Inventory[[#This Row],[Item SKU/ID]]=\"\",0,SUMPRODUCT((Quantity_Sold_1=Inventory[[#This Row],[Item SKU/ID]])*Net_Profit))","v":0},{"$f":"IFERROR(AVERAGE(Inventory[[#This Row],[Total Net Profit]]/Inventory[[#This Row],[Quantity Sold]]),0)","v":0}]
[null,null,null,null,null,null,null,null,0,0,0,null,null,null,0,{"$f":"IF(Inventory[[#This Row],[Item SKU/ID]]=\"\",0,SUMPRODUCT((Quantity_Sold_1=Inventory[[#This Row],[Item SKU/ID]])*Net_Profit))","v":0},{"$f":"IFERROR(AVERAGE(Inventory[[#This Row],[Total Net Profit]]/Inventory[[#This Row],[Quantity Sold]]),0)","v":0}]
[null,null,null,null,null,null,null,null,0,0,0,null,null,null,0,{"$f":"IF(Inventory[[#This Row],[Item SKU/ID]]=\"\",0,SUMPRODUCT((Quantity_Sold_1=Inventory[[#This Row],[Item SKU/ID]])*Net_Profit))","v":0},{"$f":"IFERROR(AVERAGE(Inventory[[#This Row],[Total Net Profit]]/Inventory[[#This Row],[Quantity Sold]]),0)","v":0}]
[null,null,null,null,null,null,null,null,0,0,0,null,null,null,0,{"$f":"IF(Inventory[[#This Row],[Item SKU/ID]]=\"\",0,SUMPRODUCT((Quantity_Sold_1=Inventory[[#This Row],[Item SKU/ID]])*Net_Profit))","v":0},{"$f":"IFERROR(AVERAGE(Inventory[[#This Row],[Total Net Profit]]/Inventory[[#This Row],[Quantity Sold]]),0)","v":0}]
[null,null,null,null,null,null,null,null,0,0,0,null,null,null,0,{"$f":"IF(Inventory[[#This Row],[Item SKU/ID]]=\"\",0,SUMPRODUCT((Quantity_Sold_1=Inventory[[#This Row],[Item SKU/ID]])*Net_Profit))","v":0},{"$f":"IFERROR(AVERAGE(Inventory[[#This Row],[Total Net Profit]]/Inventory[[#This Row],[Quantity Sold]]),0)","v":0}]
[null,null,null,null,null,null,null,null,0,0,0,null,null,null,0,{"$f":"IF(Inventory[[#This Row],[Item SKU/ID]]=\"\",0,SUMPRODUCT((Quantity_Sold_1=Inventory[[#This Row],[Item SKU/ID]])*Net_Profit))","v":0},{"$f":"IFERROR(AVERAGE(Inventory[[#This Row],[Total Net Profit]]/Inventory[[#This Row],[Quantity Sold]]),0)","v":0}]
[null,null,null,null,null,null,null,null,0,0,0,null,null,null,0,{"$f":"IF(Inventory[[#This Row],[Item SKU/ID]]=\"\",0,SUMPRODUCT((Quantity_Sold_1=Inventory[[#This Row],[Item SKU/ID]])*Net_Profit))","v":0},{"$f":"IFERROR(AVERAGE(Inventory[[#This Row],[Total Net Profit]]/Inventory[[#This Row],[Quantity Sold]]),0)","v":0}]
[null,null,null,null,null,null,null,null,0,0,0,null,null,null,0,{"$f":"IF(Inventory[[#This Row],[Item SKU/ID]]=\"\",0,SUMPRODUCT((Quantity_Sold_1=Inventory[[#This Row],[Item SKU/ID]])*Net_Profit))","v":0},{"$f":"IFERROR(AVERAGE(Inventory[[#This Row],[Total Net Profit]]/Inventory[[#This Row],[Quantity Sold]]),0)","v":0}]
[null,null,null,null,null,null,null,null,0,0,0,null,null,null,0,{"$f":"IF(Inventory[[#This Row],[Item SKU/ID]]=\"\",0,SUMPRODUCT((Quantity_Sold_1=Inventory[[#This Row],[Item SKU/ID]])*Net_Profit))","v":0},{"$f":"IFERROR(AVERAGE(Inventory[[#This Row],[Total Net Profit]]/Inventory[[#This Row],[Quantity Sold]]),0)","v":0}]
[null,null,null,null,null,null,null,null,0,0,0,null,null,null,0,{"$f":"IF(Inventory[[#This Row],[Item SKU/ID]]=\"\",0,SUMPRODUCT((Quantity_Sold_1=Inventory[[#This Row],[Item SKU/ID]])*Net_Profit))","v":0},{"$f":"IFERROR(AVERAGE(Inventory[[#This Row],[Total Net Profit]]/Inventory[[#This Row],[Quantity Sold]]),0)","v":0}]
[null,null,null,null,null,null,null,null,0,0,0,null,null,null,0,{"$f":"IF(Inventory[[#This Row],[Item SKU/ID]]=\"\",0,SUMPRODUCT((Quantity_Sold_1=Inventory[[#This Row],[Item SKU/ID]])*Net_Profit))","v":0},{"$f":"IFERROR(AVERAGE(Inventory[[#This Row],[Total Net Profit]]/Inventory[[#This Row],[Quantity Sold]]),0)","v":0}]
[null,null,null,null,null,null,null,null,0,0,0,null,null,null,0,{"$f":"IF(Inventory[[#This Row],[Item SKU/ID]]=\"\",0,SUMPRODUCT((Quantity_Sold_1=Inventory[[#This Row],[Item SKU/ID]])*Net_Profit))","v":0},{"$f":"IFERROR(AVERAGE(Inventory[[#This Row],[Total Net Profit]]/Inventory[[#This Row],[Quantity Sold]]),0)","v":0}]
[null,null,null,null,null,null,null,null,{"$f":"K516*H516","v":0},{"$f":"IF(F516=\"\",0,SUMPRODUCT((Quantity_Sold_1=F516)*Quantity_Sold_2))","v":0},{"$f":"G516-J516","v":0},null,null,null,{"$f":"K516*H516","v":0},{"$f":"IF(Inventory[[#This Row],[Item SKU/ID]]=\"\",0,SUMPRODUCT((Quantity_Sold_1=Inventory[[#This Row],[Item SKU/ID]])*Net_Profit))","v":0},{"$f":"IFERROR(AVERAGE(Inventory[[#This Row],[Total Net Profit]]/Inventory[[#This Row],[Quantity Sold]]),0)","v":0}]
[null,null,null,null,null,null,null,null,0,0,0,null,null,null,0,{"$f":"IF(Inventory[[#This Row],[Item SKU/ID]]=\"\",0,SUMPRODUCT((Quantity_Sold_1=Inventory[[#This Row],[Item SKU/ID]])*Net_Profit))","v":0},{"$f":"IFERROR(AVERAGE(Inventory[[#This Row],[Total Net Profit]]/Inventory[[#This Row],[Quantity Sold]]),0)","v":0}]
[null,null,null,null,null,null,null,null,0,0,0,null,null,null,0,{"$f":"IF(Inventory[[#This Row],[Item SKU/ID]]=\"\",0,SUMPRODUCT((Quantity_Sold_1=Inventory[[#This Row],[Item SKU/ID]])*Net_Profit))","v":0},{"$f":"IFERROR(AVERAGE(Inventory[[#This Row],[Total Net Profit]]/Inventory[[#This Row],[Quantity Sold]]),0)","v":0}]
[null,null,null,null,null,null,null,null,0,0,0,null,null,null,0,{"$f":"IF(Inventory[[#This Row],[Item SKU/ID]]=\"\",0,SUMPRODUCT((Quantity_Sold_1=Inventory[[#This Row],[Item SKU/ID]])*Net_Profit))","v":0},{"$f":"IFERROR(AVERAGE(Inventory[[#This Row],[Total Net Profit]]/Inventory[[#This Row],[Quantity Sold]]),0)","v":0}]
[null,null,null,null,null,null,null,null,0,0,0,null,null,null,0,{"$f":"IF(Inventory[[#This Row],[Item SKU/ID]]=\"\",0,SUMPRODUCT((Quantity_Sold_1=Inventory[[#This Row],[Item SKU/ID]])*Net_Profit))","v":0},{"$f":"IFERROR(AVERAGE(Inventory[[#This Row],[Total Net Profit]]/Inventory[[#This Row],[Quantity Sold]]),0)","v":0}]
[null,null,null,null,null,null,null,null,0,0,0,null,null,null,0,{"$f":"IF(Inventory[[#This Row],[Item SKU/ID]]=\"\",0,SUMPRODUCT((Quantity_Sold_1=Inventory[[#This Row],[Item SKU/ID]])*Net_Profit))","v":0},{"$f":"IFERROR(AVERAGE(Inventory[[#This Row],[Total Net Profit]]/Inventory[[#This Row],[Quantity Sold]]),0)","v":0}]
[null,null,null,null,null,null,null,null,0,0,0,null,null,null,0,{"$f":"IF(Inventory[[#This Row],[Item SKU/ID]]=\"\",0,SUMPRODUCT((Quantity_Sold_1=Inventory[[#This Row],[Item SKU/ID]])*Net_Profit))","v":0},{"$f":"IFERROR(AVERAGE(Inventory[[#This Row],[Total Net Profit]]/Inventory[[#This Row],[Quantity Sold]]),0)","v":0}]
[null,null,null,null,null,null,null,null,0,0,0,null,null,null,0,{"$f":"IF(Inventory[[#This Row],[Item SKU/ID]]=\"\",0,SUMPRODUCT((Quantity_Sold_1=Inventory[[#This Row],[Item SKU/ID]])*Net_Profit))","v":0},{"$f":"IFERROR(AVERAGE(Inventory[[#This Row],[Total Net Profit]]/Inventory[[#This Row],[Quantity Sold]]),0)","v":0}]
[null,null,null,null,null,null,null,null,0,0,0,null,null,null,0,{"$f":"IF(Inventory[[#This Row],[Item SKU/ID]]=\"\",0,SUMPRODUCT((Quantity_Sold_1=Inventory[[#This Row],[Item SKU/ID]])*Net_Profit))","v":0},{"$f":"IFERROR(AVERAGE(Inventory[[#This Row],[Total Net Profit]]/Inventory[[#This Row],[Quantity Sold]]),0)","v":0}]
[null,null,null,null,null,null,null,null,0,0,0,null,null,null,0,{"$f":"IF(Inventory[[#This Row],[Item SKU/ID]]=\"\",0,SUMPRODUCT((Quantity_Sold_1=Inventory[[#This Row],[Item SKU/ID]])*Net_Profit))","v":0},{"$f":"IFERROR(AVERAGE(Inventory[[#This Row],[Total Net Profit]]/Inventory[[#This Row],[Quantity Sold]]),0)","v":0}]
[null,null,null,null,null,null,null,null,0,0,0,null,null,null,0,{"$f":"IF(Inventory[[#This Row],[Item SKU/ID]]=\"\",0,SUMPRODUCT((Quantity_Sold_1=Inventory[[#This Row],[Item SKU/ID]])*Net_Profit))","v":0},{"$f":"IFERROR(AVERAGE(Inventory[[#This Row],[Total Net Profit]]/Inventory[[#This Row],[Quantity Sold]]),0)","v":0}]
[null,null,null,null,null,null,null,null,0,0,0,null,null,null,0,{"$f":"IF(Inventory[[#This Row],[Item SKU/ID]]=\"\",0,SUMPRODUCT((Quantity_Sold_1=Inventory[[#This Row],[Item SKU/ID]])*Net_Profit))","v":0},{"$f":"IFERROR(AVERAGE(Inventory[[#This Row],[Total Net Profit]]/Inventory[[#This Row],[Quantity Sold]]),0)","v":0}]
[null,null,null,null,null,null,null,null,0,0,0,null,null,null,0,{"$f":"IF(Inventory[[#This Row],[Item SKU/ID]]=\"\",0,SUMPRODUCT((Quantity_Sold_1=Inventory[[#This Row],[Item SKU/ID]])*Net_Profit))","v":0},{"$f":"IFERROR(AVERAGE(Inventory[[#This Row],[Total Net Profit]]/Inventory[[#This Row],[Quantity Sold]]),0)","v":0}]
[null,null,null,null,null,null,null,null,0,0,0,null,null,null,0,{"$f":"IF(Inventory[[#This Row],[Item SKU/ID]]=\"\",0,SUMPRODUCT((Quantity_Sold_1=Inventory[[#This Row],[Item SKU/ID]])*Net_Profit))","v":0},{"$f":"IFERROR(AVERAGE(Inventory[[#This Row],[Total Net Profit]]/Inventory[[#This Row],[Quantity Sold]]),0)","v":0}]
[null,null,null,null,null,null,null,null,0,0,0,null,null,null,0,{"$f":"IF(Inventory[[#This Row],[Item SKU/ID]]=\"\",0,SUMPRODUCT((Quantity_Sold_1=Inventory[[#This Row],[Item SKU/ID]])*Net_Profit))","v":0},{"$f":"IFERROR(AVERAGE(Inventory[[#This Row],[Total Net Profit]]/Inventory[[#This Row],[Quantity Sold]]),0)","v":0}]
[null,null,null,null,null,null,null,null,0,0,0,null,null,null,0,{"$f":"IF(Inventory[[#This Row],[Item SKU/ID]]=\"\",0,SUMPRODUCT((Quantity_Sold_1=Inventory[[#This Row],[Item SKU/ID]])*Net_Profit))","v":0},{"$f":"IFERROR(AVERAGE(Inventory[[#This Row],[Total Net Profit]]/Inventory[[#This Row],[Quantity Sold]]),0)","v":0}]
[null,null,null,null,null,null,null,null,0,0,0,null,null,null,0,{"$f":"IF(Inventory[[#This Row],[Item SKU/ID]]=\"\",0,SUMPRODUCT((Quantity_Sold_1=Inventory[[#This Row],[Item SKU/ID]])*Net_Profit))","v":0},{"$f":"IFERROR(AVERAGE(Inventory[[#This Row],[Total Net Profit]]/Inventory[[#This Row],[Quantity Sold]]),0)","v":0}]
[null,null,null,null,null,null,null,null,0,0,0,null,null,null,0,{"$f":"IF(Inventory[[#This Row],[Item SKU/ID]]=\"\",0,SUMPRODUCT((Quantity_Sold_1=Inventory[[#This Row],[Item SKU/ID]])*Net_Profit))","v":0},{"$f":"IFERROR(AVERAGE(Inventory[[#This Row],[Total Net Profit]]/Inventory[[#This Row],[Quantity Sold]]),0)","v":0}]
[null,null,null,null,null,null,null,null,0,0,0,null,null,null,0,{"$f":"IF(Inventory[[#This Row],[Item SKU/ID]]=\"\",0,SUMPRODUCT((Quantity_Sold_1=Inventory[[#This Row],[Item SKU/ID]])*Net_Profit))","v":0},{"$f":"IFERROR(AVERAGE(Inventory[[#This Row],[Total Net Profit]]/Inventory[[#This Row],[Quantity Sold]]),0)","v":0}]
[null,null,null,null,null,null,null,null,0,0,0,null,null,null,0,{"$f":"IF(Inventory[[#This Row],[Item SKU/ID]]=\"\",0,SUMPRODUCT((Quantity_Sold_1=Inventory[[#This Row],[Item SKU/ID]])*Net_Profit))","v":0},{"$f":"IFERROR(AVERAGE(Inventory[[#This Row],[Total Net Profit]]/Inventory[[#This Row],[Quantity Sold]]),0)","v":0}]
[null,null,null,null,null,null,null,null,0,0,0,null,null,null,0,{"$f":"IF(Inventory[[#This Row],[Item SKU/ID]]=\"\",0,SUMPRODUCT((Quantity_Sold_1=Inventory[[#This Row],[Item SKU/ID]])*Net_Profit))","v":0},{"$f":"IFERROR(AVERAGE(Inventory[[#This Row],[Total Net Profit]]/Inventory[[#This Row],[Quantity Sold]]),0)","v":0}]
[null,null,null,null,null,null,null,null,0,0,0,null,null,null,0,{"$f":"IF(Inventory[[#This Row],[Item SKU/ID]]=\"\",0,SUMPRODUCT((Quantity_Sold_1=Inventory[[#This Row],[Item SKU/ID]])*Net_Profit))","v":0},{"$f":"IFERROR(AVERAGE(Inventory[[#This Row],[Total Net Profit]]/Inventory[[#This Row],[Quantity Sold]]),0)","v":0}]
[null,null,null,null,null,null,null,null,0,0,0,null,null,null,0,{"$f":"IF(Inventory[[#This Row],[Item SKU/ID]]=\"\",0,SUMPRODUCT((Quantity_Sold_1=Inventory[[#This Row],[Item SKU/ID]])*Net_Profit))","v":0},{"$f":"IFERROR(AVERAGE(Inventory[[#This Row],[Total Net Profit]]/Inventory[[#This Row],[Quantity Sold]]),0)","v":0}]
[null,null,null,null,null,null,null,null,0,0,0,null,null,null,0,{"$f":"IF(Inventory[[#This Row],[Item SKU/ID]]=\"\",0,SUMPRODUCT((Quantity_Sold_1=Inventory[[#This Row],[Item SKU/ID]])*Net_Profit))","v":0},{"$f":"IFERROR(AVERAGE(Inventory[[#This Row],[Total Net Profit]]/Inventory[[#This Row],[Quantity Sold]]),0)","v":0}]
[null,null,null,null,null,null,null,null,0,0,0,null,null,null,0,{"$f":"IF(Inventory[[#This Row],[Item SKU/ID]]=\"\",0,SUMPRODUCT((Quantity_Sold_1=Inventory[[#This Row],[Item SKU/ID]])*Net_Profit))","v":0},{"$f":"IFERROR(AVERAGE(Inventory[[#This Row],[Total Net Profit]]/Inventory[[#This Row],[Quantity Sold]]),0)","v":0}]
[null,null,null,null,null,null,null,null,0,0,0,null,null,null,0,{"$f":"IF(Inventory[[#This Row],[Item SKU/ID]]=\"\",0,SUMPRODUCT((Quantity_Sold_1=Inventory[[#This Row],[Item SKU/ID]])*Net_Profit))","v":0},{"$f":"IFERROR(AVERAGE(Inventory[[#This Row],[Total Net Profit]]/Inventory[[#This Row],[Quantity Sold]]),0)","v":0}]
[null,null,null,null,null,null,null,null,0,0,0,null,null,null,0,{"$f":"IF(Inventory[[#This Row],[Item SKU/ID]]=\"\",0,SUMPRODUCT((Quantity_Sold_1=Inventory[[#This Row],[Item SKU/ID]])*Net_Profit))","v":0},{"$f":"IFERROR(AVERAGE(Inventory[[#This Row],[Total Net Profit]]/Inventory[[#This Row],[Quantity Sold]]),0)","v":0}]
[null,null,null,null,null,null,null,null,0,0,0,null,null,null,0,{"$f":"IF(Inventory[[#This Row],[Item SKU/ID]]=\"\",0,SUMPRODUCT((Quantity_Sold_1=Inventory[[#This Row],[Item SKU/ID]])*Net_Profit))","v":0},{"$f":"IFERROR(AVERAGE(Inventory[[#This Row],[Total Net Profit]]/Inventory[[#This Row],[Quantity Sold]]),0)","v":0}]
[null,null,null,null,null,null,null,null,0,0,0,null,null,null,0,{"$f":"IF(Inventory[[#This Row],[Item SKU/ID]]=\"\",0,SUMPRODUCT((Quantity_Sold_1=Inventory[[#This Row],[Item SKU/ID]])*Net_Profit))","v":0},{"$f":"IFERROR(AVERAGE(Inventory[[#This Row],[Total Net Profit]]/Inventory[[#This Row],[Quantity Sold]]),0)","v":0}]
[null,null,null,null,null,null,null,null,0,0,0,null,null,null,0,{"$f":"IF(Inventory[[#This Row],[Item SKU/ID]]=\"\",0,SUMPRODUCT((Quantity_Sold_1=Inventory[[#This Row],[Item SKU/ID]])*Net_Profit))","v":0},{"$f":"IFERROR(AVERAGE(Inventory[[#This Row],[Total Net Profit]]/Inventory[[#This Row],[Quantity Sold]]),0)","v":0}]
[null,null,null,null,null,null,null,null,0,0,0,null,null,null,0,{"$f":"IF(Inventory[[#This Row],[Item SKU/ID]]=\"\",0,SUMPRODUCT((Quantity_Sold_1=Inventory[[#This Row],[Item SKU/ID]])*Net_Profit))","v":0},{"$f":"IFERROR(AVERAGE(Inventory[[#This Row],[Total Net Profit]]/Inventory[[#This Row],[Quantity Sold]]),0)","v":0}]
[null,null,null,null,null,null,null,null,0,0,0,null,null,null,0,{"$f":"IF(Inventory[[#This Row],[Item SKU/ID]]=\"\",0,SUMPRODUCT((Quantity_Sold_1=Inventory[[#This Row],[Item SKU/ID]])*Net_Profit))","v":0},{"$f":"IFERROR(AVERAGE(Inventory[[#This Row],[Total Net Profit]]/Inventory[[#This Row],[Quantity Sold]]),0)","v":0}]
[null,null,null,null,null,null,null,null,0,0,0,null,null,null,0,{"$f":"IF(Inventory[[#This Row],[Item SKU/ID]]=\"\",0,SUMPRODUCT((Quantity_Sold_1=Inventory[[#This Row],[Item SKU/ID]])*Net_Profit))","v":0},{"$f":"IFERROR(AVERAGE(Inventory[[#This Row],[Total Net Profit]]/Inventory[[#This Row],[Quantity Sold]]),0)","v":0}]
[null,null,null,null,null,null,null,null,0,0,0,null,null,null,0,{"$f":"IF(Inventory[[#This Row],[Item SKU/ID]]=\"\",0,SUMPRODUCT((Quantity_Sold_1=Inventory[[#This Row],[Item SKU/ID]])*Net_Profit))","v":0},{"$f":"IFERROR(AVERAGE(Inventory[[#This Row],[Total Net Profit]]/Inventory[[#This Row],[Quantity Sold]]),0)","v":0}]
[null,null,null,null,null,null,null,null,0,0,0,null,null,null,0,{"$f":"IF(Inventory[[#This Row],[Item SKU/ID]]=\"\",0,SUMPRODUCT((Quantity_Sold_1=Inventory[[#This Row],[Item SKU/ID]])*Net_Profit))","v":0},{"$f":"IFERROR(AVERAGE(Inventory[[#This Row],[Total Net Profit]]/Inventory[[#This Row],[Quantity Sold]]),0)","v":0}]
[null,null,null,null,null,null,null,null,0,0,0,null,null,null,0,{"$f":"IF(Inventory[[#This Row],[Item SKU/ID]]=\"\",0,SUMPRODUCT((Quantity_Sold_1=Inventory[[#This Row],[Item SKU/ID]])*Net_Profit))","v":0},{"$f":"IFERROR(AVERAGE(Inventory[[#This Row],[Total Net Profit]]/Inventory[[#This Row],[Quantity Sold]]),0)","v":0}]
[null,null,null,null,null,null,null,null,0,0,0,null,null,null,0,{"$f":"IF(Inventory[[#This Row],[Item SKU/ID]]=\"\",0,SUMPRODUCT((Quantity_Sold_1=Inventory[[#This Row],[Item SKU/ID]])*Net_Profit))","v":0},{"$f":"IFERROR(AVERAGE(Inventory[[#This Row],[Total Net Profit]]/Inventory[[#This Row],[Quantity Sold]]),0)","v":0}]
[null,null,null,null,null,null,null,null,0,0,0,null,null,null,0,{"$f":"IF(Inventory[[#This Row],[Item SKU/ID]]=\"\",0,SUMPRODUCT((Quantity_Sold_1=Inventory[[#This Row],[Item SKU/ID]])*Net_Profit))","v":0},{"$f":"IFERROR(AVERAGE(Inventory[[#This Row],[Total Net Profit]]/Inventory[[#This Row],[Quantity Sold]]),0)","v":0}]
[null,null,null,null,null,null,null,null,0,0,0,null,null,null,0,{"$f":"IF(Inventory[[#This Row],[Item SKU/ID]]=\"\",0,SUMPRODUCT((Quantity_Sold_1=Inventory[[#This Row],[Item SKU/ID]])*Net_Profit))","v":0},{"$f":"IFERROR(AVERAGE(Inventory[[#This Row],[Total Net Profit]]/Inventory[[#This Row],[Quantity Sold]]),0)","v":0}]
[null,null,null,null,null,null,null,null,0,0,0,null,null,null,0,{"$f":"IF(Inventory[[#This Row],[Item SKU/ID]]=\"\",0,SUMPRODUCT((Quantity_Sold_1=Inventory[[#This Row],[Item SKU/ID]])*Net_Profit))","v":0},{"$f":"IFERROR(AVERAGE(Inventory[[#This Row],[Total Net Profit]]/Inventory[[#This Row],[Quantity Sold]]),0)","v":0}]
[null,null,null,null,null,null,null,null,0,0,0,null,null,null,0,{"$f":"IF(Inventory[[#This Row],[Item SKU/ID]]=\"\",0,SUMPRODUCT((Quantity_Sold_1=Inventory[[#This Row],[Item SKU/ID]])*Net_Profit))","v":0},{"$f":"IFERROR(AVERAGE(Inventory[[#This Row],[Total Net Profit]]/Inventory[[#This Row],[Quantity Sold]]),0)","v":0}]
[null,null,null,null,null,null,null,null,0,0,0,null,null,null,0,{"$f":"IF(Inventory[[#This Row],[Item SKU/ID]]=\"\",0,SUMPRODUCT((Quantity_Sold_1=Inventory[[#This Row],[Item SKU/ID]])*Net_Profit))","v":0},{"$f":"IFERROR(AVERAGE(Inventory[[#This Row],[Total Net Profit]]/Inventory[[#This Row],[Quantity Sold]]),0)","v":0}]
[null,null,null,null,null,null,null,null,0,0,0,null,null,null,0,{"$f":"IF(Inventory[[#This Row],[Item SKU/ID]]=\"\",0,SUMPRODUCT((Quantity_Sold_1=Inventory[[#This Row],[Item SKU/ID]])*Net_Profit))","v":0},{"$f":"IFERROR(AVERAGE(Inventory[[#This Row],[Total Net Profit]]/Inventory[[#This Row],[Quantity Sold]]),0)","v":0}]
[null,null,null,null,null,null,null,null,0,0,0,null,null,null,0,{"$f":"IF(Inventory[[#This Row],[Item SKU/ID]]=\"\",0,SUMPRODUCT((Quantity_Sold_1=Inventory[[#This Row],[Item SKU/ID]])*Net_Profit))","v":0},{"$f":"IFERROR(AVERAGE(Inventory[[#This Row],[Total Net Profit]]/Inventory[[#This Row],[Quantity Sold]]),0)","v":0}]
[null,null,null,null,null,null,null,null,0,0,0,null,null,null,0,{"$f":"IF(Inventory[[#This Row],[Item SKU/ID]]=\"\",0,SUMPRODUCT((Quantity_Sold_1=Inventory[[#This Row],[Item SKU/ID]])*Net_Profit))","v":0},{"$f":"IFERROR(AVERAGE(Inventory[[#This Row],[Total Net Profit]]/Inventory[[#This Row],[Quantity Sold]]),0)","v":0}]
[null,null,null,null,null,null,null,null,0,0,0,null,null,null,0,{"$f":"IF(Inventory[[#This Row],[Item SKU/ID]]=\"\",0,SUMPRODUCT((Quantity_Sold_1=Inventory[[#This Row],[Item SKU/ID]])*Net_Profit))","v":0},{"$f":"IFERROR(AVERAGE(Inventory[[#This Row],[Total Net Profit]]/Inventory[[#This Row],[Quantity Sold]]),0)","v":0}]
[null,null,null,null,null,null,null,null,0,0,0,null,null,null,0,{"$f":"IF(Inventory[[#This Row],[Item SKU/ID]]=\"\",0,SUMPRODUCT((Quantity_Sold_1=Inventory[[#This Row],[Item SKU/ID]])*Net_Profit))","v":0},{"$f":"IFERROR(AVERAGE(Inventory[[#This Row],[Total Net Profit]]/Inventory[[#This Row],[Quantity Sold]]),0)","v":0}]
[null,null,null,null,null,null,null,null,0,0,0,null,null,null,0,{"$f":"IF(Inventory[[#This Row],[Item SKU/ID]]=\"\",0,SUMPRODUCT((Quantity_Sold_1=Inventory[[#This Row],[Item SKU/ID]])*Net_Profit))","v":0},{"$f":"IFERROR(AVERAGE(Inventory[[#This Row],[Total Net Profit]]/Inventory[[#This Row],[Quantity Sold]]),0)","v":0}]
[null,null,null,null,null,null,null,null,0,0,0,null,null,null,0,{"$f":"IF(Inventory[[#This Row],[Item SKU/ID]]=\"\",0,SUMPRODUCT((Quantity_Sold_1=Inventory[[#This Row],[Item SKU/ID]])*Net_Profit))","v":0},{"$f":"IFERROR(AVERAGE(Inventory[[#This Row],[Total Net Profit]]/Inventory[[#This Row],[Quantity Sold]]),0)","v":0}]
[null,null,null,null,null,null,null,null,0,0,0,null,null,null,0,{"$f":"IF(Inventory[[#This Row],[Item SKU/ID]]=\"\",0,SUMPRODUCT((Quantity_Sold_1=Inventory[[#This Row],[Item SKU/ID]])*Net_Profit))","v":0},{"$f":"IFERROR(AVERAGE(Inventory[[#This Row],[Total Net Profit]]/Inventory[[#This Row],[Quantity Sold]]),0)","v":0}]
[null,null,null,null,null,null,null,null,0,0,0,null,null,null,0,{"$f":"IF(Inventory[[#This Row],[Item SKU/ID]]=\"\",0,SUMPRODUCT((Quantity_Sold_1=Inventory[[#This Row],[Item SKU/ID]])*Net_Profit))","v":0},{"$f":"IFERROR(AVERAGE(Inventory[[#This Row],[Total Net Profit]]/Inventory[[#This Row],[Quantity Sold]]),0)","v":0}]
[null,null,null,null,null,null,null,null,0,0,0,null,null,null,0,{"$f":"IF(Inventory[[#This Row],[Item SKU/ID]]=\"\",0,SUMPRODUCT((Quantity_Sold_1=Inventory[[#This Row],[Item SKU/ID]])*Net_Profit))","v":0},{"$f":"IFERROR(AVERAGE(Inventory[[#This Row],[Total Net Profit]]/Inventory[[#This Row],[Quantity Sold]]),0)","v":0}]
[null,null,null,null,null,null,null,null,0,0,0,null,null,null,0,{"$f":"IF(Inventory[[#This Row],[Item SKU/ID]]=\"\",0,SUMPRODUCT((Quantity_Sold_1=Inventory[[#This Row],[Item SKU/ID]])*Net_Profit))","v":0},{"$f":"IFERROR(AVERAGE(Inventory[[#This Row],[Total Net Profit]]/Inventory[[#This Row],[Quantity Sold]]),0)","v":0}]
[null,null,null,null,null,null,null,null,0,0,0,null,null,null,0,{"$f":"IF(Inventory[[#This Row],[Item SKU/ID]]=\"\",0,SUMPRODUCT((Quantity_Sold_1=Inventory[[#This Row],[Item SKU/ID]])*Net_Profit))","v":0},{"$f":"IFERROR(AVERAGE(Inventory[[#This Row],[Total Net Profit]]/Inventory[[#This Row],[Quantity Sold]]),0)","v":0}]
[null,null,null,null,null,null,null,null,0,0,0,null,null,null,0,{"$f":"IF(Inventory[[#This Row],[Item SKU/ID]]=\"\",0,SUMPRODUCT((Quantity_Sold_1=Inventory[[#This Row],[Item SKU/ID]])*Net_Profit))","v":0},{"$f":"IFERROR(AVERAGE(Inventory[[#This Row],[Total Net Profit]]/Inventory[[#This Row],[Quantity Sold]]),0)","v":0}]
[null,null,null,null,null,null,null,null,0,0,0,null,null,null,0,{"$f":"IF(Inventory[[#This Row],[Item SKU/ID]]=\"\",0,SUMPRODUCT((Quantity_Sold_1=Inventory[[#This Row],[Item SKU/ID]])*Net_Profit))","v":0},{"$f":"IFERROR(AVERAGE(Inventory[[#This Row],[Total Net Profit]]/Inventory[[#This Row],[Quantity Sold]]),0)","v":0}]
[null,null,null,null,null,null,null,null,0,0,0,null,null,null,0,{"$f":"IF(Inventory[[#This Row],[Item SKU/ID]]=\"\",0,SUMPRODUCT((Quantity_Sold_1=Inventory[[#This Row],[Item SKU/ID]])*Net_Profit))","v":0},{"$f":"IFERROR(AVERAGE(Inventory[[#This Row],[Total Net Profit]]/Inventory[[#This Row],[Quantity Sold]]),0)","v":0}]
[null,null,null,null,null,null,null,null,0,0,0,null,null,null,0,{"$f":"IF(Inventory[[#This Row],[Item SKU/ID]]=\"\",0,SUMPRODUCT((Quantity_Sold_1=Inventory[[#This Row],[Item SKU/ID]])*Net_Profit))","v":0},{"$f":"IFERROR(AVERAGE(Inventory[[#This Row],[Total Net Profit]]/Inventory[[#This Row],[Quantity Sold]]),0)","v":0}]
[null,null,null,null,null,null,null,null,0,0,0,null,null,null,0,{"$f":"IF(Inventory[[#This Row],[Item SKU/ID]]=\"\",0,SUMPRODUCT((Quantity_Sold_1=Inventory[[#This Row],[Item SKU/ID]])*Net_Profit))","v":0},{"$f":"IFERROR(AVERAGE(Inventory[[#This Row],[Total Net Profit]]/Inventory[[#This Row],[Quantity Sold]]),0)","v":0}]
[null,null,null,null,null,null,null,null,0,0,0,null,null,null,0,{"$f":"IF(Inventory[[#This Row],[Item SKU/ID]]=\"\",0,SUMPRODUCT((Quantity_Sold_1=Inventory[[#This Row],[Item SKU/ID]])*Net_Profit))","v":0},{"$f":"IFERROR(AVERAGE(Inventory[[#This Row],[Total Net Profit]]/Inventory[[#This Row],[Quantity Sold]]),0)","v":0}]
[null,null,null,null,null,null,null,null,0,0,0,null,null,null,0,{"$f":"IF(Inventory[[#This Row],[Item SKU/ID]]=\"\",0,SUMPRODUCT((Quantity_Sold_1=Inventory[[#This Row],[Item SKU/ID]])*Net_Profit))","v":0},{"$f":"IFERROR(AVERAGE(Inventory[[#This Row],[Total Net Profit]]/Inventory[[#This Row],[Quantity Sold]]),0)","v":0}]
[null,null,null,null,null,null,null,null,0,0,0,null,null,null,0,{"$f":"IF(Inventory[[#This Row],[Item SKU/ID]]=\"\",0,SUMPRODUCT((Quantity_Sold_1=Inventory[[#This Row],[Item SKU/ID]])*Net_Profit))","v":0},{"$f":"IFERROR(AVERAGE(Inventory[[#This Row],[Total Net Profit]]/Inventory[[#This Row],[Quantity Sold]]),0)","v":0}]
[null,null,null,null,null,null,null,null,0,0,0,null,null,null,0,{"$f":"IF(Inventory[[#This Row],[Item SKU/ID]]=\"\",0,SUMPRODUCT((Quantity_Sold_1=Inventory[[#This Row],[Item SKU/ID]])*Net_Profit))","v":0},{"$f":"IFERROR(AVERAGE(Inventory[[#This Row],[Total Net Profit]]/Inventory[[#This Row],[Quantity Sold]]),0)","v":0}]
[null,null,null,null,null,null,null,null,0,0,0,null,null,null,0,{"$f":"IF(Inventory[[#This Row],[Item SKU/ID]]=\"\",0,SUMPRODUCT((Quantity_Sold_1=Inventory[[#This Row],[Item SKU/ID]])*Net_Profit))","v":0},{"$f":"IFERROR(AVERAGE(Inventory[[#This Row],[Total Net Profit]]/Inventory[[#This Row],[Quantity Sold]]),0)","v":0}]
[null,null,null,null,null,null,null,null,{"$f":"K580*H580","v":0},{"$f":"IF(F580=\"\",0,SUMPRODUCT((Quantity_Sold_1=F580)*Quantity_Sold_2))","v":0},{"$f":"G580-J580","v":0},null,null,null,{"$f":"K580*H580","v":0},{"$f":"IF(Inventory[[#This Row],[Item SKU/ID]]=\"\",0,SUMPRODUCT((Quantity_Sold_1=Inventory[[#This Row],[Item SKU/ID]])*Net_Profit))","v":0},{"$f":"IFERROR(AVERAGE(Inventory[[#This Row],[Total Net Profit]]/Inventory[[#This Row],[Quantity Sold]]),0)","v":0}]
[null,null,null,null,null,null,null,null,0,0,0,null,null,null,0,{"$f":"IF(Inventory[[#This Row],[Item SKU/ID]]=\"\",0,SUMPRODUCT((Quantity_Sold_1=Inventory[[#This Row],[Item SKU/ID]])*Net_Profit))","v":0},{"$f":"IFERROR(AVERAGE(Inventory[[#This Row],[Total Net Profit]]/Inventory[[#This Row],[Quantity Sold]]),0)","v":0}]
[null,null,null,null,null,null,null,null,0,0,0,null,null,null,0,{"$f":"IF(Inventory[[#This Row],[Item SKU/ID]]=\"\",0,SUMPRODUCT((Quantity_Sold_1=Inventory[[#This Row],[Item SKU/ID]])*Net_Profit))","v":0},{"$f":"IFERROR(AVERAGE(Inventory[[#This Row],[Total Net Profit]]/Inventory[[#This Row],[Quantity Sold]]),0)","v":0}]
[null,null,null,null,null,null,null,null,0,0,0,null,null,null,0,{"$f":"IF(Inventory[[#This Row],[Item SKU/ID]]=\"\",0,SUMPRODUCT((Quantity_Sold_1=Inventory[[#This Row],[Item SKU/ID]])*Net_Profit))","v":0},{"$f":"IFERROR(AVERAGE(Inventory[[#This Row],[Total Net Profit]]/Inventory[[#This Row],[Quantity Sold]]),0)","v":0}]
[null,null,null,null,null,null,null,null,0,0,0,null,null,null,0,{"$f":"IF(Inventory[[#This Row],[Item SKU/ID]]=\"\",0,SUMPRODUCT((Quantity_Sold_1=Inventory[[#This Row],[Item SKU/ID]])*Net_Profit))","v":0},{"$f":"IFERROR(AVERAGE(Inventory[[#This Row],[Total Net Profit]]/Inventory[[#This Row],[Quantity Sold]]),0)","v":0}]
[null,null,null,null,null,null,null,null,0,0,0,null,null,null,0,{"$f":"IF(Inventory[[#This Row],[Item SKU/ID]]=\"\",0,SUMPRODUCT((Quantity_Sold_1=Inventory[[#This Row],[Item SKU/ID]])*Net_Profit))","v":0},{"$f":"IFERROR(AVERAGE(Inventory[[#This Row],[Total Net Profit]]/Inventory[[#This Row],[Quantity Sold]]),0)","v":0}]
[null,null,null,null,null,null,null,null,0,0,0,null,null,null,0,{"$f":"IF(Inventory[[#This Row],[Item SKU/ID]]=\"\",0,SUMPRODUCT((Quantity_Sold_1=Inventory[[#This Row],[Item SKU/ID]])*Net_Profit))","v":0},{"$f":"IFERROR(AVERAGE(Inventory[[#This Row],[Total Net Profit]]/Inventory[[#This Row],[Quantity Sold]]),0)","v":0}]
[null,null,null,null,null,null,null,null,0,0,0,null,null,null,0,{"$f":"IF(Inventory[[#This Row],[Item SKU/ID]]=\"\",0,SUMPRODUCT((Quantity_Sold_1=Inventory[[#This Row],[Item SKU/ID]])*Net_Profit))","v":0},{"$f":"IFERROR(AVERAGE(Inventory[[#This Row],[Total Net Profit]]/Inventory[[#This Row],[Quantity Sold]]),0)","v":0}]
[null,null,null,null,null,null,null,null,0,0,0,null,null,null,0,{"$f":"IF(Inventory[[#This Row],[Item SKU/ID]]=\"\",0,SUMPRODUCT((Quantity_Sold_1=Inventory[[#This Row],[Item SKU/ID]])*Net_Profit))","v":0},{"$f":"IFERROR(AVERAGE(Inventory[[#This Row],[Total Net Profit]]/Inventory[[#This Row],[Quantity Sold]]),0)","v":0}]
[null,null,null,null,null,null,null,null,0,0,0,null,null,null,0,{"$f":"IF(Inventory[[#This Row],[Item SKU/ID]]=\"\",0,SUMPRODUCT((Quantity_Sold_1=Inventory[[#This Row],[Item SKU/ID]])*Net_Profit))","v":0},{"$f":"IFERROR(AVERAGE(Inventory[[#This Row],[Total Net Profit]]/Inventory[[#This Row],[Quantity Sold]]),0)","v":0}]
[null,null,null,null,null,null,null,null,0,0,0,null,null,null,0,{"$f":"IF(Inventory[[#This Row],[Item SKU/ID]]=\"\",0,SUMPRODUCT((Quantity_Sold_1=Inventory[[#This Row],[Item SKU/ID]])*Net_Profit))","v":0},{"$f":"IFERROR(AVERAGE(Inventory[[#This Row],[Total Net Profit]]/Inventory[[#This Row],[Quantity Sold]]),0)","v":0}]
[null,null,null,null,null,null,null,null,0,0,0,null,null,null,0,{"$f":"IF(Inventory[[#This Row],[Item SKU/ID]]=\"\",0,SUMPRODUCT((Quantity_Sold_1=Inventory[[#This Row],[Item SKU/ID]])*Net_Profit))","v":0},{"$f":"IFERROR(AVERAGE(Inventory[[#This Row],[Total Net Profit]]/Inventory[[#This Row],[Quantity Sold]]),0)","v":0}]
[null,null,null,null,null,null,null,null,0,0,0,null,null,null,0,{"$f":"IF(Inventory[[#This Row],[Item SKU/ID]]=\"\",0,SUMPRODUCT((Quantity_Sold_1=Inventory[[#This Row],[Item SKU/ID]])*Net_Profit))","v":0},{"$f":"IFERROR(AVERAGE(Inventory[[#This Row],[Total Net Profit]]/Inventory[[#This Row],[Quantity Sold]]),0)","v":0}]
[null,null,null,null,null,null,null,null,0,0,0,null,null,null,0,{"$f":"IF(Inventory[[#This Row],[Item SKU/ID]]=\"\",0,SUMPRODUCT((Quantity_Sold_1=Inventory[[#This Row],[Item SKU/ID]])*Net_Profit))","v":0},{"$f":"IFERROR(AVERAGE(Inventory[[#This Row],[Total Net Profit]]/Inventory[[#This Row],[Quantity Sold]]),0)","v":0}]
[null,null,null,null,null,null,null,null,0,0,0,null,null,null,0,{"$f":"IF(Inventory[[#This Row],[Item SKU/ID]]=\"\",0,SUMPRODUCT((Quantity_Sold_1=Inventory[[#This Row],[Item SKU/ID]])*Net_Profit))","v":0},{"$f":"IFERROR(AVERAGE(Inventory[[#This Row],[Total Net Profit]]/Inventory[[#This Row],[Quantity Sold]]),0)","v":0}]
[null,null,null,null,null,null,null,null,0,0,0,null,null,null,0,{"$f":"IF(Inventory[[#This Row],[Item SKU/ID]]=\"\",0,SUMPRODUCT((Quantity_Sold_1=Inventory[[#This Row],[Item SKU/ID]])*Net_Profit))","v":0},{"$f":"IFERROR(AVERAGE(Inventory[[#This Row],[Total Net Profit]]/Inventory[[#This Row],[Quantity Sold]]),0)","v":0}]
[null,null,null,null,null,null,null,null,0,0,0,null,null,null,0,{"$f":"IF(Inventory[[#This Row],[Item SKU/ID]]=\"\",0,SUMPRODUCT((Quantity_Sold_1=Inventory[[#This Row],[Item SKU/ID]])*Net_Profit))","v":0},{"$f":"IFERROR(AVERAGE(Inventory[[#This Row],[Total Net Profit]]/Inventory[[#This Row],[Quantity Sold]]),0)","v":0}]
[null,null,null,null,null,null,null,null,0,0,0,null,null,null,0,{"$f":"IF(Inventory[[#This Row],[Item SKU/ID]]=\"\",0,SUMPRODUCT((Quantity_Sold_1=Inventory[[#This Row],[Item SKU/ID]])*Net_Profit))","v":0},{"$f":"IFERROR(AVERAGE(Inventory[[#This Row],[Total Net Profit]]/Inventory[[#This Row],[Quantity Sold]]),0)","v":0}]
[null,null,null,null,null,null,null,null,0,0,0,null,null,null,0,{"$f":"IF(Inventory[[#This Row],[Item SKU/ID]]=\"\",0,SUMPRODUCT((Quantity_Sold_1=Inventory[[#This Row],[Item SKU/ID]])*Net_Profit))","v":0},{"$f":"IFERROR(AVERAGE(Inventory[[#This Row],[Total Net Profit]]/Inventory[[#This Row],[Quantity Sold]]),0)","v":0}]
[null,null,null,null,null,null,null,null,0,0,0,null,null,null,0,{"$f":"IF(Inventory[[#This Row],[Item SKU/ID]]=\"\",0,SUMPRODUCT((Quantity_Sold_1=Inventory[[#This Row],[Item SKU/ID]])*Net_Profit))","v":0},{"$f":"IFERROR(AVERAGE(Inventory[[#This Row],[Total Net Profit]]/Inventory[[#This Row],[Quantity Sold]]),0)","v":0}]
[null,null,null,null,null,null,null,null,0,0,0,null,null,null,0,{"$f":"IF(Inventory[[#This Row],[Item SKU/ID]]=\"\",0,SUMPRODUCT((Quantity_Sold_1=Inventory[[#This Row],[Item SKU/ID]])*Net_Profit))","v":0},{"$f":"IFERROR(AVERAGE(Inventory[[#This Row],[Total Net Profit]]/Inventory[[#This Row],[Quantity Sold]]),0)","v":0}]
[null,null,null,null,null,null,null,null,0,0,0,null,null,null,0,{"$f":"IF(Inventory[[#This Row],[Item SKU/ID]]=\"\",0,SUMPRODUCT((Quantity_Sold_1=Inventory[[#This Row],[Item SKU/ID]])*Net_Profit))","v":0},{"$f":"IFERROR(AVERAGE(Inventory[[#This Row],[Total Net Profit]]/Inventory[[#This Row],[Quantity Sold]]),0)","v":0}]
[null,null,null,null,null,null,null,null,0,0,0,null,null,null,0,{"$f":"IF(Inventory[[#This Row],[Item SKU/ID]]=\"\",0,SUMPRODUCT((Quantity_Sold_1=Inventory[[#This Row],[Item SKU/ID]])*Net_Profit))","v":0},{"$f":"IFERROR(AVERAGE(Inventory[[#This Row],[Total Net Profit]]/Inventory[[#This Row],[Quantity Sold]]),0)","v":0}]
[null,null,null,null,null,null,null,null,0,0,0,null,null,null,0,{"$f":"IF(Inventory[[#This Row],[Item SKU/ID]]=\"\",0,SUMPRODUCT((Quantity_Sold_1=Inventory[[#This Row],[Item SKU/ID]])*Net_Profit))","v":0},{"$f":"IFERROR(AVERAGE(Inventory[[#This Row],[Total Net Profit]]/Inventory[[#This Row],[Quantity Sold]]),0)","v":0}]
[null,null,null,null,null,null,null,null,0,0,0,null,null,null,0,{"$f":"IF(Inventory[[#This Row],[Item SKU/ID]]=\"\",0,SUMPRODUCT((Quantity_Sold_1=Inventory[[#This Row],[Item SKU/ID]])*Net_Profit))","v":0},{"$f":"IFERROR(AVERAGE(Inventory[[#This Row],[Total Net Profit]]/Inventory[[#This Row],[Quantity Sold]]),0)","v":0}]
[null,null,null,null,null,null,null,null,0,0,0,null,null,null,0,{"$f":"IF(Inventory[[#This Row],[Item SKU/ID]]=\"\",0,SUMPRODUCT((Quantity_Sold_1=Inventory[[#This Row],[Item SKU/ID]])*Net_Profit))","v":0},{"$f":"IFERROR(AVERAGE(Inventory[[#This Row],[Total Net Profit]]/Inventory[[#This Row],[Quantity Sold]]),0)","v":0}]
[null,null,null,null,null,null,null,null,0,0,0,null,null,null,0,{"$f":"IF(Inventory[[#This Row],[Item SKU/ID]]=\"\",0,SUMPRODUCT((Quantity_Sold_1=Inventory[[#This Row],[Item SKU/ID]])*Net_Profit))","v":0},{"$f":"IFERROR(AVERAGE(Inventory[[#This Row],[Total Net Profit]]/Inventory[[#This Row],[Quantity Sold]]),0)","v":0}]
[null,null,null,null,null,null,null,null,0,0,0,null,null,null,0,{"$f":"IF(Inventory[[#This Row],[Item SKU/ID]]=\"\",0,SUMPRODUCT((Quantity_Sold_1=Inventory[[#This Row],[Item SKU/ID]])*Net_Profit))","v":0},{"$f":"IFERROR(AVERAGE(Inventory[[#This Row],[Total Net Profit]]/Inventory[[#This Row],[Quantity Sold]]),0)","v":0}]
[null,null,null,null,null,null,null,null,0,0,0,null,null,null,0,{"$f":"IF(Inventory[[#This Row],[Item SKU/ID]]=\"\",0,SUMPRODUCT((Quantity_Sold_1=Inventory[[#This Row],[Item SKU/ID]])*Net_Profit))","v":0},{"$f":"IFERROR(AVERAGE(Inventory[[#This Row],[Total Net Profit]]/Inventory[[#This Row],[Quantity Sold]]),0)","v":0}]
[null,null,null,null,null,null,null,null,0,0,0,null,null,null,0,{"$f":"IF(Inventory[[#This Row],[Item SKU/ID]]=\"\",0,SUMPRODUCT((Quantity_Sold_1=Inventory[[#This Row],[Item SKU/ID]])*Net_Profit))","v":0},{"$f":"IFERROR(AVERAGE(Inventory[[#This Row],[Total Net Profit]]/Inventory[[#This Row],[Quantity Sold]]),0)","v":0}]
[null,null,null,null,null,null,null,null,0,0,0,null,null,null,0,{"$f":"IF(Inventory[[#This Row],[Item SKU/ID]]=\"\",0,SUMPRODUCT((Quantity_Sold_1=Inventory[[#This Row],[Item SKU/ID]])*Net_Profit))","v":0},{"$f":"IFERROR(AVERAGE(Inventory[[#This Row],[Total Net Profit]]/Inventory[[#This Row],[Quantity Sold]]),0)","v":0}]
[null,null,null,null,null,null,null,null,0,0,0,null,null,null,0,{"$f":"IF(Inventory[[#This Row],[Item SKU/ID]]=\"\",0,SUMPRODUCT((Quantity_Sold_1=Inventory[[#This Row],[Item SKU/ID]])*Net_Profit))","v":0},{"$f":"IFERROR(AVERAGE(Inventory[[#This Row],[Total Net Profit]]/Inventory[[#This Row],[Quantity Sold]]),0)","v":0}]
[null,null,null,null,null,null,null,null,0,0,0,null,null,null,0,{"$f":"IF(Inventory[[#This Row],[Item SKU/ID]]=\"\",0,SUMPRODUCT((Quantity_Sold_1=Inventory[[#This Row],[Item SKU/ID]])*Net_Profit))","v":0},{"$f":"IFERROR(AVERAGE(Inventory[[#This Row],[Total Net Profit]]/Inventory[[#This Row],[Quantity Sold]]),0)","v":0}]
[null,null,null,null,null,null,null,null,0,0,0,null,null,null,0,{"$f":"IF(Inventory[[#This Row],[Item SKU/ID]]=\"\",0,SUMPRODUCT((Quantity_Sold_1=Inventory[[#This Row],[Item SKU/ID]])*Net_Profit))","v":0},{"$f":"IFERROR(AVERAGE(Inventory[[#This Row],[Total Net Profit]]/Inventory[[#This Row],[Quantity Sold]]),0)","v":0}]
[null,null,null,null,null,null,null,null,0,0,0,null,null,null,0,{"$f":"IF(Inventory[[#This Row],[Item SKU/ID]]=\"\",0,SUMPRODUCT((Quantity_Sold_1=Inventory[[#This Row],[Item SKU/ID]])*Net_Profit))","v":0},{"$f":"IFERROR(AVERAGE(Inventory[[#This Row],[Total Net Profit]]/Inventory[[#This Row],[Quantity Sold]]),0)","v":0}]
[null,null,null,null,null,null,null,null,0,0,0,null,null,null,0,{"$f":"IF(Inventory[[#This Row],[Item SKU/ID]]=\"\",0,SUMPRODUCT((Quantity_Sold_1=Inventory[[#This Row],[Item SKU/ID]])*Net_Profit))","v":0},{"$f":"IFERROR(AVERAGE(Inventory[[#This Row],[Total Net Profit]]/Inventory[[#This Row],[Quantity Sold]]),0)","v":0}]
[null,null,null,null,null,null,null,null,0,0,0,null,null,null,0,{"$f":"IF(Inventory[[#This Row],[Item SKU/ID]]=\"\",0,SUMPRODUCT((Quantity_Sold_1=Inventory[[#This Row],[Item SKU/ID]])*Net_Profit))","v":0},{"$f":"IFERROR(AVERAGE(Inventory[[#This Row],[Total Net Profit]]/Inventory[[#This Row],[Quantity Sold]]),0)","v":0}]
[null,null,null,null,null,null,null,null,0,0,0,null,null,null,0,{"$f":"IF(Inventory[[#This Row],[Item SKU/ID]]=\"\",0,SUMPRODUCT((Quantity_Sold_1=Inventory[[#This Row],[Item SKU/ID]])*Net_Profit))","v":0},{"$f":"IFERROR(AVERAGE(Inventory[[#This Row],[Total Net Profit]]/Inventory[[#This Row],[Quantity Sold]]),0)","v":0}]
[null,null,null,null,null,null,null,null,0,0,0,null,null,null,0,{"$f":"IF(Inventory[[#This Row],[Item SKU/ID]]=\"\",0,SUMPRODUCT((Quantity_Sold_1=Inventory[[#This Row],[Item SKU/ID]])*Net_Profit))","v":0},{"$f":"IFERROR(AVERAGE(Inventory[[#This Row],[Total Net Profit]]/Inventory[[#This Row],[Quantity Sold]]),0)","v":0}]
[null,null,null,null,null,null,null,null,0,0,0,null,null,null,0,{"$f":"IF(Inventory[[#This Row],[Item SKU/ID]]=\"\",0,SUMPRODUCT((Quantity_Sold_1=Inventory[[#This Row],[Item SKU/ID]])*Net_Profit))","v":0},{"$f":"IFERROR(AVERAGE(Inventory[[#This Row],[Total Net Profit]]/Inventory[[#This Row],[Quantity Sold]]),0)","v":0}]
[null,null,null,null,null,null,null,null,0,0,0,null,null,null,0,{"$f":"IF(Inventory[[#This Row],[Item SKU/ID]]=\"\",0,SUMPRODUCT((Quantity_Sold_1=Inventory[[#This Row],[Item SKU/ID]])*Net_Profit))","v":0},{"$f":"IFERROR(AVERAGE(Inventory[[#This Row],[Total Net Profit]]/Inventory[[#This Row],[Quantity Sold]]),0)","v":0}]
[null,null,null,null,null,null,null,null,0,0,0,null,null,null,0,{"$f":"IF(Inventory[[#This Row],[Item SKU/ID]]=\"\",0,SUMPRODUCT((Quantity_Sold_1=Inventory[[#This Row],[Item SKU/ID]])*Net_Profit))","v":0},{"$f":"IFERROR(AVERAGE(Inventory[[#This Row],[Total Net Profit]]/Inventory[[#This Row],[Quantity Sold]]),0)","v":0}]
[null,null,null,null,null,null,null,null,0,0,0,null,null,null,0,{"$f":"IF(Inventory[[#This Row],[Item SKU/ID]]=\"\",0,SUMPRODUCT((Quantity_Sold_1=Inventory[[#This Row],[Item SKU/ID]])*Net_Profit))","v":0},{"$f":"IFERROR(AVERAGE(Inventory[[#This Row],[Total Net Profit]]/Inventory[[#This Row],[Quantity Sold]]),0)","v":0}]
[null,null,null,null,null,null,null,null,0,0,0,null,null,null,0,{"$f":"IF(Inventory[[#This Row],[Item SKU/ID]]=\"\",0,SUMPRODUCT((Quantity_Sold_1=Inventory[[#This Row],[Item SKU/ID]])*Net_Profit))","v":0},{"$f":"IFERROR(AVERAGE(Inventory[[#This Row],[Total Net Profit]]/Inventory[[#This Row],[Quantity Sold]]),0)","v":0}]
[null,null,null,null,null,null,null,null,0,0,0,null,null,null,0,{"$f":"IF(Inventory[[#This Row],[Item SKU/ID]]=\"\",0,SUMPRODUCT((Quantity_Sold_1=Inventory[[#This Row],[Item SKU/ID]])*Net_Profit))","v":0},{"$f":"IFERROR(AVERAGE(Inventory[[#This Row],[Total Net Profit]]/Inventory[[#This Row],[Quantity Sold]]),0)","v":0}]
[null,null,null,null,null,null,null,null,0,0,0,null,null,null,0,{"$f":"IF(Inventory[[#This Row],[Item SKU/ID]]=\"\",0,SUMPRODUCT((Quantity_Sold_1=Inventory[[#This Row],[Item SKU/ID]])*Net_Profit))","v":0},{"$f":"IFERROR(AVERAGE(Inventory[[#This Row],[Total Net Profit]]/Inventory[[#This Row],[Quantity Sold]]),0)","v":0}]
[null,null,null,null,null,null,null,null,0,0,0,null,null,null,0,{"$f":"IF(Inventory[[#This Row],[Item SKU/ID]]=\"\",0,SUMPRODUCT((Quantity_Sold_1=Inventory[[#This Row],[Item SKU/ID]])*Net_Profit))","v":0},{"$f":"IFERROR(AVERAGE(Inventory[[#This Row],[Total Net Profit]]/Inventory[[#This Row],[Quantity Sold]]),0)","v":0}]
[null,null,null,null,null,null,null,null,0,0,0,null,null,null,0,{"$f":"IF(Inventory[[#This Row],[Item SKU/ID]]=\"\",0,SUMPRODUCT((Quantity_Sold_1=Inventory[[#This Row],[Item SKU/ID]])*Net_Profit))","v":0},{"$f":"IFERROR(AVERAGE(Inventory[[#This Row],[Total Net Profit]]/Inventory[[#This Row],[Quantity Sold]]),0)","v":0}]
[null,null,null,null,null,null,null,null,0,0,0,null,null,null,0,{"$f":"IF(Inventory[[#This Row],[Item SKU/ID]]=\"\",0,SUMPRODUCT((Quantity_Sold_1=Inventory[[#This Row],[Item SKU/ID]])*Net_Profit))","v":0},{"$f":"IFERROR(AVERAGE(Inventory[[#This Row],[Total Net Profit]]/Inventory[[#This Row],[Quantity Sold]]),0)","v":0}]
[null,null,null,null,null,null,null,null,0,0,0,null,null,null,0,{"$f":"IF(Inventory[[#This Row],[Item SKU/ID]]=\"\",0,SUMPRODUCT((Quantity_Sold_1=Inventory[[#This Row],[Item SKU/ID]])*Net_Profit))","v":0},{"$f":"IFERROR(AVERAGE(Inventory[[#This Row],[Total Net Profit]]/Inventory[[#This Row],[Quantity Sold]]),0)","v":0}]
[null,null,null,null,null,null,null,null,0,0,0,null,null,null,0,{"$f":"IF(Inventory[[#This Row],[Item SKU/ID]]=\"\",0,SUMPRODUCT((Quantity_Sold_1=Inventory[[#This Row],[Item SKU/ID]])*Net_Profit))","v":0},{"$f":"IFERROR(AVERAGE(Inventory[[#This Row],[Total Net Profit]]/Inventory[[#This Row],[Quantity Sold]]),0)","v":0}]
[null,null,null,null,null,null,null,null,0,0,0,null,null,null,0,{"$f":"IF(Inventory[[#This Row],[Item SKU/ID]]=\"\",0,SUMPRODUCT((Quantity_Sold_1=Inventory[[#This Row],[Item SKU/ID]])*Net_Profit))","v":0},{"$f":"IFERROR(AVERAGE(Inventory[[#This Row],[Total Net Profit]]/Inventory[[#This Row],[Quantity Sold]]),0)","v":0}]
[null,null,null,null,null,null,null,null,0,0,0,null,null,null,0,{"$f":"IF(Inventory[[#This Row],[Item SKU/ID]]=\"\",0,SUMPRODUCT((Quantity_Sold_1=Inventory[[#This Row],[Item SKU/ID]])*Net_Profit))","v":0},{"$f":"IFERROR(AVERAGE(Inventory[[#This Row],[Total Net Profit]]/Inventory[[#This Row],[Quantity Sold]]),0)","v":0}]
[null,null,null,null,null,null,null,null,0,0,0,null,null,null,0,{"$f":"IF(Inventory[[#This Row],[Item SKU/ID]]=\"\",0,SUMPRODUCT((Quantity_Sold_1=Inventory[[#This Row],[Item SKU/ID]])*Net_Profit))","v":0},{"$f":"IFERROR(AVERAGE(Inventory[[#This Row],[Total Net Profit]]/Inventory[[#This Row],[Quantity Sold]]),0)","v":0}]
[null,null,null,null,null,null,null,null,0,0,0,null,null,null,0,{"$f":"IF(Inventory[[#This Row],[Item SKU/ID]]=\"\",0,SUMPRODUCT((Quantity_Sold_1=Inventory[[#This Row],[Item SKU/ID]])*Net_Profit))","v":0},{"$f":"IFERROR(AVERAGE(Inventory[[#This Row],[Total Net Profit]]/Inventory[[#This Row],[Quantity Sold]]),0)","v":0}]
[null,null,null,null,null,null,null,null,0,0,0,null,null,null,0,{"$f":"IF(Inventory[[#This Row],[Item SKU/ID]]=\"\",0,SUMPRODUCT((Quantity_Sold_1=Inventory[[#This Row],[Item SKU/ID]])*Net_Profit))","v":0},{"$f":"IFERROR(AVERAGE(Inventory[[#This Row],[Total Net Profit]]/Inventory[[#This Row],[Quantity Sold]]),0)","v":0}]
[null,null,null,null,null,null,null,null,0,0,0,null,null,null,0,{"$f":"IF(Inventory[[#This Row],[Item SKU/ID]]=\"\",0,SUMPRODUCT((Quantity_Sold_1=Inventory[[#This Row],[Item SKU/ID]])*Net_Profit))","v":0},{"$f":"IFERROR(AVERAGE(Inventory[[#This Row],[Total Net Profit]]/Inventory[[#This Row],[Quantity Sold]]),0)","v":0}]
[null,null,null,null,null,null,null,null,0,0,0,null,null,null,0,{"$f":"IF(Inventory[[#This Row],[Item SKU/ID]]=\"\",0,SUMPRODUCT((Quantity_Sold_1=Inventory[[#This Row],[Item SKU/ID]])*Net_Profit))","v":0},{"$f":"IFERROR(AVERAGE(Inventory[[#This Row],[Total Net Profit]]/Inventory[[#This Row],[Quantity Sold]]),0)","v":0}]
[null,null,null,null,null,null,null,null,0,0,0,null,null,null,0,{"$f":"IF(Inventory[[#This Row],[Item SKU/ID]]=\"\",0,SUMPRODUCT((Quantity_Sold_1=Inventory[[#This Row],[Item SKU/ID]])*Net_Profit))","v":0},{"$f":"IFERROR(AVERAGE(Inventory[[#This Row],[Total Net Profit]]/Inventory[[#This Row],[Quantity Sold]]),0)","v":0}]
[null,null,null,null,null,null,null,null,0,0,0,null,null,null,0,{"$f":"IF(Inventory[[#This Row],[Item SKU/ID]]=\"\",0,SUMPRODUCT((Quantity_Sold_1=Inventory[[#This Row],[Item SKU/ID]])*Net_Profit))","v":0},{"$f":"IFERROR(AVERAGE(Inventory[[#This Row],[Total Net Profit]]/Inventory[[#This Row],[Quantity Sold]]),0)","v":0}]
[null,null,null,null,null,null,null,null,0,0,0,null,null,null,0,{"$f":"IF(Inventory[[#This Row],[Item SKU/ID]]=\"\",0,SUMPRODUCT((Quantity_Sold_1=Inventory[[#This Row],[Item SKU/ID]])*Net_Profit))","v":0},{"$f":"IFERROR(AVERAGE(Inventory[[#This Row],[Total Net Profit]]/Inventory[[#This Row],[Quantity Sold]]),0)","v":0}]
[null,null,null,null,null,null,null,null,0,0,0,null,null,null,0,{"$f":"IF(Inventory[[#This Row],[Item SKU/ID]]=\"\",0,SUMPRODUCT((Quantity_Sold_1=Inventory[[#This Row],[Item SKU/ID]])*Net_Profit))","v":0},{"$f":"IFERROR(AVERAGE(Inventory[[#This Row],[Total Net Profit]]/Inventory[[#This Row],[Quantity Sold]]),0)","v":0}]
[null,null,null,null,null,null,null,null,0,0,0,null,null,null,0,{"$f":"IF(Inventory[[#This Row],[Item SKU/ID]]=\"\",0,SUMPRODUCT((Quantity_Sold_1=Inventory[[#This Row],[Item SKU/ID]])*Net_Profit))","v":0},{"$f":"IFERROR(AVERAGE(Inventory[[#This Row],[Total Net Profit]]/Inventory[[#This Row],[Quantity Sold]]),0)","v":0}]
[null,null,null,null,null,null,null,null,0,0,0,null,null,null,0,{"$f":"IF(Inventory[[#This Row],[Item SKU/ID]]=\"\",0,SUMPRODUCT((Quantity_Sold_1=Inventory[[#This Row],[Item SKU/ID]])*Net_Profit))","v":0},{"$f":"IFERROR(AVERAGE(Inventory[[#This Row],[Total Net Profit]]/Inventory[[#This Row],[Quantity Sold]]),0)","v":0}]
[null,null,null,null,null,null,null,null,{"$f":"K644*H644","v":0},{"$f":"IF(F644=\"\",0,SUMPRODUCT((Quantity_Sold_1=F644)*Quantity_Sold_2))","v":0},{"$f":"G644-J644","v":0},null,null,null,{"$f":"K644*H644","v":0},{"$f":"IF(Inventory[[#This Row],[Item SKU/ID]]=\"\",0,SUMPRODUCT((Quantity_Sold_1=Inventory[[#This Row],[Item SKU/ID]])*Net_Profit))","v":0},{"$f":"IFERROR(AVERAGE(Inventory[[#This Row],[Total Net Profit]]/Inventory[[#This Row],[Quantity Sold]]),0)","v":0}]
[null,null,null,null,null,null,null,null,0,0,0,null,null,null,0,{"$f":"IF(Inventory[[#This Row],[Item SKU/ID]]=\"\",0,SUMPRODUCT((Quantity_Sold_1=Inventory[[#This Row],[Item SKU/ID]])*Net_Profit))","v":0},{"$f":"IFERROR(AVERAGE(Inventory[[#This Row],[Total Net Profit]]/Inventory[[#This Row],[Quantity Sold]]),0)","v":0}]
[null,null,null,null,null,null,null,null,0,0,0,null,null,null,0,{"$f":"IF(Inventory[[#This Row],[Item SKU/ID]]=\"\",0,SUMPRODUCT((Quantity_Sold_1=Inventory[[#This Row],[Item SKU/ID]])*Net_Profit))","v":0},{"$f":"IFERROR(AVERAGE(Inventory[[#This Row],[Total Net Profit]]/Inventory[[#This Row],[Quantity Sold]]),0)","v":0}]
[null,null,null,null,null,null,null,null,0,0,0,null,null,null,0,{"$f":"IF(Inventory[[#This Row],[Item SKU/ID]]=\"\",0,SUMPRODUCT((Quantity_Sold_1=Inventory[[#This Row],[Item SKU/ID]])*Net_Profit))","v":0},{"$f":"IFERROR(AVERAGE(Inventory[[#This Row],[Total Net Profit]]/Inventory[[#This Row],[Quantity Sold]]),0)","v":0}]
[null,null,null,null,null,null,null,null,0,0,0,null,null,null,0,{"$f":"IF(Inventory[[#This Row],[Item SKU/ID]]=\"\",0,SUMPRODUCT((Quantity_Sold_1=Inventory[[#This Row],[Item SKU/ID]])*Net_Profit))","v":0},{"$f":"IFERROR(AVERAGE(Inventory[[#This Row],[Total Net Profit]]/Inventory[[#This Row],[Quantity Sold]]),0)","v":0}]
[null,null,null,null,null,null,null,null,0,0,0,null,null,null,0,{"$f":"IF(Inventory[[#This Row],[Item SKU/ID]]=\"\",0,SUMPRODUCT((Quantity_Sold_1=Inventory[[#This Row],[Item SKU/ID]])*Net_Profit))","v":0},{"$f":"IFERROR(AVERAGE(Inventory[[#This Row],[Total Net Profit]]/Inventory[[#This Row],[Quantity Sold]]),0)","v":0}]
[null,null,null,null,null,null,null,null,0,0,0,null,null,null,0,{"$f":"IF(Inventory[[#This Row],[Item SKU/ID]]=\"\",0,SUMPRODUCT((Quantity_Sold_1=Inventory[[#This Row],[Item SKU/ID]])*Net_Profit))","v":0},{"$f":"IFERROR(AVERAGE(Inventory[[#This Row],[Total Net Profit]]/Inventory[[#This Row],[Quantity Sold]]),0)","v":0}]
[null,null,null,null,null,null,null,null,0,0,0,null,null,null,0,{"$f":"IF(Inventory[[#This Row],[Item SKU/ID]]=\"\",0,SUMPRODUCT((Quantity_Sold_1=Inventory[[#This Row],[Item SKU/ID]])*Net_Profit))","v":0},{"$f":"IFERROR(AVERAGE(Inventory[[#This Row],[Total Net Profit]]/Inventory[[#This Row],[Quantity Sold]]),0)","v":0}]
[null,null,null,null,null,null,null,null,0,0,0,null,null,null,0,{"$f":"IF(Inventory[[#This Row],[Item SKU/ID]]=\"\",0,SUMPRODUCT((Quantity_Sold_1=Inventory[[#This Row],[Item SKU/ID]])*Net_Profit))","v":0},{"$f":"IFERROR(AVERAGE(Inventory[[#This Row],[Total Net Profit]]/Inventory[[#This Row],[Quantity Sold]]),0)","v":0}]
[null,null,null,null,null,null,null,null,0,0,0,null,null,null,0,{"$f":"IF(Inventory[[#This Row],[Item SKU/ID]]=\"\",0,SUMPRODUCT((Quantity_Sold_1=Inventory[[#This Row],[Item SKU/ID]])*Net_Profit))","v":0},{"$f":"IFERROR(AVERAGE(Inventory[[#This Row],[Total Net Profit]]/Inventory[[#This Row],[Quantity Sold]]),0)","v":0}]
[null,null,null,null,null,null,null,null,0,0,0,null,null,null,0,{"$f":"IF(Inventory[[#This Row],[Item SKU/ID]]=\"\",0,SUMPRODUCT((Quantity_Sold_1=Inventory[[#This Row],[Item SKU/ID]])*Net_Profit))","v":0},{"$f":"IFERROR(AVERAGE(Inventory[[#This Row],[Total Net Profit]]/Inventory[[#This Row],[Quantity Sold]]),0)","v":0}]
[null,null,null,null,null,null,null,null,0,0,0,null,null,null,0,{"$f":"IF(Inventory[[#This Row],[Item SKU/ID]]=\"\",0,SUMPRODUCT((Quantity_Sold_1=Inventory[[#This Row],[Item SKU/ID]])*Net_Profit))","v":0},{"$f":"IFERROR(AVERAGE(Inventory[[#This Row],[Total Net Profit]]/Inventory[[#This Row],[Quantity Sold]]),0)","v":0}]
[null,null,null,null,null,null,null,null,0,0,0,null,null,null,0,{"$f":"IF(Inventory[[#This Row],[Item SKU/ID]]=\"\",0,SUMPRODUCT((Quantity_Sold_1=Inventory[[#This Row],[Item SKU/ID]])*Net_Profit))","v":0},{"$f":"IFERROR(AVERAGE(Inventory[[#This Row],[Total Net Profit]]/Inventory[[#This Row],[Quantity Sold]]),0)","v":0}]
[null,null,null,null,null,null,null,null,0,0,0,null,null,null,0,{"$f":"IF(Inventory[[#This Row],[Item SKU/ID]]=\"\",0,SUMPRODUCT((Quantity_Sold_1=Inventory[[#This Row],[Item SKU/ID]])*Net_Profit))","v":0},{"$f":"IFERROR(AVERAGE(Inventory[[#This Row],[Total Net Profit]]/Inventory[[#This Row],[Quantity Sold]]),0)","v":0}]
[null,null,null,null,null,null,null,null,0,0,0,null,null,null,0,{"$f":"IF(Inventory[[#This Row],[Item SKU/ID]]=\"\",0,SUMPRODUCT((Quantity_Sold_1=Inventory[[#This Row],[Item SKU/ID]])*Net_Profit))","v":0},{"$f":"IFERROR(AVERAGE(Inventory[[#This Row],[Total Net Profit]]/Inventory[[#This Row],[Quantity Sold]]),0)","v":0}]
[null,null,null,null,null,null,null,null,0,0,0,null,null,null,0,{"$f":"IF(Inventory[[#This Row],[Item SKU/ID]]=\"\",0,SUMPRODUCT((Quantity_Sold_1=Inventory[[#This Row],[Item SKU/ID]])*Net_Profit))","v":0},{"$f":"IFERROR(AVERAGE(Inventory[[#This Row],[Total Net Profit]]/Inventory[[#This Row],[Quantity Sold]]),0)","v":0}]
[null,null,null,null,null,null,null,null,0,0,0,null,null,null,0,{"$f":"IF(Inventory[[#This Row],[Item SKU/ID]]=\"\",0,SUMPRODUCT((Quantity_Sold_1=Inventory[[#This Row],[Item SKU/ID]])*Net_Profit))","v":0},{"$f":"IFERROR(AVERAGE(Inventory[[#This Row],[Total Net Profit]]/Inventory[[#This Row],[Quantity Sold]]),0)","v":0}]
[null,null,null,null,null,null,null,null,0,0,0,null,null,null,0,{"$f":"IF(Inventory[[#This Row],[Item SKU/ID]]=\"\",0,SUMPRODUCT((Quantity_Sold_1=Inventory[[#This Row],[Item SKU/ID]])*Net_Profit))","v":0},{"$f":"IFERROR(AVERAGE(Inventory[[#This Row],[Total Net Profit]]/Inventory[[#This Row],[Quantity Sold]]),0)","v":0}]
[null,null,null,null,null,null,null,null,0,0,0,null,null,null,0,{"$f":"IF(Inventory[[#This Row],[Item SKU/ID]]=\"\",0,SUMPRODUCT((Quantity_Sold_1=Inventory[[#This Row],[Item SKU/ID]])*Net_Profit))","v":0},{"$f":"IFERROR(AVERAGE(Inventory[[#This Row],[Total Net Profit]]/Inventory[[#This Row],[Quantity Sold]]),0)","v":0}]
[null,null,null,null,null,null,null,null,0,0,0,null,null,null,0,{"$f":"IF(Inventory[[#This Row],[Item SKU/ID]]=\"\",0,SUMPRODUCT((Quantity_Sold_1=Inventory[[#This Row],[Item SKU/ID]])*Net_Profit))","v":0},{"$f":"IFERROR(AVERAGE(Inventory[[#This Row],[Total Net Profit]]/Inventory[[#This Row],[Quantity Sold]]),0)","v":0}]
[null,null,null,null,null,null,null,null,0,0,0,null,null,null,0,{"$f":"IF(Inventory[[#This Row],[Item SKU/ID]]=\"\",0,SUMPRODUCT((Quantity_Sold_1=Inventory[[#This Row],[Item SKU/ID]])*Net_Profit))","v":0},{"$f":"IFERROR(AVERAGE(Inventory[[#This Row],[Total Net Profit]]/Inventory[[#This Row],[Quantity Sold]]),0)","v":0}]
[null,null,null,null,null,null,null,null,0,0,0,null,null,null,0,{"$f":"IF(Inventory[[#This Row],[Item SKU/ID]]=\"\",0,SUMPRODUCT((Quantity_Sold_1=Inventory[[#This Row],[Item SKU/ID]])*Net_Profit))","v":0},{"$f":"IFERROR(AVERAGE(Inventory[[#This Row],[Total Net Profit]]/Inventory[[#This Row],[Quantity Sold]]),0)","v":0}]
[null,null,null,null,null,null,null,null,0,0,0,null,null,null,0,{"$f":"IF(Inventory[[#This Row],[Item SKU/ID]]=\"\",0,SUMPRODUCT((Quantity_Sold_1=Inventory[[#This Row],[Item SKU/ID]])*Net_Profit))","v":0},{"$f":"IFERROR(AVERAGE(Inventory[[#This Row],[Total Net Profit]]/Inventory[[#This Row],[Quantity Sold]]),0)","v":0}]
[null,null,null,null,null,null,null,null,0,0,0,null,null,null,0,{"$f":"IF(Inventory[[#This Row],[Item SKU/ID]]=\"\",0,SUMPRODUCT((Quantity_Sold_1=Inventory[[#This Row],[Item SKU/ID]])*Net_Profit))","v":0},{"$f":"IFERROR(AVERAGE(Inventory[[#This Row],[Total Net Profit]]/Inventory[[#This Row],[Quantity Sold]]),0)","v":0}]
[null,null,null,null,null,null,null,null,0,0,0,null,null,null,0,{"$f":"IF(Inventory[[#This Row],[Item SKU/ID]]=\"\",0,SUMPRODUCT((Quantity_Sold_1=Inventory[[#This Row],[Item SKU/ID]])*Net_Profit))","v":0},{"$f":"IFERROR(AVERAGE(Inventory[[#This Row],[Total Net Profit]]/Inventory[[#This Row],[Quantity Sold]]),0)","v":0}]
[null,null,null,null,null,null,null,null,0,0,0,null,null,null,0,{"$f":"IF(Inventory[[#This Row],[Item SKU/ID]]=\"\",0,SUMPRODUCT((Quantity_Sold_1=Inventory[[#This Row],[Item SKU/ID]])*Net_Profit))","v":0},{"$f":"IFERROR(AVERAGE(Inventory[[#This Row],[Total Net Profit]]/Inventory[[#This Row],[Quantity Sold]]),0)","v":0}]
[null,null,null,null,null,null,null,null,0,0,0,null,null,null,0,{"$f":"IF(Inventory[[#This Row],[Item SKU/ID]]=\"\",0,SUMPRODUCT((Quantity_Sold_1=Inventory[[#This Row],[Item SKU/ID]])*Net_Profit))","v":0},{"$f":"IFERROR(AVERAGE(Inventory[[#This Row],[Total Net Profit]]/Inventory[[#This Row],[Quantity Sold]]),0)","v":0}]
[null,null,null,null,null,null,null,null,0,0,0,null,null,null,0,{"$f":"IF(Inventory[[#This Row],[Item SKU/ID]]=\"\",0,SUMPRODUCT((Quantity_Sold_1=Inventory[[#This Row],[Item SKU/ID]])*Net_Profit))","v":0},{"$f":"IFERROR(AVERAGE(Inventory[[#This Row],[Total Net Profit]]/Inventory[[#This Row],[Quantity Sold]]),0)","v":0}]
[null,null,null,null,null,null,null,null,0,0,0,null,null,null,0,{"$f":"IF(Inventory[[#This Row],[Item SKU/ID]]=\"\",0,SUMPRODUCT((Quantity_Sold_1=Inventory[[#This Row],[Item SKU/ID]])*Net_Profit))","v":0},{"$f":"IFERROR(AVERAGE(Inventory[[#This Row],[Total Net Profit]]/Inventory[[#This Row],[Quantity Sold]]),0)","v":0}]
[null,null,null,null,null,null,null,null,0,0,0,null,null,null,0,{"$f":"IF(Inventory[[#This Row],[Item SKU/ID]]=\"\",0,SUMPRODUCT((Quantity_Sold_1=Inventory[[#This Row],[Item SKU/ID]])*Net_Profit))","v":0},{"$f":"IFERROR(AVERAGE(Inventory[[#This Row],[Total Net Profit]]/Inventory[[#This Row],[Quantity Sold]]),0)","v":0}]
[null,null,null,null,null,null,null,null,0,0,0,null,null,null,0,{"$f":"IF(Inventory[[#This Row],[Item SKU/ID]]=\"\",0,SUMPRODUCT((Quantity_Sold_1=Inventory[[#This Row],[Item SKU/ID]])*Net_Profit))","v":0},{"$f":"IFERROR(AVERAGE(Inventory[[#This Row],[Total Net Profit]]/Inventory[[#This Row],[Quantity Sold]]),0)","v":0}]
[null,null,null,null,null,null,null,null,0,0,0,null,null,null,0,{"$f":"IF(Inventory[[#This Row],[Item SKU/ID]]=\"\",0,SUMPRODUCT((Quantity_Sold_1=Inventory[[#This Row],[Item SKU/ID]])*Net_Profit))","v":0},{"$f":"IFERROR(AVERAGE(Inventory[[#This Row],[Total Net Profit]]/Inventory[[#This Row],[Quantity Sold]]),0)","v":0}]
[null,null,null,null,null,null,null,null,0,0,0,null,null,null,0,{"$f":"IF(Inventory[[#This Row],[Item SKU/ID]]=\"\",0,SUMPRODUCT((Quantity_Sold_1=Inventory[[#This Row],[Item SKU/ID]])*Net_Profit))","v":0},{"$f":"IFERROR(AVERAGE(Inventory[[#This Row],[Total Net Profit]]/Inventory[[#This Row],[Quantity Sold]]),0)","v":0}]
[null,null,null,null,null,null,null,null,0,0,0,null,null,null,0,{"$f":"IF(Inventory[[#This Row],[Item SKU/ID]]=\"\",0,SUMPRODUCT((Quantity_Sold_1=Inventory[[#This Row],[Item SKU/ID]])*Net_Profit))","v":0},{"$f":"IFERROR(AVERAGE(Inventory[[#This Row],[Total Net Profit]]/Inventory[[#This Row],[Quantity Sold]]),0)","v":0}]
[null,null,null,null,null,null,null,null,0,0,0,null,null,null,0,{"$f":"IF(Inventory[[#This Row],[Item SKU/ID]]=\"\",0,SUMPRODUCT((Quantity_Sold_1=Inventory[[#This Row],[Item SKU/ID]])*Net_Profit))","v":0},{"$f":"IFERROR(AVERAGE(Inventory[[#This Row],[Total Net Profit]]/Inventory[[#This Row],[Quantity Sold]]),0)","v":0}]
[null,null,null,null,null,null,null,null,0,0,0,null,null,null,0,{"$f":"IF(Inventory[[#This Row],[Item SKU/ID]]=\"\",0,SUMPRODUCT((Quantity_Sold_1=Inventory[[#This Row],[Item SKU/ID]])*Net_Profit))","v":0},{"$f":"IFERROR(AVERAGE(Inventory[[#This Row],[Total Net Profit]]/Inventory[[#This Row],[Quantity Sold]]),0)","v":0}]
[null,null,null,null,null,null,null,null,0,0,0,null,null,null,0,{"$f":"IF(Inventory[[#This Row],[Item SKU/ID]]=\"\",0,SUMPRODUCT((Quantity_Sold_1=Inventory[[#This Row],[Item SKU/ID]])*Net_Profit))","v":0},{"$f":"IFERROR(AVERAGE(Inventory[[#This Row],[Total Net Profit]]/Inventory[[#This Row],[Quantity Sold]]),0)","v":0}]
[null,null,null,null,null,null,null,null,0,0,0,null,null,null,0,{"$f":"IF(Inventory[[#This Row],[Item SKU/ID]]=\"\",0,SUMPRODUCT((Quantity_Sold_1=Inventory[[#This Row],[Item SKU/ID]])*Net_Profit))","v":0},{"$f":"IFERROR(AVERAGE(Inventory[[#This Row],[Total Net Profit]]/Inventory[[#This Row],[Quantity Sold]]),0)","v":0}]
[null,null,null,null,null,null,null,null,0,0,0,null,null,null,0,{"$f":"IF(Inventory[[#This Row],[Item SKU/ID]]=\"\",0,SUMPRODUCT((Quantity_Sold_1=Inventory[[#This Row],[Item SKU/ID]])*Net_Profit))","v":0},{"$f":"IFERROR(AVERAGE(Inventory[[#This Row],[Total Net Profit]]/Inventory[[#This Row],[Quantity Sold]]),0)","v":0}]
[null,null,null,null,null,null,null,null,0,0,0,null,null,null,0,{"$f":"IF(Inventory[[#This Row],[Item SKU/ID]]=\"\",0,SUMPRODUCT((Quantity_Sold_1=Inventory[[#This Row],[Item SKU/ID]])*Net_Profit))","v":0},{"$f":"IFERROR(AVERAGE(Inventory[[#This Row],[Total Net Profit]]/Inventory[[#This Row],[Quantity Sold]]),0)","v":0}]
[null,null,null,null,null,null,null,null,0,0,0,null,null,null,0,{"$f":"IF(Inventory[[#This Row],[Item SKU/ID]]=\"\",0,SUMPRODUCT((Quantity_Sold_1=Inventory[[#This Row],[Item SKU/ID]])*Net_Profit))","v":0},{"$f":"IFERROR(AVERAGE(Inventory[[#This Row],[Total Net Profit]]/Inventory[[#This Row],[Quantity Sold]]),0)","v":0}]
[null,null,null,null,null,null,null,null,0,0,0,null,null,null,0,{"$f":"IF(Inventory[[#This Row],[Item SKU/ID]]=\"\",0,SUMPRODUCT((Quantity_Sold_1=Inventory[[#This Row],[Item SKU/ID]])*Net_Profit))","v":0},{"$f":"IFERROR(AVERAGE(Inventory[[#This Row],[Total Net Profit]]/Inventory[[#This Row],[Quantity Sold]]),0)","v":0}]
[null,null,null,null,null,null,null,null,0,0,0,null,null,null,0,{"$f":"IF(Inventory[[#This Row],[Item SKU/ID]]=\"\",0,SUMPRODUCT((Quantity_Sold_1=Inventory[[#This Row],[Item SKU/ID]])*Net_Profit))","v":0},{"$f":"IFERROR(AVERAGE(Inventory[[#This Row],[Total Net Profit]]/Inventory[[#This Row],[Quantity Sold]]),0)","v":0}]
[null,null,null,null,null,null,null,null,0,0,0,null,null,null,0,{"$f":"IF(Inventory[[#This Row],[Item SKU/ID]]=\"\",0,SUMPRODUCT((Quantity_Sold_1=Inventory[[#This Row],[Item SKU/ID]])*Net_Profit))","v":0},{"$f":"IFERROR(AVERAGE(Inventory[[#This Row],[Total Net Profit]]/Inventory[[#This Row],[Quantity Sold]]),0)","v":0}]
[null,null,null,null,null,null,null,null,0,0,0,null,null,null,0,{"$f":"IF(Inventory[[#This Row],[Item SKU/ID]]=\"\",0,SUMPRODUCT((Quantity_Sold_1=Inventory[[#This Row],[Item SKU/ID]])*Net_Profit))","v":0},{"$f":"IFERROR(AVERAGE(Inventory[[#This Row],[Total Net Profit]]/Inventory[[#This Row],[Quantity Sold]]),0)","v":0}]
[null,null,null,null,null,null,null,null,0,0,0,null,null,null,0,{"$f":"IF(Inventory[[#This Row],[Item SKU/ID]]=\"\",0,SUMPRODUCT((Quantity_Sold_1=Inventory[[#This Row],[Item SKU/ID]])*Net_Profit))","v":0},{"$f":"IFERROR(AVERAGE(Inventory[[#This Row],[Total Net Profit]]/Inventory[[#This Row],[Quantity Sold]]),0)","v":0}]
[null,null,null,null,null,null,null,null,0,0,0,null,null,null,0,{"$f":"IF(Inventory[[#This Row],[Item SKU/ID]]=\"\",0,SUMPRODUCT((Quantity_Sold_1=Inventory[[#This Row],[Item SKU/ID]])*Net_Profit))","v":0},{"$f":"IFERROR(AVERAGE(Inventory[[#This Row],[Total Net Profit]]/Inventory[[#This Row],[Quantity Sold]]),0)","v":0}]
[null,null,null,null,null,null,null,null,0,0,0,null,null,null,0,{"$f":"IF(Inventory[[#This Row],[Item SKU/ID]]=\"\",0,SUMPRODUCT((Quantity_Sold_1=Inventory[[#This Row],[Item SKU/ID]])*Net_Profit))","v":0},{"$f":"IFERROR(AVERAGE(Inventory[[#This Row],[Total Net Profit]]/Inventory[[#This Row],[Quantity Sold]]),0)","v":0}]
[null,null,null,null,null,null,null,null,0,0,0,null,null,null,0,{"$f":"IF(Inventory[[#This Row],[Item SKU/ID]]=\"\",0,SUMPRODUCT((Quantity_Sold_1=Inventory[[#This Row],[Item SKU/ID]])*Net_Profit))","v":0},{"$f":"IFERROR(AVERAGE(Inventory[[#This Row],[Total Net Profit]]/Inventory[[#This Row],[Quantity Sold]]),0)","v":0}]
[null,null,null,null,null,null,null,null,0,0,0,null,null,null,0,{"$f":"IF(Inventory[[#This Row],[Item SKU/ID]]=\"\",0,SUMPRODUCT((Quantity_Sold_1=Inventory[[#This Row],[Item SKU/ID]])*Net_Profit))","v":0},{"$f":"IFERROR(AVERAGE(Inventory[[#This Row],[Total Net Profit]]/Inventory[[#This Row],[Quantity Sold]]),0)","v":0}]
[null,null,null,null,null,null,null,null,0,0,0,null,null,null,0,{"$f":"IF(Inventory[[#This Row],[Item SKU/ID]]=\"\",0,SUMPRODUCT((Quantity_Sold_1=Inventory[[#This Row],[Item SKU/ID]])*Net_Profit))","v":0},{"$f":"IFERROR(AVERAGE(Inventory[[#This Row],[Total Net Profit]]/Inventory[[#This Row],[Quantity Sold]]),0)","v":0}]
[null,null,null,null,null,null,null,null,0,0,0,null,null,null,0,{"$f":"IF(Inventory[[#This Row],[Item SKU/ID]]=\"\",0,SUMPRODUCT((Quantity_Sold_1=Inventory[[#This Row],[Item SKU/ID]])*Net_Profit))","v":0},{"$f":"IFERROR(AVERAGE(Inventory[[#This Row],[Total Net Profit]]/Inventory[[#This Row],[Quantity Sold]]),0)","v":0}]
[null,null,null,null,null,null,null,null,0,0,0,null,null,null,0,{"$f":"IF(Inventory[[#This Row],[Item SKU/ID]]=\"\",0,SUMPRODUCT((Quantity_Sold_1=Inventory[[#This Row],[Item SKU/ID]])*Net_Profit))","v":0},{"$f":"IFERROR(AVERAGE(Inventory[[#This Row],[Total Net Profit]]/Inventory[[#This Row],[Quantity Sold]]),0)","v":0}]
[null,null,null,null,null,null,null,null,0,0,0,null,null,null,0,{"$f":"IF(Inventory[[#This Row],[Item SKU/ID]]=\"\",0,SUMPRODUCT((Quantity_Sold_1=Inventory[[#This Row],[Item SKU/ID]])*Net_Profit))","v":0},{"$f":"IFERROR(AVERAGE(Inventory[[#This Row],[Total Net Profit]]/Inventory[[#This Row],[Quantity Sold]]),0)","v":0}]
[null,null,null,null,null,null,null,null,0,0,0,null,null,null,0,{"$f":"IF(Inventory[[#This Row],[Item SKU/ID]]=\"\",0,SUMPRODUCT((Quantity_Sold_1=Inventory[[#This Row],[Item SKU/ID]])*Net_Profit))","v":0},{"$f":"IFERROR(AVERAGE(Inventory[[#This Row],[Total Net Profit]]/Inventory[[#This Row],[Quantity Sold]]),0)","v":0}]
[null,null,null,null,null,null,null,null,0,0,0,null,null,null,0,{"$f":"IF(Inventory[[#This Row],[Item SKU/ID]]=\"\",0,SUMPRODUCT((Quantity_Sold_1=Inventory[[#This Row],[Item SKU/ID]])*Net_Profit))","v":0},{"$f":"IFERROR(AVERAGE(Inventory[[#This Row],[Total Net Profit]]/Inventory[[#This Row],[Quantity Sold]]),0)","v":0}]
[null,null,null,null,null,null,null,null,0,0,0,null,null,null,0,{"$f":"IF(Inventory[[#This Row],[Item SKU/ID]]=\"\",0,SUMPRODUCT((Quantity_Sold_1=Inventory[[#This Row],[Item SKU/ID]])*Net_Profit))","v":0},{"$f":"IFERROR(AVERAGE(Inventory[[#This Row],[Total Net Profit]]/Inventory[[#This Row],[Quantity Sold]]),0)","v":0}]
[null,null,null,null,null,null,null,null,0,0,0,null,null,null,0,{"$f":"IF(Inventory[[#This Row],[Item SKU/ID]]=\"\",0,SUMPRODUCT((Quantity_Sold_1=Inventory[[#This Row],[Item SKU/ID]])*Net_Profit))","v":0},{"$f":"IFERROR(AVERAGE(Inventory[[#This Row],[Total Net Profit]]/Inventory[[#This Row],[Quantity Sold]]),0)","v":0}]
[null,null,null,null,null,null,null,null,0,0,0,null,null,null,0,{"$f":"IF(Inventory[[#This Row],[Item SKU/ID]]=\"\",0,SUMPRODUCT((Quantity_Sold_1=Inventory[[#This Row],[Item SKU/ID]])*Net_Profit))","v":0},{"$f":"IFERROR(AVERAGE(Inventory[[#This Row],[Total Net Profit]]/Inventory[[#This Row],[Quantity Sold]]),0)","v":0}]
[null,null,null,null,null,null,null,null,0,0,0,null,null,null,0,{"$f":"IF(Inventory[[#This Row],[Item SKU/ID]]=\"\",0,SUMPRODUCT((Quantity_Sold_1=Inventory[[#This Row],[Item SKU/ID]])*Net_Profit))","v":0},{"$f":"IFERROR(AVERAGE(Inventory[[#This Row],[Total Net Profit]]/Inventory[[#This Row],[Quantity Sold]]),0)","v":0}]
[null,null,null,null,null,null,null,null,0,0,0,null,null,null,0,{"$f":"IF(Inventory[[#This Row],[Item SKU/ID]]=\"\",0,SUMPRODUCT((Quantity_Sold_1=Inventory[[#This Row],[Item SKU/ID]])*Net_Profit))","v":0},{"$f":"IFERROR(AVERAGE(Inventory[[#This Row],[Total Net Profit]]/Inventory[[#This Row],[Quantity Sold]]),0)","v":0}]
[null,null,null,null,null,null,null,null,0,0,0,null,null,null,0,{"$f":"IF(Inventory[[#This Row],[Item SKU/ID]]=\"\",0,SUMPRODUCT((Quantity_Sold_1=Inventory[[#This Row],[Item SKU/ID]])*Net_Profit))","v":0},{"$f":"IFERROR(AVERAGE(Inventory[[#This Row],[Total Net Profit]]/Inventory[[#This Row],[Quantity Sold]]),0)","v":0}]
[null,null,null,null,null,null,null,null,0,0,0,null,null,null,0,{"$f":"IF(Inventory[[#This Row],[Item SKU/ID]]=\"\",0,SUMPRODUCT((Quantity_Sold_1=Inventory[[#This Row],[Item SKU/ID]])*Net_Profit))","v":0},{"$f":"IFERROR(AVERAGE(Inventory[[#This Row],[Total Net Profit]]/Inventory[[#This Row],[Quantity Sold]]),0)","v":0}]
[null,null,null,null,null,null,null,null,0,0,0,null,null,null,0,{"$f":"IF(Inventory[[#This Row],[Item SKU/ID]]=\"\",0,SUMPRODUCT((Quantity_Sold_1=Inventory[[#This Row],[Item SKU/ID]])*Net_Profit))","v":0},{"$f":"IFERROR(AVERAGE(Inventory[[#This Row],[Total Net Profit]]/Inventory[[#This Row],[Quantity Sold]]),0)","v":0}]
[null,null,null,null,null,null,null,null,{"$f":"K708*H708","v":0},{"$f":"IF(F708=\"\",0,SUMPRODUCT((Quantity_Sold_1=F708)*Quantity_Sold_2))","v":0},{"$f":"G708-J708","v":0},null,null,null,{"$f":"K708*H708","v":0},{"$f":"IF(Inventory[[#This Row],[Item SKU/ID]]=\"\",0,SUMPRODUCT((Quantity_Sold_1=Inventory[[#This Row],[Item SKU/ID]])*Net_Profit))","v":0},{"$f":"IFERROR(AVERAGE(Inventory[[#This Row],[Total Net Profit]]/Inventory[[#This Row],[Quantity Sold]]),0)","v":0}]
[null,null,null,null,null,null,null,null,0,0,0,null,null,null,0,{"$f":"IF(Inventory[[#This Row],[Item SKU/ID]]=\"\",0,SUMPRODUCT((Quantity_Sold_1=Inventory[[#This Row],[Item SKU/ID]])*Net_Profit))","v":0},{"$f":"IFERROR(AVERAGE(Inventory[[#This Row],[Total Net Profit]]/Inventory[[#This Row],[Quantity Sold]]),0)","v":0}]
[null,null,null,null,null,null,null,null,0,0,0,null,null,null,0,{"$f":"IF(Inventory[[#This Row],[Item SKU/ID]]=\"\",0,SUMPRODUCT((Quantity_Sold_1=Inventory[[#This Row],[Item SKU/ID]])*Net_Profit))","v":0},{"$f":"IFERROR(AVERAGE(Inventory[[#This Row],[Total Net Profit]]/Inventory[[#This Row],[Quantity Sold]]),0)","v":0}]
[null,null,null,null,null,null,null,null,0,0,0,null,null,null,0,{"$f":"IF(Inventory[[#This Row],[Item SKU/ID]]=\"\",0,SUMPRODUCT((Quantity_Sold_1=Inventory[[#This Row],[Item SKU/ID]])*Net_Profit))","v":0},{"$f":"IFERROR(AVERAGE(Inventory[[#This Row],[Total Net Profit]]/Inventory[[#This Row],[Quantity Sold]]),0)","v":0}]
[null,null,null,null,null,null,null,null,0,0,0,null,null,null,0,{"$f":"IF(Inventory[[#This Row],[Item SKU/ID]]=\"\",0,SUMPRODUCT((Quantity_Sold_1=Inventory[[#This Row],[Item SKU/ID]])*Net_Profit))","v":0},{"$f":"IFERROR(AVERAGE(Inventory[[#This Row],[Total Net Profit]]/Inventory[[#This Row],[Quantity Sold]]),0)","v":0}]
[null,null,null,null,null,null,null,null,0,0,0,null,null,null,0,{"$f":"IF(Inventory[[#This Row],[Item SKU/ID]]=\"\",0,SUMPRODUCT((Quantity_Sold_1=Inventory[[#This Row],[Item SKU/ID]])*Net_Profit))","v":0},{"$f":"IFERROR(AVERAGE(Inventory[[#This Row],[Total Net Profit]]/Inventory[[#This Row],[Quantity Sold]]),0)","v":0}]
[null,null,null,null,null,null,null,null,0,0,0,null,null,null,0,{"$f":"IF(Inventory[[#This Row],[Item SKU/ID]]=\"\",0,SUMPRODUCT((Quantity_Sold_1=Inventory[[#This Row],[Item SKU/ID]])*Net_Profit))","v":0},{"$f":"IFERROR(AVERAGE(Inventory[[#This Row],[Total Net Profit]]/Inventory[[#This Row],[Quantity Sold]]),0)","v":0}]
[null,null,null,null,null,null,null,null,0,0,0,null,null,null,0,{"$f":"IF(Inventory[[#This Row],[Item SKU/ID]]=\"\",0,SUMPRODUCT((Quantity_Sold_1=Inventory[[#This Row],[Item SKU/ID]])*Net_Profit))","v":0},{"$f":"IFERROR(AVERAGE(Inventory[[#This Row],[Total Net Profit]]/Inventory[[#This Row],[Quantity Sold]]),0)","v":0}]
[null,null,null,null,null,null,null,null,0,0,0,null,null,null,0,{"$f":"IF(Inventory[[#This Row],[Item SKU/ID]]=\"\",0,SUMPRODUCT((Quantity_Sold_1=Inventory[[#This Row],[Item SKU/ID]])*Net_Profit))","v":0},{"$f":"IFERROR(AVERAGE(Inventory[[#This Row],[Total Net Profit]]/Inventory[[#This Row],[Quantity Sold]]),0)","v":0}]
[null,null,null,null,null,null,null,null,0,0,0,null,null,null,0,{"$f":"IF(Inventory[[#This Row],[Item SKU/ID]]=\"\",0,SUMPRODUCT((Quantity_Sold_1=Inventory[[#This Row],[Item SKU/ID]])*Net_Profit))","v":0},{"$f":"IFERROR(AVERAGE(Inventory[[#This Row],[Total Net Profit]]/Inventory[[#This Row],[Quantity Sold]]),0)","v":0}]
[null,null,null,null,null,null,null,null,0,0,0,null,null,null,0,{"$f":"IF(Inventory[[#This Row],[Item SKU/ID]]=\"\",0,SUMPRODUCT((Quantity_Sold_1=Inventory[[#This Row],[Item SKU/ID]])*Net_Profit))","v":0},{"$f":"IFERROR(AVERAGE(Inventory[[#This Row],[Total Net Profit]]/Inventory[[#This Row],[Quantity Sold]]),0)","v":0}]
[null,null,null,null,null,null,null,null,0,0,0,null,null,null,0,{"$f":"IF(Inventory[[#This Row],[Item SKU/ID]]=\"\",0,SUMPRODUCT((Quantity_Sold_1=Inventory[[#This Row],[Item SKU/ID]])*Net_Profit))","v":0},{"$f":"IFERROR(AVERAGE(Inventory[[#This Row],[Total Net Profit]]/Inventory[[#This Row],[Quantity Sold]]),0)","v":0}]
[null,null,null,null,null,null,null,null,0,0,0,null,null,null,0,{"$f":"IF(Inventory[[#This Row],[Item SKU/ID]]=\"\",0,SUMPRODUCT((Quantity_Sold_1=Inventory[[#This Row],[Item SKU/ID]])*Net_Profit))","v":0},{"$f":"IFERROR(AVERAGE(Inventory[[#This Row],[Total Net Profit]]/Inventory[[#This Row],[Quantity Sold]]),0)","v":0}]
[null,null,null,null,null,null,null,null,0,0,0,null,null,null,0,{"$f":"IF(Inventory[[#This Row],[Item SKU/ID]]=\"\",0,SUMPRODUCT((Quantity_Sold_1=Inventory[[#This Row],[Item SKU/ID]])*Net_Profit))","v":0},{"$f":"IFERROR(AVERAGE(Inventory[[#This Row],[Total Net Profit]]/Inventory[[#This Row],[Quantity Sold]]),0)","v":0}]
[null,null,null,null,null,null,null,null,0,0,0,null,null,null,0,{"$f":"IF(Inventory[[#This Row],[Item SKU/ID]]=\"\",0,SUMPRODUCT((Quantity_Sold_1=Inventory[[#This Row],[Item SKU/ID]])*Net_Profit))","v":0},{"$f":"IFERROR(AVERAGE(Inventory[[#This Row],[Total Net Profit]]/Inventory[[#This Row],[Quantity Sold]]),0)","v":0}]
[null,null,null,null,null,null,null,null,0,0,0,null,null,null,0,{"$f":"IF(Inventory[[#This Row],[Item SKU/ID]]=\"\",0,SUMPRODUCT((Quantity_Sold_1=Inventory[[#This Row],[Item SKU/ID]])*Net_Profit))","v":0},{"$f":"IFERROR(AVERAGE(Inventory[[#This Row],[Total Net Profit]]/Inventory[[#This Row],[Quantity Sold]]),0)","v":0}]
[null,null,null,null,null,null,null,null,0,0,0,null,null,null,0,{"$f":"IF(Inventory[[#This Row],[Item SKU/ID]]=\"\",0,SUMPRODUCT((Quantity_Sold_1=Inventory[[#This Row],[Item SKU/ID]])*Net_Profit))","v":0},{"$f":"IFERROR(AVERAGE(Inventory[[#This Row],[Total Net Profit]]/Inventory[[#This Row],[Quantity Sold]]),0)","v":0}]
[null,null,null,null,null,null,null,null,0,0,0,null,null,null,0,{"$f":"IF(Inventory[[#This Row],[Item SKU/ID]]=\"\",0,SUMPRODUCT((Quantity_Sold_1=Inventory[[#This Row],[Item SKU/ID]])*Net_Profit))","v":0},{"$f":"IFERROR(AVERAGE(Inventory[[#This Row],[Total Net Profit]]/Inventory[[#This Row],[Quantity Sold]]),0)","v":0}]
[null,null,null,null,null,null,null,null,0,0,0,null,null,null,0,{"$f":"IF(Inventory[[#This Row],[Item SKU/ID]]=\"\",0,SUMPRODUCT((Quantity_Sold_1=Inventory[[#This Row],[Item SKU/ID]])*Net_Profit))","v":0},{"$f":"IFERROR(AVERAGE(Inventory[[#This Row],[Total Net Profit]]/Inventory[[#This Row],[Quantity Sold]]),0)","v":0}]
[null,null,null,null,null,null,null,null,0,0,0,null,null,null,0,{"$f":"IF(Inventory[[#This Row],[Item SKU/ID]]=\"\",0,SUMPRODUCT((Quantity_Sold_1=Inventory[[#This Row],[Item SKU/ID]])*Net_Profit))","v":0},{"$f":"IFERROR(AVERAGE(Inventory[[#This Row],[Total Net Profit]]/Inventory[[#This Row],[Quantity Sold]]),0)","v":0}]
[null,null,null,null,null,null,null,null,0,0,0,null,null,null,0,{"$f":"IF(Inventory[[#This Row],[Item SKU/ID]]=\"\",0,SUMPRODUCT((Quantity_Sold_1=Inventory[[#This Row],[Item SKU/ID]])*Net_Profit))","v":0},{"$f":"IFERROR(AVERAGE(Inventory[[#This Row],[Total Net Profit]]/Inventory[[#This Row],[Quantity Sold]]),0)","v":0}]
[null,null,null,null,null,null,null,null,0,0,0,null,null,null,0,{"$f":"IF(Inventory[[#This Row],[Item SKU/ID]]=\"\",0,SUMPRODUCT((Quantity_Sold_1=Inventory[[#This Row],[Item SKU/ID]])*Net_Profit))","v":0},{"$f":"IFERROR(AVERAGE(Inventory[[#This Row],[Total Net Profit]]/Inventory[[#This Row],[Quantity Sold]]),0)","v":0}]
[null,null,null,null,null,null,null,null,0,0,0,null,null,null,0,{"$f":"IF(Inventory[[#This Row],[Item SKU/ID]]=\"\",0,SUMPRODUCT((Quantity_Sold_1=Inventory[[#This Row],[Item SKU/ID]])*Net_Profit))","v":0},{"$f":"IFERROR(AVERAGE(Inventory[[#This Row],[Total Net Profit]]/Inventory[[#This Row],[Quantity Sold]]),0)","v":0}]
[null,null,null,null,null,null,null,null,0,0,0,null,null,null,0,{"$f":"IF(Inventory[[#This Row],[Item SKU/ID]]=\"\",0,SUMPRODUCT((Quantity_Sold_1=Inventory[[#This Row],[Item SKU/ID]])*Net_Profit))","v":0},{"$f":"IFERROR(AVERAGE(Inventory[[#This Row],[Total Net Profit]]/Inventory[[#This Row],[Quantity Sold]]),0)","v":0}]
[null,null,null,null,null,null,null,null,0,0,0,null,null,null,0,{"$f":"IF(Inventory[[#This Row],[Item SKU/ID]]=\"\",0,SUMPRODUCT((Quantity_Sold_1=Inventory[[#This Row],[Item SKU/ID]])*Net_Profit))","v":0},{"$f":"IFERROR(AVERAGE(Inventory[[#This Row],[Total Net Profit]]/Inventory[[#This Row],[Quantity Sold]]),0)","v":0}]
[null,null,null,null,null,null,null,null,0,0,0,null,null,null,0,{"$f":"IF(Inventory[[#This Row],[Item SKU/ID]]=\"\",0,SUMPRODUCT((Quantity_Sold_1=Inventory[[#This Row],[Item SKU/ID]])*Net_Profit))","v":0},{"$f":"IFERROR(AVERAGE(Inventory[[#This Row],[Total Net Profit]]/Inventory[[#This Row],[Quantity Sold]]),0)","v":0}]
[null,null,null,null,null,null,null,null,0,0,0,null,null,null,0,{"$f":"IF(Inventory[[#This Row],[Item SKU/ID]]=\"\",0,SUMPRODUCT((Quantity_Sold_1=Inventory[[#This Row],[Item SKU/ID]])*Net_Profit))","v":0},{"$f":"IFERROR(AVERAGE(Inventory[[#This Row],[Total Net Profit]]/Inventory[[#This Row],[Quantity Sold]]),0)","v":0}]
[null,null,null,null,null,null,null,null,0,0,0,null,null,null,0,{"$f":"IF(Inventory[[#This Row],[Item SKU/ID]]=\"\",0,SUMPRODUCT((Quantity_Sold_1=Inventory[[#This Row],[Item SKU/ID]])*Net_Profit))","v":0},{"$f":"IFERROR(AVERAGE(Inventory[[#This Row],[Total Net Profit]]/Inventory[[#This Row],[Quantity Sold]]),0)","v":0}]
[null,null,null,null,null,null,null,null,0,0,0,null,null,null,0,{"$f":"IF(Inventory[[#This Row],[Item SKU/ID]]=\"\",0,SUMPRODUCT((Quantity_Sold_1=Inventory[[#This Row],[Item SKU/ID]])*Net_Profit))","v":0},{"$f":"IFERROR(AVERAGE(Inventory[[#This Row],[Total Net Profit]]/Inventory[[#This Row],[Quantity Sold]]),0)","v":0}]
[null,null,null,null,null,null,null,null,0,0,0,null,null,null,0,{"$f":"IF(Inventory[[#This Row],[Item SKU/ID]]=\"\",0,SUMPRODUCT((Quantity_Sold_1=Inventory[[#This Row],[Item SKU/ID]])*Net_Profit))","v":0},{"$f":"IFERROR(AVERAGE(Inventory[[#This Row],[Total Net Profit]]/Inventory[[#This Row],[Quantity Sold]]),0)","v":0}]
[null,null,null,null,null,null,null,null,0,0,0,null,null,null,0,{"$f":"IF(Inventory[[#This Row],[Item SKU/ID]]=\"\",0,SUMPRODUCT((Quantity_Sold_1=Inventory[[#This Row],[Item SKU/ID]])*Net_Profit))","v":0},{"$f":"IFERROR(AVERAGE(Inventory[[#This Row],[Total Net Profit]]/Inventory[[#This Row],[Quantity Sold]]),0)","v":0}]
[null,null,null,null,null,null,null,null,0,0,0,null,null,null,0,{"$f":"IF(Inventory[[#This Row],[Item SKU/ID]]=\"\",0,SUMPRODUCT((Quantity_Sold_1=Inventory[[#This Row],[Item SKU/ID]])*Net_Profit))","v":0},{"$f":"IFERROR(AVERAGE(Inventory[[#This Row],[Total Net Profit]]/Inventory[[#This Row],[Quantity Sold]]),0)","v":0}]
[null,null,null,null,null,null,null,null,0,0,0,null,null,null,0,{"$f":"IF(Inventory[[#This Row],[Item SKU/ID]]=\"\",0,SUMPRODUCT((Quantity_Sold_1=Inventory[[#This Row],[Item SKU/ID]])*Net_Profit))","v":0},{"$f":"IFERROR(AVERAGE(Inventory[[#This Row],[Total Net Profit]]/Inventory[[#This Row],[Quantity Sold]]),0)","v":0}]
[null,null,null,null,null,null,null,null,0,0,0,null,null,null,0,{"$f":"IF(Inventory[[#This Row],[Item SKU/ID]]=\"\",0,SUMPRODUCT((Quantity_Sold_1=Inventory[[#This Row],[Item SKU/ID]])*Net_Profit))","v":0},{"$f":"IFERROR(AVERAGE(Inventory[[#This Row],[Total Net Profit]]/Inventory[[#This Row],[Quantity Sold]]),0)","v":0}]
[null,null,null,null,null,null,null,null,0,0,0,null,null,null,0,{"$f":"IF(Inventory[[#This Row],[Item SKU/ID]]=\"\",0,SUMPRODUCT((Quantity_Sold_1=Inventory[[#This Row],[Item SKU/ID]])*Net_Profit))","v":0},{"$f":"IFERROR(AVERAGE(Inventory[[#This Row],[Total Net Profit]]/Inventory[[#This Row],[Quantity Sold]]),0)","v":0}]
[null,null,null,null,null,null,null,null,0,0,0,null,null,null,0,{"$f":"IF(Inventory[[#This Row],[Item SKU/ID]]=\"\",0,SUMPRODUCT((Quantity_Sold_1=Inventory[[#This Row],[Item SKU/ID]])*Net_Profit))","v":0},{"$f":"IFERROR(AVERAGE(Inventory[[#This Row],[Total Net Profit]]/Inventory[[#This Row],[Quantity Sold]]),0)","v":0}]
[null,null,null,null,null,null,null,null,0,0,0,null,null,null,0,{"$f":"IF(Inventory[[#This Row],[Item SKU/ID]]=\"\",0,SUMPRODUCT((Quantity_Sold_1=Inventory[[#This Row],[Item SKU/ID]])*Net_Profit))","v":0},{"$f":"IFERROR(AVERAGE(Inventory[[#This Row],[Total Net Profit]]/Inventory[[#This Row],[Quantity Sold]]),0)","v":0}]
[null,null,null,null,null,null,null,null,0,0,0,null,null,null,0,{"$f":"IF(Inventory[[#This Row],[Item SKU/ID]]=\"\",0,SUMPRODUCT((Quantity_Sold_1=Inventory[[#This Row],[Item SKU/ID]])*Net_Profit))","v":0},{"$f":"IFERROR(AVERAGE(Inventory[[#This Row],[Total Net Profit]]/Inventory[[#This Row],[Quantity Sold]]),0)","v":0}]
[null,null,null,null,null,null,null,null,0,0,0,null,null,null,0,{"$f":"IF(Inventory[[#This Row],[Item SKU/ID]]=\"\",0,SUMPRODUCT((Quantity_Sold_1=Inventory[[#This Row],[Item SKU/ID]])*Net_Profit))","v":0},{"$f":"IFERROR(AVERAGE(Inventory[[#This Row],[Total Net Profit]]/Inventory[[#This Row],[Quantity Sold]]),0)","v":0}]
[null,null,null,null,null,null,null,null,0,0,0,null,null,null,0,{"$f":"IF(Inventory[[#This Row],[Item SKU/ID]]=\"\",0,SUMPRODUCT((Quantity_Sold_1=Inventory[[#This Row],[Item SKU/ID]])*Net_Profit))","v":0},{"$f":"IFERROR(AVERAGE(Inventory[[#This Row],[Total Net Profit]]/Inventory[[#This Row],[Quantity Sold]]),0)","v":0}]
[null,null,null,null,null,null,null,null,0,0,0,null,null,null,0,{"$f":"IF(Inventory[[#This Row],[Item SKU/ID]]=\"\",0,SUMPRODUCT((Quantity_Sold_1=Inventory[[#This Row],[Item SKU/ID]])*Net_Profit))","v":0},{"$f":"IFERROR(AVERAGE(Inventory[[#This Row],[Total Net Profit]]/Inventory[[#This Row],[Quantity Sold]]),0)","v":0}]
[null,null,null,null,null,null,null,null,0,0,0,null,null,null,0,{"$f":"IF(Inventory[[#This Row],[Item SKU/ID]]=\"\",0,SUMPRODUCT((Quantity_Sold_1=Inventory[[#This Row],[Item SKU/ID]])*Net_Profit))","v":0},{"$f":"IFERROR(AVERAGE(Inventory[[#This Row],[Total Net Profit]]/Inventory[[#This Row],[Quantity Sold]]),0)","v":0}]
[null,null,null,null,null,null,null,null,0,0,0,null,null,null,0,{"$f":"IF(Inventory[[#This Row],[Item SKU/ID]]=\"\",0,SUMPRODUCT((Quantity_Sold_1=Inventory[[#This Row],[Item SKU/ID]])*Net_Profit))","v":0},{"$f":"IFERROR(AVERAGE(Inventory[[#This Row],[Total Net Profit]]/Inventory[[#This Row],[Quantity Sold]]),0)","v":0}]
[null,null,null,null,null,null,null,null,0,0,0,null,null,null,0,{"$f":"IF(Inventory[[#This Row],[Item SKU/ID]]=\"\",0,SUMPRODUCT((Quantity_Sold_1=Inventory[[#This Row],[Item SKU/ID]])*Net_Profit))","v":0},{"$f":"IFERROR(AVERAGE(Inventory[[#This Row],[Total Net Profit]]/Inventory[[#This Row],[Quantity Sold]]),0)","v":0}]
[null,null,null,null,null,null,null,null,0,0,0,null,null,null,0,{"$f":"IF(Inventory[[#This Row],[Item SKU/ID]]=\"\",0,SUMPRODUCT((Quantity_Sold_1=Inventory[[#This Row],[Item SKU/ID]])*Net_Profit))","v":0},{"$f":"IFERROR(AVERAGE(Inventory[[#This Row],[Total Net Profit]]/Inventory[[#This Row],[Quantity Sold]]),0)","v":0}]
[null,null,null,null,null,null,null,null,0,0,0,null,null,null,0,{"$f":"IF(Inventory[[#This Row],[Item SKU/ID]]=\"\",0,SUMPRODUCT((Quantity_Sold_1=Inventory[[#This Row],[Item SKU/ID]])*Net_Profit))","v":0},{"$f":"IFERROR(AVERAGE(Inventory[[#This Row],[Total Net Profit]]/Inventory[[#This Row],[Quantity Sold]]),0)","v":0}]
[null,null,null,null,null,null,null,null,0,0,0,null,null,null,0,{"$f":"IF(Inventory[[#This Row],[Item SKU/ID]]=\"\",0,SUMPRODUCT((Quantity_Sold_1=Inventory[[#This Row],[Item SKU/ID]])*Net_Profit))","v":0},{"$f":"IFERROR(AVERAGE(Inventory[[#This Row],[Total Net Profit]]/Inventory[[#This Row],[Quantity Sold]]),0)","v":0}]
[null,null,null,null,null,null,null,null,0,0,0,null,null,null,0,{"$f":"IF(Inventory[[#This Row],[Item SKU/ID]]=\"\",0,SUMPRODUCT((Quantity_Sold_1=Inventory[[#This Row],[Item SKU/ID]])*Net_Profit))","v":0},{"$f":"IFERROR(AVERAGE(Inventory[[#This Row],[Total Net Profit]]/Inventory[[#This Row],[Quantity Sold]]),0)","v":0}]
[null,null,null,null,null,null,null,null,0,0,0,null,null,null,0,{"$f":"IF(Inventory[[#This Row],[Item SKU/ID]]=\"\",0,SUMPRODUCT((Quantity_Sold_1=Inventory[[#This Row],[Item SKU/ID]])*Net_Profit))","v":0},{"$f":"IFERROR(AVERAGE(Inventory[[#This Row],[Total Net Profit]]/Inventory[[#This Row],[Quantity Sold]]),0)","v":0}]
[null,null,null,null,null,null,null,null,0,0,0,null,null,null,0,{"$f":"IF(Inventory[[#This Row],[Item SKU/ID]]=\"\",0,SUMPRODUCT((Quantity_Sold_1=Inventory[[#This Row],[Item SKU/ID]])*Net_Profit))","v":0},{"$f":"IFERROR(AVERAGE(Inventory[[#This Row],[Total Net Profit]]/Inventory[[#This Row],[Quantity Sold]]),0)","v":0}]
[null,null,null,null,null,null,null,null,0,0,0,null,null,null,0,{"$f":"IF(Inventory[[#This Row],[Item SKU/ID]]=\"\",0,SUMPRODUCT((Quantity_Sold_1=Inventory[[#This Row],[Item SKU/ID]])*Net_Profit))","v":0},{"$f":"IFERROR(AVERAGE(Inventory[[#This Row],[Total Net Profit]]/Inventory[[#This Row],[Quantity Sold]]),0)","v":0}]
[null,null,null,null,null,null,null,null,0,0,0,null,null,null,0,{"$f":"IF(Inventory[[#This Row],[Item SKU/ID]]=\"\",0,SUMPRODUCT((Quantity_Sold_1=Inventory[[#This Row],[Item SKU/ID]])*Net_Profit))","v":0},{"$f":"IFERROR(AVERAGE(Inventory[[#This Row],[Total Net Profit]]/Inventory[[#This Row],[Quantity Sold]]),0)","v":0}]
[null,null,null,null,null,null,null,null,0,0,0,null,null,null,0,{"$f":"IF(Inventory[[#This Row],[Item SKU/ID]]=\"\",0,SUMPRODUCT((Quantity_Sold_1=Inventory[[#This Row],[Item SKU/ID]])*Net_Profit))","v":0},{"$f":"IFERROR(AVERAGE(Inventory[[#This Row],[Total Net Profit]]/Inventory[[#This Row],[Quantity Sold]]),0)","v":0}]
[null,null,null,null,null,null,null,null,0,0,0,null,null,null,0,{"$f":"IF(Inventory[[#This Row],[Item SKU/ID]]=\"\",0,SUMPRODUCT((Quantity_Sold_1=Inventory[[#This Row],[Item SKU/ID]])*Net_Profit))","v":0},{"$f":"IFERROR(AVERAGE(Inventory[[#This Row],[Total Net Profit]]/Inventory[[#This Row],[Quantity Sold]]),0)","v":0}]
[null,null,null,null,null,null,null,null,0,0,0,null,null,null,0,{"$f":"IF(Inventory[[#This Row],[Item SKU/ID]]=\"\",0,SUMPRODUCT((Quantity_Sold_1=Inventory[[#This Row],[Item SKU/ID]])*Net_Profit))","v":0},{"$f":"IFERROR(AVERAGE(Inventory[[#This Row],[Total Net Profit]]/Inventory[[#This Row],[Quantity Sold]]),0)","v":0}]
[null,null,null,null,null,null,null,null,0,0,0,null,null,null,0,{"$f":"IF(Inventory[[#This Row],[Item SKU/ID]]=\"\",0,SUMPRODUCT((Quantity_Sold_1=Inventory[[#This Row],[Item SKU/ID]])*Net_Profit))","v":0},{"$f":"IFERROR(AVERAGE(Inventory[[#This Row],[Total Net Profit]]/Inventory[[#This Row],[Quantity Sold]]),0)","v":0}]
[null,null,null,null,null,null,null,null,0,0,0,null,null,null,0,{"$f":"IF(Inventory[[#This Row],[Item SKU/ID]]=\"\",0,SUMPRODUCT((Quantity_Sold_1=Inventory[[#This Row],[Item SKU/ID]])*Net_Profit))","v":0},{"$f":"IFERROR(AVERAGE(Inventory[[#This Row],[Total Net Profit]]/Inventory[[#This Row],[Quantity Sold]]),0)","v":0}]
[null,null,null,null,null,null,null,null,0,0,0,null,null,null,0,{"$f":"IF(Inventory[[#This Row],[Item SKU/ID]]=\"\",0,SUMPRODUCT((Quantity_Sold_1=Inventory[[#This Row],[Item SKU/ID]])*Net_Profit))","v":0},{"$f":"IFERROR(AVERAGE(Inventory[[#This Row],[Total Net Profit]]/Inventory[[#This Row],[Quantity Sold]]),0)","v":0}]
[null,null,null,null,null,null,null,null,0,0,0,null,null,null,0,{"$f":"IF(Inventory[[#This Row],[Item SKU/ID]]=\"\",0,SUMPRODUCT((Quantity_Sold_1=Inventory[[#This Row],[Item SKU/ID]])*Net_Profit))","v":0},{"$f":"IFERROR(AVERAGE(Inventory[[#This Row],[Total Net Profit]]/Inventory[[#This Row],[Quantity Sold]]),0)","v":0}]
[null,null,null,null,null,null,null,null,0,0,0,null,null,null,0,{"$f":"IF(Inventory[[#This Row],[Item SKU/ID]]=\"\",0,SUMPRODUCT((Quantity_Sold_1=Inventory[[#This Row],[Item SKU/ID]])*Net_Profit))","v":0},{"$f":"IFERROR(AVERAGE(Inventory[[#This Row],[Total Net Profit]]/Inventory[[#This Row],[Quantity Sold]]),0)","v":0}]
[null,null,null,null,null,null,null,null,0,0,0,null,null,null,0,{"$f":"IF(Inventory[[#This Row],[Item SKU/ID]]=\"\",0,SUMPRODUCT((Quantity_Sold_1=Inventory[[#This Row],[Item SKU/ID]])*Net_Profit))","v":0},{"$f":"IFERROR(AVERAGE(Inventory[[#This Row],[Total Net Profit]]/Inventory[[#This Row],[Quantity Sold]]),0)","v":0}]
[null,null,null,null,null,null,null,null,0,0,0,null,null,null,0,{"$f":"IF(Inventory[[#This Row],[Item SKU/ID]]=\"\",0,SUMPRODUCT((Quantity_Sold_1=Inventory[[#This Row],[Item SKU/ID]])*Net_Profit))","v":0},{"$f":"IFERROR(AVERAGE(Inventory[[#This Row],[Total Net Profit]]/Inventory[[#This Row],[Quantity Sold]]),0)","v":0}]
[null,null,null,null,null,null,null,null,0,0,0,null,null,null,0,{"$f":"IF(Inventory[[#This Row],[Item SKU/ID]]=\"\",0,SUMPRODUCT((Quantity_Sold_1=Inventory[[#This Row],[Item SKU/ID]])*Net_Profit))","v":0},{"$f":"IFERROR(AVERAGE(Inventory[[#This Row],[Total Net Profit]]/Inventory[[#This Row],[Quantity Sold]]),0)","v":0}]
[null,null,null,null,null,null,null,null,0,0,0,null,null,null,0,{"$f":"IF(Inventory[[#This Row],[Item SKU/ID]]=\"\",0,SUMPRODUCT((Quantity_Sold_1=Inventory[[#This Row],[Item SKU/ID]])*Net_Profit))","v":0},{"$f":"IFERROR(AVERAGE(Inventory[[#This Row],[Total Net Profit]]/Inventory[[#This Row],[Quantity Sold]]),0)","v":0}]
[null,null,null,null,null,null,null,null,{"$f":"K772*H772","v":0},{"$f":"IF(F772=\"\",0,SUMPRODUCT((Quantity_Sold_1=F772)*Quantity_Sold_2))","v":0},{"$f":"G772-J772","v":0},null,null,null,{"$f":"K772*H772","v":0},{"$f":"IF(Inventory[[#This Row],[Item SKU/ID]]=\"\",0,SUMPRODUCT((Quantity_Sold_1=Inventory[[#This Row],[Item SKU/ID]])*Net_Profit))","v":0},{"$f":"IFERROR(AVERAGE(Inventory[[#This Row],[Total Net Profit]]/Inventory[[#This Row],[Quantity Sold]]),0)","v":0}]
[null,null,null,null,null,null,null,null,0,0,0,null,null,null,0,{"$f":"IF(Inventory[[#This Row],[Item SKU/ID]]=\"\",0,SUMPRODUCT((Quantity_Sold_1=Inventory[[#This Row],[Item SKU/ID]])*Net_Profit))","v":0},{"$f":"IFERROR(AVERAGE(Inventory[[#This Row],[Total Net Profit]]/Inventory[[#This Row],[Quantity Sold]]),0)","v":0}]
[null,null,null,null,null,null,null,null,0,0,0,null,null,null,0,{"$f":"IF(Inventory[[#This Row],[Item SKU/ID]]=\"\",0,SUMPRODUCT((Quantity_Sold_1=Inventory[[#This Row],[Item SKU/ID]])*Net_Profit))","v":0},{"$f":"IFERROR(AVERAGE(Inventory[[#This Row],[Total Net Profit]]/Inventory[[#This Row],[Quantity Sold]]),0)","v":0}]
[null,null,null,null,null,null,null,null,0,0,0,null,null,null,0,{"$f":"IF(Inventory[[#This Row],[Item SKU/ID]]=\"\",0,SUMPRODUCT((Quantity_Sold_1=Inventory[[#This Row],[Item SKU/ID]])*Net_Profit))","v":0},{"$f":"IFERROR(AVERAGE(Inventory[[#This Row],[Total Net Profit]]/Inventory[[#This Row],[Quantity Sold]]),0)","v":0}]
[null,null,null,null,null,null,null,null,0,0,0,null,null,null,0,{"$f":"IF(Inventory[[#This Row],[Item SKU/ID]]=\"\",0,SUMPRODUCT((Quantity_Sold_1=Inventory[[#This Row],[Item SKU/ID]])*Net_Profit))","v":0},{"$f":"IFERROR(AVERAGE(Inventory[[#This Row],[Total Net Profit]]/Inventory[[#This Row],[Quantity Sold]]),0)","v":0}]
[null,null,null,null,null,null,null,null,0,0,0,null,null,null,0,{"$f":"IF(Inventory[[#This Row],[Item SKU/ID]]=\"\",0,SUMPRODUCT((Quantity_Sold_1=Inventory[[#This Row],[Item SKU/ID]])*Net_Profit))","v":0},{"$f":"IFERROR(AVERAGE(Inventory[[#This Row],[Total Net Profit]]/Inventory[[#This Row],[Quantity Sold]]),0)","v":0}]
[null,null,null,null,null,null,null,null,0,0,0,null,null,null,0,{"$f":"IF(Inventory[[#This Row],[Item SKU/ID]]=\"\",0,SUMPRODUCT((Quantity_Sold_1=Inventory[[#This Row],[Item SKU/ID]])*Net_Profit))","v":0},{"$f":"IFERROR(AVERAGE(Inventory[[#This Row],[Total Net Profit]]/Inventory[[#This Row],[Quantity Sold]]),0)","v":0}]
[null,null,null,null,null,null,null,null,0,0,0,null,null,null,0,{"$f":"IF(Inventory[[#This Row],[Item SKU/ID]]=\"\",0,SUMPRODUCT((Quantity_Sold_1=Inventory[[#This Row],[Item SKU/ID]])*Net_Profit))","v":0},{"$f":"IFERROR(AVERAGE(Inventory[[#This Row],[Total Net Profit]]/Inventory[[#This Row],[Quantity Sold]]),0)","v":0}]
[null,null,null,null,null,null,null,null,0,0,0,null,null,null,0,{"$f":"IF(Inventory[[#This Row],[Item SKU/ID]]=\"\",0,SUMPRODUCT((Quantity_Sold_1=Inventory[[#This Row],[Item SKU/ID]])*Net_Profit))","v":0},{"$f":"IFERROR(AVERAGE(Inventory[[#This Row],[Total Net Profit]]/Inventory[[#This Row],[Quantity Sold]]),0)","v":0}]
[null,null,null,null,null,null,null,null,0,0,0,null,null,null,0,{"$f":"IF(Inventory[[#This Row],[Item SKU/ID]]=\"\",0,SUMPRODUCT((Quantity_Sold_1=Inventory[[#This Row],[Item SKU/ID]])*Net_Profit))","v":0},{"$f":"IFERROR(AVERAGE(Inventory[[#This Row],[Total Net Profit]]/Inventory[[#This Row],[Quantity Sold]]),0)","v":0}]
[null,null,null,null,null,null,null,null,0,0,0,null,null,null,0,{"$f":"IF(Inventory[[#This Row],[Item SKU/ID]]=\"\",0,SUMPRODUCT((Quantity_Sold_1=Inventory[[#This Row],[Item SKU/ID]])*Net_Profit))","v":0},{"$f":"IFERROR(AVERAGE(Inventory[[#This Row],[Total Net Profit]]/Inventory[[#This Row],[Quantity Sold]]),0)","v":0}]
[null,null,null,null,null,null,null,null,0,0,0,null,null,null,0,{"$f":"IF(Inventory[[#This Row],[Item SKU/ID]]=\"\",0,SUMPRODUCT((Quantity_Sold_1=Inventory[[#This Row],[Item SKU/ID]])*Net_Profit))","v":0},{"$f":"IFERROR(AVERAGE(Inventory[[#This Row],[Total Net Profit]]/Inventory[[#This Row],[Quantity Sold]]),0)","v":0}]
[null,null,null,null,null,null,null,null,0,0,0,null,null,null,0,{"$f":"IF(Inventory[[#This Row],[Item SKU/ID]]=\"\",0,SUMPRODUCT((Quantity_Sold_1=Inventory[[#This Row],[Item SKU/ID]])*Net_Profit))","v":0},{"$f":"IFERROR(AVERAGE(Inventory[[#This Row],[Total Net Profit]]/Inventory[[#This Row],[Quantity Sold]]),0)","v":0}]
[null,null,null,null,null,null,null,null,0,0,0,null,null,null,0,{"$f":"IF(Inventory[[#This Row],[Item SKU/ID]]=\"\",0,SUMPRODUCT((Quantity_Sold_1=Inventory[[#This Row],[Item SKU/ID]])*Net_Profit))","v":0},{"$f":"IFERROR(AVERAGE(Inventory[[#This Row],[Total Net Profit]]/Inventory[[#This Row],[Quantity Sold]]),0)","v":0}]
[null,null,null,null,null,null,null,null,0,0,0,null,null,null,0,{"$f":"IF(Inventory[[#This Row],[Item SKU/ID]]=\"\",0,SUMPRODUCT((Quantity_Sold_1=Inventory[[#This Row],[Item SKU/ID]])*Net_Profit))","v":0},{"$f":"IFERROR(AVERAGE(Inventory[[#This Row],[Total Net Profit]]/Inventory[[#This Row],[Quantity Sold]]),0)","v":0}]
[null,null,null,null,null,null,null,null,0,0,0,null,null,null,0,{"$f":"IF(Inventory[[#This Row],[Item SKU/ID]]=\"\",0,SUMPRODUCT((Quantity_Sold_1=Inventory[[#This Row],[Item SKU/ID]])*Net_Profit))","v":0},{"$f":"IFERROR(AVERAGE(Inventory[[#This Row],[Total Net Profit]]/Inventory[[#This Row],[Quantity Sold]]),0)","v":0}]
[null,null,null,null,null,null,null,null,0,0,0,null,null,null,0,{"$f":"IF(Inventory[[#This Row],[Item SKU/ID]]=\"\",0,SUMPRODUCT((Quantity_Sold_1=Inventory[[#This Row],[Item SKU/ID]])*Net_Profit))","v":0},{"$f":"IFERROR(AVERAGE(Inventory[[#This Row],[Total Net Profit]]/Inventory[[#This Row],[Quantity Sold]]),0)","v":0}]
[null,null,null,null,null,null,null,null,0,0,0,null,null,null,0,{"$f":"IF(Inventory[[#This Row],[Item SKU/ID]]=\"\",0,SUMPRODUCT((Quantity_Sold_1=Inventory[[#This Row],[Item SKU/ID]])*Net_Profit))","v":0},{"$f":"IFERROR(AVERAGE(Inventory[[#This Row],[Total Net Profit]]/Inventory[[#This Row],[Quantity Sold]]),0)","v":0}]
[null,null,null,null,null,null,null,null,0,0,0,null,null,null,0,{"$f":"IF(Inventory[[#This Row],[Item SKU/ID]]=\"\",0,SUMPRODUCT((Quantity_Sold_1=Inventory[[#This Row],[Item SKU/ID]])*Net_Profit))","v":0},{"$f":"IFERROR(AVERAGE(Inventory[[#This Row],[Total Net Profit]]/Inventory[[#This Row],[Quantity Sold]]),0)","v":0}]
[null,null,null,null,null,null,null,null,0,0,0,null,null,null,0,{"$f":"IF(Inventory[[#This Row],[Item SKU/ID]]=\"\",0,SUMPRODUCT((Quantity_Sold_1=Inventory[[#This Row],[Item SKU/ID]])*Net_Profit))","v":0},{"$f":"IFERROR(AVERAGE(Inventory[[#This Row],[Total Net Profit]]/Inventory[[#This Row],[Quantity Sold]]),0)","v":0}]
[null,null,null,null,null,null,null,null,0,0,0,null,null,null,0,{"$f":"IF(Inventory[[#This Row],[Item SKU/ID]]=\"\",0,SUMPRODUCT((Quantity_Sold_1=Inventory[[#This Row],[Item SKU/ID]])*Net_Profit))","v":0},{"$f":"IFERROR(AVERAGE(Inventory[[#This Row],[Total Net Profit]]/Inventory[[#This Row],[Quantity Sold]]),0)","v":0}]
[null,null,null,null,null,null,null,null,0,0,0,null,null,null,0,{"$f":"IF(Inventory[[#This Row],[Item SKU/ID]]=\"\",0,SUMPRODUCT((Quantity_Sold_1=Inventory[[#This Row],[Item SKU/ID]])*Net_Profit))","v":0},{"$f":"IFERROR(AVERAGE(Inventory[[#This Row],[Total Net Profit]]/Inventory[[#This Row],[Quantity Sold]]),0)","v":0}]
[null,null,null,null,null,null,null,null,0,0,0,null,null,null,0,{"$f":"IF(Inventory[[#This Row],[Item SKU/ID]]=\"\",0,SUMPRODUCT((Quantity_Sold_1=Inventory[[#This Row],[Item SKU/ID]])*Net_Profit))","v":0},{"$f":"IFERROR(AVERAGE(Inventory[[#This Row],[Total Net Profit]]/Inventory[[#This Row],[Quantity Sold]]),0)","v":0}]
[null,null,null,null,null,null,null,null,0,0,0,null,null,null,0,{"$f":"IF(Inventory[[#This Row],[Item SKU/ID]]=\"\",0,SUMPRODUCT((Quantity_Sold_1=Inventory[[#This Row],[Item SKU/ID]])*Net_Profit))","v":0},{"$f":"IFERROR(AVERAGE(Inventory[[#This Row],[Total Net Profit]]/Inventory[[#This Row],[Quantity Sold]]),0)","v":0}]
[null,null,null,null,null,null,null,null,0,0,0,null,null,null,0,{"$f":"IF(Inventory[[#This Row],[Item SKU/ID]]=\"\",0,SUMPRODUCT((Quantity_Sold_1=Inventory[[#This Row],[Item SKU/ID]])*Net_Profit))","v":0},{"$f":"IFERROR(AVERAGE(Inventory[[#This Row],[Total Net Profit]]/Inventory[[#This Row],[Quantity Sold]]),0)","v":0}]
[null,null,null,null,null,null,null,null,0,0,0,null,null,null,0,{"$f":"IF(Inventory[[#This Row],[Item SKU/ID]]=\"\",0,SUMPRODUCT((Quantity_Sold_1=Inventory[[#This Row],[Item SKU/ID]])*Net_Profit))","v":0},{"$f":"IFERROR(AVERAGE(Inventory[[#This Row],[Total Net Profit]]/Inventory[[#This Row],[Quantity Sold]]),0)","v":0}]
[null,null,null,null,null,null,null,null,0,0,0,null,null,null,0,{"$f":"IF(Inventory[[#This Row],[Item SKU/ID]]=\"\",0,SUMPRODUCT((Quantity_Sold_1=Inventory[[#This Row],[Item SKU/ID]])*Net_Profit))","v":0},{"$f":"IFERROR(AVERAGE(Inventory[[#This Row],[Total Net Profit]]/Inventory[[#This Row],[Quantity Sold]]),0)","v":0}]
[null,null,null,null,null,null,null,null,0,0,0,null,null,null,0,{"$f":"IF(Inventory[[#This Row],[Item SKU/ID]]=\"\",0,SUMPRODUCT((Quantity_Sold_1=Inventory[[#This Row],[Item SKU/ID]])*Net_Profit))","v":0},{"$f":"IFERROR(AVERAGE(Inventory[[#This Row],[Total Net Profit]]/Inventory[[#This Row],[Quantity Sold]]),0)","v":0}]
[null,null,null,null,null,null,null,null,0,0,0,null,null,null,0,{"$f":"IF(Inventory[[#This Row],[Item SKU/ID]]=\"\",0,SUMPRODUCT((Quantity_Sold_1=Inventory[[#This Row],[Item SKU/ID]])*Net_Profit))","v":0},{"$f":"IFERROR(AVERAGE(Inventory[[#This Row],[Total Net Profit]]/Inventory[[#This Row],[Quantity Sold]]),0)","v":0}]
[null,null,null,null,null,null,null,null,0,0,0,null,null,null,0,{"$f":"IF(Inventory[[#This Row],[Item SKU/ID]]=\"\",0,SUMPRODUCT((Quantity_Sold_1=Inventory[[#This Row],[Item SKU/ID]])*Net_Profit))","v":0},{"$f":"IFERROR(AVERAGE(Inventory[[#This Row],[Total Net Profit]]/Inventory[[#This Row],[Quantity Sold]]),0)","v":0}]
[null,null,null,null,null,null,null,null,0,0,0,null,null,null,0,{"$f":"IF(Inventory[[#This Row],[Item SKU/ID]]=\"\",0,SUMPRODUCT((Quantity_Sold_1=Inventory[[#This Row],[Item SKU/ID]])*Net_Profit))","v":0},{"$f":"IFERROR(AVERAGE(Inventory[[#This Row],[Total Net Profit]]/Inventory[[#This Row],[Quantity Sold]]),0)","v":0}]
[null,null,null,null,null,null,null,null,0,0,0,null,null,null,0,{"$f":"IF(Inventory[[#This Row],[Item SKU/ID]]=\"\",0,SUMPRODUCT((Quantity_Sold_1=Inventory[[#This Row],[Item SKU/ID]])*Net_Profit))","v":0},{"$f":"IFERROR(AVERAGE(Inventory[[#This Row],[Total Net Profit]]/Inventory[[#This Row],[Quantity Sold]]),0)","v":0}]
[null,null,null,null,null,null,null,null,0,0,0,null,null,null,0,{"$f":"IF(Inventory[[#This Row],[Item SKU/ID]]=\"\",0,SUMPRODUCT((Quantity_Sold_1=Inventory[[#This Row],[Item SKU/ID]])*Net_Profit))","v":0},{"$f":"IFERROR(AVERAGE(Inventory[[#This Row],[Total Net Profit]]/Inventory[[#This Row],[Quantity Sold]]),0)","v":0}]
[null,null,null,null,null,null,null,null,0,0,0,null,null,null,0,{"$f":"IF(Inventory[[#This Row],[Item SKU/ID]]=\"\",0,SUMPRODUCT((Quantity_Sold_1=Inventory[[#This Row],[Item SKU/ID]])*Net_Profit))","v":0},{"$f":"IFERROR(AVERAGE(Inventory[[#This Row],[Total Net Profit]]/Inventory[[#This Row],[Quantity Sold]]),0)","v":0}]
[null,null,null,null,null,null,null,null,0,0,0,null,null,null,0,{"$f":"IF(Inventory[[#This Row],[Item SKU/ID]]=\"\",0,SUMPRODUCT((Quantity_Sold_1=Inventory[[#This Row],[Item SKU/ID]])*Net_Profit))","v":0},{"$f":"IFERROR(AVERAGE(Inventory[[#This Row],[Total Net Profit]]/Inventory[[#This Row],[Quantity Sold]]),0)","v":0}]
[null,null,null,null,null,null,null,null,0,0,0,null,null,null,0,{"$f":"IF(Inventory[[#This Row],[Item SKU/ID]]=\"\",0,SUMPRODUCT((Quantity_Sold_1=Inventory[[#This Row],[Item SKU/ID]])*Net_Profit))","v":0},{"$f":"IFERROR(AVERAGE(Inventory[[#This Row],[Total Net Profit]]/Inventory[[#This Row],[Quantity Sold]]),0)","v":0}]
[null,null,null,null,null,null,null,null,0,0,0,null,null,null,0,{"$f":"IF(Inventory[[#This Row],[Item SKU/ID]]=\"\",0,SUMPRODUCT((Quantity_Sold_1=Inventory[[#This Row],[Item SKU/ID]])*Net_Profit))","v":0},{"$f":"IFERROR(AVERAGE(Inventory[[#This Row],[Total Net Profit]]/Inventory[[#This Row],[Quantity Sold]]),0)","v":0}]
[null,null,null,null,null,null,null,null,0,0,0,null,null,null,0,{"$f":"IF(Inventory[[#This Row],[Item SKU/ID]]=\"\",0,SUMPRODUCT((Quantity_Sold_1=Inventory[[#This Row],[Item SKU/ID]])*Net_Profit))","v":0},{"$f":"IFERROR(AVERAGE(Inventory[[#This Row],[Total Net Profit]]/Inventory[[#This Row],[Quantity Sold]]),0)","v":0}]
[null,null,null,null,null,null,null,null,0,0,0,null,null,null,0,{"$f":"IF(Inventory[[#This Row],[Item SKU/ID]]=\"\",0,SUMPRODUCT((Quantity_Sold_1=Inventory[[#This Row],[Item SKU/ID]])*Net_Profit))","v":0},{"$f":"IFERROR(AVERAGE(Inventory[[#This Row],[Total Net Profit]]/Inventory[[#This Row],[Quantity Sold]]),0)","v":0}]
[null,null,null,null,null,null,null,null,0,0,0,null,null,null,0,{"$f":"IF(Inventory[[#This Row],[Item SKU/ID]]=\"\",0,SUMPRODUCT((Quantity_Sold_1=Inventory[[#This Row],[Item SKU/ID]])*Net_Profit))","v":0},{"$f":"IFERROR(AVERAGE(Inventory[[#This Row],[Total Net Profit]]/Inventory[[#This Row],[Quantity Sold]]),0)","v":0}]
[null,null,null,null,null,null,null,null,0,0,0,null,null,null,0,{"$f":"IF(Inventory[[#This Row],[Item SKU/ID]]=\"\",0,SUMPRODUCT((Quantity_Sold_1=Inventory[[#This Row],[Item SKU/ID]])*Net_Profit))","v":0},{"$f":"IFERROR(AVERAGE(Inventory[[#This Row],[Total Net Profit]]/Inventory[[#This Row],[Quantity Sold]]),0)","v":0}]
[null,null,null,null,null,null,null,null,0,0,0,null,null,null,0,{"$f":"IF(Inventory[[#This Row],[Item SKU/ID]]=\"\",0,SUMPRODUCT((Quantity_Sold_1=Inventory[[#This Row],[Item SKU/ID]])*Net_Profit))","v":0},{"$f":"IFERROR(AVERAGE(Inventory[[#This Row],[Total Net Profit]]/Inventory[[#This Row],[Quantity Sold]]),0)","v":0}]
[null,null,null,null,null,null,null,null,0,0,0,null,null,null,0,{"$f":"IF(Inventory[[#This Row],[Item SKU/ID]]=\"\",0,SUMPRODUCT((Quantity_Sold_1=Inventory[[#This Row],[Item SKU/ID]])*Net_Profit))","v":0},{"$f":"IFERROR(AVERAGE(Inventory[[#This Row],[Total Net Profit]]/Inventory[[#This Row],[Quantity Sold]]),0)","v":0}]
[null,null,null,null,null,null,null,null,0,0,0,null,null,null,0,{"$f":"IF(Inventory[[#This Row],[Item SKU/ID]]=\"\",0,SUMPRODUCT((Quantity_Sold_1=Inventory[[#This Row],[Item SKU/ID]])*Net_Profit))","v":0},{"$f":"IFERROR(AVERAGE(Inventory[[#This Row],[Total Net Profit]]/Inventory[[#This Row],[Quantity Sold]]),0)","v":0}]
[null,null,null,null,null,null,null,null,0,0,0,null,null,null,0,{"$f":"IF(Inventory[[#This Row],[Item SKU/ID]]=\"\",0,SUMPRODUCT((Quantity_Sold_1=Inventory[[#This Row],[Item SKU/ID]])*Net_Profit))","v":0},{"$f":"IFERROR(AVERAGE(Inventory[[#This Row],[Total Net Profit]]/Inventory[[#This Row],[Quantity Sold]]),0)","v":0}]
[null,null,null,null,null,null,null,null,0,0,0,null,null,null,0,{"$f":"IF(Inventory[[#This Row],[Item SKU/ID]]=\"\",0,SUMPRODUCT((Quantity_Sold_1=Inventory[[#This Row],[Item SKU/ID]])*Net_Profit))","v":0},{"$f":"IFERROR(AVERAGE(Inventory[[#This Row],[Total Net Profit]]/Inventory[[#This Row],[Quantity Sold]]),0)","v":0}]
[null,null,null,null,null,null,null,null,0,0,0,null,null,null,0,{"$f":"IF(Inventory[[#This Row],[Item SKU/ID]]=\"\",0,SUMPRODUCT((Quantity_Sold_1=Inventory[[#This Row],[Item SKU/ID]])*Net_Profit))","v":0},{"$f":"IFERROR(AVERAGE(Inventory[[#This Row],[Total Net Profit]]/Inventory[[#This Row],[Quantity Sold]]),0)","v":0}]
[null,null,null,null,null,null,null,null,0,0,0,null,null,null,0,{"$f":"IF(Inventory[[#This Row],[Item SKU/ID]]=\"\",0,SUMPRODUCT((Quantity_Sold_1=Inventory[[#This Row],[Item SKU/ID]])*Net_Profit))","v":0},{"$f":"IFERROR(AVERAGE(Inventory[[#This Row],[Total Net Profit]]/Inventory[[#This Row],[Quantity Sold]]),0)","v":0}]
[null,null,null,null,null,null,null,null,0,0,0,null,null,null,0,{"$f":"IF(Inventory[[#This Row],[Item SKU/ID]]=\"\",0,SUMPRODUCT((Quantity_Sold_1=Inventory[[#This Row],[Item SKU/ID]])*Net_Profit))","v":0},{"$f":"IFERROR(AVERAGE(Inventory[[#This Row],[Total Net Profit]]/Inventory[[#This Row],[Quantity Sold]]),0)","v":0}]
[null,null,null,null,null,null,null,null,0,0,0,null,null,null,0,{"$f":"IF(Inventory[[#This Row],[Item SKU/ID]]=\"\",0,SUMPRODUCT((Quantity_Sold_1=Inventory[[#This Row],[Item SKU/ID]])*Net_Profit))","v":0},{"$f":"IFERROR(AVERAGE(Inventory[[#This Row],[Total Net Profit]]/Inventory[[#This Row],[Quantity Sold]]),0)","v":0}]
[null,null,null,null,null,null,null,null,0,0,0,null,null,null,0,{"$f":"IF(Inventory[[#This Row],[Item SKU/ID]]=\"\",0,SUMPRODUCT((Quantity_Sold_1=Inventory[[#This Row],[Item SKU/ID]])*Net_Profit))","v":0},{"$f":"IFERROR(AVERAGE(Inventory[[#This Row],[Total Net Profit]]/Inventory[[#This Row],[Quantity Sold]]),0)","v":0}]
[null,null,null,null,null,null,null,null,0,0,0,null,null,null,0,{"$f":"IF(Inventory[[#This Row],[Item SKU/ID]]=\"\",0,SUMPRODUCT((Quantity_Sold_1=Inventory[[#This Row],[Item SKU/ID]])*Net_Profit))","v":0},{"$f":"IFERROR(AVERAGE(Inventory[[#This Row],[Total Net Profit]]/Inventory[[#This Row],[Quantity Sold]]),0)","v":0}]
[null,null,null,null,null,null,null,null,0,0,0,null,null,null,0,{"$f":"IF(Inventory[[#This Row],[Item SKU/ID]]=\"\",0,SUMPRODUCT((Quantity_Sold_1=Inventory[[#This Row],[Item SKU/ID]])*Net_Profit))","v":0},{"$f":"IFERROR(AVERAGE(Inventory[[#This Row],[Total Net Profit]]/Inventory[[#This Row],[Quantity Sold]]),0)","v":0}]
[null,null,null,null,null,null,null,null,0,0,0,null,null,null,0,{"$f":"IF(Inventory[[#This Row],[Item SKU/ID]]=\"\",0,SUMPRODUCT((Quantity_Sold_1=Inventory[[#This Row],[Item SKU/ID]])*Net_Profit))","v":0},{"$f":"IFERROR(AVERAGE(Inventory[[#This Row],[Total Net Profit]]/Inventory[[#This Row],[Quantity Sold]]),0)","v":0}]
[null,null,null,null,null,null,null,null,0,0,0,null,null,null,0,{"$f":"IF(Inventory[[#This Row],[Item SKU/ID]]=\"\",0,SUMPRODUCT((Quantity_Sold_1=Inventory[[#This Row],[Item SKU/ID]])*Net_Profit))","v":0},{"$f":"IFERROR(AVERAGE(Inventory[[#This Row],[Total Net Profit]]/Inventory[[#This Row],[Quantity Sold]]),0)","v":0}]
[null,null,null,null,null,null,null,null,0,0,0,null,null,null,0,{"$f":"IF(Inventory[[#This Row],[Item SKU/ID]]=\"\",0,SUMPRODUCT((Quantity_Sold_1=Inventory[[#This Row],[Item SKU/ID]])*Net_Profit))","v":0},{"$f":"IFERROR(AVERAGE(Inventory[[#This Row],[Total Net Profit]]/Inventory[[#This Row],[Quantity Sold]]),0)","v":0}]
[null,null,null,null,null,null,null,null,0,0,0,null,null,null,0,{"$f":"IF(Inventory[[#This Row],[Item SKU/ID]]=\"\",0,SUMPRODUCT((Quantity_Sold_1=Inventory[[#This Row],[Item SKU/ID]])*Net_Profit))","v":0},{"$f":"IFERROR(AVERAGE(Inventory[[#This Row],[Total Net Profit]]/Inventory[[#This Row],[Quantity Sold]]),0)","v":0}]
[null,null,null,null,null,null,null,null,0,0,0,null,null,null,0,{"$f":"IF(Inventory[[#This Row],[Item SKU/ID]]=\"\",0,SUMPRODUCT((Quantity_Sold_1=Inventory[[#This Row],[Item SKU/ID]])*Net_Profit))","v":0},{"$f":"IFERROR(AVERAGE(Inventory[[#This Row],[Total Net Profit]]/Inventory[[#This Row],[Quantity Sold]]),0)","v":0}]
[null,null,null,null,null,null,null,null,0,0,0,null,null,null,0,{"$f":"IF(Inventory[[#This Row],[Item SKU/ID]]=\"\",0,SUMPRODUCT((Quantity_Sold_1=Inventory[[#This Row],[Item SKU/ID]])*Net_Profit))","v":0},{"$f":"IFERROR(AVERAGE(Inventory[[#This Row],[Total Net Profit]]/Inventory[[#This Row],[Quantity Sold]]),0)","v":0}]
[null,null,null,null,null,null,null,null,0,0,0,null,null,null,0,{"$f":"IF(Inventory[[#This Row],[Item SKU/ID]]=\"\",0,SUMPRODUCT((Quantity_Sold_1=Inventory[[#This Row],[Item SKU/ID]])*Net_Profit))","v":0},{"$f":"IFERROR(AVERAGE(Inventory[[#This Row],[Total Net Profit]]/Inventory[[#This Row],[Quantity Sold]]),0)","v":0}]
[null,null,null,null,null,null,null,null,0,0,0,null,null,null,0,{"$f":"IF(Inventory[[#This Row],[Item SKU/ID]]=\"\",0,SUMPRODUCT((Quantity_Sold_1=Inventory[[#This Row],[Item SKU/ID]])*Net_Profit))","v":0},{"$f":"IFERROR(AVERAGE(Inventory[[#This Row],[Total Net Profit]]/Inventory[[#This Row],[Quantity Sold]]),0)","v":0}]
[null,null,null,null,null,null,null,null,0,0,0,null,null,null,0,{"$f":"IF(Inventory[[#This Row],[Item SKU/ID]]=\"\",0,SUMPRODUCT((Quantity_Sold_1=Inventory[[#This Row],[Item SKU/ID]])*Net_Profit))","v":0},{"$f":"IFERROR(AVERAGE(Inventory[[#This Row],[Total Net Profit]]/Inventory[[#This Row],[Quantity Sold]]),0)","v":0}]
[null,null,null,null,null,null,null,null,0,0,0,null,null,null,0,{"$f":"IF(Inventory[[#This Row],[Item SKU/ID]]=\"\",0,SUMPRODUCT((Quantity_Sold_1=Inventory[[#This Row],[Item SKU/ID]])*Net_Profit))","v":0},{"$f":"IFERROR(AVERAGE(Inventory[[#This Row],[Total Net Profit]]/Inventory[[#This Row],[Quantity Sold]]),0)","v":0}]
[null,null,null,null,null,null,null,null,0,0,0,null,null,null,0,{"$f":"IF(Inventory[[#This Row],[Item SKU/ID]]=\"\",0,SUMPRODUCT((Quantity_Sold_1=Inventory[[#This Row],[Item SKU/ID]])*Net_Profit))","v":0},{"$f":"IFERROR(AVERAGE(Inventory[[#This Row],[Total Net Profit]]/Inventory[[#This Row],[Quantity Sold]]),0)","v":0}]
[null,null,null,null,null,null,null,null,{"$f":"K836*H836","v":0},{"$f":"IF(F836=\"\",0,SUMPRODUCT((Quantity_Sold_1=F836)*Quantity_Sold_2))","v":0},{"$f":"G836-J836","v":0},null,null,null,{"$f":"K836*H836","v":0},{"$f":"IF(Inventory[[#This Row],[Item SKU/ID]]=\"\",0,SUMPRODUCT((Quantity_Sold_1=Inventory[[#This Row],[Item SKU/ID]])*Net_Profit))","v":0},{"$f":"IFERROR(AVERAGE(Inventory[[#This Row],[Total Net Profit]]/Inventory[[#This Row],[Quantity Sold]]),0)","v":0}]
[null,null,null,null,null,null,null,null,0,0,0,null,null,null,0,{"$f":"IF(Inventory[[#This Row],[Item SKU/ID]]=\"\",0,SUMPRODUCT((Quantity_Sold_1=Inventory[[#This Row],[Item SKU/ID]])*Net_Profit))","v":0},{"$f":"IFERROR(AVERAGE(Inventory[[#This Row],[Total Net Profit]]/Inventory[[#This Row],[Quantity Sold]]),0)","v":0}]
[null,null,null,null,null,null,null,null,0,0,0,null,null,null,0,{"$f":"IF(Inventory[[#This Row],[Item SKU/ID]]=\"\",0,SUMPRODUCT((Quantity_Sold_1=Inventory[[#This Row],[Item SKU/ID]])*Net_Profit))","v":0},{"$f":"IFERROR(AVERAGE(Inventory[[#This Row],[Total Net Profit]]/Inventory[[#This Row],[Quantity Sold]]),0)","v":0}]
[null,null,null,null,null,null,null,null,0,0,0,null,null,null,0,{"$f":"IF(Inventory[[#This Row],[Item SKU/ID]]=\"\",0,SUMPRODUCT((Quantity_Sold_1=Inventory[[#This Row],[Item SKU/ID]])*Net_Profit))","v":0},{"$f":"IFERROR(AVERAGE(Inventory[[#This Row],[Total Net Profit]]/Inventory[[#This Row],[Quantity Sold]]),0)","v":0}]
[null,null,null,null,null,null,null,null,0,0,0,null,null,null,0,{"$f":"IF(Inventory[[#This Row],[Item SKU/ID]]=\"\",0,SUMPRODUCT((Quantity_Sold_1=Inventory[[#This Row],[Item SKU/ID]])*Net_Profit))","v":0},{"$f":"IFERROR(AVERAGE(Inventory[[#This Row],[Total Net Profit]]/Inventory[[#This Row],[Quantity Sold]]),0)","v":0}]
[null,null,null,null,null,null,null,null,0,0,0,null,null,null,0,{"$f":"IF(Inventory[[#This Row],[Item SKU/ID]]=\"\",0,SUMPRODUCT((Quantity_Sold_1=Inventory[[#This Row],[Item SKU/ID]])*Net_Profit))","v":0},{"$f":"IFERROR(AVERAGE(Inventory[[#This Row],[Total Net Profit]]/Inventory[[#This Row],[Quantity Sold]]),0)","v":0}]
[null,null,null,null,null,null,null,null,0,0,0,null,null,null,0,{"$f":"IF(Inventory[[#This Row],[Item SKU/ID]]=\"\",0,SUMPRODUCT((Quantity_Sold_1=Inventory[[#This Row],[Item SKU/ID]])*Net_Profit))","v":0},{"$f":"IFERROR(AVERAGE(Inventory[[#This Row],[Total Net Profit]]/Inventory[[#This Row],[Quantity Sold]]),0)","v":0}]
[null,null,null,null,null,null,null,null,0,0,0,null,null,null,0,{"$f":"IF(Inventory[[#This Row],[Item SKU/ID]]=\"\",0,SUMPRODUCT((Quantity_Sold_1=Inventory[[#This Row],[Item SKU/ID]])*Net_Profit))","v":0},{"$f":"IFERROR(AVERAGE(Inventory[[#This Row],[Total Net Profit]]/Inventory[[#This Row],[Quantity Sold]]),0)","v":0}]
[null,null,null,null,null,null,null,null,0,0,0,null,null,null,0,{"$f":"IF(Inventory[[#This Row],[Item SKU/ID]]=\"\",0,SUMPRODUCT((Quantity_Sold_1=Inventory[[#This Row],[Item SKU/ID]])*Net_Profit))","v":0},{"$f":"IFERROR(AVERAGE(Inventory[[#This Row],[Total Net Profit]]/Inventory[[#This Row],[Quantity Sold]]),0)","v":0}]
[null,null,null,null,null,null,null,null,0,0,0,null,null,null,0,{"$f":"IF(Inventory[[#This Row],[Item SKU/ID]]=\"\",0,SUMPRODUCT((Quantity_Sold_1=Inventory[[#This Row],[Item SKU/ID]])*Net_Profit))","v":0},{"$f":"IFERROR(AVERAGE(Inventory[[#This Row],[Total Net Profit]]/Inventory[[#This Row],[Quantity Sold]]),0)","v":0}]
[null,null,null,null,null,null,null,null,0,0,0,null,null,null,0,{"$f":"IF(Inventory[[#This Row],[Item SKU/ID]]=\"\",0,SUMPRODUCT((Quantity_Sold_1=Inventory[[#This Row],[Item SKU/ID]])*Net_Profit))","v":0},{"$f":"IFERROR(AVERAGE(Inventory[[#This Row],[Total Net Profit]]/Inventory[[#This Row],[Quantity Sold]]),0)","v":0}]
[null,null,null,null,null,null,null,null,0,0,0,null,null,null,0,{"$f":"IF(Inventory[[#This Row],[Item SKU/ID]]=\"\",0,SUMPRODUCT((Quantity_Sold_1=Inventory[[#This Row],[Item SKU/ID]])*Net_Profit))","v":0},{"$f":"IFERROR(AVERAGE(Inventory[[#This Row],[Total Net Profit]]/Inventory[[#This Row],[Quantity Sold]]),0)","v":0}]
[null,null,null,null,null,null,null,null,0,0,0,null,null,null,0,{"$f":"IF(Inventory[[#This Row],[Item SKU/ID]]=\"\",0,SUMPRODUCT((Quantity_Sold_1=Inventory[[#This Row],[Item SKU/ID]])*Net_Profit))","v":0},{"$f":"IFERROR(AVERAGE(Inventory[[#This Row],[Total Net Profit]]/Inventory[[#This Row],[Quantity Sold]]),0)","v":0}]
[null,null,null,null,null,null,null,null,0,0,0,null,null,null,0,{"$f":"IF(Inventory[[#This Row],[Item SKU/ID]]=\"\",0,SUMPRODUCT((Quantity_Sold_1=Inventory[[#This Row],[Item SKU/ID]])*Net_Profit))","v":0},{"$f":"IFERROR(AVERAGE(Inventory[[#This Row],[Total Net Profit]]/Inventory[[#This Row],[Quantity Sold]]),0)","v":0}]
[null,null,null,null,null,null,null,null,0,0,0,null,null,null,0,{"$f":"IF(Inventory[[#This Row],[Item SKU/ID]]=\"\",0,SUMPRODUCT((Quantity_Sold_1=Inventory[[#This Row],[Item SKU/ID]])*Net_Profit))","v":0},{"$f":"IFERROR(AVERAGE(Inventory[[#This Row],[Total Net Profit]]/Inventory[[#This Row],[Quantity Sold]]),0)","v":0}]
[null,null,null,null,null,null,null,null,0,0,0,null,null,null,0,{"$f":"IF(Inventory[[#This Row],[Item SKU/ID]]=\"\",0,SUMPRODUCT((Quantity_Sold_1=Inventory[[#This Row],[Item SKU/ID]])*Net_Profit))","v":0},{"$f":"IFERROR(AVERAGE(Inventory[[#This Row],[Total Net Profit]]/Inventory[[#This Row],[Quantity Sold]]),0)","v":0}]
[null,null,null,null,null,null,null,null,0,0,0,null,null,null,0,{"$f":"IF(Inventory[[#This Row],[Item SKU/ID]]=\"\",0,SUMPRODUCT((Quantity_Sold_1=Inventory[[#This Row],[Item SKU/ID]])*Net_Profit))","v":0},{"$f":"IFERROR(AVERAGE(Inventory[[#This Row],[Total Net Profit]]/Inventory[[#This Row],[Quantity Sold]]),0)","v":0}]
[null,null,null,null,null,null,null,null,0,0,0,null,null,null,0,{"$f":"IF(Inventory[[#This Row],[Item SKU/ID]]=\"\",0,SUMPRODUCT((Quantity_Sold_1=Inventory[[#This Row],[Item SKU/ID]])*Net_Profit))","v":0},{"$f":"IFERROR(AVERAGE(Inventory[[#This Row],[Total Net Profit]]/Inventory[[#This Row],[Quantity Sold]]),0)","v":0}]
[null,null,null,null,null,null,null,null,0,0,0,null,null,null,0,{"$f":"IF(Inventory[[#This Row],[Item SKU/ID]]=\"\",0,SUMPRODUCT((Quantity_Sold_1=Inventory[[#This Row],[Item SKU/ID]])*Net_Profit))","v":0},{"$f":"IFERROR(AVERAGE(Inventory[[#This Row],[Total Net Profit]]/Inventory[[#This Row],[Quantity Sold]]),0)","v":0}]
[null,null,null,null,null,null,null,null,0,0,0,null,null,null,0,{"$f":"IF(Inventory[[#This Row],[Item SKU/ID]]=\"\",0,SUMPRODUCT((Quantity_Sold_1=Inventory[[#This Row],[Item SKU/ID]])*Net_Profit))","v":0},{"$f":"IFERROR(AVERAGE(Inventory[[#This Row],[Total Net Profit]]/Inventory[[#This Row],[Quantity Sold]]),0)","v":0}]
[null,null,null,null,null,null,null,null,0,0,0,null,null,null,0,{"$f":"IF(Inventory[[#This Row],[Item SKU/ID]]=\"\",0,SUMPRODUCT((Quantity_Sold_1=Inventory[[#This Row],[Item SKU/ID]])*Net_Profit))","v":0},{"$f":"IFERROR(AVERAGE(Inventory[[#This Row],[Total Net Profit]]/Inventory[[#This Row],[Quantity Sold]]),0)","v":0}]
[null,null,null,null,null,null,null,null,0,0,0,null,null,null,0,{"$f":"IF(Inventory[[#This Row],[Item SKU/ID]]=\"\",0,SUMPRODUCT((Quantity_Sold_1=Inventory[[#This Row],[Item SKU/ID]])*Net_Profit))","v":0},{"$f":"IFERROR(AVERAGE(Inventory[[#This Row],[Total Net Profit]]/Inventory[[#This Row],[Quantity Sold]]),0)","v":0}]
[null,null,null,null,null,null,null,null,0,0,0,null,null,null,0,{"$f":"IF(Inventory[[#This Row],[Item SKU/ID]]=\"\",0,SUMPRODUCT((Quantity_Sold_1=Inventory[[#This Row],[Item SKU/ID]])*Net_Profit))","v":0},{"$f":"IFERROR(AVERAGE(Inventory[[#This Row],[Total Net Profit]]/Inventory[[#This Row],[Quantity Sold]]),0)","v":0}]
[null,null,null,null,null,null,null,null,0,0,0,null,null,null,0,{"$f":"IF(Inventory[[#This Row],[Item SKU/ID]]=\"\",0,SUMPRODUCT((Quantity_Sold_1=Inventory[[#This Row],[Item SKU/ID]])*Net_Profit))","v":0},{"$f":"IFERROR(AVERAGE(Inventory[[#This Row],[Total Net Profit]]/Inventory[[#This Row],[Quantity Sold]]),0)","v":0}]
[null,null,null,null,null,null,null,null,0,0,0,null,null,null,0,{"$f":"IF(Inventory[[#This Row],[Item SKU/ID]]=\"\",0,SUMPRODUCT((Quantity_Sold_1=Inventory[[#This Row],[Item SKU/ID]])*Net_Profit))","v":0},{"$f":"IFERROR(AVERAGE(Inventory[[#This Row],[Total Net Profit]]/Inventory[[#This Row],[Quantity Sold]]),0)","v":0}]
[null,null,null,null,null,null,null,null,0,0,0,null,null,null,0,{"$f":"IF(Inventory[[#This Row],[Item SKU/ID]]=\"\",0,SUMPRODUCT((Quantity_Sold_1=Inventory[[#This Row],[Item SKU/ID]])*Net_Profit))","v":0},{"$f":"IFERROR(AVERAGE(Inventory[[#This Row],[Total Net Profit]]/Inventory[[#This Row],[Quantity Sold]]),0)","v":0}]
[null,null,null,null,null,null,null,null,0,0,0,null,null,null,0,{"$f":"IF(Inventory[[#This Row],[Item SKU/ID]]=\"\",0,SUMPRODUCT((Quantity_Sold_1=Inventory[[#This Row],[Item SKU/ID]])*Net_Profit))","v":0},{"$f":"IFERROR(AVERAGE(Inventory[[#This Row],[Total Net Profit]]/Inventory[[#This Row],[Quantity Sold]]),0)","v":0}]
[null,null,null,null,null,null,null,null,0,0,0,null,null,null,0,{"$f":"IF(Inventory[[#This Row],[Item SKU/ID]]=\"\",0,SUMPRODUCT((Quantity_Sold_1=Inventory[[#This Row],[Item SKU/ID]])*Net_Profit))","v":0},{"$f":"IFERROR(AVERAGE(Inventory[[#This Row],[Total Net Profit]]/Inventory[[#This Row],[Quantity Sold]]),0)","v":0}]
[null,null,null,null,null,null,null,null,0,0,0,null,null,null,0,{"$f":"IF(Inventory[[#This Row],[Item SKU/ID]]=\"\",0,SUMPRODUCT((Quantity_Sold_1=Inventory[[#This Row],[Item SKU/ID]])*Net_Profit))","v":0},{"$f":"IFERROR(AVERAGE(Inventory[[#This Row],[Total Net Profit]]/Inventory[[#This Row],[Quantity Sold]]),0)","v":0}]
[null,null,null,null,null,null,null,null,0,0,0,null,null,null,0,{"$f":"IF(Inventory[[#This Row],[Item SKU/ID]]=\"\",0,SUMPRODUCT((Quantity_Sold_1=Inventory[[#This Row],[Item SKU/ID]])*Net_Profit))","v":0},{"$f":"IFERROR(AVERAGE(Inventory[[#This Row],[Total Net Profit]]/Inventory[[#This Row],[Quantity Sold]]),0)","v":0}]
[null,null,null,null,null,null,null,null,0,0,0,null,null,null,0,{"$f":"IF(Inventory[[#This Row],[Item SKU/ID]]=\"\",0,SUMPRODUCT((Quantity_Sold_1=Inventory[[#This Row],[Item SKU/ID]])*Net_Profit))","v":0},{"$f":"IFERROR(AVERAGE(Inventory[[#This Row],[Total Net Profit]]/Inventory[[#This Row],[Quantity Sold]]),0)","v":0}]
[null,null,null,null,null,null,null,null,0,0,0,null,null,null,0,{"$f":"IF(Inventory[[#This Row],[Item SKU/ID]]=\"\",0,SUMPRODUCT((Quantity_Sold_1=Inventory[[#This Row],[Item SKU/ID]])*Net_Profit))","v":0},{"$f":"IFERROR(AVERAGE(Inventory[[#This Row],[Total Net Profit]]/Inventory[[#This Row],[Quantity Sold]]),0)","v":0}]
[null,null,null,null,null,null,null,null,0,0,0,null,null,null,0,{"$f":"IF(Inventory[[#This Row],[Item SKU/ID]]=\"\",0,SUMPRODUCT((Quantity_Sold_1=Inventory[[#This Row],[Item SKU/ID]])*Net_Profit))","v":0},{"$f":"IFERROR(AVERAGE(Inventory[[#This Row],[Total Net Profit]]/Inventory[[#This Row],[Quantity Sold]]),0)","v":0}]
[null,null,null,null,null,null,null,null,0,0,0,null,null,null,0,{"$f":"IF(Inventory[[#This Row],[Item SKU/ID]]=\"\",0,SUMPRODUCT((Quantity_Sold_1=Inventory[[#This Row],[Item SKU/ID]])*Net_Profit))","v":0},{"$f":"IFERROR(AVERAGE(Inventory[[#This Row],[Total Net Profit]]/Inventory[[#This Row],[Quantity Sold]]),0)","v":0}]
[null,null,null,null,null,null,null,null,0,0,0,null,null,null,0,{"$f":"IF(Inventory[[#This Row],[Item SKU/ID]]=\"\",0,SUMPRODUCT((Quantity_Sold_1=Inventory[[#This Row],[Item SKU/ID]])*Net_Profit))","v":0},{"$f":"IFERROR(AVERAGE(Inventory[[#This Row],[Total Net Profit]]/Inventory[[#This Row],[Quantity Sold]]),0)","v":0}]
[null,null,null,null,null,null,null,null,0,0,0,null,null,null,0,{"$f":"IF(Inventory[[#This Row],[Item SKU/ID]]=\"\",0,SUMPRODUCT((Quantity_Sold_1=Inventory[[#This Row],[Item SKU/ID]])*Net_Profit))","v":0},{"$f":"IFERROR(AVERAGE(Inventory[[#This Row],[Total Net Profit]]/Inventory[[#This Row],[Quantity Sold]]),0)","v":0}]
[null,null,null,null,null,null,null,null,0,0,0,null,null,null,0,{"$f":"IF(Inventory[[#This Row],[Item SKU/ID]]=\"\",0,SUMPRODUCT((Quantity_Sold_1=Inventory[[#This Row],[Item SKU/ID]])*Net_Profit))","v":0},{"$f":"IFERROR(AVERAGE(Inventory[[#This Row],[Total Net Profit]]/Inventory[[#This Row],[Quantity Sold]]),0)","v":0}]
[null,null,null,null,null,null,null,null,0,0,0,null,null,null,0,{"$f":"IF(Inventory[[#This Row],[Item SKU/ID]]=\"\",0,SUMPRODUCT((Quantity_Sold_1=Inventory[[#This Row],[Item SKU/ID]])*Net_Profit))","v":0},{"$f":"IFERROR(AVERAGE(Inventory[[#This Row],[Total Net Profit]]/Inventory[[#This Row],[Quantity Sold]]),0)","v":0}]
[null,null,null,null,null,null,null,null,0,0,0,null,null,null,0,{"$f":"IF(Inventory[[#This Row],[Item SKU/ID]]=\"\",0,SUMPRODUCT((Quantity_Sold_1=Inventory[[#This Row],[Item SKU/ID]])*Net_Profit))","v":0},{"$f":"IFERROR(AVERAGE(Inventory[[#This Row],[Total Net Profit]]/Inventory[[#This Row],[Quantity Sold]]),0)","v":0}]
[null,null,null,null,null,null,null,null,0,0,0,null,null,null,0,{"$f":"IF(Inventory[[#This Row],[Item SKU/ID]]=\"\",0,SUMPRODUCT((Quantity_Sold_1=Inventory[[#This Row],[Item SKU/ID]])*Net_Profit))","v":0},{"$f":"IFERROR(AVERAGE(Inventory[[#This Row],[Total Net Profit]]/Inventory[[#This Row],[Quantity Sold]]),0)","v":0}]
[null,null,null,null,null,null,null,null,0,0,0,null,null,null,0,{"$f":"IF(Inventory[[#This Row],[Item SKU/ID]]=\"\",0,SUMPRODUCT((Quantity_Sold_1=Inventory[[#This Row],[Item SKU/ID]])*Net_Profit))","v":0},{"$f":"IFERROR(AVERAGE(Inventory[[#This Row],[Total Net Profit]]/Inventory[[#This Row],[Quantity Sold]]),0)","v":0}]
[null,null,null,null,null,null,null,null,0,0,0,null,null,null,0,{"$f":"IF(Inventory[[#This Row],[Item SKU/ID]]=\"\",0,SUMPRODUCT((Quantity_Sold_1=Inventory[[#This Row],[Item SKU/ID]])*Net_Profit))","v":0},{"$f":"IFERROR(AVERAGE(Inventory[[#This Row],[Total Net Profit]]/Inventory[[#This Row],[Quantity Sold]]),0)","v":0}]
[null,null,null,null,null,null,null,null,0,0,0,null,null,null,0,{"$f":"IF(Inventory[[#This Row],[Item SKU/ID]]=\"\",0,SUMPRODUCT((Quantity_Sold_1=Inventory[[#This Row],[Item SKU/ID]])*Net_Profit))","v":0},{"$f":"IFERROR(AVERAGE(Inventory[[#This Row],[Total Net Profit]]/Inventory[[#This Row],[Quantity Sold]]),0)","v":0}]
[null,null,null,null,null,null,null,null,0,0,0,null,null,null,0,{"$f":"IF(Inventory[[#This Row],[Item SKU/ID]]=\"\",0,SUMPRODUCT((Quantity_Sold_1=Inventory[[#This Row],[Item SKU/ID]])*Net_Profit))","v":0},{"$f":"IFERROR(AVERAGE(Inventory[[#This Row],[Total Net Profit]]/Inventory[[#This Row],[Quantity Sold]]),0)","v":0}]
[null,null,null,null,null,null,null,null,0,0,0,null,null,null,0,{"$f":"IF(Inventory[[#This Row],[Item SKU/ID]]=\"\",0,SUMPRODUCT((Quantity_Sold_1=Inventory[[#This Row],[Item SKU/ID]])*Net_Profit))","v":0},{"$f":"IFERROR(AVERAGE(Inventory[[#This Row],[Total Net Profit]]/Inventory[[#This Row],[Quantity Sold]]),0)","v":0}]
[null,null,null,null,null,null,null,null,0,0,0,null,null,null,0,{"$f":"IF(Inventory[[#This Row],[Item SKU/ID]]=\"\",0,SUMPRODUCT((Quantity_Sold_1=Inventory[[#This Row],[Item SKU/ID]])*Net_Profit))","v":0},{"$f":"IFERROR(AVERAGE(Inventory[[#This Row],[Total Net Profit]]/Inventory[[#This Row],[Quantity Sold]]),0)","v":0}]
[null,null,null,null,null,null,null,null,0,0,0,null,null,null,0,{"$f":"IF(Inventory[[#This Row],[Item SKU/ID]]=\"\",0,SUMPRODUCT((Quantity_Sold_1=Inventory[[#This Row],[Item SKU/ID]])*Net_Profit))","v":0},{"$f":"IFERROR(AVERAGE(Inventory[[#This Row],[Total Net Profit]]/Inventory[[#This Row],[Quantity Sold]]),0)","v":0}]
[null,null,null,null,null,null,null,null,0,0,0,null,null,null,0,{"$f":"IF(Inventory[[#This Row],[Item SKU/ID]]=\"\",0,SUMPRODUCT((Quantity_Sold_1=Inventory[[#This Row],[Item SKU/ID]])*Net_Profit))","v":0},{"$f":"IFERROR(AVERAGE(Inventory[[#This Row],[Total Net Profit]]/Inventory[[#This Row],[Quantity Sold]]),0)","v":0}]
[null,null,null,null,null,null,null,null,0,0,0,null,null,null,0,{"$f":"IF(Inventory[[#This Row],[Item SKU/ID]]=\"\",0,SUMPRODUCT((Quantity_Sold_1=Inventory[[#This Row],[Item SKU/ID]])*Net_Profit))","v":0},{"$f":"IFERROR(AVERAGE(Inventory[[#This Row],[Total Net Profit]]/Inventory[[#This Row],[Quantity Sold]]),0)","v":0}]
[null,null,null,null,null,null,null,null,0,0,0,null,null,null,0,{"$f":"IF(Inventory[[#This Row],[Item SKU/ID]]=\"\",0,SUMPRODUCT((Quantity_Sold_1=Inventory[[#This Row],[Item SKU/ID]])*Net_Profit))","v":0},{"$f":"IFERROR(AVERAGE(Inventory[[#This Row],[Total Net Profit]]/Inventory[[#This Row],[Quantity Sold]]),0)","v":0}]
[null,null,null,null,null,null,null,null,0,0,0,null,null,null,0,{"$f":"IF(Inventory[[#This Row],[Item SKU/ID]]=\"\",0,SUMPRODUCT((Quantity_Sold_1=Inventory[[#This Row],[Item SKU/ID]])*Net_Profit))","v":0},{"$f":"IFERROR(AVERAGE(Inventory[[#This Row],[Total Net Profit]]/Inventory[[#This Row],[Quantity Sold]]),0)","v":0}]
[null,null,null,null,null,null,null,null,0,0,0,null,null,null,0,{"$f":"IF(Inventory[[#This Row],[Item SKU/ID]]=\"\",0,SUMPRODUCT((Quantity_Sold_1=Inventory[[#This Row],[Item SKU/ID]])*Net_Profit))","v":0},{"$f":"IFERROR(AVERAGE(Inventory[[#This Row],[Total Net Profit]]/Inventory[[#This Row],[Quantity Sold]]),0)","v":0}]
[null,null,null,null,null,null,null,null,0,0,0,null,null,null,0,{"$f":"IF(Inventory[[#This Row],[Item SKU/ID]]=\"\",0,SUMPRODUCT((Quantity_Sold_1=Inventory[[#This Row],[Item SKU/ID]])*Net_Profit))","v":0},{"$f":"IFERROR(AVERAGE(Inventory[[#This Row],[Total Net Profit]]/Inventory[[#This Row],[Quantity Sold]]),0)","v":0}]
[null,null,null,null,null,null,null,null,0,0,0,null,null,null,0,{"$f":"IF(Inventory[[#This Row],[Item SKU/ID]]=\"\",0,SUMPRODUCT((Quantity_Sold_1=Inventory[[#This Row],[Item SKU/ID]])*Net_Profit))","v":0},{"$f":"IFERROR(AVERAGE(Inventory[[#This Row],[Total Net Profit]]/Inventory[[#This Row],[Quantity Sold]]),0)","v":0}]
[null,null,null,null,null,null,null,null,0,0,0,null,null,null,0,{"$f":"IF(Inventory[[#This Row],[Item SKU/ID]]=\"\",0,SUMPRODUCT((Quantity_Sold_1=Inventory[[#This Row],[Item SKU/ID]])*Net_Profit))","v":0},{"$f":"IFERROR(AVERAGE(Inventory[[#This Row],[Total Net Profit]]/Inventory[[#This Row],[Quantity Sold]]),0)","v":0}]
[null,null,null,null,null,null,null,null,0,0,0,null,null,null,0,{"$f":"IF(Inventory[[#This Row],[Item SKU/ID]]=\"\",0,SUMPRODUCT((Quantity_Sold_1=Inventory[[#This Row],[Item SKU/ID]])*Net_Profit))","v":0},{"$f":"IFERROR(AVERAGE(Inventory[[#This Row],[Total Net Profit]]/Inventory[[#This Row],[Quantity Sold]]),0)","v":0}]
[null,null,null,null,null,null,null,null,0,0,0,null,null,null,0,{"$f":"IF(Inventory[[#This Row],[Item SKU/ID]]=\"\",0,SUMPRODUCT((Quantity_Sold_1=Inventory[[#This Row],[Item SKU/ID]])*Net_Profit))","v":0},{"$f":"IFERROR(AVERAGE(Inventory[[#This Row],[Total Net Profit]]/Inventory[[#This Row],[Quantity Sold]]),0)","v":0}]
[null,null,null,null,null,null,null,null,0,0,0,null,null,null,0,{"$f":"IF(Inventory[[#This Row],[Item SKU/ID]]=\"\",0,SUMPRODUCT((Quantity_Sold_1=Inventory[[#This Row],[Item SKU/ID]])*Net_Profit))","v":0},{"$f":"IFERROR(AVERAGE(Inventory[[#This Row],[Total Net Profit]]/Inventory[[#This Row],[Quantity Sold]]),0)","v":0}]
[null,null,null,null,null,null,null,null,0,0,0,null,null,null,0,{"$f":"IF(Inventory[[#This Row],[Item SKU/ID]]=\"\",0,SUMPRODUCT((Quantity_Sold_1=Inventory[[#This Row],[Item SKU/ID]])*Net_Profit))","v":0},{"$f":"IFERROR(AVERAGE(Inventory[[#This Row],[Total Net Profit]]/Inventory[[#This Row],[Quantity Sold]]),0)","v":0}]
[null,null,null,null,null,null,null,null,0,0,0,null,null,null,0,{"$f":"IF(Inventory[[#This Row],[Item SKU/ID]]=\"\",0,SUMPRODUCT((Quantity_Sold_1=Inventory[[#This Row],[Item SKU/ID]])*Net_Profit))","v":0},{"$f":"IFERROR(AVERAGE(Inventory[[#This Row],[Total Net Profit]]/Inventory[[#This Row],[Quantity Sold]]),0)","v":0}]
[null,null,null,null,null,null,null,null,0,0,0,null,null,null,0,{"$f":"IF(Inventory[[#This Row],[Item SKU/ID]]=\"\",0,SUMPRODUCT((Quantity_Sold_1=Inventory[[#This Row],[Item SKU/ID]])*Net_Profit))","v":0},{"$f":"IFERROR(AVERAGE(Inventory[[#This Row],[Total Net Profit]]/Inventory[[#This Row],[Quantity Sold]]),0)","v":0}]
[null,null,null,null,null,null,null,null,0,0,0,null,null,null,0,{"$f":"IF(Inventory[[#This Row],[Item SKU/ID]]=\"\",0,SUMPRODUCT((Quantity_Sold_1=Inventory[[#This Row],[Item SKU/ID]])*Net_Profit))","v":0},{"$f":"IFERROR(AVERAGE(Inventory[[#This Row],[Total Net Profit]]/Inventory[[#This Row],[Quantity Sold]]),0)","v":0}]
[null,null,null,null,null,null,null,null,0,0,0,null,null,null,0,{"$f":"IF(Inventory[[#This Row],[Item SKU/ID]]=\"\",0,SUMPRODUCT((Quantity_Sold_1=Inventory[[#This Row],[Item SKU/ID]])*Net_Profit))","v":0},{"$f":"IFERROR(AVERAGE(Inventory[[#This Row],[Total Net Profit]]/Inventory[[#This Row],[Quantity Sold]]),0)","v":0}]
[null,null,null,null,null,null,null,null,0,0,0,null,null,null,0,{"$f":"IF(Inventory[[#This Row],[Item SKU/ID]]=\"\",0,SUMPRODUCT((Quantity_Sold_1=Inventory[[#This Row],[Item SKU/ID]])*Net_Profit))","v":0},{"$f":"IFERROR(AVERAGE(Inventory[[#This Row],[Total Net Profit]]/Inventory[[#This Row],[Quantity Sold]]),0)","v":0}]
[null,null,null,null,null,null,null,null,{"$f":"K900*H900","v":0},{"$f":"IF(F900=\"\",0,SUMPRODUCT((Quantity_Sold_1=F900)*Quantity_Sold_2))","v":0},{"$f":"G900-J900","v":0},null,null,null,{"$f":"K900*H900","v":0},{"$f":"IF(Inventory[[#This Row],[Item SKU/ID]]=\"\",0,SUMPRODUCT((Quantity_Sold_1=Inventory[[#This Row],[Item SKU/ID]])*Net_Profit))","v":0},{"$f":"IFERROR(AVERAGE(Inventory[[#This Row],[Total Net Profit]]/Inventory[[#This Row],[Quantity Sold]]),0)","v":0}]
[null,null,null,null,null,null,null,null,0,0,0,null,null,null,0,{"$f":"IF(Inventory[[#This Row],[Item SKU/ID]]=\"\",0,SUMPRODUCT((Quantity_Sold_1=Inventory[[#This Row],[Item SKU/ID]])*Net_Profit))","v":0},{"$f":"IFERROR(AVERAGE(Inventory[[#This Row],[Total Net Profit]]/Inventory[[#This Row],[Quantity Sold]]),0)","v":0}]
[null,null,null,null,null,null,null,null,0,0,0,null,null,null,0,{"$f":"IF(Inventory[[#This Row],[Item SKU/ID]]=\"\",0,SUMPRODUCT((Quantity_Sold_1=Inventory[[#This Row],[Item SKU/ID]])*Net_Profit))","v":0},{"$f":"IFERROR(AVERAGE(Inventory[[#This Row],[Total Net Profit]]/Inventory[[#This Row],[Quantity Sold]]),0)","v":0}]
[null,null,null,null,null,null,null,null,0,0,0,null,null,null,0,{"$f":"IF(Inventory[[#This Row],[Item SKU/ID]]=\"\",0,SUMPRODUCT((Quantity_Sold_1=Inventory[[#This Row],[Item SKU/ID]])*Net_Profit))","v":0},{"$f":"IFERROR(AVERAGE(Inventory[[#This Row],[Total Net Profit]]/Inventory[[#This Row],[Quantity Sold]]),0)","v":0}]
[null,null,null,null,null,null,null,null,0,0,0,null,null,null,0,{"$f":"IF(Inventory[[#This Row],[Item SKU/ID]]=\"\",0,SUMPRODUCT((Quantity_Sold_1=Inventory[[#This Row],[Item SKU/ID]])*Net_Profit))","v":0},{"$f":"IFERROR(AVERAGE(Inventory[[#This Row],[Total Net Profit]]/Inventory[[#This Row],[Quantity Sold]]),0)","v":0}]
[null,null,null,null,null,null,null,null,0,0,0,null,null,null,0,{"$f":"IF(Inventory[[#This Row],[Item SKU/ID]]=\"\",0,SUMPRODUCT((Quantity_Sold_1=Inventory[[#This Row],[Item SKU/ID]])*Net_Profit))","v":0},{"$f":"IFERROR(AVERAGE(Inventory[[#This Row],[Total Net Profit]]/Inventory[[#This Row],[Quantity Sold]]),0)","v":0}]
[null,null,null,null,null,null,null,null,0,0,0,null,null,null,0,{"$f":"IF(Inventory[[#This Row],[Item SKU/ID]]=\"\",0,SUMPRODUCT((Quantity_Sold_1=Inventory[[#This Row],[Item SKU/ID]])*Net_Profit))","v":0},{"$f":"IFERROR(AVERAGE(Inventory[[#This Row],[Total Net Profit]]/Inventory[[#This Row],[Quantity Sold]]),0)","v":0}]
[null,null,null,null,null,null,null,null,0,0,0,null,null,null,0,{"$f":"IF(Inventory[[#This Row],[Item SKU/ID]]=\"\",0,SUMPRODUCT((Quantity_Sold_1=Inventory[[#This Row],[Item SKU/ID]])*Net_Profit))","v":0},{"$f":"IFERROR(AVERAGE(Inventory[[#This Row],[Total Net Profit]]/Inventory[[#This Row],[Quantity Sold]]),0)","v":0}]
[null,null,null,null,null,null,null,null,0,0,0,null,null,null,0,{"$f":"IF(Inventory[[#This Row],[Item SKU/ID]]=\"\",0,SUMPRODUCT((Quantity_Sold_1=Inventory[[#This Row],[Item SKU/ID]])*Net_Profit))","v":0},{"$f":"IFERROR(AVERAGE(Inventory[[#This Row],[Total Net Profit]]/Inventory[[#This Row],[Quantity Sold]]),0)","v":0}]
[null,null,null,null,null,null,null,null,0,0,0,null,null,null,0,{"$f":"IF(Inventory[[#This Row],[Item SKU/ID]]=\"\",0,SUMPRODUCT((Quantity_Sold_1=Inventory[[#This Row],[Item SKU/ID]])*Net_Profit))","v":0},{"$f":"IFERROR(AVERAGE(Inventory[[#This Row],[Total Net Profit]]/Inventory[[#This Row],[Quantity Sold]]),0)","v":0}]
[null,null,null,null,null,null,null,null,0,0,0,null,null,null,0,{"$f":"IF(Inventory[[#This Row],[Item SKU/ID]]=\"\",0,SUMPRODUCT((Quantity_Sold_1=Inventory[[#This Row],[Item SKU/ID]])*Net_Profit))","v":0},{"$f":"IFERROR(AVERAGE(Inventory[[#This Row],[Total Net Profit]]/Inventory[[#This Row],[Quantity Sold]]),0)","v":0}]
[null,null,null,null,null,null,null,null,0,0,0,null,null,null,0,{"$f":"IF(Inventory[[#This Row],[Item SKU/ID]]=\"\",0,SUMPRODUCT((Quantity_Sold_1=Inventory[[#This Row],[Item SKU/ID]])*Net_Profit))","v":0},{"$f":"IFERROR(AVERAGE(Inventory[[#This Row],[Total Net Profit]]/Inventory[[#This Row],[Quantity Sold]]),0)","v":0}]
[null,null,null,null,null,null,null,null,0,0,0,null,null,null,0,{"$f":"IF(Inventory[[#This Row],[Item SKU/ID]]=\"\",0,SUMPRODUCT((Quantity_Sold_1=Inventory[[#This Row],[Item SKU/ID]])*Net_Profit))","v":0},{"$f":"IFERROR(AVERAGE(Inventory[[#This Row],[Total Net Profit]]/Inventory[[#This Row],[Quantity Sold]]),0)","v":0}]
[null,null,null,null,null,null,null,null,0,0,0,null,null,null,0,{"$f":"IF(Inventory[[#This Row],[Item SKU/ID]]=\"\",0,SUMPRODUCT((Quantity_Sold_1=Inventory[[#This Row],[Item SKU/ID]])*Net_Profit))","v":0},{"$f":"IFERROR(AVERAGE(Inventory[[#This Row],[Total Net Profit]]/Inventory[[#This Row],[Quantity Sold]]),0)","v":0}]
[null,null,null,null,null,null,null,null,0,0,0,null,null,null,0,{"$f":"IF(Inventory[[#This Row],[Item SKU/ID]]=\"\",0,SUMPRODUCT((Quantity_Sold_1=Inventory[[#This Row],[Item SKU/ID]])*Net_Profit))","v":0},{"$f":"IFERROR(AVERAGE(Inventory[[#This Row],[Total Net Profit]]/Inventory[[#This Row],[Quantity Sold]]),0)","v":0}]
[null,null,null,null,null,null,null,null,0,0,0,null,null,null,0,{"$f":"IF(Inventory[[#This Row],[Item SKU/ID]]=\"\",0,SUMPRODUCT((Quantity_Sold_1=Inventory[[#This Row],[Item SKU/ID]])*Net_Profit))","v":0},{"$f":"IFERROR(AVERAGE(Inventory[[#This Row],[Total Net Profit]]/Inventory[[#This Row],[Quantity Sold]]),0)","v":0}]
[null,null,null,null,null,null,null,null,0,0,0,null,null,null,0,{"$f":"IF(Inventory[[#This Row],[Item SKU/ID]]=\"\",0,SUMPRODUCT((Quantity_Sold_1=Inventory[[#This Row],[Item SKU/ID]])*Net_Profit))","v":0},{"$f":"IFERROR(AVERAGE(Inventory[[#This Row],[Total Net Profit]]/Inventory[[#This Row],[Quantity Sold]]),0)","v":0}]
[null,null,null,null,null,null,null,null,0,0,0,null,null,null,0,{"$f":"IF(Inventory[[#This Row],[Item SKU/ID]]=\"\",0,SUMPRODUCT((Quantity_Sold_1=Inventory[[#This Row],[Item SKU/ID]])*Net_Profit))","v":0},{"$f":"IFERROR(AVERAGE(Inventory[[#This Row],[Total Net Profit]]/Inventory[[#This Row],[Quantity Sold]]),0)","v":0}]
[null,null,null,null,null,null,null,null,0,0,0,null,null,null,0,{"$f":"IF(Inventory[[#This Row],[Item SKU/ID]]=\"\",0,SUMPRODUCT((Quantity_Sold_1=Inventory[[#This Row],[Item SKU/ID]])*Net_Profit))","v":0},{"$f":"IFERROR(AVERAGE(Inventory[[#This Row],[Total Net Profit]]/Inventory[[#This Row],[Quantity Sold]]),0)","v":0}]
[null,null,null,null,null,null,null,null,0,0,0,null,null,null,0,{"$f":"IF(Inventory[[#This Row],[Item SKU/ID]]=\"\",0,SUMPRODUCT((Quantity_Sold_1=Inventory[[#This Row],[Item SKU/ID]])*Net_Profit))","v":0},{"$f":"IFERROR(AVERAGE(Inventory[[#This Row],[Total Net Profit]]/Inventory[[#This Row],[Quantity Sold]]),0)","v":0}]
[null,null,null,null,null,null,null,null,0,0,0,null,null,null,0,{"$f":"IF(Inventory[[#This Row],[Item SKU/ID]]=\"\",0,SUMPRODUCT((Quantity_Sold_1=Inventory[[#This Row],[Item SKU/ID]])*Net_Profit))","v":0},{"$f":"IFERROR(AVERAGE(Inventory[[#This Row],[Total Net Profit]]/Inventory[[#This Row],[Quantity Sold]]),0)","v":0}]
[null,null,null,null,null,null,null,null,0,0,0,null,null,null,0,{"$f":"IF(Inventory[[#This Row],[Item SKU/ID]]=\"\",0,SUMPRODUCT((Quantity_Sold_1=Inventory[[#This Row],[Item SKU/ID]])*Net_Profit))","v":0},{"$f":"IFERROR(AVERAGE(Inventory[[#This Row],[Total Net Profit]]/Inventory[[#This Row],[Quantity Sold]]),0)","v":0}]
[null,null,null,null,null,null,null,null,0,0,0,null,null,null,0,{"$f":"IF(Inventory[[#This Row],[Item SKU/ID]]=\"\",0,SUMPRODUCT((Quantity_Sold_1=Inventory[[#This Row],[Item SKU/ID]])*Net_Profit))","v":0},{"$f":"IFERROR(AVERAGE(Inventory[[#This Row],[Total Net Profit]]/Inventory[[#This Row],[Quantity Sold]]),0)","v":0}]
[null,null,null,null,null,null,null,null,0,0,0,null,null,null,0,{"$f":"IF(Inventory[[#This Row],[Item SKU/ID]]=\"\",0,SUMPRODUCT((Quantity_Sold_1=Inventory[[#This Row],[Item SKU/ID]])*Net_Profit))","v":0},{"$f":"IFERROR(AVERAGE(Inventory[[#This Row],[Total Net Profit]]/Inventory[[#This Row],[Quantity Sold]]),0)","v":0}]
[null,null,null,null,null,null,null,null,0,0,0,null,null,null,0,{"$f":"IF(Inventory[[#This Row],[Item SKU/ID]]=\"\",0,SUMPRODUCT((Quantity_Sold_1=Inventory[[#This Row],[Item SKU/ID]])*Net_Profit))","v":0},{"$f":"IFERROR(AVERAGE(Inventory[[#This Row],[Total Net Profit]]/Inventory[[#This Row],[Quantity Sold]]),0)","v":0}]
[null,null,null,null,null,null,null,null,0,0,0,null,null,null,0,{"$f":"IF(Inventory[[#This Row],[Item SKU/ID]]=\"\",0,SUMPRODUCT((Quantity_Sold_1=Inventory[[#This Row],[Item SKU/ID]])*Net_Profit))","v":0},{"$f":"IFERROR(AVERAGE(Inventory[[#This Row],[Total Net Profit]]/Inventory[[#This Row],[Quantity Sold]]),0)","v":0}]
[null,null,null,null,null,null,null,null,0,0,0,null,null,null,0,{"$f":"IF(Inventory[[#This Row],[Item SKU/ID]]=\"\",0,SUMPRODUCT((Quantity_Sold_1=Inventory[[#This Row],[Item SKU/ID]])*Net_Profit))","v":0},{"$f":"IFERROR(AVERAGE(Inventory[[#This Row],[Total Net Profit]]/Inventory[[#This Row],[Quantity Sold]]),0)","v":0}]
[null,null,null,null,null,null,null,null,0,0,0,null,null,null,0,{"$f":"IF(Inventory[[#This Row],[Item SKU/ID]]=\"\",0,SUMPRODUCT((Quantity_Sold_1=Inventory[[#This Row],[Item SKU/ID]])*Net_Profit))","v":0},{"$f":"IFERROR(AVERAGE(Inventory[[#This Row],[Total Net Profit]]/Inventory[[#This Row],[Quantity Sold]]),0)","v":0}]
[null,null,null,null,null,null,null,null,0,0,0,null,null,null,0,{"$f":"IF(Inventory[[#This Row],[Item SKU/ID]]=\"\",0,SUMPRODUCT((Quantity_Sold_1=Inventory[[#This Row],[Item SKU/ID]])*Net_Profit))","v":0},{"$f":"IFERROR(AVERAGE(Inventory[[#This Row],[Total Net Profit]]/Inventory[[#This Row],[Quantity Sold]]),0)","v":0}]
[null,null,null,null,null,null,null,null,0,0,0,null,null,null,0,{"$f":"IF(Inventory[[#This Row],[Item SKU/ID]]=\"\",0,SUMPRODUCT((Quantity_Sold_1=Inventory[[#This Row],[Item SKU/ID]])*Net_Profit))","v":0},{"$f":"IFERROR(AVERAGE(Inventory[[#This Row],[Total Net Profit]]/Inventory[[#This Row],[Quantity Sold]]),0)","v":0}]
[null,null,null,null,null,null,null,null,0,0,0,null,null,null,0,{"$f":"IF(Inventory[[#This Row],[Item SKU/ID]]=\"\",0,SUMPRODUCT((Quantity_Sold_1=Inventory[[#This Row],[Item SKU/ID]])*Net_Profit))","v":0},{"$f":"IFERROR(AVERAGE(Inventory[[#This Row],[Total Net Profit]]/Inventory[[#This Row],[Quantity Sold]]),0)","v":0}]
[null,null,null,null,null,null,null,null,0,0,0,null,null,null,0,{"$f":"IF(Inventory[[#This Row],[Item SKU/ID]]=\"\",0,SUMPRODUCT((Quantity_Sold_1=Inventory[[#This Row],[Item SKU/ID]])*Net_Profit))","v":0},{"$f":"IFERROR(AVERAGE(Inventory[[#This Row],[Total Net Profit]]/Inventory[[#This Row],[Quantity Sold]]),0)","v":0}]
[null,null,null,null,null,null,null,null,0,0,0,null,null,null,0,{"$f":"IF(Inventory[[#This Row],[Item SKU/ID]]=\"\",0,SUMPRODUCT((Quantity_Sold_1=Inventory[[#This Row],[Item SKU/ID]])*Net_Profit))","v":0},{"$f":"IFERROR(AVERAGE(Inventory[[#This Row],[Total Net Profit]]/Inventory[[#This Row],[Quantity Sold]]),0)","v":0}]
[null,null,null,null,null,null,null,null,0,0,0,null,null,null,0,{"$f":"IF(Inventory[[#This Row],[Item SKU/ID]]=\"\",0,SUMPRODUCT((Quantity_Sold_1=Inventory[[#This Row],[Item SKU/ID]])*Net_Profit))","v":0},{"$f":"IFERROR(AVERAGE(Inventory[[#This Row],[Total Net Profit]]/Inventory[[#This Row],[Quantity Sold]]),0)","v":0}]
[null,null,null,null,null,null,null,null,0,0,0,null,null,null,0,{"$f":"IF(Inventory[[#This Row],[Item SKU/ID]]=\"\",0,SUMPRODUCT((Quantity_Sold_1=Inventory[[#This Row],[Item SKU/ID]])*Net_Profit))","v":0},{"$f":"IFERROR(AVERAGE(Inventory[[#This Row],[Total Net Profit]]/Inventory[[#This Row],[Quantity Sold]]),0)","v":0}]
[null,null,null,null,null,null,null,null,0,0,0,null,null,null,0,{"$f":"IF(Inventory[[#This Row],[Item SKU/ID]]=\"\",0,SUMPRODUCT((Quantity_Sold_1=Inventory[[#This Row],[Item SKU/ID]])*Net_Profit))","v":0},{"$f":"IFERROR(AVERAGE(Inventory[[#This Row],[Total Net Profit]]/Inventory[[#This Row],[Quantity Sold]]),0)","v":0}]
[null,null,null,null,null,null,null,null,0,0,0,null,null,null,0,{"$f":"IF(Inventory[[#This Row],[Item SKU/ID]]=\"\",0,SUMPRODUCT((Quantity_Sold_1=Inventory[[#This Row],[Item SKU/ID]])*Net_Profit))","v":0},{"$f":"IFERROR(AVERAGE(Inventory[[#This Row],[Total Net Profit]]/Inventory[[#This Row],[Quantity Sold]]),0)","v":0}]
[null,null,null,null,null,null,null,null,0,0,0,null,null,null,0,{"$f":"IF(Inventory[[#This Row],[Item SKU/ID]]=\"\",0,SUMPRODUCT((Quantity_Sold_1=Inventory[[#This Row],[Item SKU/ID]])*Net_Profit))","v":0},{"$f":"IFERROR(AVERAGE(Inventory[[#This Row],[Total Net Profit]]/Inventory[[#This Row],[Quantity Sold]]),0)","v":0}]
[null,null,null,null,null,null,null,null,0,0,0,null,null,null,0,{"$f":"IF(Inventory[[#This Row],[Item SKU/ID]]=\"\",0,SUMPRODUCT((Quantity_Sold_1=Inventory[[#This Row],[Item SKU/ID]])*Net_Profit))","v":0},{"$f":"IFERROR(AVERAGE(Inventory[[#This Row],[Total Net Profit]]/Inventory[[#This Row],[Quantity Sold]]),0)","v":0}]
[null,null,null,null,null,null,null,null,0,0,0,null,null,null,0,{"$f":"IF(Inventory[[#This Row],[Item SKU/ID]]=\"\",0,SUMPRODUCT((Quantity_Sold_1=Inventory[[#This Row],[Item SKU/ID]])*Net_Profit))","v":0},{"$f":"IFERROR(AVERAGE(Inventory[[#This Row],[Total Net Profit]]/Inventory[[#This Row],[Quantity Sold]]),0)","v":0}]
[null,null,null,null,null,null,null,null,0,0,0,null,null,null,0,{"$f":"IF(Inventory[[#This Row],[Item SKU/ID]]=\"\",0,SUMPRODUCT((Quantity_Sold_1=Inventory[[#This Row],[Item SKU/ID]])*Net_Profit))","v":0},{"$f":"IFERROR(AVERAGE(Inventory[[#This Row],[Total Net Profit]]/Inventory[[#This Row],[Quantity Sold]]),0)","v":0}]
[null,null,null,null,null,null,null,null,0,0,0,null,null,null,0,{"$f":"IF(Inventory[[#This Row],[Item SKU/ID]]=\"\",0,SUMPRODUCT((Quantity_Sold_1=Inventory[[#This Row],[Item SKU/ID]])*Net_Profit))","v":0},{"$f":"IFERROR(AVERAGE(Inventory[[#This Row],[Total Net Profit]]/Inventory[[#This Row],[Quantity Sold]]),0)","v":0}]
[null,null,null,null,null,null,null,null,0,0,0,null,null,null,0,{"$f":"IF(Inventory[[#This Row],[Item SKU/ID]]=\"\",0,SUMPRODUCT((Quantity_Sold_1=Inventory[[#This Row],[Item SKU/ID]])*Net_Profit))","v":0},{"$f":"IFERROR(AVERAGE(Inventory[[#This Row],[Total Net Profit]]/Inventory[[#This Row],[Quantity Sold]]),0)","v":0}]
[null,null,null,null,null,null,null,null,0,0,0,null,null,null,0,{"$f":"IF(Inventory[[#This Row],[Item SKU/ID]]=\"\",0,SUMPRODUCT((Quantity_Sold_1=Inventory[[#This Row],[Item SKU/ID]])*Net_Profit))","v":0},{"$f":"IFERROR(AVERAGE(Inventory[[#This Row],[Total Net Profit]]/Inventory[[#This Row],[Quantity Sold]]),0)","v":0}]
[null,null,null,null,null,null,null,null,0,0,0,null,null,null,0,{"$f":"IF(Inventory[[#This Row],[Item SKU/ID]]=\"\",0,SUMPRODUCT((Quantity_Sold_1=Inventory[[#This Row],[Item SKU/ID]])*Net_Profit))","v":0},{"$f":"IFERROR(AVERAGE(Inventory[[#This Row],[Total Net Profit]]/Inventory[[#This Row],[Quantity Sold]]),0)","v":0}]
[null,null,null,null,null,null,null,null,0,0,0,null,null,null,0,{"$f":"IF(Inventory[[#This Row],[Item SKU/ID]]=\"\",0,SUMPRODUCT((Quantity_Sold_1=Inventory[[#This Row],[Item SKU/ID]])*Net_Profit))","v":0},{"$f":"IFERROR(AVERAGE(Inventory[[#This Row],[Total Net Profit]]/Inventory[[#This Row],[Quantity Sold]]),0)","v":0}]
[null,null,null,null,null,null,null,null,0,0,0,null,null,null,0,{"$f":"IF(Inventory[[#This Row],[Item SKU/ID]]=\"\",0,SUMPRODUCT((Quantity_Sold_1=Inventory[[#This Row],[Item SKU/ID]])*Net_Profit))","v":0},{"$f":"IFERROR(AVERAGE(Inventory[[#This Row],[Total Net Profit]]/Inventory[[#This Row],[Quantity Sold]]),0)","v":0}]
[null,null,null,null,null,null,null,null,0,0,0,null,null,null,0,{"$f":"IF(Inventory[[#This Row],[Item SKU/ID]]=\"\",0,SUMPRODUCT((Quantity_Sold_1=Inventory[[#This Row],[Item SKU/ID]])*Net_Profit))","v":0},{"$f":"IFERROR(AVERAGE(Inventory[[#This Row],[Total Net Profit]]/Inventory[[#This Row],[Quantity Sold]]),0)","v":0}]
[null,null,null,null,null,null,null,null,0,0,0,null,null,null,0,{"$f":"IF(Inventory[[#This Row],[Item SKU/ID]]=\"\",0,SUMPRODUCT((Quantity_Sold_1=Inventory[[#This Row],[Item SKU/ID]])*Net_Profit))","v":0},{"$f":"IFERROR(AVERAGE(Inventory[[#This Row],[Total Net Profit]]/Inventory[[#This Row],[Quantity Sold]]),0)","v":0}]
[null,null,null,null,null,null,null,null,0,0,0,null,null,null,0,{"$f":"IF(Inventory[[#This Row],[Item SKU/ID]]=\"\",0,SUMPRODUCT((Quantity_Sold_1=Inventory[[#This Row],[Item SKU/ID]])*Net_Profit))","v":0},{"$f":"IFERROR(AVERAGE(Inventory[[#This Row],[Total Net Profit]]/Inventory[[#This Row],[Quantity Sold]]),0)","v":0}]
[null,null,null,null,null,null,null,null,0,0,0,null,null,null,0,{"$f":"IF(Inventory[[#This Row],[Item SKU/ID]]=\"\",0,SUMPRODUCT((Quantity_Sold_1=Inventory[[#This Row],[Item SKU/ID]])*Net_Profit))","v":0},{"$f":"IFERROR(AVERAGE(Inventory[[#This Row],[Total Net Profit]]/Inventory[[#This Row],[Quantity Sold]]),0)","v":0}]
[null,null,null,null,null,null,null,null,0,0,0,null,null,null,0,{"$f":"IF(Inventory[[#This Row],[Item SKU/ID]]=\"\",0,SUMPRODUCT((Quantity_Sold_1=Inventory[[#This Row],[Item SKU/ID]])*Net_Profit))","v":0},{"$f":"IFERROR(AVERAGE(Inventory[[#This Row],[Total Net Profit]]/Inventory[[#This Row],[Quantity Sold]]),0)","v":0}]
[null,null,null,null,null,null,null,null,0,0,0,null,null,null,0,{"$f":"IF(Inventory[[#This Row],[Item SKU/ID]]=\"\",0,SUMPRODUCT((Quantity_Sold_1=Inventory[[#This Row],[Item SKU/ID]])*Net_Profit))","v":0},{"$f":"IFERROR(AVERAGE(Inventory[[#This Row],[Total Net Profit]]/Inventory[[#This Row],[Quantity Sold]]),0)","v":0}]
[null,null,null,null,null,null,null,null,0,0,0,null,null,null,0,{"$f":"IF(Inventory[[#This Row],[Item SKU/ID]]=\"\",0,SUMPRODUCT((Quantity_Sold_1=Inventory[[#This Row],[Item SKU/ID]])*Net_Profit))","v":0},{"$f":"IFERROR(AVERAGE(Inventory[[#This Row],[Total Net Profit]]/Inventory[[#This Row],[Quantity Sold]]),0)","v":0}]
[null,null,null,null,null,null,null,null,0,0,0,null,null,null,0,{"$f":"IF(Inventory[[#This Row],[Item SKU/ID]]=\"\",0,SUMPRODUCT((Quantity_Sold_1=Inventory[[#This Row],[Item SKU/ID]])*Net_Profit))","v":0},{"$f":"IFERROR(AVERAGE(Inventory[[#This Row],[Total Net Profit]]/Inventory[[#This Row],[Quantity Sold]]),0)","v":0}]
[null,null,null,null,null,null,null,null,0,0,0,null,null,null,0,{"$f":"IF(Inventory[[#This Row],[Item SKU/ID]]=\"\",0,SUMPRODUCT((Quantity_Sold_1=Inventory[[#This Row],[Item SKU/ID]])*Net_Profit))","v":0},{"$f":"IFERROR(AVERAGE(Inventory[[#This Row],[Total Net Profit]]/Inventory[[#This Row],[Quantity Sold]]),0)","v":0}]
[null,null,null,null,null,null,null,null,0,0,0,null,null,null,0,{"$f":"IF(Inventory[[#This Row],[Item SKU/ID]]=\"\",0,SUMPRODUCT((Quantity_Sold_1=Inventory[[#This Row],[Item SKU/ID]])*Net_Profit))","v":0},{"$f":"IFERROR(AVERAGE(Inventory[[#This Row],[Total Net Profit]]/Inventory[[#This Row],[Quantity Sold]]),0)","v":0}]
[null,null,null,null,null,null,null,null,0,0,0,null,null,null,0,{"$f":"IF(Inventory[[#This Row],[Item SKU/ID]]=\"\",0,SUMPRODUCT((Quantity_Sold_1=Inventory[[#This Row],[Item SKU/ID]])*Net_Profit))","v":0},{"$f":"IFERROR(AVERAGE(Inventory[[#This Row],[Total Net Profit]]/Inventory[[#This Row],[Quantity Sold]]),0)","v":0}]
[null,null,null,null,null,null,null,null,0,0,0,null,null,null,0,{"$f":"IF(Inventory[[#This Row],[Item SKU/ID]]=\"\",0,SUMPRODUCT((Quantity_Sold_1=Inventory[[#This Row],[Item SKU/ID]])*Net_Profit))","v":0},{"$f":"IFERROR(AVERAGE(Inventory[[#This Row],[Total Net Profit]]/Inventory[[#This Row],[Quantity Sold]]),0)","v":0}]
[null,null,null,null,null,null,null,null,0,0,0,null,null,null,0,{"$f":"IF(Inventory[[#This Row],[Item SKU/ID]]=\"\",0,SUMPRODUCT((Quantity_Sold_1=Inventory[[#This Row],[Item SKU/ID]])*Net_Profit))","v":0},{"$f":"IFERROR(AVERAGE(Inventory[[#This Row],[Total Net Profit]]/Inventory[[#This Row],[Quantity Sold]]),0)","v":0}]
[null,null,null,null,null,null,null,null,0,0,0,null,null,null,0,{"$f":"IF(Inventory[[#This Row],[Item SKU/ID]]=\"\",0,SUMPRODUCT((Quantity_Sold_1=Inventory[[#This Row],[Item SKU/ID]])*Net_Profit))","v":0},{"$f":"IFERROR(AVERAGE(Inventory[[#This Row],[Total Net Profit]]/Inventory[[#This Row],[Quantity Sold]]),0)","v":0}]
[null,null,null,null,null,null,null,null,0,0,0,null,null,null,0,{"$f":"IF(Inventory[[#This Row],[Item SKU/ID]]=\"\",0,SUMPRODUCT((Quantity_Sold_1=Inventory[[#This Row],[Item SKU/ID]])*Net_Profit))","v":0},{"$f":"IFERROR(AVERAGE(Inventory[[#This Row],[Total Net Profit]]/Inventory[[#This Row],[Quantity Sold]]),0)","v":0}]
[null,null,null,null,null,null,null,null,0,0,0,null,null,null,0,{"$f":"IF(Inventory[[#This Row],[Item SKU/ID]]=\"\",0,SUMPRODUCT((Quantity_Sold_1=Inventory[[#This Row],[Item SKU/ID]])*Net_Profit))","v":0},{"$f":"IFERROR(AVERAGE(Inventory[[#This Row],[Total Net Profit]]/Inventory[[#This Row],[Quantity Sold]]),0)","v":0}]
[null,null,null,null,null,null,null,null,0,0,0,null,null,null,0,{"$f":"IF(Inventory[[#This Row],[Item SKU/ID]]=\"\",0,SUMPRODUCT((Quantity_Sold_1=Inventory[[#This Row],[Item SKU/ID]])*Net_Profit))","v":0},{"$f":"IFERROR(AVERAGE(Inventory[[#This Row],[Total Net Profit]]/Inventory[[#This Row],[Quantity Sold]]),0)","v":0}]
[null,null,null,null,null,null,null,null,{"$f":"K964*H964","v":0},{"$f":"IF(F964=\"\",0,SUMPRODUCT((Quantity_Sold_1=F964)*Quantity_Sold_2))","v":0},{"$f":"G964-J964","v":0},null,null,null,{"$f":"K964*H964","v":0},{"$f":"IF(Inventory[[#This Row],[Item SKU/ID]]=\"\",0,SUMPRODUCT((Quantity_Sold_1=Inventory[[#This Row],[Item SKU/ID]])*Net_Profit))","v":0},{"$f":"IFERROR(AVERAGE(Inventory[[#This Row],[Total Net Profit]]/Inventory[[#This Row],[Quantity Sold]]),0)","v":0}]
[null,null,null,null,null,null,null,null,0,0,0,null,null,null,0,{"$f":"IF(Inventory[[#This Row],[Item SKU/ID]]=\"\",0,SUMPRODUCT((Quantity_Sold_1=Inventory[[#This Row],[Item SKU/ID]])*Net_Profit))","v":0},{"$f":"IFERROR(AVERAGE(Inventory[[#This Row],[Total Net Profit]]/Inventory[[#This Row],[Quantity Sold]]),0)","v":0}]
[null,null,null,null,null,null,null,null,0,0,0,null,null,null,0,{"$f":"IF(Inventory[[#This Row],[Item SKU/ID]]=\"\",0,SUMPRODUCT((Quantity_Sold_1=Inventory[[#This Row],[Item SKU/ID]])*Net_Profit))","v":0},{"$f":"IFERROR(AVERAGE(Inventory[[#This Row],[Total Net Profit]]/Inventory[[#This Row],[Quantity Sold]]),0)","v":0}]
[null,null,null,null,null,null,null,null,0,0,0,null,null,null,0,{"$f":"IF(Inventory[[#This Row],[Item SKU/ID]]=\"\",0,SUMPRODUCT((Quantity_Sold_1=Inventory[[#This Row],[Item SKU/ID]])*Net_Profit))","v":0},{"$f":"IFERROR(AVERAGE(Inventory[[#This Row],[Total Net Profit]]/Inventory[[#This Row],[Quantity Sold]]),0)","v":0}]
[null,null,null,null,null,null,null,null,0,0,0,null,null,null,0,{"$f":"IF(Inventory[[#This Row],[Item SKU/ID]]=\"\",0,SUMPRODUCT((Quantity_Sold_1=Inventory[[#This Row],[Item SKU/ID]])*Net_Profit))","v":0},{"$f":"IFERROR(AVERAGE(Inventory[[#This Row],[Total Net Profit]]/Inventory[[#This Row],[Quantity Sold]]),0)","v":0}]
[null,null,null,null,null,null,null,null,0,0,0,null,null,null,0,{"$f":"IF(Inventory[[#This Row],[Item SKU/ID]]=\"\",0,SUMPRODUCT((Quantity_Sold_1=Inventory[[#This Row],[Item SKU/ID]])*Net_Profit))","v":0},{"$f":"IFERROR(AVERAGE(Inventory[[#This Row],[Total Net Profit]]/Inventory[[#This Row],[Quantity Sold]]),0)","v":0}]
[null,null,null,null,null,null,null,null,0,0,0,null,null,null,0,{"$f":"IF(Inventory[[#This Row],[Item SKU/ID]]=\"\",0,SUMPRODUCT((Quantity_Sold_1=Inventory[[#This Row],[Item SKU/ID]])*Net_Profit))","v":0},{"$f":"IFERROR(AVERAGE(Inventory[[#This Row],[Total Net Profit]]/Inventory[[#This Row],[Quantity Sold]]),0)","v":0}]
[null,null,null,null,null,null,null,null,0,0,0,null,null,null,0,{"$f":"IF(Inventory[[#This Row],[Item SKU/ID]]=\"\",0,SUMPRODUCT((Quantity_Sold_1=Inventory[[#This Row],[Item SKU/ID]])*Net_Profit))","v":0},{"$f":"IFERROR(AVERAGE(Inventory[[#This Row],[Total Net Profit]]/Inventory[[#This Row],[Quantity Sold]]),0)","v":0}]
[null,null,null,null,null,null,null,null,0,0,0,null,null,null,0,{"$f":"IF(Inventory[[#This Row],[Item SKU/ID]]=\"\",0,SUMPRODUCT((Quantity_Sold_1=Inventory[[#This Row],[Item SKU/ID]])*Net_Profit))","v":0},{"$f":"IFERROR(AVERAGE(Inventory[[#This Row],[Total Net Profit]]/Inventory[[#This Row],[Quantity Sold]]),0)","v":0}]
[null,null,null,null,null,null,null,null,0,0,0,null,null,null,0,{"$f":"IF(Inventory[[#This Row],[Item SKU/ID]]=\"\",0,SUMPRODUCT((Quantity_Sold_1=Inventory[[#This Row],[Item SKU/ID]])*Net_Profit))","v":0},{"$f":"IFERROR(AVERAGE(Inventory[[#This Row],[Total Net Profit]]/Inventory[[#This Row],[Quantity Sold]]),0)","v":0}]
[null,null,null,null,null,null,null,null,0,0,0,null,null,null,0,{"$f":"IF(Inventory[[#This Row],[Item SKU/ID]]=\"\",0,SUMPRODUCT((Quantity_Sold_1=Inventory[[#This Row],[Item SKU/ID]])*Net_Profit))","v":0},{"$f":"IFERROR(AVERAGE(Inventory[[#This Row],[Total Net Profit]]/Inventory[[#This Row],[Quantity Sold]]),0)","v":0}]
[null,null,null,null,null,null,null,null,0,0,0,null,null,null,0,{"$f":"IF(Inventory[[#This Row],[Item SKU/ID]]=\"\",0,SUMPRODUCT((Quantity_Sold_1=Inventory[[#This Row],[Item SKU/ID]])*Net_Profit))","v":0},{"$f":"IFERROR(AVERAGE(Inventory[[#This Row],[Total Net Profit]]/Inventory[[#This Row],[Quantity Sold]]),0)","v":0}]
[null,null,null,null,null,null,null,null,0,0,0,null,null,null,0,{"$f":"IF(Inventory[[#This Row],[Item SKU/ID]]=\"\",0,SUMPRODUCT((Quantity_Sold_1=Inventory[[#This Row],[Item SKU/ID]])*Net_Profit))","v":0},{"$f":"IFERROR(AVERAGE(Inventory[[#This Row],[Total Net Profit]]/Inventory[[#This Row],[Quantity Sold]]),0)","v":0}]
[null,null,null,null,null,null,null,null,0,0,0,null,null,null,0,{"$f":"IF(Inventory[[#This Row],[Item SKU/ID]]=\"\",0,SUMPRODUCT((Quantity_Sold_1=Inventory[[#This Row],[Item SKU/ID]])*Net_Profit))","v":0},{"$f":"IFERROR(AVERAGE(Inventory[[#This Row],[Total Net Profit]]/Inventory[[#This Row],[Quantity Sold]]),0)","v":0}]
[null,null,null,null,null,null,null,null,0,0,0,null,null,null,0,{"$f":"IF(Inventory[[#This Row],[Item SKU/ID]]=\"\",0,SUMPRODUCT((Quantity_Sold_1=Inventory[[#This Row],[Item SKU/ID]])*Net_Profit))","v":0},{"$f":"IFERROR(AVERAGE(Inventory[[#This Row],[Total Net Profit]]/Inventory[[#This Row],[Quantity Sold]]),0)","v":0}]
[null,null,null,null,null,null,null,null,0,0,0,null,null,null,0,{"$f":"IF(Inventory[[#This Row],[Item SKU/ID]]=\"\",0,SUMPRODUCT((Quantity_Sold_1=Inventory[[#This Row],[Item SKU/ID]])*Net_Profit))","v":0},{"$f":"IFERROR(AVERAGE(Inventory[[#This Row],[Total Net Profit]]/Inventory[[#This Row],[Quantity Sold]]),0)","v":0}]
[null,null,null,null,null,null,null,null,0,0,0,null,null,null,0,{"$f":"IF(Inventory[[#This Row],[Item SKU/ID]]=\"\",0,SUMPRODUCT((Quantity_Sold_1=Inventory[[#This Row],[Item SKU/ID]])*Net_Profit))","v":0},{"$f":"IFERROR(AVERAGE(Inventory[[#This Row],[Total Net Profit]]/Inventory[[#This Row],[Quantity Sold]]),0)","v":0}]
[null,null,null,null,null,null,null,null,0,0,0,null,null,null,0,{"$f":"IF(Inventory[[#This Row],[Item SKU/ID]]=\"\",0,SUMPRODUCT((Quantity_Sold_1=Inventory[[#This Row],[Item SKU/ID]])*Net_Profit))","v":0},{"$f":"IFERROR(AVERAGE(Inventory[[#This Row],[Total Net Profit]]/Inventory[[#This Row],[Quantity Sold]]),0)","v":0}]
[null,null,null,null,null,null,null,null,0,0,0,null,null,null,0,{"$f":"IF(Inventory[[#This Row],[Item SKU/ID]]=\"\",0,SUMPRODUCT((Quantity_Sold_1=Inventory[[#This Row],[Item SKU/ID]])*Net_Profit))","v":0},{"$f":"IFERROR(AVERAGE(Inventory[[#This Row],[Total Net Profit]]/Inventory[[#This Row],[Quantity Sold]]),0)","v":0}]
[null,null,null,null,null,null,null,null,0,0,0,null,null,null,0,{"$f":"IF(Inventory[[#This Row],[Item SKU/ID]]=\"\",0,SUMPRODUCT((Quantity_Sold_1=Inventory[[#This Row],[Item SKU/ID]])*Net_Profit))","v":0},{"$f":"IFERROR(AVERAGE(Inventory[[#This Row],[Total Net Profit]]/Inventory[[#This Row],[Quantity Sold]]),0)","v":0}]
[null,null,null,null,null,null,null,null,0,0,0,null,null,null,0,{"$f":"IF(Inventory[[#This Row],[Item SKU/ID]]=\"\",0,SUMPRODUCT((Quantity_Sold_1=Inventory[[#This Row],[Item SKU/ID]])*Net_Profit))","v":0},{"$f":"IFERROR(AVERAGE(Inventory[[#This Row],[Total Net Profit]]/Inventory[[#This Row],[Quantity Sold]]),0)","v":0}]
[null,null,null,null,null,null,null,null,0,0,0,null,null,null,0,{"$f":"IF(Inventory[[#This Row],[Item SKU/ID]]=\"\",0,SUMPRODUCT((Quantity_Sold_1=Inventory[[#This Row],[Item SKU/ID]])*Net_Profit))","v":0},{"$f":"IFERROR(AVERAGE(Inventory[[#This Row],[Total Net Profit]]/Inventory[[#This Row],[Quantity Sold]]),0)","v":0}]
[null,null,null,null,null,null,null,null,0,0,0,null,null,null,0,{"$f":"IF(Inventory[[#This Row],[Item SKU/ID]]=\"\",0,SUMPRODUCT((Quantity_Sold_1=Inventory[[#This Row],[Item SKU/ID]])*Net_Profit))","v":0},{"$f":"IFERROR(AVERAGE(Inventory[[#This Row],[Total Net Profit]]/Inventory[[#This Row],[Quantity Sold]]),0)","v":0}]
[null,null,null,null,null,null,null,null,0,0,0,null,null,null,0,{"$f":"IF(Inventory[[#This Row],[Item SKU/ID]]=\"\",0,SUMPRODUCT((Quantity_Sold_1=Inventory[[#This Row],[Item SKU/ID]])*Net_Profit))","v":0},{"$f":"IFERROR(AVERAGE(Inventory[[#This Row],[Total Net Profit]]/Inventory[[#This Row],[Quantity Sold]]),0)","v":0}]
[null,null,null,null,null,null,null,null,0,0,0,null,null,null,0,{"$f":"IF(Inventory[[#This Row],[Item SKU/ID]]=\"\",0,SUMPRODUCT((Quantity_Sold_1=Inventory[[#This Row],[Item SKU/ID]])*Net_Profit))","v":0},{"$f":"IFERROR(AVERAGE(Inventory[[#This Row],[Total Net Profit]]/Inventory[[#This Row],[Quantity Sold]]),0)","v":0}]
[null,null,null,null,null,null,null,null,0,0,0,null,null,null,0,{"$f":"IF(Inventory[[#This Row],[Item SKU/ID]]=\"\",0,SUMPRODUCT((Quantity_Sold_1=Inventory[[#This Row],[Item SKU/ID]])*Net_Profit))","v":0},{"$f":"IFERROR(AVERAGE(Inventory[[#This Row],[Total Net Profit]]/Inventory[[#This Row],[Quantity Sold]]),0)","v":0}]
[null,null,null,null,null,null,null,null,0,0,0,null,null,null,0,{"$f":"IF(Inventory[[#This Row],[Item SKU/ID]]=\"\",0,SUMPRODUCT((Quantity_Sold_1=Inventory[[#This Row],[Item SKU/ID]])*Net_Profit))","v":0},{"$f":"IFERROR(AVERAGE(Inventory[[#This Row],[Total Net Profit]]/Inventory[[#This Row],[Quantity Sold]]),0)","v":0}]
[null,null,null,null,null,null,null,null,0,0,0,null,null,null,0,{"$f":"IF(Inventory[[#This Row],[Item SKU/ID]]=\"\",0,SUMPRODUCT((Quantity_Sold_1=Inventory[[#This Row],[Item SKU/ID]])*Net_Profit))","v":0},{"$f":"IFERROR(AVERAGE(Inventory[[#This Row],[Total Net Profit]]/Inventory[[#This Row],[Quantity Sold]]),0)","v":0}]
[null,null,null,null,null,null,null,null,0,0,0,null,null,null,0,{"$f":"IF(Inventory[[#This Row],[Item SKU/ID]]=\"\",0,SUMPRODUCT((Quantity_Sold_1=Inventory[[#This Row],[Item SKU/ID]])*Net_Profit))","v":0},{"$f":"IFERROR(AVERAGE(Inventory[[#This Row],[Total Net Profit]]/Inventory[[#This Row],[Quantity Sold]]),0)","v":0}]
[null,null,null,null,null,null,null,null,0,0,0,null,null,null,0,{"$f":"IF(Inventory[[#This Row],[Item SKU/ID]]=\"\",0,SUMPRODUCT((Quantity_Sold_1=Inventory[[#This Row],[Item SKU/ID]])*Net_Profit))","v":0},{"$f":"IFERROR(AVERAGE(Inventory[[#This Row],[Total Net Profit]]/Inventory[[#This Row],[Quantity Sold]]),0)","v":0}]
[null,null,null,null,null,null,null,null,0,0,0,null,null,null,0,{"$f":"IF(Inventory[[#This Row],[Item SKU/ID]]=\"\",0,SUMPRODUCT((Quantity_Sold_1=Inventory[[#This Row],[Item SKU/ID]])*Net_Profit))","v":0},{"$f":"IFERROR(AVERAGE(Inventory[[#This Row],[Total Net Profit]]/Inventory[[#This Row],[Quantity Sold]]),0)","v":0}]
[null,null,null,null,null,null,null,null,0,0,0,null,null,null,0,{"$f":"IF(Inventory[[#This Row],[Item SKU/ID]]=\"\",0,SUMPRODUCT((Quantity_Sold_1=Inventory[[#This Row],[Item SKU/ID]])*Net_Profit))","v":0},{"$f":"IFERROR(AVERAGE(Inventory[[#This Row],[Total Net Profit]]/Inventory[[#This Row],[Quantity Sold]]),0)","v":0}]
[null,null,null,null,null,null,null,null,0,0,0,null,null,null,0,{"$f":"IF(Inventory[[#This Row],[Item SKU/ID]]=\"\",0,SUMPRODUCT((Quantity_Sold_1=Inventory[[#This Row],[Item SKU/ID]])*Net_Profit))","v":0},{"$f":"IFERROR(AVERAGE(Inventory[[#This Row],[Total Net Profit]]/Inventory[[#This Row],[Quantity Sold]]),0)","v":0}]
[null,null,null,null,null,null,null,null,0,0,0,null,null,null,0,{"$f":"IF(Inventory[[#This Row],[Item SKU/ID]]=\"\",0,SUMPRODUCT((Quantity_Sold_1=Inventory[[#This Row],[Item SKU/ID]])*Net_Profit))","v":0},{"$f":"IFERROR(AVERAGE(Inventory[[#This Row],[Total Net Profit]]/Inventory[[#This Row],[Quantity Sold]]),0)","v":0}]
[null,null,null,null,null,null,null,null,0,0,0,null,null,null,0,{"$f":"IF(Inventory[[#This Row],[Item SKU/ID]]=\"\",0,SUMPRODUCT((Quantity_Sold_1=Inventory[[#This Row],[Item SKU/ID]])*Net_Profit))","v":0},{"$f":"IFERROR(AVERAGE(Inventory[[#This Row],[Total Net Profit]]/Inventory[[#This Row],[Quantity Sold]]),0)","v":0}]
[null,null,null,null,null,null,null,null,0,0,0,null,null,null,0,{"$f":"IF(Inventory[[#This Row],[Item SKU/ID]]=\"\",0,SUMPRODUCT((Quantity_Sold_1=Inventory[[#This Row],[Item SKU/ID]])*Net_Profit))","v":0},{"$f":"IFERROR(AVERAGE(Inventory[[#This Row],[Total Net Profit]]/Inventory[[#This Row],[Quantity Sold]]),0)","v":0}]
[null,null,null,null,null,null,null,null,0,0,0,null,null,null,0,{"$f":"IF(Inventory[[#This Row],[Item SKU/ID]]=\"\",0,SUMPRODUCT((Quantity_Sold_1=Inventory[[#This Row],[Item SKU/ID]])*Net_Profit))","v":0},{"$f":"IFERROR(AVERAGE(Inventory[[#This Row],[Total Net Profit]]/Inventory[[#This Row],[Quantity Sold]]),0)","v":0}]
[null,null,null,null,null,null,null,null,0,0,0,null,null,null,0,{"$f":"IF(Inventory[[#This Row],[Item SKU/ID]]=\"\",0,SUMPRODUCT((Quantity_Sold_1=Inventory[[#This Row],[Item SKU/ID]])*Net_Profit))","v":0},{"$f":"IFERROR(AVERAGE(Inventory[[#This Row],[Total Net Profit]]/Inventory[[#This Row],[Quantity Sold]]),0)","v":0}]
[null,null,null,null,null,null,null,null,0,0,0,null,null,null,0,{"$f":"IF(Inventory[[#This Row],[Item SKU/ID]]=\"\",0,SUMPRODUCT((Quantity_Sold_1=Inventory[[#This Row],[Item SKU/ID]])*Net_Profit))","v":0},{"$f":"IFERROR(AVERAGE(Inventory[[#This Row],[Total Net Profit]]/Inventory[[#This Row],[Quantity Sold]]),0)","v":0}]
[null,null,null,null,null,null,null,null,0,0,0,null,null,null,0,{"$f":"IF(Inventory[[#This Row],[Item SKU/ID]]=\"\",0,SUMPRODUCT((Quantity_Sold_1=Inventory[[#This Row],[Item SKU/ID]])*Net_Profit))","v":0},{"$f":"IFERROR(AVERAGE(Inventory[[#This Row],[Total Net Profit]]/Inventory[[#This Row],[Quantity Sold]]),0)","v":0}]
[null,null,null,null,null,null,null,null,0,0,0,null,null,null,0,{"$f":"IF(Inventory[[#This Row],[Item SKU/ID]]=\"\",0,SUMPRODUCT((Quantity_Sold_1=Inventory[[#This Row],[Item SKU/ID]])*Net_Profit))","v":0},{"$f":"IFERROR(AVERAGE(Inventory[[#This Row],[Total Net Profit]]/Inventory[[#This Row],[Quantity Sold]]),0)","v":0}]
[null,null,null,null,null,null,null,null,0,0,0,null,null,null,0,{"$f":"IF(Inventory[[#This Row],[Item SKU/ID]]=\"\",0,SUMPRODUCT((Quantity_Sold_1=Inventory[[#This Row],[Item SKU/ID]])*Net_Profit))","v":0},{"$f":"IFERROR(AVERAGE(Inventory[[#This Row],[Total Net Profit]]/Inventory[[#This Row],[Quantity Sold]]),0)","v":0}]
[null,null,null,null,null,null,null,null,0,0,0,null,null,null,0,{"$f":"IF(Inventory[[#This Row],[Item SKU/ID]]=\"\",0,SUMPRODUCT((Quantity_Sold_1=Inventory[[#This Row],[Item SKU/ID]])*Net_Profit))","v":0},{"$f":"IFERROR(AVERAGE(Inventory[[#This Row],[Total Net Profit]]/Inventory[[#This Row],[Quantity Sold]]),0)","v":0}]
[null,null,null,null,null,null,null,null,0,0,0,null,null,null,0,{"$f":"IF(Inventory[[#This Row],[Item SKU/ID]]=\"\",0,SUMPRODUCT((Quantity_Sold_1=Inventory[[#This Row],[Item SKU/ID]])*Net_Profit))","v":0},{"$f":"IFERROR(AVERAGE(Inventory[[#This Row],[Total Net Profit]]/Inventory[[#This Row],[Quantity Sold]]),0)","v":0}]
[null,null,null,null,null,null,null,null,0,0,0,null,null,null,0,{"$f":"IF(Inventory[[#This Row],[Item SKU/ID]]=\"\",0,SUMPRODUCT((Quantity_Sold_1=Inventory[[#This Row],[Item SKU/ID]])*Net_Profit))","v":0},{"$f":"IFERROR(AVERAGE(Inventory[[#This Row],[Total Net Profit]]/Inventory[[#This Row],[Quantity Sold]]),0)","v":0}]
[null,null,null,null,null,null,null,null,0,0,0,null,null,null,0,{"$f":"IF(Inventory[[#This Row],[Item SKU/ID]]=\"\",0,SUMPRODUCT((Quantity_Sold_1=Inventory[[#This Row],[Item SKU/ID]])*Net_Profit))","v":0},{"$f":"IFERROR(AVERAGE(Inventory[[#This Row],[Total Net Profit]]/Inventory[[#This Row],[Quantity Sold]]),0)","v":0}]
[null,null,null,null,null,null,null,null,0,0,0,null,null,null,0,{"$f":"IF(Inventory[[#This Row],[Item SKU/ID]]=\"\",0,SUMPRODUCT((Quantity_Sold_1=Inventory[[#This Row],[Item SKU/ID]])*Net_Profit))","v":0},{"$f":"IFERROR(AVERAGE(Inventory[[#This Row],[Total Net Profit]]/Inventory[[#This Row],[Quantity Sold]]),0)","v":0}]
[null,null,null,null,null,null,null,null,0,0,0,null,null,null,0,{"$f":"IF(Inventory[[#This Row],[Item SKU/ID]]=\"\",0,SUMPRODUCT((Quantity_Sold_1=Inventory[[#This Row],[Item SKU/ID]])*Net_Profit))","v":0},{"$f":"IFERROR(AVERAGE(Inventory[[#This Row],[Total Net Profit]]/Inventory[[#This Row],[Quantity Sold]]),0)","v":0}]
[null,null,null,null,null,null,null,null,0,0,0,null,null,null,0,{"$f":"IF(Inventory[[#This Row],[Item SKU/ID]]=\"\",0,SUMPRODUCT((Quantity_Sold_1=Inventory[[#This Row],[Item SKU/ID]])*Net_Profit))","v":0},{"$f":"IFERROR(AVERAGE(Inventory[[#This Row],[Total Net Profit]]/Inventory[[#This Row],[Quantity Sold]]),0)","v":0}]
[null,null,null,null,null,null,null,null,0,0,0,null,null,null,0,{"$f":"IF(Inventory[[#This Row],[Item SKU/ID]]=\"\",0,SUMPRODUCT((Quantity_Sold_1=Inventory[[#This Row],[Item SKU/ID]])*Net_Profit))","v":0},{"$f":"IFERROR(AVERAGE(Inventory[[#This Row],[Total Net Profit]]/Inventory[[#This Row],[Quantity Sold]]),0)","v":0}]
[null,null,null,null,null,null,null,null,0,0,0,null,null,null,0,{"$f":"IF(Inventory[[#This Row],[Item SKU/ID]]=\"\",0,SUMPRODUCT((Quantity_Sold_1=Inventory[[#This Row],[Item SKU/ID]])*Net_Profit))","v":0},{"$f":"IFERROR(AVERAGE(Inventory[[#This Row],[Total Net Profit]]/Inventory[[#This Row],[Quantity Sold]]),0)","v":0}]
[null,null,null,null,null,null,null,null,0,0,0,null,null,null,0,{"$f":"IF(Inventory[[#This Row],[Item SKU/ID]]=\"\",0,SUMPRODUCT((Quantity_Sold_1=Inventory[[#This Row],[Item SKU/ID]])*Net_Profit))","v":0},{"$f":"IFERROR(AVERAGE(Inventory[[#This Row],[Total Net Profit]]/Inventory[[#This Row],[Quantity Sold]]),0)","v":0}]
[null,null,null,null,null,null,null,null,0,0,0,null,null,null,0,{"$f":"IF(Inventory[[#This Row],[Item SKU/ID]]=\"\",0,SUMPRODUCT((Quantity_Sold_1=Inventory[[#This Row],[Item SKU/ID]])*Net_Profit))","v":0},{"$f":"IFERROR(AVERAGE(Inventory[[#This Row],[Total Net Profit]]/Inventory[[#This Row],[Quantity Sold]]),0)","v":0}]
[null,null,null,null,null,null,null,null,0,0,0,null,null,null,0,{"$f":"IF(Inventory[[#This Row],[Item SKU/ID]]=\"\",0,SUMPRODUCT((Quantity_Sold_1=Inventory[[#This Row],[Item SKU/ID]])*Net_Profit))","v":0},{"$f":"IFERROR(AVERAGE(Inventory[[#This Row],[Total Net Profit]]/Inventory[[#This Row],[Quantity Sold]]),0)","v":0}]
[null,null,null,null,null,null,null,null,0,0,0,null,null,null,0,{"$f":"IF(Inventory[[#This Row],[Item SKU/ID]]=\"\",0,SUMPRODUCT((Quantity_Sold_1=Inventory[[#This Row],[Item SKU/ID]])*Net_Profit))","v":0},{"$f":"IFERROR(AVERAGE(Inventory[[#This Row],[Total Net Profit]]/Inventory[[#This Row],[Quantity Sold]]),0)","v":0}]
[null,null,null,null,null,null,null,null,0,0,0,null,null,null,0,{"$f":"IF(Inventory[[#This Row],[Item SKU/ID]]=\"\",0,SUMPRODUCT((Quantity_Sold_1=Inventory[[#This Row],[Item SKU/ID]])*Net_Profit))","v":0},{"$f":"IFERROR(AVERAGE(Inventory[[#This Row],[Total Net Profit]]/Inventory[[#This Row],[Quantity Sold]]),0)","v":0}]
[null,null,null,null,null,null,null,null,0,0,0,null,null,null,0,{"$f":"IF(Inventory[[#This Row],[Item SKU/ID]]=\"\",0,SUMPRODUCT((Quantity_Sold_1=Inventory[[#This Row],[Item SKU/ID]])*Net_Profit))","v":0},{"$f":"IFERROR(AVERAGE(Inventory[[#This Row],[Total Net Profit]]/Inventory[[#This Row],[Quantity Sold]]),0)","v":0}]
[null,null,null,null,null,null,null,null,0,0,0,null,null,null,0,{"$f":"IF(Inventory[[#This Row],[Item SKU/ID]]=\"\",0,SUMPRODUCT((Quantity_Sold_1=Inventory[[#This Row],[Item SKU/ID]])*Net_Profit))","v":0},{"$f":"IFERROR(AVERAGE(Inventory[[#This Row],[Total Net Profit]]/Inventory[[#This Row],[Quantity Sold]]),0)","v":0}]
[null,null,null,null,null,null,null,null,0,0,0,null,null,null,0,{"$f":"IF(Inventory[[#This Row],[Item SKU/ID]]=\"\",0,SUMPRODUCT((Quantity_Sold_1=Inventory[[#This Row],[Item SKU/ID]])*Net_Profit))","v":0},{"$f":"IFERROR(AVERAGE(Inventory[[#This Row],[Total Net Profit]]/Inventory[[#This Row],[Quantity Sold]]),0)","v":0}]
[null,null,null,null,null,null,null,null,0,0,0,null,null,null,0,{"$f":"IF(Inventory[[#This Row],[Item SKU/ID]]=\"\",0,SUMPRODUCT((Quantity_Sold_1=Inventory[[#This Row],[Item SKU/ID]])*Net_Profit))","v":0},{"$f":"IFERROR(AVERAGE(Inventory[[#This Row],[Total Net Profit]]/Inventory[[#This Row],[Quantity Sold]]),0)","v":0}]
[null,null,null,null,null,null,null,null,0,0,0,null,null,null,0,{"$f":"IF(Inventory[[#This Row],[Item SKU/ID]]=\"\",0,SUMPRODUCT((Quantity_Sold_1=Inventory[[#This Row],[Item SKU/ID]])*Net_Profit))","v":0},{"$f":"IFERROR(AVERAGE(Inventory[[#This Row],[Total Net Profit]]/Inventory[[#This Row],[Quantity Sold]]),0)","v":0}]
[null,null,null,null,null,null,null,null,0,0,0,null,null,null,0,{"$f":"IF(Inventory[[#This Row],[Item SKU/ID]]=\"\",0,SUMPRODUCT((Quantity_Sold_1=Inventory[[#This Row],[Item SKU/ID]])*Net_Profit))","v":0},{"$f":"IFERROR(AVERAGE(Inventory[[#This Row],[Total Net Profit]]/Inventory[[#This Row],[Quantity Sold]]),0)","v":0}]
[null,null,null,null,null,null,null,null,0,0,0,null,null,null,0,{"$f":"IF(Inventory[[#This Row],[Item SKU/ID]]=\"\",0,SUMPRODUCT((Quantity_Sold_1=Inventory[[#This Row],[Item SKU/ID]])*Net_Profit))","v":0},{"$f":"IFERROR(AVERAGE(Inventory[[#This Row],[Total Net Profit]]/Inventory[[#This Row],[Quantity Sold]]),0)","v":0}]
[null,null,null,null,null,null,null,null,0,0,0,null,null,null,0,{"$f":"IF(Inventory[[#This Row],[Item SKU/ID]]=\"\",0,SUMPRODUCT((Quantity_Sold_1=Inventory[[#This Row],[Item SKU/ID]])*Net_Profit))","v":0},{"$f":"IFERROR(AVERAGE(Inventory[[#This Row],[Total Net Profit]]/Inventory[[#This Row],[Quantity Sold]]),0)","v":0}]
[null,null,null,null,null,null,null,null,{"$f":"K1028*H1028","v":0},{"$f":"IF(F1028=\"\",0,SUMPRODUCT((Quantity_Sold_1=F1028)*Quantity_Sold_2))","v":0},{"$f":"G1028-J1028","v":0},null,null,null,{"$f":"K1028*H1028","v":0},{"$f":"IF(Inventory[[#This Row],[Item SKU/ID]]=\"\",0,SUMPRODUCT((Quantity_Sold_1=Inventory[[#This Row],[Item SKU/ID]])*Net_Profit))","v":0},{"$f":"IFERROR(AVERAGE(Inventory[[#This Row],[Total Net Profit]]/Inventory[[#This Row],[Quantity Sold]]),0)","v":0}]
[null,null,null,null,null,null,null,null,0,0,0,null,null,null,0,{"$f":"IF(Inventory[[#This Row],[Item SKU/ID]]=\"\",0,SUMPRODUCT((Quantity_Sold_1=Inventory[[#This Row],[Item SKU/ID]])*Net_Profit))","v":0},{"$f":"IFERROR(AVERAGE(Inventory[[#This Row],[Total Net Profit]]/Inventory[[#This Row],[Quantity Sold]]),0)","v":0}]
[null,null,null,null,null,null,null,null,0,0,0,null,null,null,0,{"$f":"IF(Inventory[[#This Row],[Item SKU/ID]]=\"\",0,SUMPRODUCT((Quantity_Sold_1=Inventory[[#This Row],[Item SKU/ID]])*Net_Profit))","v":0},{"$f":"IFERROR(AVERAGE(Inventory[[#This Row],[Total Net Profit]]/Inventory[[#This Row],[Quantity Sold]]),0)","v":0}]
[null,null,null,null,null,null,null,null,0,0,0,null,null,null,0,{"$f":"IF(Inventory[[#This Row],[Item SKU/ID]]=\"\",0,SUMPRODUCT((Quantity_Sold_1=Inventory[[#This Row],[Item SKU/ID]])*Net_Profit))","v":0},{"$f":"IFERROR(AVERAGE(Inventory[[#This Row],[Total Net Profit]]/Inventory[[#This Row],[Quantity Sold]]),0)","v":0}]
[null,null,null,null,null,null,null,null,0,0,0,null,null,null,0,{"$f":"IF(Inventory[[#This Row],[Item SKU/ID]]=\"\",0,SUMPRODUCT((Quantity_Sold_1=Inventory[[#This Row],[Item SKU/ID]])*Net_Profit))","v":0},{"$f":"IFERROR(AVERAGE(Inventory[[#This Row],[Total Net Profit]]/Inventory[[#This Row],[Quantity Sold]]),0)","v":0}]
[null,null,null,null,null,null,null,null,0,0,0,null,null,null,0,{"$f":"IF(Inventory[[#This Row],[Item SKU/ID]]=\"\",0,SUMPRODUCT((Quantity_Sold_1=Inventory[[#This Row],[Item SKU/ID]])*Net_Profit))","v":0},{"$f":"IFERROR(AVERAGE(Inventory[[#This Row],[Total Net Profit]]/Inventory[[#This Row],[Quantity Sold]]),0)","v":0}]
[null,null,null,null,null,null,null,null,0,0,0,null,null,null,0,{"$f":"IF(Inventory[[#This Row],[Item SKU/ID]]=\"\",0,SUMPRODUCT((Quantity_Sold_1=Inventory[[#This Row],[Item SKU/ID]])*Net_Profit))","v":0},{"$f":"IFERROR(AVERAGE(Inventory[[#This Row],[Total Net Profit]]/Inventory[[#This Row],[Quantity Sold]]),0)","v":0}]
[null,null,null,null,null,null,null,null,0,0,0,null,null,null,0,{"$f":"IF(Inventory[[#This Row],[Item SKU/ID]]=\"\",0,SUMPRODUCT((Quantity_Sold_1=Inventory[[#This Row],[Item SKU/ID]])*Net_Profit))","v":0},{"$f":"IFERROR(AVERAGE(Inventory[[#This Row],[Total Net Profit]]/Inventory[[#This Row],[Quantity Sold]]),0)","v":0}]
[null,null,null,null,null,null,null,null,0,0,0,null,null,null,0,{"$f":"IF(Inventory[[#This Row],[Item SKU/ID]]=\"\",0,SUMPRODUCT((Quantity_Sold_1=Inventory[[#This Row],[Item SKU/ID]])*Net_Profit))","v":0},{"$f":"IFERROR(AVERAGE(Inventory[[#This Row],[Total Net Profit]]/Inventory[[#This Row],[Quantity Sold]]),0)","v":0}]
[null,null,null,null,null,null,null,null,0,0,0,null,null,null,0,{"$f":"IF(Inventory[[#This Row],[Item SKU/ID]]=\"\",0,SUMPRODUCT((Quantity_Sold_1=Inventory[[#This Row],[Item SKU/ID]])*Net_Profit))","v":0},{"$f":"IFERROR(AVERAGE(Inventory[[#This Row],[Total Net Profit]]/Inventory[[#This Row],[Quantity Sold]]),0)","v":0}]
[null,null,null,null,null,null,null,null,0,0,0,null,null,null,0,{"$f":"IF(Inventory[[#This Row],[Item SKU/ID]]=\"\",0,SUMPRODUCT((Quantity_Sold_1=Inventory[[#This Row],[Item SKU/ID]])*Net_Profit))","v":0},{"$f":"IFERROR(AVERAGE(Inventory[[#This Row],[Total Net Profit]]/Inventory[[#This Row],[Quantity Sold]]),0)","v":0}]
[null,null,null,null,null,null,null,null,0,0,0,null,null,null,0,{"$f":"IF(Inventory[[#This Row],[Item SKU/ID]]=\"\",0,SUMPRODUCT((Quantity_Sold_1=Inventory[[#This Row],[Item SKU/ID]])*Net_Profit))","v":0},{"$f":"IFERROR(AVERAGE(Inventory[[#This Row],[Total Net Profit]]/Inventory[[#This Row],[Quantity Sold]]),0)","v":0}]
[null,null,null,null,null,null,null,null,0,0,0,null,null,null,0,{"$f":"IF(Inventory[[#This Row],[Item SKU/ID]]=\"\",0,SUMPRODUCT((Quantity_Sold_1=Inventory[[#This Row],[Item SKU/ID]])*Net_Profit))","v":0},{"$f":"IFERROR(AVERAGE(Inventory[[#This Row],[Total Net Profit]]/Inventory[[#This Row],[Quantity Sold]]),0)","v":0}]
[null,null,null,null,null,null,null,null,0,0,0,null,null,null,0,{"$f":"IF(Inventory[[#This Row],[Item SKU/ID]]=\"\",0,SUMPRODUCT((Quantity_Sold_1=Inventory[[#This Row],[Item SKU/ID]])*Net_Profit))","v":0},{"$f":"IFERROR(AVERAGE(Inventory[[#This Row],[Total Net Profit]]/Inventory[[#This Row],[Quantity Sold]]),0)","v":0}]
[null,null,null,null,null,null,null,null,0,0,0,null,null,null,0,{"$f":"IF(Inventory[[#This Row],[Item SKU/ID]]=\"\",0,SUMPRODUCT((Quantity_Sold_1=Inventory[[#This Row],[Item SKU/ID]])*Net_Profit))","v":0},{"$f":"IFERROR(AVERAGE(Inventory[[#This Row],[Total Net Profit]]/Inventory[[#This Row],[Quantity Sold]]),0)","v":0}]
[null,null,null,null,null,null,null,null,0,0,0,null,null,null,0,{"$f":"IF(Inventory[[#This Row],[Item SKU/ID]]=\"\",0,SUMPRODUCT((Quantity_Sold_1=Inventory[[#This Row],[Item SKU/ID]])*Net_Profit))","v":0},{"$f":"IFERROR(AVERAGE(Inventory[[#This Row],[Total Net Profit]]/Inventory[[#This Row],[Quantity Sold]]),0)","v":0}]
[null,null,null,null,null,null,null,null,0,0,0,null,null,null,0,{"$f":"IF(Inventory[[#This Row],[Item SKU/ID]]=\"\",0,SUMPRODUCT((Quantity_Sold_1=Inventory[[#This Row],[Item SKU/ID]])*Net_Profit))","v":0},{"$f":"IFERROR(AVERAGE(Inventory[[#This Row],[Total Net Profit]]/Inventory[[#This Row],[Quantity Sold]]),0)","v":0}]
[null,null,null,null,null,null,null,null,0,0,0,null,null,null,0,{"$f":"IF(Inventory[[#This Row],[Item SKU/ID]]=\"\",0,SUMPRODUCT((Quantity_Sold_1=Inventory[[#This Row],[Item SKU/ID]])*Net_Profit))","v":0},{"$f":"IFERROR(AVERAGE(Inventory[[#This Row],[Total Net Profit]]/Inventory[[#This Row],[Quantity Sold]]),0)","v":0}]
[null,null,null,null,null,null,null,null,0,0,0,null,null,null,0,{"$f":"IF(Inventory[[#This Row],[Item SKU/ID]]=\"\",0,SUMPRODUCT((Quantity_Sold_1=Inventory[[#This Row],[Item SKU/ID]])*Net_Profit))","v":0},{"$f":"IFERROR(AVERAGE(Inventory[[#This Row],[Total Net Profit]]/Inventory[[#This Row],[Quantity Sold]]),0)","v":0}]
[null,null,null,null,null,null,null,null,0,0,0,null,null,null,0,{"$f":"IF(Inventory[[#This Row],[Item SKU/ID]]=\"\",0,SUMPRODUCT((Quantity_Sold_1=Inventory[[#This Row],[Item SKU/ID]])*Net_Profit))","v":0},{"$f":"IFERROR(AVERAGE(Inventory[[#This Row],[Total Net Profit]]/Inventory[[#This Row],[Quantity Sold]]),0)","v":0}]
[null,null,null,null,null,null,null,null,0,0,0,null,null,null,0,{"$f":"IF(Inventory[[#This Row],[Item SKU/ID]]=\"\",0,SUMPRODUCT((Quantity_Sold_1=Inventory[[#This Row],[Item SKU/ID]])*Net_Profit))","v":0},{"$f":"IFERROR(AVERAGE(Inventory[[#This Row],[Total Net Profit]]/Inventory[[#This Row],[Quantity Sold]]),0)","v":0}]
[null,null,null,null,null,null,null,null,0,0,0,null,null,null,0,{"$f":"IF(Inventory[[#This Row],[Item SKU/ID]]=\"\",0,SUMPRODUCT((Quantity_Sold_1=Inventory[[#This Row],[Item SKU/ID]])*Net_Profit))","v":0},{"$f":"IFERROR(AVERAGE(Inventory[[#This Row],[Total Net Profit]]/Inventory[[#This Row],[Quantity Sold]]),0)","v":0}]
[null,null,null,null,null,null,null,null,0,0,0,null,null,null,0,{"$f":"IF(Inventory[[#This Row],[Item SKU/ID]]=\"\",0,SUMPRODUCT((Quantity_Sold_1=Inventory[[#This Row],[Item SKU/ID]])*Net_Profit))","v":0},{"$f":"IFERROR(AVERAGE(Inventory[[#This Row],[Total Net Profit]]/Inventory[[#This Row],[Quantity Sold]]),0)","v":0}]
[null,null,null,null,null,null,null,null,0,0,0,null,null,null,0,{"$f":"IF(Inventory[[#This Row],[Item SKU/ID]]=\"\",0,SUMPRODUCT((Quantity_Sold_1=Inventory[[#This Row],[Item SKU/ID]])*Net_Profit))","v":0},{"$f":"IFERROR(AVERAGE(Inventory[[#This Row],[Total Net Profit]]/Inventory[[#This Row],[Quantity Sold]]),0)","v":0}]
[null,null,null,null,null,null,null,null,0,0,0,null,null,null,0,{"$f":"IF(Inventory[[#This Row],[Item SKU/ID]]=\"\",0,SUMPRODUCT((Quantity_Sold_1=Inventory[[#This Row],[Item SKU/ID]])*Net_Profit))","v":0},{"$f":"IFERROR(AVERAGE(Inventory[[#This Row],[Total Net Profit]]/Inventory[[#This Row],[Quantity Sold]]),0)","v":0}]
[null,null,null,null,null,null,null,null,0,0,0,null,null,null,0,{"$f":"IF(Inventory[[#This Row],[Item SKU/ID]]=\"\",0,SUMPRODUCT((Quantity_Sold_1=Inventory[[#This Row],[Item SKU/ID]])*Net_Profit))","v":0},{"$f":"IFERROR(AVERAGE(Inventory[[#This Row],[Total Net Profit]]/Inventory[[#This Row],[Quantity Sold]]),0)","v":0}]
[null,null,null,null,null,null,null,null,0,0,0,null,null,null,0,{"$f":"IF(Inventory[[#This Row],[Item SKU/ID]]=\"\",0,SUMPRODUCT((Quantity_Sold_1=Inventory[[#This Row],[Item SKU/ID]])*Net_Profit))","v":0},{"$f":"IFERROR(AVERAGE(Inventory[[#This Row],[Total Net Profit]]/Inventory[[#This Row],[Quantity Sold]]),0)","v":0}]
[null,null,null,null,null,null,null,null,0,0,0,null,null,null,0,{"$f":"IF(Inventory[[#This Row],[Item SKU/ID]]=\"\",0,SUMPRODUCT((Quantity_Sold_1=Inventory[[#This Row],[Item SKU/ID]])*Net_Profit))","v":0},{"$f":"IFERROR(AVERAGE(Inventory[[#This Row],[Total Net Profit]]/Inventory[[#This Row],[Quantity Sold]]),0)","v":0}]
[null,null,null,null,null,null,null,null,0,0,0,null,null,null,0,{"$f":"IF(Inventory[[#This Row],[Item SKU/ID]]=\"\",0,SUMPRODUCT((Quantity_Sold_1=Inventory[[#This Row],[Item SKU/ID]])*Net_Profit))","v":0},{"$f":"IFERROR(AVERAGE(Inventory[[#This Row],[Total Net Profit]]/Inventory[[#This Row],[Quantity Sold]]),0)","v":0}]
[null,null,null,null,null,null,null,null,0,0,0,null,null,null,0,{"$f":"IF(Inventory[[#This Row],[Item SKU/ID]]=\"\",0,SUMPRODUCT((Quantity_Sold_1=Inventory[[#This Row],[Item SKU/ID]])*Net_Profit))","v":0},{"$f":"IFERROR(AVERAGE(Inventory[[#This Row],[Total Net Profit]]/Inventory[[#This Row],[Quantity Sold]]),0)","v":0}]
[null,null,null,null,null,null,null,null,0,0,0,null,null,null,0,{"$f":"IF(Inventory[[#This Row],[Item SKU/ID]]=\"\",0,SUMPRODUCT((Quantity_Sold_1=Inventory[[#This Row],[Item SKU/ID]])*Net_Profit))","v":0},{"$f":"IFERROR(AVERAGE(Inventory[[#This Row],[Total Net Profit]]/Inventory[[#This Row],[Quantity Sold]]),0)","v":0}]
[null,null,null,null,null,null,null,null,0,0,0,null,null,null,0,{"$f":"IF(Inventory[[#This Row],[Item SKU/ID]]=\"\",0,SUMPRODUCT((Quantity_Sold_1=Inventory[[#This Row],[Item SKU/ID]])*Net_Profit))","v":0},{"$f":"IFERROR(AVERAGE(Inventory[[#This Row],[Total Net Profit]]/Inventory[[#This Row],[Quantity Sold]]),0)","v":0}]
[null,null,null,null,null,null,null,null,0,0,0,null,null,null,0,{"$f":"IF(Inventory[[#This Row],[Item SKU/ID]]=\"\",0,SUMPRODUCT((Quantity_Sold_1=Inventory[[#This Row],[Item SKU/ID]])*Net_Profit))","v":0},{"$f":"IFERROR(AVERAGE(Inventory[[#This Row],[Total Net Profit]]/Inventory[[#This Row],[Quantity Sold]]),0)","v":0}]
[null,null,null,null,null,null,null,null,0,0,0,null,null,null,0,{"$f":"IF(Inventory[[#This Row],[Item SKU/ID]]=\"\",0,SUMPRODUCT((Quantity_Sold_1=Inventory[[#This Row],[Item SKU/ID]])*Net_Profit))","v":0},{"$f":"IFERROR(AVERAGE(Inventory[[#This Row],[Total Net Profit]]/Inventory[[#This Row],[Quantity Sold]]),0)","v":0}]
[null,null,null,null,null,null,null,null,0,0,0,null,null,null,0,{"$f":"IF(Inventory[[#This Row],[Item SKU/ID]]=\"\",0,SUMPRODUCT((Quantity_Sold_1=Inventory[[#This Row],[Item SKU/ID]])*Net_Profit))","v":0},{"$f":"IFERROR(AVERAGE(Inventory[[#This Row],[Total Net Profit]]/Inventory[[#This Row],[Quantity Sold]]),0)","v":0}]
[null,null,null,null,null,null,null,null,0,0,0,null,null,null,0,{"$f":"IF(Inventory[[#This Row],[Item SKU/ID]]=\"\",0,SUMPRODUCT((Quantity_Sold_1=Inventory[[#This Row],[Item SKU/ID]])*Net_Profit))","v":0},{"$f":"IFERROR(AVERAGE(Inventory[[#This Row],[Total Net Profit]]/Inventory[[#This Row],[Quantity Sold]]),0)","v":0}]
[null,null,null,null,null,null,null,null,0,0,0,null,null,null,0,{"$f":"IF(Inventory[[#This Row],[Item SKU/ID]]=\"\",0,SUMPRODUCT((Quantity_Sold_1=Inventory[[#This Row],[Item SKU/ID]])*Net_Profit))","v":0},{"$f":"IFERROR(AVERAGE(Inventory[[#This Row],[Total Net Profit]]/Inventory[[#This Row],[Quantity Sold]]),0)","v":0}]
[null,null,null,null,null,null,null,null,0,0,0,null,null,null,0,{"$f":"IF(Inventory[[#This Row],[Item SKU/ID]]=\"\",0,SUMPRODUCT((Quantity_Sold_1=Inventory[[#This Row],[Item SKU/ID]])*Net_Profit))","v":0},{"$f":"IFERROR(AVERAGE(Inventory[[#This Row],[Total Net Profit]]/Inventory[[#This Row],[Quantity Sold]]),0)","v":0}]
[null,null,null,null,null,null,null,null,0,0,0,null,null,null,0,{"$f":"IF(Inventory[[#This Row],[Item SKU/ID]]=\"\",0,SUMPRODUCT((Quantity_Sold_1=Inventory[[#This Row],[Item SKU/ID]])*Net_Profit))","v":0},{"$f":"IFERROR(AVERAGE(Inventory[[#This Row],[Total Net Profit]]/Inventory[[#This Row],[Quantity Sold]]),0)","v":0}]
[null,null,null,null,null,null,null,null,0,0,0,null,null,null,0,{"$f":"IF(Inventory[[#This Row],[Item SKU/ID]]=\"\",0,SUMPRODUCT((Quantity_Sold_1=Inventory[[#This Row],[Item SKU/ID]])*Net_Profit))","v":0},{"$f":"IFERROR(AVERAGE(Inventory[[#This Row],[Total Net Profit]]/Inventory[[#This Row],[Quantity Sold]]),0)","v":0}]
[null,null,null,null,null,null,null,null,0,0,0,null,null,null,0,{"$f":"IF(Inventory[[#This Row],[Item SKU/ID]]=\"\",0,SUMPRODUCT((Quantity_Sold_1=Inventory[[#This Row],[Item SKU/ID]])*Net_Profit))","v":0},{"$f":"IFERROR(AVERAGE(Inventory[[#This Row],[Total Net Profit]]/Inventory[[#This Row],[Quantity Sold]]),0)","v":0}]
[null,null,null,null,null,null,null,null,0,0,0,null,null,null,0,{"$f":"IF(Inventory[[#This Row],[Item SKU/ID]]=\"\",0,SUMPRODUCT((Quantity_Sold_1=Inventory[[#This Row],[Item SKU/ID]])*Net_Profit))","v":0},{"$f":"IFERROR(AVERAGE(Inventory[[#This Row],[Total Net Profit]]/Inventory[[#This Row],[Quantity Sold]]),0)","v":0}]
[null,null,null,null,null,null,null,null,0,0,0,null,null,null,0,{"$f":"IF(Inventory[[#This Row],[Item SKU/ID]]=\"\",0,SUMPRODUCT((Quantity_Sold_1=Inventory[[#This Row],[Item SKU/ID]])*Net_Profit))","v":0},{"$f":"IFERROR(AVERAGE(Inventory[[#This Row],[Total Net Profit]]/Inventory[[#This Row],[Quantity Sold]]),0)","v":0}]
[null,null,null,null,null,null,null,null,0,0,0,null,null,null,0,{"$f":"IF(Inventory[[#This Row],[Item SKU/ID]]=\"\",0,SUMPRODUCT((Quantity_Sold_1=Inventory[[#This Row],[Item SKU/ID]])*Net_Profit))","v":0},{"$f":"IFERROR(AVERAGE(Inventory[[#This Row],[Total Net Profit]]/Inventory[[#This Row],[Quantity Sold]]),0)","v":0}]
[null,null,null,null,null,null,null,null,0,0,0,null,null,null,0,{"$f":"IF(Inventory[[#This Row],[Item SKU/ID]]=\"\",0,SUMPRODUCT((Quantity_Sold_1=Inventory[[#This Row],[Item SKU/ID]])*Net_Profit))","v":0},{"$f":"IFERROR(AVERAGE(Inventory[[#This Row],[Total Net Profit]]/Inventory[[#This Row],[Quantity Sold]]),0)","v":0}]
[null,null,null,null,null,null,null,null,0,0,0,null,null,null,0,{"$f":"IF(Inventory[[#This Row],[Item SKU/ID]]=\"\",0,SUMPRODUCT((Quantity_Sold_1=Inventory[[#This Row],[Item SKU/ID]])*Net_Profit))","v":0},{"$f":"IFERROR(AVERAGE(Inventory[[#This Row],[Total Net Profit]]/Inventory[[#This Row],[Quantity Sold]]),0)","v":0}]
[null,null,null,null,null,null,null,null,0,0,0,null,null,null,0,{"$f":"IF(Inventory[[#This Row],[Item SKU/ID]]=\"\",0,SUMPRODUCT((Quantity_Sold_1=Inventory[[#This Row],[Item SKU/ID]])*Net_Profit))","v":0},{"$f":"IFERROR(AVERAGE(Inventory[[#This Row],[Total Net Profit]]/Inventory[[#This Row],[Quantity Sold]]),0)","v":0}]
[null,null,null,null,null,null,null,null,0,0,0,null,null,null,0,{"$f":"IF(Inventory[[#This Row],[Item SKU/ID]]=\"\",0,SUMPRODUCT((Quantity_Sold_1=Inventory[[#This Row],[Item SKU/ID]])*Net_Profit))","v":0},{"$f":"IFERROR(AVERAGE(Inventory[[#This Row],[Total Net Profit]]/Inventory[[#This Row],[Quantity Sold]]),0)","v":0}]
[null,null,null,null,null,null,null,null,0,0,0,null,null,null,0,{"$f":"IF(Inventory[[#This Row],[Item SKU/ID]]=\"\",0,SUMPRODUCT((Quantity_Sold_1=Inventory[[#This Row],[Item SKU/ID]])*Net_Profit))","v":0},{"$f":"IFERROR(AVERAGE(Inventory[[#This Row],[Total Net Profit]]/Inventory[[#This Row],[Quantity Sold]]),0)","v":0}]
[null,null,null,null,null,null,null,null,0,0,0,null,null,null,0,{"$f":"IF(Inventory[[#This Row],[Item SKU/ID]]=\"\",0,SUMPRODUCT((Quantity_Sold_1=Inventory[[#This Row],[Item SKU/ID]])*Net_Profit))","v":0},{"$f":"IFERROR(AVERAGE(Inventory[[#This Row],[Total Net Profit]]/Inventory[[#This Row],[Quantity Sold]]),0)","v":0}]
[null,null,null,null,null,null,null,null,0,0,0,null,null,null,0,{"$f":"IF(Inventory[[#This Row],[Item SKU/ID]]=\"\",0,SUMPRODUCT((Quantity_Sold_1=Inventory[[#This Row],[Item SKU/ID]])*Net_Profit))","v":0},{"$f":"IFERROR(AVERAGE(Inventory[[#This Row],[Total Net Profit]]/Inventory[[#This Row],[Quantity Sold]]),0)","v":0}]
[null,null,null,null,null,null,null,null,0,0,0,null,null,null,0,{"$f":"IF(Inventory[[#This Row],[Item SKU/ID]]=\"\",0,SUMPRODUCT((Quantity_Sold_1=Inventory[[#This Row],[Item SKU/ID]])*Net_Profit))","v":0},{"$f":"IFERROR(AVERAGE(Inventory[[#This Row],[Total Net Profit]]/Inventory[[#This Row],[Quantity Sold]]),0)","v":0}]
[null,null,null,null,null,null,null,null,0,0,0,null,null,null,0,{"$f":"IF(Inventory[[#This Row],[Item SKU/ID]]=\"\",0,SUMPRODUCT((Quantity_Sold_1=Inventory[[#This Row],[Item SKU/ID]])*Net_Profit))","v":0},{"$f":"IFERROR(AVERAGE(Inventory[[#This Row],[Total Net Profit]]/Inventory[[#This Row],[Quantity Sold]]),0)","v":0}]
[null,null,null,null,null,null,null,null,0,0,0,null,null,null,0,{"$f":"IF(Inventory[[#This Row],[Item SKU/ID]]=\"\",0,SUMPRODUCT((Quantity_Sold_1=Inventory[[#This Row],[Item SKU/ID]])*Net_Profit))","v":0},{"$f":"IFERROR(AVERAGE(Inventory[[#This Row],[Total Net Profit]]/Inventory[[#This Row],[Quantity Sold]]),0)","v":0}]
[null,null,null,null,null,null,null,null,0,0,0,null,null,null,0,{"$f":"IF(Inventory[[#This Row],[Item SKU/ID]]=\"\",0,SUMPRODUCT((Quantity_Sold_1=Inventory[[#This Row],[Item SKU/ID]])*Net_Profit))","v":0},{"$f":"IFERROR(AVERAGE(Inventory[[#This Row],[Total Net Profit]]/Inventory[[#This Row],[Quantity Sold]]),0)","v":0}]
[null,null,null,null,null,null,null,null,0,0,0,null,null,null,0,{"$f":"IF(Inventory[[#This Row],[Item SKU/ID]]=\"\",0,SUMPRODUCT((Quantity_Sold_1=Inventory[[#This Row],[Item SKU/ID]])*Net_Profit))","v":0},{"$f":"IFERROR(AVERAGE(Inventory[[#This Row],[Total Net Profit]]/Inventory[[#This Row],[Quantity Sold]]),0)","v":0}]
[null,null,null,null,null,null,null,null,0,0,0,null,null,null,0,{"$f":"IF(Inventory[[#This Row],[Item SKU/ID]]=\"\",0,SUMPRODUCT((Quantity_Sold_1=Inventory[[#This Row],[Item SKU/ID]])*Net_Profit))","v":0},{"$f":"IFERROR(AVERAGE(Inventory[[#This Row],[Total Net Profit]]/Inventory[[#This Row],[Quantity Sold]]),0)","v":0}]
[null,null,null,null,null,null,null,null,0,0,0,null,null,null,0,{"$f":"IF(Inventory[[#This Row],[Item SKU/ID]]=\"\",0,SUMPRODUCT((Quantity_Sold_1=Inventory[[#This Row],[Item SKU/ID]])*Net_Profit))","v":0},{"$f":"IFERROR(AVERAGE(Inventory[[#This Row],[Total Net Profit]]/Inventory[[#This Row],[Quantity Sold]]),0)","v":0}]
[null,null,null,null,null,null,null,null,0,0,0,null,null,null,0,{"$f":"IF(Inventory[[#This Row],[Item SKU/ID]]=\"\",0,SUMPRODUCT((Quantity_Sold_1=Inventory[[#This Row],[Item SKU/ID]])*Net_Profit))","v":0},{"$f":"IFERROR(AVERAGE(Inventory[[#This Row],[Total Net Profit]]/Inventory[[#This Row],[Quantity Sold]]),0)","v":0}]
[null,null,null,null,null,null,null,null,0,0,0,null,null,null,0,{"$f":"IF(Inventory[[#This Row],[Item SKU/ID]]=\"\",0,SUMPRODUCT((Quantity_Sold_1=Inventory[[#This Row],[Item SKU/ID]])*Net_Profit))","v":0},{"$f":"IFERROR(AVERAGE(Inventory[[#This Row],[Total Net Profit]]/Inventory[[#This Row],[Quantity Sold]]),0)","v":0}]
[null,null,null,null,null,null,null,null,0,0,0,null,null,null,0,{"$f":"IF(Inventory[[#This Row],[Item SKU/ID]]=\"\",0,SUMPRODUCT((Quantity_Sold_1=Inventory[[#This Row],[Item SKU/ID]])*Net_Profit))","v":0},{"$f":"IFERROR(AVERAGE(Inventory[[#This Row],[Total Net Profit]]/Inventory[[#This Row],[Quantity Sold]]),0)","v":0}]
[null,null,null,null,null,null,null,null,0,0,0,null,null,null,0,{"$f":"IF(Inventory[[#This Row],[Item SKU/ID]]=\"\",0,SUMPRODUCT((Quantity_Sold_1=Inventory[[#This Row],[Item SKU/ID]])*Net_Profit))","v":0},{"$f":"IFERROR(AVERAGE(Inventory[[#This Row],[Total Net Profit]]/Inventory[[#This Row],[Quantity Sold]]),0)","v":0}]
[null,null,null,null,null,null,null,null,0,0,0,null,null,null,0,{"$f":"IF(Inventory[[#This Row],[Item SKU/ID]]=\"\",0,SUMPRODUCT((Quantity_Sold_1=Inventory[[#This Row],[Item SKU/ID]])*Net_Profit))","v":0},{"$f":"IFERROR(AVERAGE(Inventory[[#This Row],[Total Net Profit]]/Inventory[[#This Row],[Quantity Sold]]),0)","v":0}]
[null,null,null,null,null,null,null,null,0,0,0,null,null,null,0,{"$f":"IF(Inventory[[#This Row],[Item SKU/ID]]=\"\",0,SUMPRODUCT((Quantity_Sold_1=Inventory[[#This Row],[Item SKU/ID]])*Net_Profit))","v":0},{"$f":"IFERROR(AVERAGE(Inventory[[#This Row],[Total Net Profit]]/Inventory[[#This Row],[Quantity Sold]]),0)","v":0}]
[null,null,null,null,null,null,null,null,{"$f":"K1092*H1092","v":0},{"$f":"IF(F1092=\"\",0,SUMPRODUCT((Quantity_Sold_1=F1092)*Quantity_Sold_2))","v":0},{"$f":"G1092-J1092","v":0},null,null,null,{"$f":"K1092*H1092","v":0},{"$f":"IF(Inventory[[#This Row],[Item SKU/ID]]=\"\",0,SUMPRODUCT((Quantity_Sold_1=Inventory[[#This Row],[Item SKU/ID]])*Net_Profit))","v":0},{"$f":"IFERROR(AVERAGE(Inventory[[#This Row],[Total Net Profit]]/Inventory[[#This Row],[Quantity Sold]]),0)","v":0}]
[null,null,null,null,null,null,null,null,0,0,0,null,null,null,0,{"$f":"IF(Inventory[[#This Row],[Item SKU/ID]]=\"\",0,SUMPRODUCT((Quantity_Sold_1=Inventory[[#This Row],[Item SKU/ID]])*Net_Profit))","v":0},{"$f":"IFERROR(AVERAGE(Inventory[[#This Row],[Total Net Profit]]/Inventory[[#This Row],[Quantity Sold]]),0)","v":0}]
[null,null,null,null,null,null,null,null,0,0,0,null,null,null,0,{"$f":"IF(Inventory[[#This Row],[Item SKU/ID]]=\"\",0,SUMPRODUCT((Quantity_Sold_1=Inventory[[#This Row],[Item SKU/ID]])*Net_Profit))","v":0},{"$f":"IFERROR(AVERAGE(Inventory[[#This Row],[Total Net Profit]]/Inventory[[#This Row],[Quantity Sold]]),0)","v":0}]
[null,null,null,null,null,null,null,null,0,0,0,null,null,null,0,{"$f":"IF(Inventory[[#This Row],[Item SKU/ID]]=\"\",0,SUMPRODUCT((Quantity_Sold_1=Inventory[[#This Row],[Item SKU/ID]])*Net_Profit))","v":0},{"$f":"IFERROR(AVERAGE(Inventory[[#This Row],[Total Net Profit]]/Inventory[[#This Row],[Quantity Sold]]),0)","v":0}]
[null,null,null,null,null,null,null,null,0,0,0,null,null,null,0,{"$f":"IF(Inventory[[#This Row],[Item SKU/ID]]=\"\",0,SUMPRODUCT((Quantity_Sold_1=Inventory[[#This Row],[Item SKU/ID]])*Net_Profit))","v":0},{"$f":"IFERROR(AVERAGE(Inventory[[#This Row],[Total Net Profit]]/Inventory[[#This Row],[Quantity Sold]]),0)","v":0}]
[null,null,null,null,null,null,null,null,0,0,0,null,null,null,0,{"$f":"IF(Inventory[[#This Row],[Item SKU/ID]]=\"\",0,SUMPRODUCT((Quantity_Sold_1=Inventory[[#This Row],[Item SKU/ID]])*Net_Profit))","v":0},{"$f":"IFERROR(AVERAGE(Inventory[[#This Row],[Total Net Profit]]/Inventory[[#This Row],[Quantity Sold]]),0)","v":0}]
[null,null,null,null,null,null,null,null,0,0,0,null,null,null,0,{"$f":"IF(Inventory[[#This Row],[Item SKU/ID]]=\"\",0,SUMPRODUCT((Quantity_Sold_1=Inventory[[#This Row],[Item SKU/ID]])*Net_Profit))","v":0},{"$f":"IFERROR(AVERAGE(Inventory[[#This Row],[Total Net Profit]]/Inventory[[#This Row],[Quantity Sold]]),0)","v":0}]
[null,null,null,null,null,null,null,null,0,0,0,null,null,null,0,{"$f":"IF(Inventory[[#This Row],[Item SKU/ID]]=\"\",0,SUMPRODUCT((Quantity_Sold_1=Inventory[[#This Row],[Item SKU/ID]])*Net_Profit))","v":0},{"$f":"IFERROR(AVERAGE(Inventory[[#This Row],[Total Net Profit]]/Inventory[[#This Row],[Quantity Sold]]),0)","v":0}]
[null,null,null,null,null,null,null,null,0,0,0,null,null,null,0,{"$f":"IF(Inventory[[#This Row],[Item SKU/ID]]=\"\",0,SUMPRODUCT((Quantity_Sold_1=Inventory[[#This Row],[Item SKU/ID]])*Net_Profit))","v":0},{"$f":"IFERROR(AVERAGE(Inventory[[#This Row],[Total Net Profit]]/Inventory[[#This Row],[Quantity Sold]]),0)","v":0}]
[null,null,null,null,null,null,null,null,0,0,0,null,null,null,0,{"$f":"IF(Inventory[[#This Row],[Item SKU/ID]]=\"\",0,SUMPRODUCT((Quantity_Sold_1=Inventory[[#This Row],[Item SKU/ID]])*Net_Profit))","v":0},{"$f":"IFERROR(AVERAGE(Inventory[[#This Row],[Total Net Profit]]/Inventory[[#This Row],[Quantity Sold]]),0)","v":0}]
[null,null,null,null,null,null,null,null,0,0,0,null,null,null,0,{"$f":"IF(Inventory[[#This Row],[Item SKU/ID]]=\"\",0,SUMPRODUCT((Quantity_Sold_1=Inventory[[#This Row],[Item SKU/ID]])*Net_Profit))","v":0},{"$f":"IFERROR(AVERAGE(Inventory[[#This Row],[Total Net Profit]]/Inventory[[#This Row],[Quantity Sold]]),0)","v":0}]
[null,null,null,null,null,null,null,null,0,0,0,null,null,null,0,{"$f":"IF(Inventory[[#This Row],[Item SKU/ID]]=\"\",0,SUMPRODUCT((Quantity_Sold_1=Inventory[[#This Row],[Item SKU/ID]])*Net_Profit))","v":0},{"$f":"IFERROR(AVERAGE(Inventory[[#This Row],[Total Net Profit]]/Inventory[[#This Row],[Quantity Sold]]),0)","v":0}]
[null,null,null,null,null,null,null,null,0,0,0,null,null,null,0,{"$f":"IF(Inventory[[#This Row],[Item SKU/ID]]=\"\",0,SUMPRODUCT((Quantity_Sold_1=Inventory[[#This Row],[Item SKU/ID]])*Net_Profit))","v":0},{"$f":"IFERROR(AVERAGE(Inventory[[#This Row],[Total Net Profit]]/Inventory[[#This Row],[Quantity Sold]]),0)","v":0}]
[null,null,null,null,null,null,null,null,0,0,0,null,null,null,0,{"$f":"IF(Inventory[[#This Row],[Item SKU/ID]]=\"\",0,SUMPRODUCT((Quantity_Sold_1=Inventory[[#This Row],[Item SKU/ID]])*Net_Profit))","v":0},{"$f":"IFERROR(AVERAGE(Inventory[[#This Row],[Total Net Profit]]/Inventory[[#This Row],[Quantity Sold]]),0)","v":0}]
[null,null,null,null,null,null,null,null,0,0,0,null,null,null,0,{"$f":"IF(Inventory[[#This Row],[Item SKU/ID]]=\"\",0,SUMPRODUCT((Quantity_Sold_1=Inventory[[#This Row],[Item SKU/ID]])*Net_Profit))","v":0},{"$f":"IFERROR(AVERAGE(Inventory[[#This Row],[Total Net Profit]]/Inventory[[#This Row],[Quantity Sold]]),0)","v":0}]
[null,null,null,null,null,null,null,null,0,0,0,null,null,null,0,{"$f":"IF(Inventory[[#This Row],[Item SKU/ID]]=\"\",0,SUMPRODUCT((Quantity_Sold_1=Inventory[[#This Row],[Item SKU/ID]])*Net_Profit))","v":0},{"$f":"IFERROR(AVERAGE(Inventory[[#This Row],[Total Net Profit]]/Inventory[[#This Row],[Quantity Sold]]),0)","v":0}]
[null,null,null,null,null,null,null,null,0,0,0,null,null,null,0,{"$f":"IF(Inventory[[#This Row],[Item SKU/ID]]=\"\",0,SUMPRODUCT((Quantity_Sold_1=Inventory[[#This Row],[Item SKU/ID]])*Net_Profit))","v":0},{"$f":"IFERROR(AVERAGE(Inventory[[#This Row],[Total Net Profit]]/Inventory[[#This Row],[Quantity Sold]]),0)","v":0}]
[null,null,null,null,null,null,null,null,0,0,0,null,null,null,0,{"$f":"IF(Inventory[[#This Row],[Item SKU/ID]]=\"\",0,SUMPRODUCT((Quantity_Sold_1=Inventory[[#This Row],[Item SKU/ID]])*Net_Profit))","v":0},{"$f":"IFERROR(AVERAGE(Inventory[[#This Row],[Total Net Profit]]/Inventory[[#This Row],[Quantity Sold]]),0)","v":0}]
[null,null,null,null,null,null,null,null,0,0,0,null,null,null,0,{"$f":"IF(Inventory[[#This Row],[Item SKU/ID]]=\"\",0,SUMPRODUCT((Quantity_Sold_1=Inventory[[#This Row],[Item SKU/ID]])*Net_Profit))","v":0},{"$f":"IFERROR(AVERAGE(Inventory[[#This Row],[Total Net Profit]]/Inventory[[#This Row],[Quantity Sold]]),0)","v":0}]
[null,null,null,null,null,null,null,null,0,0,0,null,null,null,0,{"$f":"IF(Inventory[[#This Row],[Item SKU/ID]]=\"\",0,SUMPRODUCT((Quantity_Sold_1=Inventory[[#This Row],[Item SKU/ID]])*Net_Profit))","v":0},{"$f":"IFERROR(AVERAGE(Inventory[[#This Row],[Total Net Profit]]/Inventory[[#This Row],[Quantity Sold]]),0)","v":0}]
[null,null,null,null,null,null,null,null,0,0,0,null,null,null,0,{"$f":"IF(Inventory[[#This Row],[Item SKU/ID]]=\"\",0,SUMPRODUCT((Quantity_Sold_1=Inventory[[#This Row],[Item SKU/ID]])*Net_Profit))","v":0},{"$f":"IFERROR(AVERAGE(Inventory[[#This Row],[Total Net Profit]]/Inventory[[#This Row],[Quantity Sold]]),0)","v":0}]
[null,null,null,null,null,null,null,null,0,0,0,null,null,null,0,{"$f":"IF(Inventory[[#This Row],[Item SKU/ID]]=\"\",0,SUMPRODUCT((Quantity_Sold_1=Inventory[[#This Row],[Item SKU/ID]])*Net_Profit))","v":0},{"$f":"IFERROR(AVERAGE(Inventory[[#This Row],[Total Net Profit]]/Inventory[[#This Row],[Quantity Sold]]),0)","v":0}]
[null,null,null,null,null,null,null,null,0,0,0,null,null,null,0,{"$f":"IF(Inventory[[#This Row],[Item SKU/ID]]=\"\",0,SUMPRODUCT((Quantity_Sold_1=Inventory[[#This Row],[Item SKU/ID]])*Net_Profit))","v":0},{"$f":"IFERROR(AVERAGE(Inventory[[#This Row],[Total Net Profit]]/Inventory[[#This Row],[Quantity Sold]]),0)","v":0}]
[null,null,null,null,null,null,null,null,0,0,0,null,null,null,0,{"$f":"IF(Inventory[[#This Row],[Item SKU/ID]]=\"\",0,SUMPRODUCT((Quantity_Sold_1=Inventory[[#This Row],[Item SKU/ID]])*Net_Profit))","v":0},{"$f":"IFERROR(AVERAGE(Inventory[[#This Row],[Total Net Profit]]/Inventory[[#This Row],[Quantity Sold]]),0)","v":0}]
[null,null,null,null,null,null,null,null,0,0,0,null,null,null,0,{"$f":"IF(Inventory[[#This Row],[Item SKU/ID]]=\"\",0,SUMPRODUCT((Quantity_Sold_1=Inventory[[#This Row],[Item SKU/ID]])*Net_Profit))","v":0},{"$f":"IFERROR(AVERAGE(Inventory[[#This Row],[Total Net Profit]]/Inventory[[#This Row],[Quantity Sold]]),0)","v":0}]
[null,null,null,null,null,null,null,null,0,0,0,null,null,null,0,{"$f":"IF(Inventory[[#This Row],[Item SKU/ID]]=\"\",0,SUMPRODUCT((Quantity_Sold_1=Inventory[[#This Row],[Item SKU/ID]])*Net_Profit))","v":0},{"$f":"IFERROR(AVERAGE(Inventory[[#This Row],[Total Net Profit]]/Inventory[[#This Row],[Quantity Sold]]),0)","v":0}]
[null,null,null,null,null,null,null,null,0,0,0,null,null,null,0,{"$f":"IF(Inventory[[#This Row],[Item SKU/ID]]=\"\",0,SUMPRODUCT((Quantity_Sold_1=Inventory[[#This Row],[Item SKU/ID]])*Net_Profit))","v":0},{"$f":"IFERROR(AVERAGE(Inventory[[#This Row],[Total Net Profit]]/Inventory[[#This Row],[Quantity Sold]]),0)","v":0}]
[null,null,null,null,null,null,null,null,0,0,0,null,null,null,0,{"$f":"IF(Inventory[[#This Row],[Item SKU/ID]]=\"\",0,SUMPRODUCT((Quantity_Sold_1=Inventory[[#This Row],[Item SKU/ID]])*Net_Profit))","v":0},{"$f":"IFERROR(AVERAGE(Inventory[[#This Row],[Total Net Profit]]/Inventory[[#This Row],[Quantity Sold]]),0)","v":0}]
[null,null,null,null,null,null,null,null,0,0,0,null,null,null,0,{"$f":"IF(Inventory[[#This Row],[Item SKU/ID]]=\"\",0,SUMPRODUCT((Quantity_Sold_1=Inventory[[#This Row],[Item SKU/ID]])*Net_Profit))","v":0},{"$f":"IFERROR(AVERAGE(Inventory[[#This Row],[Total Net Profit]]/Inventory[[#This Row],[Quantity Sold]]),0)","v":0}]
[null,null,null,null,null,null,null,null,0,0,0,null,null,null,0,{"$f":"IF(Inventory[[#This Row],[Item SKU/ID]]=\"\",0,SUMPRODUCT((Quantity_Sold_1=Inventory[[#This Row],[Item SKU/ID]])*Net_Profit))","v":0},{"$f":"IFERROR(AVERAGE(Inventory[[#This Row],[Total Net Profit]]/Inventory[[#This Row],[Quantity Sold]]),0)","v":0}]
[null,null,null,null,null,null,null,null,0,0,0,null,null,null,0,{"$f":"IF(Inventory[[#This Row],[Item SKU/ID]]=\"\",0,SUMPRODUCT((Quantity_Sold_1=Inventory[[#This Row],[Item SKU/ID]])*Net_Profit))","v":0},{"$f":"IFERROR(AVERAGE(Inventory[[#This Row],[Total Net Profit]]/Inventory[[#This Row],[Quantity Sold]]),0)","v":0}]
[null,null,null,null,null,null,null,null,0,0,0,null,null,null,0,{"$f":"IF(Inventory[[#This Row],[Item SKU/ID]]=\"\",0,SUMPRODUCT((Quantity_Sold_1=Inventory[[#This Row],[Item SKU/ID]])*Net_Profit))","v":0},{"$f":"IFERROR(AVERAGE(Inventory[[#This Row],[Total Net Profit]]/Inventory[[#This Row],[Quantity Sold]]),0)","v":0}]
[null,null,null,null,null,null,null,null,0,0,0,null,null,null,0,{"$f":"IF(Inventory[[#This Row],[Item SKU/ID]]=\"\",0,SUMPRODUCT((Quantity_Sold_1=Inventory[[#This Row],[Item SKU/ID]])*Net_Profit))","v":0},{"$f":"IFERROR(AVERAGE(Inventory[[#This Row],[Total Net Profit]]/Inventory[[#This Row],[Quantity Sold]]),0)","v":0}]
[null,null,null,null,null,null,null,null,0,0,0,null,null,null,0,{"$f":"IF(Inventory[[#This Row],[Item SKU/ID]]=\"\",0,SUMPRODUCT((Quantity_Sold_1=Inventory[[#This Row],[Item SKU/ID]])*Net_Profit))","v":0},{"$f":"IFERROR(AVERAGE(Inventory[[#This Row],[Total Net Profit]]/Inventory[[#This Row],[Quantity Sold]]),0)","v":0}]
[null,null,null,null,null,null,null,null,0,0,0,null,null,null,0,{"$f":"IF(Inventory[[#This Row],[Item SKU/ID]]=\"\",0,SUMPRODUCT((Quantity_Sold_1=Inventory[[#This Row],[Item SKU/ID]])*Net_Profit))","v":0},{"$f":"IFERROR(AVERAGE(Inventory[[#This Row],[Total Net Profit]]/Inventory[[#This Row],[Quantity Sold]]),0)","v":0}]
[null,null,null,null,null,null,null,null,0,0,0,null,null,null,0,{"$f":"IF(Inventory[[#This Row],[Item SKU/ID]]=\"\",0,SUMPRODUCT((Quantity_Sold_1=Inventory[[#This Row],[Item SKU/ID]])*Net_Profit))","v":0},{"$f":"IFERROR(AVERAGE(Inventory[[#This Row],[Total Net Profit]]/Inventory[[#This Row],[Quantity Sold]]),0)","v":0}]
[null,null,null,null,null,null,null,null,0,0,0,null,null,null,0,{"$f":"IF(Inventory[[#This Row],[Item SKU/ID]]=\"\",0,SUMPRODUCT((Quantity_Sold_1=Inventory[[#This Row],[Item SKU/ID]])*Net_Profit))","v":0},{"$f":"IFERROR(AVERAGE(Inventory[[#This Row],[Total Net Profit]]/Inventory[[#This Row],[Quantity Sold]]),0)","v":0}]
[null,null,null,null,null,null,null,null,0,0,0,null,null,null,0,{"$f":"IF(Inventory[[#This Row],[Item SKU/ID]]=\"\",0,SUMPRODUCT((Quantity_Sold_1=Inventory[[#This Row],[Item SKU/ID]])*Net_Profit))","v":0},{"$f":"IFERROR(AVERAGE(Inventory[[#This Row],[Total Net Profit]]/Inventory[[#This Row],[Quantity Sold]]),0)","v":0}]
[null,null,null,null,null,null,null,null,0,0,0,null,null,null,0,{"$f":"IF(Inventory[[#This Row],[Item SKU/ID]]=\"\",0,SUMPRODUCT((Quantity_Sold_1=Inventory[[#This Row],[Item SKU/ID]])*Net_Profit))","v":0},{"$f":"IFERROR(AVERAGE(Inventory[[#This Row],[Total Net Profit]]/Inventory[[#This Row],[Quantity Sold]]),0)","v":0}]
[null,null,null,null,null,null,null,null,0,0,0,null,null,null,0,{"$f":"IF(Inventory[[#This Row],[Item SKU/ID]]=\"\",0,SUMPRODUCT((Quantity_Sold_1=Inventory[[#This Row],[Item SKU/ID]])*Net_Profit))","v":0},{"$f":"IFERROR(AVERAGE(Inventory[[#This Row],[Total Net Profit]]/Inventory[[#This Row],[Quantity Sold]]),0)","v":0}]
[null,null,null,null,null,null,null,null,0,0,0,null,null,null,0,{"$f":"IF(Inventory[[#This Row],[Item SKU/ID]]=\"\",0,SUMPRODUCT((Quantity_Sold_1=Inventory[[#This Row],[Item SKU/ID]])*Net_Profit))","v":0},{"$f":"IFERROR(AVERAGE(Inventory[[#This Row],[Total Net Profit]]/Inventory[[#This Row],[Quantity Sold]]),0)","v":0}]
[null,null,null,null,null,null,null,null,0,0,0,null,null,null,0,{"$f":"IF(Inventory[[#This Row],[Item SKU/ID]]=\"\",0,SUMPRODUCT((Quantity_Sold_1=Inventory[[#This Row],[Item SKU/ID]])*Net_Profit))","v":0},{"$f":"IFERROR(AVERAGE(Inventory[[#This Row],[Total Net Profit]]/Inventory[[#This Row],[Quantity Sold]]),0)","v":0}]
[null,null,null,null,null,null,null,null,0,0,0,null,null,null,0,{"$f":"IF(Inventory[[#This Row],[Item SKU/ID]]=\"\",0,SUMPRODUCT((Quantity_Sold_1=Inventory[[#This Row],[Item SKU/ID]])*Net_Profit))","v":0},{"$f":"IFERROR(AVERAGE(Inventory[[#This Row],[Total Net Profit]]/Inventory[[#This Row],[Quantity Sold]]),0)","v":0}]
[null,null,null,null,null,null,null,null,0,0,0,null,null,null,0,{"$f":"IF(Inventory[[#This Row],[Item SKU/ID]]=\"\",0,SUMPRODUCT((Quantity_Sold_1=Inventory[[#This Row],[Item SKU/ID]])*Net_Profit))","v":0},{"$f":"IFERROR(AVERAGE(Inventory[[#This Row],[Total Net Profit]]/Inventory[[#This Row],[Quantity Sold]]),0)","v":0}]
[null,null,null,null,null,null,null,null,0,0,0,null,null,null,0,{"$f":"IF(Inventory[[#This Row],[Item SKU/ID]]=\"\",0,SUMPRODUCT((Quantity_Sold_1=Inventory[[#This Row],[Item SKU/ID]])*Net_Profit))","v":0},{"$f":"IFERROR(AVERAGE(Inventory[[#This Row],[Total Net Profit]]/Inventory[[#This Row],[Quantity Sold]]),0)","v":0}]
[null,null,null,null,null,null,null,null,0,0,0,null,null,null,0,{"$f":"IF(Inventory[[#This Row],[Item SKU/ID]]=\"\",0,SUMPRODUCT((Quantity_Sold_1=Inventory[[#This Row],[Item SKU/ID]])*Net_Profit))","v":0},{"$f":"IFERROR(AVERAGE(Inventory[[#This Row],[Total Net Profit]]/Inventory[[#This Row],[Quantity Sold]]),0)","v":0}]
[null,null,null,null,null,null,null,null,0,0,0,null,null,null,0,{"$f":"IF(Inventory[[#This Row],[Item SKU/ID]]=\"\",0,SUMPRODUCT((Quantity_Sold_1=Inventory[[#This Row],[Item SKU/ID]])*Net_Profit))","v":0},{"$f":"IFERROR(AVERAGE(Inventory[[#This Row],[Total Net Profit]]/Inventory[[#This Row],[Quantity Sold]]),0)","v":0}]
[null,null,null,null,null,null,null,null,0,0,0,null,null,null,0,{"$f":"IF(Inventory[[#This Row],[Item SKU/ID]]=\"\",0,SUMPRODUCT((Quantity_Sold_1=Inventory[[#This Row],[Item SKU/ID]])*Net_Profit))","v":0},{"$f":"IFERROR(AVERAGE(Inventory[[#This Row],[Total Net Profit]]/Inventory[[#This Row],[Quantity Sold]]),0)","v":0}]
[null,null,null,null,null,null,null,null,0,0,0,null,null,null,0,{"$f":"IF(Inventory[[#This Row],[Item SKU/ID]]=\"\",0,SUMPRODUCT((Quantity_Sold_1=Inventory[[#This Row],[Item SKU/ID]])*Net_Profit))","v":0},{"$f":"IFERROR(AVERAGE(Inventory[[#This Row],[Total Net Profit]]/Inventory[[#This Row],[Quantity Sold]]),0)","v":0}]
[null,null,null,null,null,null,null,null,0,0,0,null,null,null,0,{"$f":"IF(Inventory[[#This Row],[Item SKU/ID]]=\"\",0,SUMPRODUCT((Quantity_Sold_1=Inventory[[#This Row],[Item SKU/ID]])*Net_Profit))","v":0},{"$f":"IFERROR(AVERAGE(Inventory[[#This Row],[Total Net Profit]]/Inventory[[#This Row],[Quantity Sold]]),0)","v":0}]
[null,null,null,null,null,null,null,null,0,0,0,null,null,null,0,{"$f":"IF(Inventory[[#This Row],[Item SKU/ID]]=\"\",0,SUMPRODUCT((Quantity_Sold_1=Inventory[[#This Row],[Item SKU/ID]])*Net_Profit))","v":0},{"$f":"IFERROR(AVERAGE(Inventory[[#This Row],[Total Net Profit]]/Inventory[[#This Row],[Quantity Sold]]),0)","v":0}]
[null,null,null,null,null,null,null,null,0,0,0,null,null,null,0,{"$f":"IF(Inventory[[#This Row],[Item SKU/ID]]=\"\",0,SUMPRODUCT((Quantity_Sold_1=Inventory[[#This Row],[Item SKU/ID]])*Net_Profit))","v":0},{"$f":"IFERROR(AVERAGE(Inventory[[#This Row],[Total Net Profit]]/Inventory[[#This Row],[Quantity Sold]]),0)","v":0}]
[null,null,null,null,null,null,null,null,0,0,0,null,null,null,0,{"$f":"IF(Inventory[[#This Row],[Item SKU/ID]]=\"\",0,SUMPRODUCT((Quantity_Sold_1=Inventory[[#This Row],[Item SKU/ID]])*Net_Profit))","v":0},{"$f":"IFERROR(AVERAGE(Inventory[[#This Row],[Total Net Profit]]/Inventory[[#This Row],[Quantity Sold]]),0)","v":0}]
[null,null,null,null,null,null,null,null,0,0,0,null,null,null,0,{"$f":"IF(Inventory[[#This Row],[Item SKU/ID]]=\"\",0,SUMPRODUCT((Quantity_Sold_1=Inventory[[#This Row],[Item SKU/ID]])*Net_Profit))","v":0},{"$f":"IFERROR(AVERAGE(Inventory[[#This Row],[Total Net Profit]]/Inventory[[#This Row],[Quantity Sold]]),0)","v":0}]
[null,null,null,null,null,null,null,null,0,0,0,null,null,null,0,{"$f":"IF(Inventory[[#This Row],[Item SKU/ID]]=\"\",0,SUMPRODUCT((Quantity_Sold_1=Inventory[[#This Row],[Item SKU/ID]])*Net_Profit))","v":0},{"$f":"IFERROR(AVERAGE(Inventory[[#This Row],[Total Net Profit]]/Inventory[[#This Row],[Quantity Sold]]),0)","v":0}]
[null,null,null,null,null,null,null,null,0,0,0,null,null,null,0,{"$f":"IF(Inventory[[#This Row],[Item SKU/ID]]=\"\",0,SUMPRODUCT((Quantity_Sold_1=Inventory[[#This Row],[Item SKU/ID]])*Net_Profit))","v":0},{"$f":"IFERROR(AVERAGE(Inventory[[#This Row],[Total Net Profit]]/Inventory[[#This Row],[Quantity Sold]]),0)","v":0}]
[null,null,null,null,null,null,null,null,0,0,0,null,null,null,0,{"$f":"IF(Inventory[[#This Row],[Item SKU/ID]]=\"\",0,SUMPRODUCT((Quantity_Sold_1=Inventory[[#This Row],[Item SKU/ID]])*Net_Profit))","v":0},{"$f":"IFERROR(AVERAGE(Inventory[[#This Row],[Total Net Profit]]/Inventory[[#This Row],[Quantity Sold]]),0)","v":0}]
[null,null,null,null,null,null,null,null,0,0,0,null,null,null,0,{"$f":"IF(Inventory[[#This Row],[Item SKU/ID]]=\"\",0,SUMPRODUCT((Quantity_Sold_1=Inventory[[#This Row],[Item SKU/ID]])*Net_Profit))","v":0},{"$f":"IFERROR(AVERAGE(Inventory[[#This Row],[Total Net Profit]]/Inventory[[#This Row],[Quantity Sold]]),0)","v":0}]
[null,null,null,null,null,null,null,null,0,0,0,null,null,null,0,{"$f":"IF(Inventory[[#This Row],[Item SKU/ID]]=\"\",0,SUMPRODUCT((Quantity_Sold_1=Inventory[[#This Row],[Item SKU/ID]])*Net_Profit))","v":0},{"$f":"IFERROR(AVERAGE(Inventory[[#This Row],[Total Net Profit]]/Inventory[[#This Row],[Quantity Sold]]),0)","v":0}]
[null,null,null,null,null,null,null,null,0,0,0,null,null,null,0,{"$f":"IF(Inventory[[#This Row],[Item SKU/ID]]=\"\",0,SUMPRODUCT((Quantity_Sold_1=Inventory[[#This Row],[Item SKU/ID]])*Net_Profit))","v":0},{"$f":"IFERROR(AVERAGE(Inventory[[#This Row],[Total Net Profit]]/Inventory[[#This Row],[Quantity Sold]]),0)","v":0}]
[null,null,null,null,null,null,null,null,0,0,0,null,null,null,0,{"$f":"IF(Inventory[[#This Row],[Item SKU/ID]]=\"\",0,SUMPRODUCT((Quantity_Sold_1=Inventory[[#This Row],[Item SKU/ID]])*Net_Profit))","v":0},{"$f":"IFERROR(AVERAGE(Inventory[[#This Row],[Total Net Profit]]/Inventory[[#This Row],[Quantity Sold]]),0)","v":0}]
[null,null,null,null,null,null,null,null,0,0,0,null,null,null,0,{"$f":"IF(Inventory[[#This Row],[Item SKU/ID]]=\"\",0,SUMPRODUCT((Quantity_Sold_1=Inventory[[#This Row],[Item SKU/ID]])*Net_Profit))","v":0},{"$f":"IFERROR(AVERAGE(Inventory[[#This Row],[Total Net Profit]]/Inventory[[#This Row],[Quantity Sold]]),0)","v":0}]
[null,null,null,null,null,null,null,null,0,0,0,null,null,null,0,{"$f":"IF(Inventory[[#This Row],[Item SKU/ID]]=\"\",0,SUMPRODUCT((Quantity_Sold_1=Inventory[[#This Row],[Item SKU/ID]])*Net_Profit))","v":0},{"$f":"IFERROR(AVERAGE(Inventory[[#This Row],[Total Net Profit]]/Inventory[[#This Row],[Quantity Sold]]),0)","v":0}]
[null,null,null,null,null,null,null,null,0,0,0,null,null,null,0,{"$f":"IF(Inventory[[#This Row],[Item SKU/ID]]=\"\",0,SUMPRODUCT((Quantity_Sold_1=Inventory[[#This Row],[Item SKU/ID]])*Net_Profit))","v":0},{"$f":"IFERROR(AVERAGE(Inventory[[#This Row],[Total Net Profit]]/Inventory[[#This Row],[Quantity Sold]]),0)","v":0}]
[null,null,null,null,null,null,null,null,{"$f":"K1156*H1156","v":0},{"$f":"IF(F1156=\"\",0,SUMPRODUCT((Quantity_Sold_1=F1156)*Quantity_Sold_2))","v":0},{"$f":"G1156-J1156","v":0},null,null,null,{"$f":"K1156*H1156","v":0},{"$f":"IF(Inventory[[#This Row],[Item SKU/ID]]=\"\",0,SUMPRODUCT((Quantity_Sold_1=Inventory[[#This Row],[Item SKU/ID]])*Net_Profit))","v":0},{"$f":"IFERROR(AVERAGE(Inventory[[#This Row],[Total Net Profit]]/Inventory[[#This Row],[Quantity Sold]]),0)","v":0}]
[null,null,null,null,null,null,null,null,0,0,0,null,null,null,0,{"$f":"IF(Inventory[[#This Row],[Item SKU/ID]]=\"\",0,SUMPRODUCT((Quantity_Sold_1=Inventory[[#This Row],[Item SKU/ID]])*Net_Profit))","v":0},{"$f":"IFERROR(AVERAGE(Inventory[[#This Row],[Total Net Profit]]/Inventory[[#This Row],[Quantity Sold]]),0)","v":0}]
[null,null,null,null,null,null,null,null,0,0,0,null,null,null,0,{"$f":"IF(Inventory[[#This Row],[Item SKU/ID]]=\"\",0,SUMPRODUCT((Quantity_Sold_1=Inventory[[#This Row],[Item SKU/ID]])*Net_Profit))","v":0},{"$f":"IFERROR(AVERAGE(Inventory[[#This Row],[Total Net Profit]]/Inventory[[#This Row],[Quantity Sold]]),0)","v":0}]
[null,null,null,null,null,null,null,null,0,0,0,null,null,null,0,{"$f":"IF(Inventory[[#This Row],[Item SKU/ID]]=\"\",0,SUMPRODUCT((Quantity_Sold_1=Inventory[[#This Row],[Item SKU/ID]])*Net_Profit))","v":0},{"$f":"IFERROR(AVERAGE(Inventory[[#This Row],[Total Net Profit]]/Inventory[[#This Row],[Quantity Sold]]),0)","v":0}]
[null,null,null,null,null,null,null,null,0,0,0,null,null,null,0,{"$f":"IF(Inventory[[#This Row],[Item SKU/ID]]=\"\",0,SUMPRODUCT((Quantity_Sold_1=Inventory[[#This Row],[Item SKU/ID]])*Net_Profit))","v":0},{"$f":"IFERROR(AVERAGE(Inventory[[#This Row],[Total Net Profit]]/Inventory[[#This Row],[Quantity Sold]]),0)","v":0}]
[null,null,null,null,null,null,null,null,0,0,0,null,null,null,0,{"$f":"IF(Inventory[[#This Row],[Item SKU/ID]]=\"\",0,SUMPRODUCT((Quantity_Sold_1=Inventory[[#This Row],[Item SKU/ID]])*Net_Profit))","v":0},{"$f":"IFERROR(AVERAGE(Inventory[[#This Row],[Total Net Profit]]/Inventory[[#This Row],[Quantity Sold]]),0)","v":0}]
[null,null,null,null,null,null,null,null,0,0,0,null,null,null,0,{"$f":"IF(Inventory[[#This Row],[Item SKU/ID]]=\"\",0,SUMPRODUCT((Quantity_Sold_1=Inventory[[#This Row],[Item SKU/ID]])*Net_Profit))","v":0},{"$f":"IFERROR(AVERAGE(Inventory[[#This Row],[Total Net Profit]]/Inventory[[#This Row],[Quantity Sold]]),0)","v":0}]
[null,null,null,null,null,null,null,null,0,0,0,null,null,null,0,{"$f":"IF(Inventory[[#This Row],[Item SKU/ID]]=\"\",0,SUMPRODUCT((Quantity_Sold_1=Inventory[[#This Row],[Item SKU/ID]])*Net_Profit))","v":0},{"$f":"IFERROR(AVERAGE(Inventory[[#This Row],[Total Net Profit]]/Inventory[[#This Row],[Quantity Sold]]),0)","v":0}]
[null,null,null,null,null,null,null,null,0,0,0,null,null,null,0,{"$f":"IF(Inventory[[#This Row],[Item SKU/ID]]=\"\",0,SUMPRODUCT((Quantity_Sold_1=Inventory[[#This Row],[Item SKU/ID]])*Net_Profit))","v":0},{"$f":"IFERROR(AVERAGE(Inventory[[#This Row],[Total Net Profit]]/Inventory[[#This Row],[Quantity Sold]]),0)","v":0}]
[null,null,null,null,null,null,null,null,0,0,0,null,null,null,0,{"$f":"IF(Inventory[[#This Row],[Item SKU/ID]]=\"\",0,SUMPRODUCT((Quantity_Sold_1=Inventory[[#This Row],[Item SKU/ID]])*Net_Profit))","v":0},{"$f":"IFERROR(AVERAGE(Inventory[[#This Row],[Total Net Profit]]/Inventory[[#This Row],[Quantity Sold]]),0)","v":0}]
[null,null,null,null,null,null,null,null,0,0,0,null,null,null,0,{"$f":"IF(Inventory[[#This Row],[Item SKU/ID]]=\"\",0,SUMPRODUCT((Quantity_Sold_1=Inventory[[#This Row],[Item SKU/ID]])*Net_Profit))","v":0},{"$f":"IFERROR(AVERAGE(Inventory[[#This Row],[Total Net Profit]]/Inventory[[#This Row],[Quantity Sold]]),0)","v":0}]
[null,null,null,null,null,null,null,null,0,0,0,null,null,null,0,{"$f":"IF(Inventory[[#This Row],[Item SKU/ID]]=\"\",0,SUMPRODUCT((Quantity_Sold_1=Inventory[[#This Row],[Item SKU/ID]])*Net_Profit))","v":0},{"$f":"IFERROR(AVERAGE(Inventory[[#This Row],[Total Net Profit]]/Inventory[[#This Row],[Quantity Sold]]),0)","v":0}]
[null,null,null,null,null,null,null,null,0,0,0,null,null,null,0,{"$f":"IF(Inventory[[#This Row],[Item SKU/ID]]=\"\",0,SUMPRODUCT((Quantity_Sold_1=Inventory[[#This Row],[Item SKU/ID]])*Net_Profit))","v":0},{"$f":"IFERROR(AVERAGE(Inventory[[#This Row],[Total Net Profit]]/Inventory[[#This Row],[Quantity Sold]]),0)","v":0}]
[null,null,null,null,null,null,null,null,0,0,0,null,null,null,0,{"$f":"IF(Inventory[[#This Row],[Item SKU/ID]]=\"\",0,SUMPRODUCT((Quantity_Sold_1=Inventory[[#This Row],[Item SKU/ID]])*Net_Profit))","v":0},{"$f":"IFERROR(AVERAGE(Inventory[[#This Row],[Total Net Profit]]/Inventory[[#This Row],[Quantity Sold]]),0)","v":0}]
[null,null,null,null,null,null,null,null,0,0,0,null,null,null,0,{"$f":"IF(Inventory[[#This Row],[Item SKU/ID]]=\"\",0,SUMPRODUCT((Quantity_Sold_1=Inventory[[#This Row],[Item SKU/ID]])*Net_Profit))","v":0},{"$f":"IFERROR(AVERAGE(Inventory[[#This Row],[Total Net Profit]]/Inventory[[#This Row],[Quantity Sold]]),0)","v":0}]
[null,null,null,null,null,null,null,null,0,0,0,null,null,null,0,{"$f":"IF(Inventory[[#This Row],[Item SKU/ID]]=\"\",0,SUMPRODUCT((Quantity_Sold_1=Inventory[[#This Row],[Item SKU/ID]])*Net_Profit))","v":0},{"$f":"IFERROR(AVERAGE(Inventory[[#This Row],[Total Net Profit]]/Inventory[[#This Row],[Quantity Sold]]),0)","v":0}]
[null,null,null,null,null,null,null,null,0,0,0,null,null,null,0,{"$f":"IF(Inventory[[#This Row],[Item SKU/ID]]=\"\",0,SUMPRODUCT((Quantity_Sold_1=Inventory[[#This Row],[Item SKU/ID]])*Net_Profit))","v":0},{"$f":"IFERROR(AVERAGE(Inventory[[#This Row],[Total Net Profit]]/Inventory[[#This Row],[Quantity Sold]]),0)","v":0}]
[null,null,null,null,null,null,null,null,0,0,0,null,null,null,0,{"$f":"IF(Inventory[[#This Row],[Item SKU/ID]]=\"\",0,SUMPRODUCT((Quantity_Sold_1=Inventory[[#This Row],[Item SKU/ID]])*Net_Profit))","v":0},{"$f":"IFERROR(AVERAGE(Inventory[[#This Row],[Total Net Profit]]/Inventory[[#This Row],[Quantity Sold]]),0)","v":0}]
[null,null,null,null,null,null,null,null,0,0,0,null,null,null,0,{"$f":"IF(Inventory[[#This Row],[Item SKU/ID]]=\"\",0,SUMPRODUCT((Quantity_Sold_1=Inventory[[#This Row],[Item SKU/ID]])*Net_Profit))","v":0},{"$f":"IFERROR(AVERAGE(Inventory[[#This Row],[Total Net Profit]]/Inventory[[#This Row],[Quantity Sold]]),0)","v":0}]
[null,null,null,null,null,null,null,null,0,0,0,null,null,null,0,{"$f":"IF(Inventory[[#This Row],[Item SKU/ID]]=\"\",0,SUMPRODUCT((Quantity_Sold_1=Inventory[[#This Row],[Item SKU/ID]])*Net_Profit))","v":0},{"$f":"IFERROR(AVERAGE(Inventory[[#This Row],[Total Net Profit]]/Inventory[[#This Row],[Quantity Sold]]),0)","v":0}]
[null,null,null,null,null,null,null,null,0,0,0,null,null,null,0,{"$f":"IF(Inventory[[#This Row],[Item SKU/ID]]=\"\",0,SUMPRODUCT((Quantity_Sold_1=Inventory[[#This Row],[Item SKU/ID]])*Net_Profit))","v":0},{"$f":"IFERROR(AVERAGE(Inventory[[#This Row],[Total Net Profit]]/Inventory[[#This Row],[Quantity Sold]]),0)","v":0}]
[null,null,null,null,null,null,null,null,0,0,0,null,null,null,0,{"$f":"IF(Inventory[[#This Row],[Item SKU/ID]]=\"\",0,SUMPRODUCT((Quantity_Sold_1=Inventory[[#This Row],[Item SKU/ID]])*Net_Profit))","v":0},{"$f":"IFERROR(AVERAGE(Inventory[[#This Row],[Total Net Profit]]/Inventory[[#This Row],[Quantity Sold]]),0)","v":0}]
[null,null,null,null,null,null,null,null,0,0,0,null,null,null,0,{"$f":"IF(Inventory[[#This Row],[Item SKU/ID]]=\"\",0,SUMPRODUCT((Quantity_Sold_1=Inventory[[#This Row],[Item SKU/ID]])*Net_Profit))","v":0},{"$f":"IFERROR(AVERAGE(Inventory[[#This Row],[Total Net Profit]]/Inventory[[#This Row],[Quantity Sold]]),0)","v":0}]
[null,null,null,null,null,null,null,null,0,0,0,null,null,null,0,{"$f":"IF(Inventory[[#This Row],[Item SKU/ID]]=\"\",0,SUMPRODUCT((Quantity_Sold_1=Inventory[[#This Row],[Item SKU/ID]])*Net_Profit))","v":0},{"$f":"IFERROR(AVERAGE(Inventory[[#This Row],[Total Net Profit]]/Inventory[[#This Row],[Quantity Sold]]),0)","v":0}]
[null,null,null,null,null,null,null,null,0,0,0,null,null,null,0,{"$f":"IF(Inventory[[#This Row],[Item SKU/ID]]=\"\",0,SUMPRODUCT((Quantity_Sold_1=Inventory[[#This Row],[Item SKU/ID]])*Net_Profit))","v":0},{"$f":"IFERROR(AVERAGE(Inventory[[#This Row],[Total Net Profit]]/Inventory[[#This Row],[Quantity Sold]]),0)","v":0}]
[null,null,null,null,null,null,null,null,0,0,0,null,null,null,0,{"$f":"IF(Inventory[[#This Row],[Item SKU/ID]]=\"\",0,SUMPRODUCT((Quantity_Sold_1=Inventory[[#This Row],[Item SKU/ID]])*Net_Profit))","v":0},{"$f":"IFERROR(AVERAGE(Inventory[[#This Row],[Total Net Profit]]/Inventory[[#This Row],[Quantity Sold]]),0)","v":0}]
[null,null,null,null,null,null,null,null,0,0,0,null,null,null,0,{"$f":"IF(Inventory[[#This Row],[Item SKU/ID]]=\"\",0,SUMPRODUCT((Quantity_Sold_1=Inventory[[#This Row],[Item SKU/ID]])*Net_Profit))","v":0},{"$f":"IFERROR(AVERAGE(Inventory[[#This Row],[Total Net Profit]]/Inventory[[#This Row],[Quantity Sold]]),0)","v":0}]
[null,null,null,null,null,null,null,null,0,0,0,null,null,null,0,{"$f":"IF(Inventory[[#This Row],[Item SKU/ID]]=\"\",0,SUMPRODUCT((Quantity_Sold_1=Inventory[[#This Row],[Item SKU/ID]])*Net_Profit))","v":0},{"$f":"IFERROR(AVERAGE(Inventory[[#This Row],[Total Net Profit]]/Inventory[[#This Row],[Quantity Sold]]),0)","v":0}]
[null,null,null,null,null,null,null,null,0,0,0,null,null,null,0,{"$f":"IF(Inventory[[#This Row],[Item SKU/ID]]=\"\",0,SUMPRODUCT((Quantity_Sold_1=Inventory[[#This Row],[Item SKU/ID]])*Net_Profit))","v":0},{"$f":"IFERROR(AVERAGE(Inventory[[#This Row],[Total Net Profit]]/Inventory[[#This Row],[Quantity Sold]]),0)","v":0}]
[null,null,null,null,null,null,null,null,0,0,0,null,null,null,0,{"$f":"IF(Inventory[[#This Row],[Item SKU/ID]]=\"\",0,SUMPRODUCT((Quantity_Sold_1=Inventory[[#This Row],[Item SKU/ID]])*Net_Profit))","v":0},{"$f":"IFERROR(AVERAGE(Inventory[[#This Row],[Total Net Profit]]/Inventory[[#This Row],[Quantity Sold]]),0)","v":0}]
[null,null,null,null,null,null,null,null,0,0,0,null,null,null,0,{"$f":"IF(Inventory[[#This Row],[Item SKU/ID]]=\"\",0,SUMPRODUCT((Quantity_Sold_1=Inventory[[#This Row],[Item SKU/ID]])*Net_Profit))","v":0},{"$f":"IFERROR(AVERAGE(Inventory[[#This Row],[Total Net Profit]]/Inventory[[#This Row],[Quantity Sold]]),0)","v":0}]
[null,null,null,null,null,null,null,null,0,0,0,null,null,null,0,{"$f":"IF(Inventory[[#This Row],[Item SKU/ID]]=\"\",0,SUMPRODUCT((Quantity_Sold_1=Inventory[[#This Row],[Item SKU/ID]])*Net_Profit))","v":0},{"$f":"IFERROR(AVERAGE(Inventory[[#This Row],[Total Net Profit]]/Inventory[[#This Row],[Quantity Sold]]),0)","v":0}]
[null,null,null,null,null,null,null,null,0,0,0,null,null,null,0,{"$f":"IF(Inventory[[#This Row],[Item SKU/ID]]=\"\",0,SUMPRODUCT((Quantity_Sold_1=Inventory[[#This Row],[Item SKU/ID]])*Net_Profit))","v":0},{"$f":"IFERROR(AVERAGE(Inventory[[#This Row],[Total Net Profit]]/Inventory[[#This Row],[Quantity Sold]]),0)","v":0}]
[null,null,null,null,null,null,null,null,0,0,0,null,null,null,0,{"$f":"IF(Inventory[[#This Row],[Item SKU/ID]]=\"\",0,SUMPRODUCT((Quantity_Sold_1=Inventory[[#This Row],[Item SKU/ID]])*Net_Profit))","v":0},{"$f":"IFERROR(AVERAGE(Inventory[[#This Row],[Total Net Profit]]/Inventory[[#This Row],[Quantity Sold]]),0)","v":0}]
[null,null,null,null,null,null,null,null,0,0,0,null,null,null,0,{"$f":"IF(Inventory[[#This Row],[Item SKU/ID]]=\"\",0,SUMPRODUCT((Quantity_Sold_1=Inventory[[#This Row],[Item SKU/ID]])*Net_Profit))","v":0},{"$f":"IFERROR(AVERAGE(Inventory[[#This Row],[Total Net Profit]]/Inventory[[#This Row],[Quantity Sold]]),0)","v":0}]
[null,null,null,null,null,null,null,null,0,0,0,null,null,null,0,{"$f":"IF(Inventory[[#This Row],[Item SKU/ID]]=\"\",0,SUMPRODUCT((Quantity_Sold_1=Inventory[[#This Row],[Item SKU/ID]])*Net_Profit))","v":0},{"$f":"IFERROR(AVERAGE(Inventory[[#This Row],[Total Net Profit]]/Inventory[[#This Row],[Quantity Sold]]),0)","v":0}]
[null,null,null,null,null,null,null,null,0,0,0,null,null,null,0,{"$f":"IF(Inventory[[#This Row],[Item SKU/ID]]=\"\",0,SUMPRODUCT((Quantity_Sold_1=Inventory[[#This Row],[Item SKU/ID]])*Net_Profit))","v":0},{"$f":"IFERROR(AVERAGE(Inventory[[#This Row],[Total Net Profit]]/Inventory[[#This Row],[Quantity Sold]]),0)","v":0}]
[null,null,null,null,null,null,null,null,0,0,0,null,null,null,0,{"$f":"IF(Inventory[[#This Row],[Item SKU/ID]]=\"\",0,SUMPRODUCT((Quantity_Sold_1=Inventory[[#This Row],[Item SKU/ID]])*Net_Profit))","v":0},{"$f":"IFERROR(AVERAGE(Inventory[[#This Row],[Total Net Profit]]/Inventory[[#This Row],[Quantity Sold]]),0)","v":0}]
[null,null,null,null,null,null,null,null,0,0,0,null,null,null,0,{"$f":"IF(Inventory[[#This Row],[Item SKU/ID]]=\"\",0,SUMPRODUCT((Quantity_Sold_1=Inventory[[#This Row],[Item SKU/ID]])*Net_Profit))","v":0},{"$f":"IFERROR(AVERAGE(Inventory[[#This Row],[Total Net Profit]]/Inventory[[#This Row],[Quantity Sold]]),0)","v":0}]
[null,null,null,null,null,null,null,null,0,0,0,null,null,null,0,{"$f":"IF(Inventory[[#This Row],[Item SKU/ID]]=\"\",0,SUMPRODUCT((Quantity_Sold_1=Inventory[[#This Row],[Item SKU/ID]])*Net_Profit))","v":0},{"$f":"IFERROR(AVERAGE(Inventory[[#This Row],[Total Net Profit]]/Inventory[[#This Row],[Quantity Sold]]),0)","v":0}]
[null,null,null,null,null,null,null,null,0,0,0,null,null,null,0,{"$f":"IF(Inventory[[#This Row],[Item SKU/ID]]=\"\",0,SUMPRODUCT((Quantity_Sold_1=Inventory[[#This Row],[Item SKU/ID]])*Net_Profit))","v":0},{"$f":"IFERROR(AVERAGE(Inventory[[#This Row],[Total Net Profit]]/Inventory[[#This Row],[Quantity Sold]]),0)","v":0}]
[null,null,null,null,null,null,null,null,0,0,0,null,null,null,0,{"$f":"IF(Inventory[[#This Row],[Item SKU/ID]]=\"\",0,SUMPRODUCT((Quantity_Sold_1=Inventory[[#This Row],[Item SKU/ID]])*Net_Profit))","v":0},{"$f":"IFERROR(AVERAGE(Inventory[[#This Row],[Total Net Profit]]/Inventory[[#This Row],[Quantity Sold]]),0)","v":0}]
[null,null,null,null,null,null,null,null,0,0,0,null,null,null,0,{"$f":"IF(Inventory[[#This Row],[Item SKU/ID]]=\"\",0,SUMPRODUCT((Quantity_Sold_1=Inventory[[#This Row],[Item SKU/ID]])*Net_Profit))","v":0},{"$f":"IFERROR(AVERAGE(Inventory[[#This Row],[Total Net Profit]]/Inventory[[#This Row],[Quantity Sold]]),0)","v":0}]
[null,null,null,null,null,null,null,null,0,0,0,null,null,null,0,{"$f":"IF(Inventory[[#This Row],[Item SKU/ID]]=\"\",0,SUMPRODUCT((Quantity_Sold_1=Inventory[[#This Row],[Item SKU/ID]])*Net_Profit))","v":0},{"$f":"IFERROR(AVERAGE(Inventory[[#This Row],[Total Net Profit]]/Inventory[[#This Row],[Quantity Sold]]),0)","v":0}]
[null,null,null,null,null,null,null,null,0,0,0,null,null,null,0,{"$f":"IF(Inventory[[#This Row],[Item SKU/ID]]=\"\",0,SUMPRODUCT((Quantity_Sold_1=Inventory[[#This Row],[Item SKU/ID]])*Net_Profit))","v":0},{"$f":"IFERROR(AVERAGE(Inventory[[#This Row],[Total Net Profit]]/Inventory[[#This Row],[Quantity Sold]]),0)","v":0}]
[null,null,null,null,null,null,null,null,0,0,0,null,null,null,0,{"$f":"IF(Inventory[[#This Row],[Item SKU/ID]]=\"\",0,SUMPRODUCT((Quantity_Sold_1=Inventory[[#This Row],[Item SKU/ID]])*Net_Profit))","v":0},{"$f":"IFERROR(AVERAGE(Inventory[[#This Row],[Total Net Profit]]/Inventory[[#This Row],[Quantity Sold]]),0)","v":0}]
[null,null,null,null,null,null,null,null,0,0,0,null,null,null,0,{"$f":"IF(Inventory[[#This Row],[Item SKU/ID]]=\"\",0,SUMPRODUCT((Quantity_Sold_1=Inventory[[#This Row],[Item SKU/ID]])*Net_Profit))","v":0},{"$f":"IFERROR(AVERAGE(Inventory[[#This Row],[Total Net Profit]]/Inventory[[#This Row],[Quantity Sold]]),0)","v":0}]
[null,null,null,null,null,null,null,null,0,0,0,null,null,null,0,{"$f":"IF(Inventory[[#This Row],[Item SKU/ID]]=\"\",0,SUMPRODUCT((Quantity_Sold_1=Inventory[[#This Row],[Item SKU/ID]])*Net_Profit))","v":0},{"$f":"IFERROR(AVERAGE(Inventory[[#This Row],[Total Net Profit]]/Inventory[[#This Row],[Quantity Sold]]),0)","v":0}]
[null,null,null,null,null,null,null,null,0,0,0,null,null,null,0,{"$f":"IF(Inventory[[#This Row],[Item SKU/ID]]=\"\",0,SUMPRODUCT((Quantity_Sold_1=Inventory[[#This Row],[Item SKU/ID]])*Net_Profit))","v":0},{"$f":"IFERROR(AVERAGE(Inventory[[#This Row],[Total Net Profit]]/Inventory[[#This Row],[Quantity Sold]]),0)","v":0}]
[null,null,null,null,null,null,null,null,0,0,0,null,null,null,0,{"$f":"IF(Inventory[[#This Row],[Item SKU/ID]]=\"\",0,SUMPRODUCT((Quantity_Sold_1=Inventory[[#This Row],[Item SKU/ID]])*Net_Profit))","v":0},{"$f":"IFERROR(AVERAGE(Inventory[[#This Row],[Total Net Profit]]/Inventory[[#This Row],[Quantity Sold]]),0)","v":0}]
[null,null,null,null,null,null,null,null,0,0,0,null,null,null,0,{"$f":"IF(Inventory[[#This Row],[Item SKU/ID]]=\"\",0,SUMPRODUCT((Quantity_Sold_1=Inventory[[#This Row],[Item SKU/ID]])*Net_Profit))","v":0},{"$f":"IFERROR(AVERAGE(Inventory[[#This Row],[Total Net Profit]]/Inventory[[#This Row],[Quantity Sold]]),0)","v":0}]
[null,null,null,null,null,null,null,null,0,0,0,null,null,null,0,{"$f":"IF(Inventory[[#This Row],[Item SKU/ID]]=\"\",0,SUMPRODUCT((Quantity_Sold_1=Inventory[[#This Row],[Item SKU/ID]])*Net_Profit))","v":0},{"$f":"IFERROR(AVERAGE(Inventory[[#This Row],[Total Net Profit]]/Inventory[[#This Row],[Quantity Sold]]),0)","v":0}]
[null,null,null,null,null,null,null,null,0,0,0,null,null,null,0,{"$f":"IF(Inventory[[#This Row],[Item SKU/ID]]=\"\",0,SUMPRODUCT((Quantity_Sold_1=Inventory[[#This Row],[Item SKU/ID]])*Net_Profit))","v":0},{"$f":"IFERROR(AVERAGE(Inventory[[#This Row],[Total Net Profit]]/Inventory[[#This Row],[Quantity Sold]]),0)","v":0}]
[null,null,null,null,null,null,null,null,0,0,0,null,null,null,0,{"$f":"IF(Inventory[[#This Row],[Item SKU/ID]]=\"\",0,SUMPRODUCT((Quantity_Sold_1=Inventory[[#This Row],[Item SKU/ID]])*Net_Profit))","v":0},{"$f":"IFERROR(AVERAGE(Inventory[[#This Row],[Total Net Profit]]/Inventory[[#This Row],[Quantity Sold]]),0)","v":0}]
[null,null,null,null,null,null,null,null,0,0,0,null,null,null,0,{"$f":"IF(Inventory[[#This Row],[Item SKU/ID]]=\"\",0,SUMPRODUCT((Quantity_Sold_1=Inventory[[#This Row],[Item SKU/ID]])*Net_Profit))","v":0},{"$f":"IFERROR(AVERAGE(Inventory[[#This Row],[Total Net Profit]]/Inventory[[#This Row],[Quantity Sold]]),0)","v":0}]
[null,null,null,null,null,null,null,null,0,0,0,null,null,null,0,{"$f":"IF(Inventory[[#This Row],[Item SKU/ID]]=\"\",0,SUMPRODUCT((Quantity_Sold_1=Inventory[[#This Row],[Item SKU/ID]])*Net_Profit))","v":0},{"$f":"IFERROR(AVERAGE(Inventory[[#This Row],[Total Net Profit]]/Inventory[[#This Row],[Quantity Sold]]),0)","v":0}]
[null,null,null,null,null,null,null,null,0,0,0,null,null,null,0,{"$f":"IF(Inventory[[#This Row],[Item SKU/ID]]=\"\",0,SUMPRODUCT((Quantity_Sold_1=Inventory[[#This Row],[Item SKU/ID]])*Net_Profit))","v":0},{"$f":"IFERROR(AVERAGE(Inventory[[#This Row],[Total Net Profit]]/Inventory[[#This Row],[Quantity Sold]]),0)","v":0}]
[null,null,null,null,null,null,null,null,0,0,0,null,null,null,0,{"$f":"IF(Inventory[[#This Row],[Item SKU/ID]]=\"\",0,SUMPRODUCT((Quantity_Sold_1=Inventory[[#This Row],[Item SKU/ID]])*Net_Profit))","v":0},{"$f":"IFERROR(AVERAGE(Inventory[[#This Row],[Total Net Profit]]/Inventory[[#This Row],[Quantity Sold]]),0)","v":0}]
[null,null,null,null,null,null,null,null,0,0,0,null,null,null,0,{"$f":"IF(Inventory[[#This Row],[Item SKU/ID]]=\"\",0,SUMPRODUCT((Quantity_Sold_1=Inventory[[#This Row],[Item SKU/ID]])*Net_Profit))","v":0},{"$f":"IFERROR(AVERAGE(Inventory[[#This Row],[Total Net Profit]]/Inventory[[#This Row],[Quantity Sold]]),0)","v":0}]
[null,null,null,null,null,null,null,null,0,0,0,null,null,null,0,{"$f":"IF(Inventory[[#This Row],[Item SKU/ID]]=\"\",0,SUMPRODUCT((Quantity_Sold_1=Inventory[[#This Row],[Item SKU/ID]])*Net_Profit))","v":0},{"$f":"IFERROR(AVERAGE(Inventory[[#This Row],[Total Net Profit]]/Inventory[[#This Row],[Quantity Sold]]),0)","v":0}]
[null,null,null,null,null,null,null,null,0,0,0,null,null,null,0,{"$f":"IF(Inventory[[#This Row],[Item SKU/ID]]=\"\",0,SUMPRODUCT((Quantity_Sold_1=Inventory[[#This Row],[Item SKU/ID]])*Net_Profit))","v":0},{"$f":"IFERROR(AVERAGE(Inventory[[#This Row],[Total Net Profit]]/Inventory[[#This Row],[Quantity Sold]]),0)","v":0}]
[null,null,null,null,null,null,null,null,0,0,0,null,null,null,0,{"$f":"IF(Inventory[[#This Row],[Item SKU/ID]]=\"\",0,SUMPRODUCT((Quantity_Sold_1=Inventory[[#This Row],[Item SKU/ID]])*Net_Profit))","v":0},{"$f":"IFERROR(AVERAGE(Inventory[[#This Row],[Total Net Profit]]/Inventory[[#This Row],[Quantity Sold]]),0)","v":0}]
[null,null,null,null,null,null,null,null,0,0,0,null,null,null,0,{"$f":"IF(Inventory[[#This Row],[Item SKU/ID]]=\"\",0,SUMPRODUCT((Quantity_Sold_1=Inventory[[#This Row],[Item SKU/ID]])*Net_Profit))","v":0},{"$f":"IFERROR(AVERAGE(Inventory[[#This Row],[Total Net Profit]]/Inventory[[#This Row],[Quantity Sold]]),0)","v":0}]
[null,null,null,null,null,null,null,null,0,0,0,null,null,null,0,{"$f":"IF(Inventory[[#This Row],[Item SKU/ID]]=\"\",0,SUMPRODUCT((Quantity_Sold_1=Inventory[[#This Row],[Item SKU/ID]])*Net_Profit))","v":0},{"$f":"IFERROR(AVERAGE(Inventory[[#This Row],[Total Net Profit]]/Inventory[[#This Row],[Quantity Sold]]),0)","v":0}]
[null,null,null,null,null,null,null,null,{"$f":"K1220*H1220","v":0},{"$f":"IF(F1220=\"\",0,SUMPRODUCT((Quantity_Sold_1=F1220)*Quantity_Sold_2))","v":0},{"$f":"G1220-J1220","v":0},null,null,null,{"$f":"K1220*H1220","v":0},{"$f":"IF(Inventory[[#This Row],[Item SKU/ID]]=\"\",0,SUMPRODUCT((Quantity_Sold_1=Inventory[[#This Row],[Item SKU/ID]])*Net_Profit))","v":0},{"$f":"IFERROR(AVERAGE(Inventory[[#This Row],[Total Net Profit]]/Inventory[[#This Row],[Quantity Sold]]),0)","v":0}]
[null,null,null,null,null,null,null,null,0,0,0,null,null,null,0,{"$f":"IF(Inventory[[#This Row],[Item SKU/ID]]=\"\",0,SUMPRODUCT((Quantity_Sold_1=Inventory[[#This Row],[Item SKU/ID]])*Net_Profit))","v":0},{"$f":"IFERROR(AVERAGE(Inventory[[#This Row],[Total Net Profit]]/Inventory[[#This Row],[Quantity Sold]]),0)","v":0}]
[null,null,null,null,null,null,null,null,0,0,0,null,null,null,0,{"$f":"IF(Inventory[[#This Row],[Item SKU/ID]]=\"\",0,SUMPRODUCT((Quantity_Sold_1=Inventory[[#This Row],[Item SKU/ID]])*Net_Profit))","v":0},{"$f":"IFERROR(AVERAGE(Inventory[[#This Row],[Total Net Profit]]/Inventory[[#This Row],[Quantity Sold]]),0)","v":0}]
[null,null,null,null,null,null,null,null,0,0,0,null,null,null,0,{"$f":"IF(Inventory[[#This Row],[Item SKU/ID]]=\"\",0,SUMPRODUCT((Quantity_Sold_1=Inventory[[#This Row],[Item SKU/ID]])*Net_Profit))","v":0},{"$f":"IFERROR(AVERAGE(Inventory[[#This Row],[Total Net Profit]]/Inventory[[#This Row],[Quantity Sold]]),0)","v":0}]
[null,null,null,null,null,null,null,null,0,0,0,null,null,null,0,{"$f":"IF(Inventory[[#This Row],[Item SKU/ID]]=\"\",0,SUMPRODUCT((Quantity_Sold_1=Inventory[[#This Row],[Item SKU/ID]])*Net_Profit))","v":0},{"$f":"IFERROR(AVERAGE(Inventory[[#This Row],[Total Net Profit]]/Inventory[[#This Row],[Quantity Sold]]),0)","v":0}]
[null,null,null,null,null,null,null,null,0,0,0,null,null,null,0,{"$f":"IF(Inventory[[#This Row],[Item SKU/ID]]=\"\",0,SUMPRODUCT((Quantity_Sold_1=Inventory[[#This Row],[Item SKU/ID]])*Net_Profit))","v":0},{"$f":"IFERROR(AVERAGE(Inventory[[#This Row],[Total Net Profit]]/Inventory[[#This Row],[Quantity Sold]]),0)","v":0}]
[null,null,null,null,null,null,null,null,0,0,0,null,null,null,0,{"$f":"IF(Inventory[[#This Row],[Item SKU/ID]]=\"\",0,SUMPRODUCT((Quantity_Sold_1=Inventory[[#This Row],[Item SKU/ID]])*Net_Profit))","v":0},{"$f":"IFERROR(AVERAGE(Inventory[[#This Row],[Total Net Profit]]/Inventory[[#This Row],[Quantity Sold]]),0)","v":0}]
[null,null,null,null,null,null,null,null,0,0,0,null,null,null,0,{"$f":"IF(Inventory[[#This Row],[Item SKU/ID]]=\"\",0,SUMPRODUCT((Quantity_Sold_1=Inventory[[#This Row],[Item SKU/ID]])*Net_Profit))","v":0},{"$f":"IFERROR(AVERAGE(Inventory[[#This Row],[Total Net Profit]]/Inventory[[#This Row],[Quantity Sold]]),0)","v":0}]
[null,null,null,null,null,null,null,null,0,0,0,null,null,null,0,{"$f":"IF(Inventory[[#This Row],[Item SKU/ID]]=\"\",0,SUMPRODUCT((Quantity_Sold_1=Inventory[[#This Row],[Item SKU/ID]])*Net_Profit))","v":0},{"$f":"IFERROR(AVERAGE(Inventory[[#This Row],[Total Net Profit]]/Inventory[[#This Row],[Quantity Sold]]),0)","v":0}]
[null,null,null,null,null,null,null,null,0,0,0,null,null,null,0,{"$f":"IF(Inventory[[#This Row],[Item SKU/ID]]=\"\",0,SUMPRODUCT((Quantity_Sold_1=Inventory[[#This Row],[Item SKU/ID]])*Net_Profit))","v":0},{"$f":"IFERROR(AVERAGE(Inventory[[#This Row],[Total Net Profit]]/Inventory[[#This Row],[Quantity Sold]]),0)","v":0}]
[null,null,null,null,null,null,null,null,0,0,0,null,null,null,0,{"$f":"IF(Inventory[[#This Row],[Item SKU/ID]]=\"\",0,SUMPRODUCT((Quantity_Sold_1=Inventory[[#This Row],[Item SKU/ID]])*Net_Profit))","v":0},{"$f":"IFERROR(AVERAGE(Inventory[[#This Row],[Total Net Profit]]/Inventory[[#This Row],[Quantity Sold]]),0)","v":0}]
[null,null,null,null,null,null,null,null,0,0,0,null,null,null,0,{"$f":"IF(Inventory[[#This Row],[Item SKU/ID]]=\"\",0,SUMPRODUCT((Quantity_Sold_1=Inventory[[#This Row],[Item SKU/ID]])*Net_Profit))","v":0},{"$f":"IFERROR(AVERAGE(Inventory[[#This Row],[Total Net Profit]]/Inventory[[#This Row],[Quantity Sold]]),0)","v":0}]
[null,null,null,null,null,null,null,null,0,0,0,null,null,null,0,{"$f":"IF(Inventory[[#This Row],[Item SKU/ID]]=\"\",0,SUMPRODUCT((Quantity_Sold_1=Inventory[[#This Row],[Item SKU/ID]])*Net_Profit))","v":0},{"$f":"IFERROR(AVERAGE(Inventory[[#This Row],[Total Net Profit]]/Inventory[[#This Row],[Quantity Sold]]),0)","v":0}]
[null,null,null,null,null,null,null,null,0,0,0,null,null,null,0,{"$f":"IF(Inventory[[#This Row],[Item SKU/ID]]=\"\",0,SUMPRODUCT((Quantity_Sold_1=Inventory[[#This Row],[Item SKU/ID]])*Net_Profit))","v":0},{"$f":"IFERROR(AVERAGE(Inventory[[#This Row],[Total Net Profit]]/Inventory[[#This Row],[Quantity Sold]]),0)","v":0}]
[null,null,null,null,null,null,null,null,0,0,0,null,null,null,0,{"$f":"IF(Inventory[[#This Row],[Item SKU/ID]]=\"\",0,SUMPRODUCT((Quantity_Sold_1=Inventory[[#This Row],[Item SKU/ID]])*Net_Profit))","v":0},{"$f":"IFERROR(AVERAGE(Inventory[[#This Row],[Total Net Profit]]/Inventory[[#This Row],[Quantity Sold]]),0)","v":0}]
[null,null,null,null,null,null,null,null,0,0,0,null,null,null,0,{"$f":"IF(Inventory[[#This Row],[Item SKU/ID]]=\"\",0,SUMPRODUCT((Quantity_Sold_1=Inventory[[#This Row],[Item SKU/ID]])*Net_Profit))","v":0},{"$f":"IFERROR(AVERAGE(Inventory[[#This Row],[Total Net Profit]]/Inventory[[#This Row],[Quantity Sold]]),0)","v":0}]
[null,null,null,null,null,null,null,null,0,0,0,null,null,null,0,{"$f":"IF(Inventory[[#This Row],[Item SKU/ID]]=\"\",0,SUMPRODUCT((Quantity_Sold_1=Inventory[[#This Row],[Item SKU/ID]])*Net_Profit))","v":0},{"$f":"IFERROR(AVERAGE(Inventory[[#This Row],[Total Net Profit]]/Inventory[[#This Row],[Quantity Sold]]),0)","v":0}]
[null,null,null,null,null,null,null,null,0,0,0,null,null,null,0,{"$f":"IF(Inventory[[#This Row],[Item SKU/ID]]=\"\",0,SUMPRODUCT((Quantity_Sold_1=Inventory[[#This Row],[Item SKU/ID]])*Net_Profit))","v":0},{"$f":"IFERROR(AVERAGE(Inventory[[#This Row],[Total Net Profit]]/Inventory[[#This Row],[Quantity Sold]]),0)","v":0}]
[null,null,null,null,null,null,null,null,0,0,0,null,null,null,0,{"$f":"IF(Inventory[[#This Row],[Item SKU/ID]]=\"\",0,SUMPRODUCT((Quantity_Sold_1=Inventory[[#This Row],[Item SKU/ID]])*Net_Profit))","v":0},{"$f":"IFERROR(AVERAGE(Inventory[[#This Row],[Total Net Profit]]/Inventory[[#This Row],[Quantity Sold]]),0)","v":0}]
[null,null,null,null,null,null,null,null,0,0,0,null,null,null,0,{"$f":"IF(Inventory[[#This Row],[Item SKU/ID]]=\"\",0,SUMPRODUCT((Quantity_Sold_1=Inventory[[#This Row],[Item SKU/ID]])*Net_Profit))","v":0},{"$f":"IFERROR(AVERAGE(Inventory[[#This Row],[Total Net Profit]]/Inventory[[#This Row],[Quantity Sold]]),0)","v":0}]
[null,null,null,null,null,null,null,null,0,0,0,null,null,null,0,{"$f":"IF(Inventory[[#This Row],[Item SKU/ID]]=\"\",0,SUMPRODUCT((Quantity_Sold_1=Inventory[[#This Row],[Item SKU/ID]])*Net_Profit))","v":0},{"$f":"IFERROR(AVERAGE(Inventory[[#This Row],[Total Net Profit]]/Inventory[[#This Row],[Quantity Sold]]),0)","v":0}]
[null,null,null,null,null,null,null,null,0,0,0,null,null,null,0,{"$f":"IF(Inventory[[#This Row],[Item SKU/ID]]=\"\",0,SUMPRODUCT((Quantity_Sold_1=Inventory[[#This Row],[Item SKU/ID]])*Net_Profit))","v":0},{"$f":"IFERROR(AVERAGE(Inventory[[#This Row],[Total Net Profit]]/Inventory[[#This Row],[Quantity Sold]]),0)","v":0}]
[null,null,null,null,null,null,null,null,0,0,0,null,null,null,0,{"$f":"IF(Inventory[[#This Row],[Item SKU/ID]]=\"\",0,SUMPRODUCT((Quantity_Sold_1=Inventory[[#This Row],[Item SKU/ID]])*Net_Profit))","v":0},{"$f":"IFERROR(AVERAGE(Inventory[[#This Row],[Total Net Profit]]/Inventory[[#This Row],[Quantity Sold]]),0)","v":0}]
[null,null,null,null,null,null,null,null,0,0,0,null,null,null,0,{"$f":"IF(Inventory[[#This Row],[Item SKU/ID]]=\"\",0,SUMPRODUCT((Quantity_Sold_1=Inventory[[#This Row],[Item SKU/ID]])*Net_Profit))","v":0},{"$f":"IFERROR(AVERAGE(Inventory[[#This Row],[Total Net Profit]]/Inventory[[#This Row],[Quantity Sold]]),0)","v":0}]
[null,null,null,null,null,null,null,null,0,0,0,null,null,null,0,{"$f":"IF(Inventory[[#This Row],[Item SKU/ID]]=\"\",0,SUMPRODUCT((Quantity_Sold_1=Inventory[[#This Row],[Item SKU/ID]])*Net_Profit))","v":0},{"$f":"IFERROR(AVERAGE(Inventory[[#This Row],[Total Net Profit]]/Inventory[[#This Row],[Quantity Sold]]),0)","v":0}]
[null,null,null,null,null,null,null,null,0,0,0,null,null,null,0,{"$f":"IF(Inventory[[#This Row],[Item SKU/ID]]=\"\",0,SUMPRODUCT((Quantity_Sold_1=Inventory[[#This Row],[Item SKU/ID]])*Net_Profit))","v":0},{"$f":"IFERROR(AVERAGE(Inventory[[#This Row],[Total Net Profit]]/Inventory[[#This Row],[Quantity Sold]]),0)","v":0}]
[null,null,null,null,null,null,null,null,0,0,0,null,null,null,0,{"$f":"IF(Inventory[[#This Row],[Item SKU/ID]]=\"\",0,SUMPRODUCT((Quantity_Sold_1=Inventory[[#This Row],[Item SKU/ID]])*Net_Profit))","v":0},{"$f":"IFERROR(AVERAGE(Inventory[[#This Row],[Total Net Profit]]/Inventory[[#This Row],[Quantity Sold]]),0)","v":0}]
[null,null,null,null,null,null,null,null,0,0,0,null,null,null,0,{"$f":"IF(Inventory[[#This Row],[Item SKU/ID]]=\"\",0,SUMPRODUCT((Quantity_Sold_1=Inventory[[#This Row],[Item SKU/ID]])*Net_Profit))","v":0},{"$f":"IFERROR(AVERAGE(Inventory[[#This Row],[Total Net Profit]]/Inventory[[#This Row],[Quantity Sold]]),0)","v":0}]
[null,null,null,null,null,null,null,null,0,0,0,null,null,null,0,{"$f":"IF(Inventory[[#This Row],[Item SKU/ID]]=\"\",0,SUMPRODUCT((Quantity_Sold_1=Inventory[[#This Row],[Item SKU/ID]])*Net_Profit))","v":0},{"$f":"IFERROR(AVERAGE(Inventory[[#This Row],[Total Net Profit]]/Inventory[[#This Row],[Quantity Sold]]),0)","v":0}]
[null,null,null,null,null,null,null,null,0,0,0,null,null,null,0,{"$f":"IF(Inventory[[#This Row],[Item SKU/ID]]=\"\",0,SUMPRODUCT((Quantity_Sold_1=Inventory[[#This Row],[Item SKU/ID]])*Net_Profit))","v":0},{"$f":"IFERROR(AVERAGE(Inventory[[#This Row],[Total Net Profit]]/Inventory[[#This Row],[Quantity Sold]]),0)","v":0}]
[null,null,null,null,null,null,null,null,0,0,0,null,null,null,0,{"$f":"IF(Inventory[[#This Row],[Item SKU/ID]]=\"\",0,SUMPRODUCT((Quantity_Sold_1=Inventory[[#This Row],[Item SKU/ID]])*Net_Profit))","v":0},{"$f":"IFERROR(AVERAGE(Inventory[[#This Row],[Total Net Profit]]/Inventory[[#This Row],[Quantity Sold]]),0)","v":0}]
[null,null,null,null,null,null,null,null,0,0,0,null,null,null,0,{"$f":"IF(Inventory[[#This Row],[Item SKU/ID]]=\"\",0,SUMPRODUCT((Quantity_Sold_1=Inventory[[#This Row],[Item SKU/ID]])*Net_Profit))","v":0},{"$f":"IFERROR(AVERAGE(Inventory[[#This Row],[Total Net Profit]]/Inventory[[#This Row],[Quantity Sold]]),0)","v":0}]
[null,null,null,null,null,null,null,null,0,0,0,null,null,null,0,{"$f":"IF(Inventory[[#This Row],[Item SKU/ID]]=\"\",0,SUMPRODUCT((Quantity_Sold_1=Inventory[[#This Row],[Item SKU/ID]])*Net_Profit))","v":0},{"$f":"IFERROR(AVERAGE(Inventory[[#This Row],[Total Net Profit]]/Inventory[[#This Row],[Quantity Sold]]),0)","v":0}]
[null,null,null,null,null,null,null,null,0,0,0,null,null,null,0,{"$f":"IF(Inventory[[#This Row],[Item SKU/ID]]=\"\",0,SUMPRODUCT((Quantity_Sold_1=Inventory[[#This Row],[Item SKU/ID]])*Net_Profit))","v":0},{"$f":"IFERROR(AVERAGE(Inventory[[#This Row],[Total Net Profit]]/Inventory[[#This Row],[Quantity Sold]]),0)","v":0}]
[null,null,null,null,null,null,null,null,0,0,0,null,null,null,0,{"$f":"IF(Inventory[[#This Row],[Item SKU/ID]]=\"\",0,SUMPRODUCT((Quantity_Sold_1=Inventory[[#This Row],[Item SKU/ID]])*Net_Profit))","v":0},{"$f":"IFERROR(AVERAGE(Inventory[[#This Row],[Total Net Profit]]/Inventory[[#This Row],[Quantity Sold]]),0)","v":0}]
[null,null,null,null,null,null,null,null,0,0,0,null,null,null,0,{"$f":"IF(Inventory[[#This Row],[Item SKU/ID]]=\"\",0,SUMPRODUCT((Quantity_Sold_1=Inventory[[#This Row],[Item SKU/ID]])*Net_Profit))","v":0},{"$f":"IFERROR(AVERAGE(Inventory[[#This Row],[Total Net Profit]]/Inventory[[#This Row],[Quantity Sold]]),0)","v":0}]
[null,null,null,null,null,null,null,null,0,0,0,null,null,null,0,{"$f":"IF(Inventory[[#This Row],[Item SKU/ID]]=\"\",0,SUMPRODUCT((Quantity_Sold_1=Inventory[[#This Row],[Item SKU/ID]])*Net_Profit))","v":0},{"$f":"IFERROR(AVERAGE(Inventory[[#This Row],[Total Net Profit]]/Inventory[[#This Row],[Quantity Sold]]),0)","v":0}]
[null,null,null,null,null,null,null,null,0,0,0,null,null,null,0,{"$f":"IF(Inventory[[#This Row],[Item SKU/ID]]=\"\",0,SUMPRODUCT((Quantity_Sold_1=Inventory[[#This Row],[Item SKU/ID]])*Net_Profit))","v":0},{"$f":"IFERROR(AVERAGE(Inventory[[#This Row],[Total Net Profit]]/Inventory[[#This Row],[Quantity Sold]]),0)","v":0}]
[null,null,null,null,null,null,null,null,0,0,0,null,null,null,0,{"$f":"IF(Inventory[[#This Row],[Item SKU/ID]]=\"\",0,SUMPRODUCT((Quantity_Sold_1=Inventory[[#This Row],[Item SKU/ID]])*Net_Profit))","v":0},{"$f":"IFERROR(AVERAGE(Inventory[[#This Row],[Total Net Profit]]/Inventory[[#This Row],[Quantity Sold]]),0)","v":0}]
[null,null,null,null,null,null,null,null,0,0,0,null,null,null,0,{"$f":"IF(Inventory[[#This Row],[Item SKU/ID]]=\"\",0,SUMPRODUCT((Quantity_Sold_1=Inventory[[#This Row],[Item SKU/ID]])*Net_Profit))","v":0},{"$f":"IFERROR(AVERAGE(Inventory[[#This Row],[Total Net Profit]]/Inventory[[#This Row],[Quantity Sold]]),0)","v":0}]
[null,null,null,null,null,null,null,null,0,0,0,null,null,null,0,{"$f":"IF(Inventory[[#This Row],[Item SKU/ID]]=\"\",0,SUMPRODUCT((Quantity_Sold_1=Inventory[[#This Row],[Item SKU/ID]])*Net_Profit))","v":0},{"$f":"IFERROR(AVERAGE(Inventory[[#This Row],[Total Net Profit]]/Inventory[[#This Row],[Quantity Sold]]),0)","v":0}]
[null,null,null,null,null,null,null,null,0,0,0,null,null,null,0,{"$f":"IF(Inventory[[#This Row],[Item SKU/ID]]=\"\",0,SUMPRODUCT((Quantity_Sold_1=Inventory[[#This Row],[Item SKU/ID]])*Net_Profit))","v":0},{"$f":"IFERROR(AVERAGE(Inventory[[#This Row],[Total Net Profit]]/Inventory[[#This Row],[Quantity Sold]]),0)","v":0}]
[null,null,null,null,null,null,null,null,0,0,0,null,null,null,0,{"$f":"IF(Inventory[[#This Row],[Item SKU/ID]]=\"\",0,SUMPRODUCT((Quantity_Sold_1=Inventory[[#This Row],[Item SKU/ID]])*Net_Profit))","v":0},{"$f":"IFERROR(AVERAGE(Inventory[[#This Row],[Total Net Profit]]/Inventory[[#This Row],[Quantity Sold]]),0)","v":0}]
[null,null,null,null,null,null,null,null,0,0,0,null,null,null,0,{"$f":"IF(Inventory[[#This Row],[Item SKU/ID]]=\"\",0,SUMPRODUCT((Quantity_Sold_1=Inventory[[#This Row],[Item SKU/ID]])*Net_Profit))","v":0},{"$f":"IFERROR(AVERAGE(Inventory[[#This Row],[Total Net Profit]]/Inventory[[#This Row],[Quantity Sold]]),0)","v":0}]
[null,null,null,null,null,null,null,null,0,0,0,null,null,null,0,{"$f":"IF(Inventory[[#This Row],[Item SKU/ID]]=\"\",0,SUMPRODUCT((Quantity_Sold_1=Inventory[[#This Row],[Item SKU/ID]])*Net_Profit))","v":0},{"$f":"IFERROR(AVERAGE(Inventory[[#This Row],[Total Net Profit]]/Inventory[[#This Row],[Quantity Sold]]),0)","v":0}]
[null,null,null,null,null,null,null,null,0,0,0,null,null,null,0,{"$f":"IF(Inventory[[#This Row],[Item SKU/ID]]=\"\",0,SUMPRODUCT((Quantity_Sold_1=Inventory[[#This Row],[Item SKU/ID]])*Net_Profit))","v":0},{"$f":"IFERROR(AVERAGE(Inventory[[#This Row],[Total Net Profit]]/Inventory[[#This Row],[Quantity Sold]]),0)","v":0}]
[null,null,null,null,null,null,null,null,0,0,0,null,null,null,0,{"$f":"IF(Inventory[[#This Row],[Item SKU/ID]]=\"\",0,SUMPRODUCT((Quantity_Sold_1=Inventory[[#This Row],[Item SKU/ID]])*Net_Profit))","v":0},{"$f":"IFERROR(AVERAGE(Inventory[[#This Row],[Total Net Profit]]/Inventory[[#This Row],[Quantity Sold]]),0)","v":0}]
[null,null,null,null,null,null,null,null,0,0,0,null,null,null,0,{"$f":"IF(Inventory[[#This Row],[Item SKU/ID]]=\"\",0,SUMPRODUCT((Quantity_Sold_1=Inventory[[#This Row],[Item SKU/ID]])*Net_Profit))","v":0},{"$f":"IFERROR(AVERAGE(Inventory[[#This Row],[Total Net Profit]]/Inventory[[#This Row],[Quantity Sold]]),0)","v":0}]
[null,null,null,null,null,null,null,null,0,0,0,null,null,null,0,{"$f":"IF(Inventory[[#This Row],[Item SKU/ID]]=\"\",0,SUMPRODUCT((Quantity_Sold_1=Inventory[[#This Row],[Item SKU/ID]])*Net_Profit))","v":0},{"$f":"IFERROR(AVERAGE(Inventory[[#This Row],[Total Net Profit]]/Inventory[[#This Row],[Quantity Sold]]),0)","v":0}]
[null,null,null,null,null,null,null,null,0,0,0,null,null,null,0,{"$f":"IF(Inventory[[#This Row],[Item SKU/ID]]=\"\",0,SUMPRODUCT((Quantity_Sold_1=Inventory[[#This Row],[Item SKU/ID]])*Net_Profit))","v":0},{"$f":"IFERROR(AVERAGE(Inventory[[#This Row],[Total Net Profit]]/Inventory[[#This Row],[Quantity Sold]]),0)","v":0}]
[null,null,null,null,null,null,null,null,0,0,0,null,null,null,0,{"$f":"IF(Inventory[[#This Row],[Item SKU/ID]]=\"\",0,SUMPRODUCT((Quantity_Sold_1=Inventory[[#This Row],[Item SKU/ID]])*Net_Profit))","v":0},{"$f":"IFERROR(AVERAGE(Inventory[[#This Row],[Total Net Profit]]/Inventory[[#This Row],[Quantity Sold]]),0)","v":0}]
[null,null,null,null,null,null,null,null,0,0,0,null,null,null,0,{"$f":"IF(Inventory[[#This Row],[Item SKU/ID]]=\"\",0,SUMPRODUCT((Quantity_Sold_1=Inventory[[#This Row],[Item SKU/ID]])*Net_Profit))","v":0},{"$f":"IFERROR(AVERAGE(Inventory[[#This Row],[Total Net Profit]]/Inventory[[#This Row],[Quantity Sold]]),0)","v":0}]
[null,null,null,null,null,null,null,null,0,0,0,null,null,null,0,{"$f":"IF(Inventory[[#This Row],[Item SKU/ID]]=\"\",0,SUMPRODUCT((Quantity_Sold_1=Inventory[[#This Row],[Item SKU/ID]])*Net_Profit))","v":0},{"$f":"IFERROR(AVERAGE(Inventory[[#This Row],[Total Net Profit]]/Inventory[[#This Row],[Quantity Sold]]),0)","v":0}]
[null,null,null,null,null,null,null,null,0,0,0,null,null,null,0,{"$f":"IF(Inventory[[#This Row],[Item SKU/ID]]=\"\",0,SUMPRODUCT((Quantity_Sold_1=Inventory[[#This Row],[Item SKU/ID]])*Net_Profit))","v":0},{"$f":"IFERROR(AVERAGE(Inventory[[#This Row],[Total Net Profit]]/Inventory[[#This Row],[Quantity Sold]]),0)","v":0}]
[null,null,null,null,null,null,null,null,0,0,0,null,null,null,0,{"$f":"IF(Inventory[[#This Row],[Item SKU/ID]]=\"\",0,SUMPRODUCT((Quantity_Sold_1=Inventory[[#This Row],[Item SKU/ID]])*Net_Profit))","v":0},{"$f":"IFERROR(AVERAGE(Inventory[[#This Row],[Total Net Profit]]/Inventory[[#This Row],[Quantity Sold]]),0)","v":0}]
[null,null,null,null,null,null,null,null,0,0,0,null,null,null,0,{"$f":"IF(Inventory[[#This Row],[Item SKU/ID]]=\"\",0,SUMPRODUCT((Quantity_Sold_1=Inventory[[#This Row],[Item SKU/ID]])*Net_Profit))","v":0},{"$f":"IFERROR(AVERAGE(Inventory[[#This Row],[Total Net Profit]]/Inventory[[#This Row],[Quantity Sold]]),0)","v":0}]
[null,null,null,null,null,null,null,null,0,0,0,null,null,null,0,{"$f":"IF(Inventory[[#This Row],[Item SKU/ID]]=\"\",0,SUMPRODUCT((Quantity_Sold_1=Inventory[[#This Row],[Item SKU/ID]])*Net_Profit))","v":0},{"$f":"IFERROR(AVERAGE(Inventory[[#This Row],[Total Net Profit]]/Inventory[[#This Row],[Quantity Sold]]),0)","v":0}]
[null,null,null,null,null,null,null,null,0,0,0,null,null,null,0,{"$f":"IF(Inventory[[#This Row],[Item SKU/ID]]=\"\",0,SUMPRODUCT((Quantity_Sold_1=Inventory[[#This Row],[Item SKU/ID]])*Net_Profit))","v":0},{"$f":"IFERROR(AVERAGE(Inventory[[#This Row],[Total Net Profit]]/Inventory[[#This Row],[Quantity Sold]]),0)","v":0}]
[null,null,null,null,null,null,null,null,0,0,0,null,null,null,0,{"$f":"IF(Inventory[[#This Row],[Item SKU/ID]]=\"\",0,SUMPRODUCT((Quantity_Sold_1=Inventory[[#This Row],[Item SKU/ID]])*Net_Profit))","v":0},{"$f":"IFERROR(AVERAGE(Inventory[[#This Row],[Total Net Profit]]/Inventory[[#This Row],[Quantity Sold]]),0)","v":0}]
[null,null,null,null,null,null,null,null,0,0,0,null,null,null,0,{"$f":"IF(Inventory[[#This Row],[Item SKU/ID]]=\"\",0,SUMPRODUCT((Quantity_Sold_1=Inventory[[#This Row],[Item SKU/ID]])*Net_Profit))","v":0},{"$f":"IFERROR(AVERAGE(Inventory[[#This Row],[Total Net Profit]]/Inventory[[#This Row],[Quantity Sold]]),0)","v":0}]
[null,null,null,null,null,null,null,null,0,0,0,null,null,null,0,{"$f":"IF(Inventory[[#This Row],[Item SKU/ID]]=\"\",0,SUMPRODUCT((Quantity_Sold_1=Inventory[[#This Row],[Item SKU/ID]])*Net_Profit))","v":0},{"$f":"IFERROR(AVERAGE(Inventory[[#This Row],[Total Net Profit]]/Inventory[[#This Row],[Quantity Sold]]),0)","v":0}]
[null,null,null,null,null,null,null,null,0,0,0,null,null,null,0,{"$f":"IF(Inventory[[#This Row],[Item SKU/ID]]=\"\",0,SUMPRODUCT((Quantity_Sold_1=Inventory[[#This Row],[Item SKU/ID]])*Net_Profit))","v":0},{"$f":"IFERROR(AVERAGE(Inventory[[#This Row],[Total Net Profit]]/Inventory[[#This Row],[Quantity Sold]]),0)","v":0}]
[null,null,null,null,null,null,null,null,0,0,0,null,null,null,0,{"$f":"IF(Inventory[[#This Row],[Item SKU/ID]]=\"\",0,SUMPRODUCT((Quantity_Sold_1=Inventory[[#This Row],[Item SKU/ID]])*Net_Profit))","v":0},{"$f":"IFERROR(AVERAGE(Inventory[[#This Row],[Total Net Profit]]/Inventory[[#This Row],[Quantity Sold]]),0)","v":0}]
[null,null,null,null,null,null,null,null,0,0,0,null,null,null,0,{"$f":"IF(Inventory[[#This Row],[Item SKU/ID]]=\"\",0,SUMPRODUCT((Quantity_Sold_1=Inventory[[#This Row],[Item SKU/ID]])*Net_Profit))","v":0},{"$f":"IFERROR(AVERAGE(Inventory[[#This Row],[Total Net Profit]]/Inventory[[#This Row],[Quantity Sold]]),0)","v":0}]
[null,null,null,null,null,null,null,null,{"$f":"K1284*H1284","v":0},{"$f":"IF(F1284=\"\",0,SUMPRODUCT((Quantity_Sold_1=F1284)*Quantity_Sold_2))","v":0},{"$f":"G1284-J1284","v":0},null,null,null,{"$f":"K1284*H1284","v":0},{"$f":"IF(Inventory[[#This Row],[Item SKU/ID]]=\"\",0,SUMPRODUCT((Quantity_Sold_1=Inventory[[#This Row],[Item SKU/ID]])*Net_Profit))","v":0},{"$f":"IFERROR(AVERAGE(Inventory[[#This Row],[Total Net Profit]]/Inventory[[#This Row],[Quantity Sold]]),0)","v":0}]
[null,null,null,null,null,null,null,null,0,0,0,null,null,null,0,{"$f":"IF(Inventory[[#This Row],[Item SKU/ID]]=\"\",0,SUMPRODUCT((Quantity_Sold_1=Inventory[[#This Row],[Item SKU/ID]])*Net_Profit))","v":0},{"$f":"IFERROR(AVERAGE(Inventory[[#This Row],[Total Net Profit]]/Inventory[[#This Row],[Quantity Sold]]),0)","v":0}]
[null,null,null,null,null,null,null,null,0,0,0,null,null,null,0,{"$f":"IF(Inventory[[#This Row],[Item SKU/ID]]=\"\",0,SUMPRODUCT((Quantity_Sold_1=Inventory[[#This Row],[Item SKU/ID]])*Net_Profit))","v":0},{"$f":"IFERROR(AVERAGE(Inventory[[#This Row],[Total Net Profit]]/Inventory[[#This Row],[Quantity Sold]]),0)","v":0}]
[null,null,null,null,null,null,null,null,0,0,0,null,null,null,0,{"$f":"IF(Inventory[[#This Row],[Item SKU/ID]]=\"\",0,SUMPRODUCT((Quantity_Sold_1=Inventory[[#This Row],[Item SKU/ID]])*Net_Profit))","v":0},{"$f":"IFERROR(AVERAGE(Inventory[[#This Row],[Total Net Profit]]/Inventory[[#This Row],[Quantity Sold]]),0)","v":0}]
[null,null,null,null,null,null,null,null,0,0,0,null,null,null,0,{"$f":"IF(Inventory[[#This Row],[Item SKU/ID]]=\"\",0,SUMPRODUCT((Quantity_Sold_1=Inventory[[#This Row],[Item SKU/ID]])*Net_Profit))","v":0},{"$f":"IFERROR(AVERAGE(Inventory[[#This Row],[Total Net Profit]]/Inventory[[#This Row],[Quantity Sold]]),0)","v":0}]
[null,null,null,null,null,null,null,null,0,0,0,null,null,null,0,{"$f":"IF(Inventory[[#This Row],[Item SKU/ID]]=\"\",0,SUMPRODUCT((Quantity_Sold_1=Inventory[[#This Row],[Item SKU/ID]])*Net_Profit))","v":0},{"$f":"IFERROR(AVERAGE(Inventory[[#This Row],[Total Net Profit]]/Inventory[[#This Row],[Quantity Sold]]),0)","v":0}]
[null,null,null,null,null,null,null,null,0,0,0,null,null,null,0,{"$f":"IF(Inventory[[#This Row],[Item SKU/ID]]=\"\",0,SUMPRODUCT((Quantity_Sold_1=Inventory[[#This Row],[Item SKU/ID]])*Net_Profit))","v":0},{"$f":"IFERROR(AVERAGE(Inventory[[#This Row],[Total Net Profit]]/Inventory[[#This Row],[Quantity Sold]]),0)","v":0}]
[null,null,null,null,null,null,null,null,0,0,0,null,null,null,0,{"$f":"IF(Inventory[[#This Row],[Item SKU/ID]]=\"\",0,SUMPRODUCT((Quantity_Sold_1=Inventory[[#This Row],[Item SKU/ID]])*Net_Profit))","v":0},{"$f":"IFERROR(AVERAGE(Inventory[[#This Row],[Total Net Profit]]/Inventory[[#This Row],[Quantity Sold]]),0)","v":0}]
[null,null,null,null,null,null,null,null,0,0,0,null,null,null,0,{"$f":"IF(Inventory[[#This Row],[Item SKU/ID]]=\"\",0,SUMPRODUCT((Quantity_Sold_1=Inventory[[#This Row],[Item SKU/ID]])*Net_Profit))","v":0},{"$f":"IFERROR(AVERAGE(Inventory[[#This Row],[Total Net Profit]]/Inventory[[#This Row],[Quantity Sold]]),0)","v":0}]
[null,null,null,null,null,null,null,null,0,0,0,null,null,null,0,{"$f":"IF(Inventory[[#This Row],[Item SKU/ID]]=\"\",0,SUMPRODUCT((Quantity_Sold_1=Inventory[[#This Row],[Item SKU/ID]])*Net_Profit))","v":0},{"$f":"IFERROR(AVERAGE(Inventory[[#This Row],[Total Net Profit]]/Inventory[[#This Row],[Quantity Sold]]),0)","v":0}]
[null,null,null,null,null,null,null,null,0,0,0,null,null,null,0,{"$f":"IF(Inventory[[#This Row],[Item SKU/ID]]=\"\",0,SUMPRODUCT((Quantity_Sold_1=Inventory[[#This Row],[Item SKU/ID]])*Net_Profit))","v":0},{"$f":"IFERROR(AVERAGE(Inventory[[#This Row],[Total Net Profit]]/Inventory[[#This Row],[Quantity Sold]]),0)","v":0}]
[null,null,null,null,null,null,null,null,0,0,0,null,null,null,0,{"$f":"IF(Inventory[[#This Row],[Item SKU/ID]]=\"\",0,SUMPRODUCT((Quantity_Sold_1=Inventory[[#This Row],[Item SKU/ID]])*Net_Profit))","v":0},{"$f":"IFERROR(AVERAGE(Inventory[[#This Row],[Total Net Profit]]/Inventory[[#This Row],[Quantity Sold]]),0)","v":0}]
[null,null,null,null,null,null,null,null,0,0,0,null,null,null,0,{"$f":"IF(Inventory[[#This Row],[Item SKU/ID]]=\"\",0,SUMPRODUCT((Quantity_Sold_1=Inventory[[#This Row],[Item SKU/ID]])*Net_Profit))","v":0},{"$f":"IFERROR(AVERAGE(Inventory[[#This Row],[Total Net Profit]]/Inventory[[#This Row],[Quantity Sold]]),0)","v":0}]
[null,null,null,null,null,null,null,null,0,0,0,null,null,null,0,{"$f":"IF(Inventory[[#This Row],[Item SKU/ID]]=\"\",0,SUMPRODUCT((Quantity_Sold_1=Inventory[[#This Row],[Item SKU/ID]])*Net_Profit))","v":0},{"$f":"IFERROR(AVERAGE(Inventory[[#This Row],[Total Net Profit]]/Inventory[[#This Row],[Quantity Sold]]),0)","v":0}]
[null,null,null,null,null,null,null,null,0,0,0,null,null,null,0,{"$f":"IF(Inventory[[#This Row],[Item SKU/ID]]=\"\",0,SUMPRODUCT((Quantity_Sold_1=Inventory[[#This Row],[Item SKU/ID]])*Net_Profit))","v":0},{"$f":"IFERROR(AVERAGE(Inventory[[#This Row],[Total Net Profit]]/Inventory[[#This Row],[Quantity Sold]]),0)","v":0}]
[null,null,null,null,null,null,null,null,0,0,0,null,null,null,0,{"$f":"IF(Inventory[[#This Row],[Item SKU/ID]]=\"\",0,SUMPRODUCT((Quantity_Sold_1=Inventory[[#This Row],[Item SKU/ID]])*Net_Profit))","v":0},{"$f":"IFERROR(AVERAGE(Inventory[[#This Row],[Total Net Profit]]/Inventory[[#This Row],[Quantity Sold]]),0)","v":0}]
[null,null,null,null,null,null,null,null,0,0,0,null,null,null,0,{"$f":"IF(Inventory[[#This Row],[Item SKU/ID]]=\"\",0,SUMPRODUCT((Quantity_Sold_1=Inventory[[#This Row],[Item SKU/ID]])*Net_Profit))","v":0},{"$f":"IFERROR(AVERAGE(Inventory[[#This Row],[Total Net Profit]]/Inventory[[#This Row],[Quantity Sold]]),0)","v":0}]
[null,null,null,null,null,null,null,null,0,0,0,null,null,null,0,{"$f":"IF(Inventory[[#This Row],[Item SKU/ID]]=\"\",0,SUMPRODUCT((Quantity_Sold_1=Inventory[[#This Row],[Item SKU/ID]])*Net_Profit))","v":0},{"$f":"IFERROR(AVERAGE(Inventory[[#This Row],[Total Net Profit]]/Inventory[[#This Row],[Quantity Sold]]),0)","v":0}]
[null,null,null,null,null,null,null,null,0,0,0,null,null,null,0,{"$f":"IF(Inventory[[#This Row],[Item SKU/ID]]=\"\",0,SUMPRODUCT((Quantity_Sold_1=Inventory[[#This Row],[Item SKU/ID]])*Net_Profit))","v":0},{"$f":"IFERROR(AVERAGE(Inventory[[#This Row],[Total Net Profit]]/Inventory[[#This Row],[Quantity Sold]]),0)","v":0}]
[null,null,null,null,null,null,null,null,0,0,0,null,null,null,0,{"$f":"IF(Inventory[[#This Row],[Item SKU/ID]]=\"\",0,SUMPRODUCT((Quantity_Sold_1=Inventory[[#This Row],[Item SKU/ID]])*Net_Profit))","v":0},{"$f":"IFERROR(AVERAGE(Inventory[[#This Row],[Total Net Profit]]/Inventory[[#This Row],[Quantity Sold]]),0)","v":0}]
[null,null,null,null,null,null,null,null,0,0,0,null,null,null,0,{"$f":"IF(Inventory[[#This Row],[Item SKU/ID]]=\"\",0,SUMPRODUCT((Quantity_Sold_1=Inventory[[#This Row],[Item SKU/ID]])*Net_Profit))","v":0},{"$f":"IFERROR(AVERAGE(Inventory[[#This Row],[Total Net Profit]]/Inventory[[#This Row],[Quantity Sold]]),0)","v":0}]
[null,null,null,null,null,null,null,null,0,0,0,null,null,null,0,{"$f":"IF(Inventory[[#This Row],[Item SKU/ID]]=\"\",0,SUMPRODUCT((Quantity_Sold_1=Inventory[[#This Row],[Item SKU/ID]])*Net_Profit))","v":0},{"$f":"IFERROR(AVERAGE(Inventory[[#This Row],[Total Net Profit]]/Inventory[[#This Row],[Quantity Sold]]),0)","v":0}]
[null,null,null,null,null,null,null,null,0,0,0,null,null,null,0,{"$f":"IF(Inventory[[#This Row],[Item SKU/ID]]=\"\",0,SUMPRODUCT((Quantity_Sold_1=Inventory[[#This Row],[Item SKU/ID]])*Net_Profit))","v":0},{"$f":"IFERROR(AVERAGE(Inventory[[#This Row],[Total Net Profit]]/Inventory[[#This Row],[Quantity Sold]]),0)","v":0}]
[null,null,null,null,null,null,null,null,0,0,0,null,null,null,0,{"$f":"IF(Inventory[[#This Row],[Item SKU/ID]]=\"\",0,SUMPRODUCT((Quantity_Sold_1=Inventory[[#This Row],[Item SKU/ID]])*Net_Profit))","v":0},{"$f":"IFERROR(AVERAGE(Inventory[[#This Row],[Total Net Profit]]/Inventory[[#This Row],[Quantity Sold]]),0)","v":0}]
[null,null,null,null,null,null,null,null,0,0,0,null,null,null,0,{"$f":"IF(Inventory[[#This Row],[Item SKU/ID]]=\"\",0,SUMPRODUCT((Quantity_Sold_1=Inventory[[#This Row],[Item SKU/ID]])*Net_Profit))","v":0},{"$f":"IFERROR(AVERAGE(Inventory[[#This Row],[Total Net Profit]]/Inventory[[#This Row],[Quantity Sold]]),0)","v":0}]
[null,null,null,null,null,null,null,null,0,0,0,null,null,null,0,{"$f":"IF(Inventory[[#This Row],[Item SKU/ID]]=\"\",0,SUMPRODUCT((Quantity_Sold_1=Inventory[[#This Row],[Item SKU/ID]])*Net_Profit))","v":0},{"$f":"IFERROR(AVERAGE(Inventory[[#This Row],[Total Net Profit]]/Inventory[[#This Row],[Quantity Sold]]),0)","v":0}]
[null,null,null,null,null,null,null,null,0,0,0,null,null,null,0,{"$f":"IF(Inventory[[#This Row],[Item SKU/ID]]=\"\",0,SUMPRODUCT((Quantity_Sold_1=Inventory[[#This Row],[Item SKU/ID]])*Net_Profit))","v":0},{"$f":"IFERROR(AVERAGE(Inventory[[#This Row],[Total Net Profit]]/Inventory[[#This Row],[Quantity Sold]]),0)","v":0}]
[null,null,null,null,null,null,null,null,0,0,0,null,null,null,0,{"$f":"IF(Inventory[[#This Row],[Item SKU/ID]]=\"\",0,SUMPRODUCT((Quantity_Sold_1=Inventory[[#This Row],[Item SKU/ID]])*Net_Profit))","v":0},{"$f":"IFERROR(AVERAGE(Inventory[[#This Row],[Total Net Profit]]/Inventory[[#This Row],[Quantity Sold]]),0)","v":0}]
[null,null,null,null,null,null,null,null,0,0,0,null,null,null,0,{"$f":"IF(Inventory[[#This Row],[Item SKU/ID]]=\"\",0,SUMPRODUCT((Quantity_Sold_1=Inventory[[#This Row],[Item SKU/ID]])*Net_Profit))","v":0},{"$f":"IFERROR(AVERAGE(Inventory[[#This Row],[Total Net Profit]]/Inventory[[#This Row],[Quantity Sold]]),0)","v":0}]
[null,null,null,null,null,null,null,null,0,0,0,null,null,null,0,{"$f":"IF(Inventory[[#This Row],[Item SKU/ID]]=\"\",0,SUMPRODUCT((Quantity_Sold_1=Inventory[[#This Row],[Item SKU/ID]])*Net_Profit))","v":0},{"$f":"IFERROR(AVERAGE(Inventory[[#This Row],[Total Net Profit]]/Inventory[[#This Row],[Quantity Sold]]),0)","v":0}]
[null,null,null,null,null,null,null,null,0,0,0,null,null,null,0,{"$f":"IF(Inventory[[#This Row],[Item SKU/ID]]=\"\",0,SUMPRODUCT((Quantity_Sold_1=Inventory[[#This Row],[Item SKU/ID]])*Net_Profit))","v":0},{"$f":"IFERROR(AVERAGE(Inventory[[#This Row],[Total Net Profit]]/Inventory[[#This Row],[Quantity Sold]]),0)","v":0}]
[null,null,null,null,null,null,null,null,0,0,0,null,null,null,0,{"$f":"IF(Inventory[[#This Row],[Item SKU/ID]]=\"\",0,SUMPRODUCT((Quantity_Sold_1=Inventory[[#This Row],[Item SKU/ID]])*Net_Profit))","v":0},{"$f":"IFERROR(AVERAGE(Inventory[[#This Row],[Total Net Profit]]/Inventory[[#This Row],[Quantity Sold]]),0)","v":0}]
[null,null,null,null,null,null,null,null,0,0,0,null,null,null,0,{"$f":"IF(Inventory[[#This Row],[Item SKU/ID]]=\"\",0,SUMPRODUCT((Quantity_Sold_1=Inventory[[#This Row],[Item SKU/ID]])*Net_Profit))","v":0},{"$f":"IFERROR(AVERAGE(Inventory[[#This Row],[Total Net Profit]]/Inventory[[#This Row],[Quantity Sold]]),0)","v":0}]
[null,null,null,null,null,null,null,null,0,0,0,null,null,null,0,{"$f":"IF(Inventory[[#This Row],[Item SKU/ID]]=\"\",0,SUMPRODUCT((Quantity_Sold_1=Inventory[[#This Row],[Item SKU/ID]])*Net_Profit))","v":0},{"$f":"IFERROR(AVERAGE(Inventory[[#This Row],[Total Net Profit]]/Inventory[[#This Row],[Quantity Sold]]),0)","v":0}]
[null,null,null,null,null,null,null,null,0,0,0,null,null,null,0,{"$f":"IF(Inventory[[#This Row],[Item SKU/ID]]=\"\",0,SUMPRODUCT((Quantity_Sold_1=Inventory[[#This Row],[Item SKU/ID]])*Net_Profit))","v":0},{"$f":"IFERROR(AVERAGE(Inventory[[#This Row],[Total Net Profit]]/Inventory[[#This Row],[Quantity Sold]]),0)","v":0}]
[null,null,null,null,null,null,null,null,0,0,0,null,null,null,0,{"$f":"IF(Inventory[[#This Row],[Item SKU/ID]]=\"\",0,SUMPRODUCT((Quantity_Sold_1=Inventory[[#This Row],[Item SKU/ID]])*Net_Profit))","v":0},{"$f":"IFERROR(AVERAGE(Inventory[[#This Row],[Total Net Profit]]/Inventory[[#This Row],[Quantity Sold]]),0)","v":0}]
[null,null,null,null,null,null,null,null,0,0,0,null,null,null,0,{"$f":"IF(Inventory[[#This Row],[Item SKU/ID]]=\"\",0,SUMPRODUCT((Quantity_Sold_1=Inventory[[#This Row],[Item SKU/ID]])*Net_Profit))","v":0},{"$f":"IFERROR(AVERAGE(Inventory[[#This Row],[Total Net Profit]]/Inventory[[#This Row],[Quantity Sold]]),0)","v":0}]
[null,null,null,null,null,null,null,null,0,0,0,null,null,null,0,{"$f":"IF(Inventory[[#This Row],[Item SKU/ID]]=\"\",0,SUMPRODUCT((Quantity_Sold_1=Inventory[[#This Row],[Item SKU/ID]])*Net_Profit))","v":0},{"$f":"IFERROR(AVERAGE(Inventory[[#This Row],[Total Net Profit]]/Inventory[[#This Row],[Quantity Sold]]),0)","v":0}]
[null,null,null,null,null,null,null,null,0,0,0,null,null,null,0,{"$f":"IF(Inventory[[#This Row],[Item SKU/ID]]=\"\",0,SUMPRODUCT((Quantity_Sold_1=Inventory[[#This Row],[Item SKU/ID]])*Net_Profit))","v":0},{"$f":"IFERROR(AVERAGE(Inventory[[#This Row],[Total Net Profit]]/Inventory[[#This Row],[Quantity Sold]]),0)","v":0}]
[null,null,null,null,null,null,null,null,0,0,0,null,null,null,0,{"$f":"IF(Inventory[[#This Row],[Item SKU/ID]]=\"\",0,SUMPRODUCT((Quantity_Sold_1=Inventory[[#This Row],[Item SKU/ID]])*Net_Profit))","v":0},{"$f":"IFERROR(AVERAGE(Inventory[[#This Row],[Total Net Profit]]/Inventory[[#This Row],[Quantity Sold]]),0)","v":0}]
[null,null,null,null,null,null,null,null,0,0,0,null,null,null,0,{"$f":"IF(Inventory[[#This Row],[Item SKU/ID]]=\"\",0,SUMPRODUCT((Quantity_Sold_1=Inventory[[#This Row],[Item SKU/ID]])*Net_Profit))","v":0},{"$f":"IFERROR(AVERAGE(Inventory[[#This Row],[Total Net Profit]]/Inventory[[#This Row],[Quantity Sold]]),0)","v":0}]
[null,null,null,null,null,null,null,null,0,0,0,null,null,null,0,{"$f":"IF(Inventory[[#This Row],[Item SKU/ID]]=\"\",0,SUMPRODUCT((Quantity_Sold_1=Inventory[[#This Row],[Item SKU/ID]])*Net_Profit))","v":0},{"$f":"IFERROR(AVERAGE(Inventory[[#This Row],[Total Net Profit]]/Inventory[[#This Row],[Quantity Sold]]),0)","v":0}]
[null,null,null,null,null,null,null,null,0,0,0,null,null,null,0,{"$f":"IF(Inventory[[#This Row],[Item SKU/ID]]=\"\",0,SUMPRODUCT((Quantity_Sold_1=Inventory[[#This Row],[Item SKU/ID]])*Net_Profit))","v":0},{"$f":"IFERROR(AVERAGE(Inventory[[#This Row],[Total Net Profit]]/Inventory[[#This Row],[Quantity Sold]]),0)","v":0}]
[null,null,null,null,null,null,null,null,0,0,0,null,null,null,0,{"$f":"IF(Inventory[[#This Row],[Item SKU/ID]]=\"\",0,SUMPRODUCT((Quantity_Sold_1=Inventory[[#This Row],[Item SKU/ID]])*Net_Profit))","v":0},{"$f":"IFERROR(AVERAGE(Inventory[[#This Row],[Total Net Profit]]/Inventory[[#This Row],[Quantity Sold]]),0)","v":0}]
[null,null,null,null,null,null,null,null,0,0,0,null,null,null,0,{"$f":"IF(Inventory[[#This Row],[Item SKU/ID]]=\"\",0,SUMPRODUCT((Quantity_Sold_1=Inventory[[#This Row],[Item SKU/ID]])*Net_Profit))","v":0},{"$f":"IFERROR(AVERAGE(Inventory[[#This Row],[Total Net Profit]]/Inventory[[#This Row],[Quantity Sold]]),0)","v":0}]
[null,null,null,null,null,null,null,null,0,0,0,null,null,null,0,{"$f":"IF(Inventory[[#This Row],[Item SKU/ID]]=\"\",0,SUMPRODUCT((Quantity_Sold_1=Inventory[[#This Row],[Item SKU/ID]])*Net_Profit))","v":0},{"$f":"IFERROR(AVERAGE(Inventory[[#This Row],[Total Net Profit]]/Inventory[[#This Row],[Quantity Sold]]),0)","v":0}]
[null,null,null,null,null,null,null,null,0,0,0,null,null,null,0,{"$f":"IF(Inventory[[#This Row],[Item SKU/ID]]=\"\",0,SUMPRODUCT((Quantity_Sold_1=Inventory[[#This Row],[Item SKU/ID]])*Net_Profit))","v":0},{"$f":"IFERROR(AVERAGE(Inventory[[#This Row],[Total Net Profit]]/Inventory[[#This Row],[Quantity Sold]]),0)","v":0}]
[null,null,null,null,null,null,null,null,0,0,0,null,null,null,0,{"$f":"IF(Inventory[[#This Row],[Item SKU/ID]]=\"\",0,SUMPRODUCT((Quantity_Sold_1=Inventory[[#This Row],[Item SKU/ID]])*Net_Profit))","v":0},{"$f":"IFERROR(AVERAGE(Inventory[[#This Row],[Total Net Profit]]/Inventory[[#This Row],[Quantity Sold]]),0)","v":0}]
[null,null,null,null,null,null,null,null,0,0,0,null,null,null,0,{"$f":"IF(Inventory[[#This Row],[Item SKU/ID]]=\"\",0,SUMPRODUCT((Quantity_Sold_1=Inventory[[#This Row],[Item SKU/ID]])*Net_Profit))","v":0},{"$f":"IFERROR(AVERAGE(Inventory[[#This Row],[Total Net Profit]]/Inventory[[#This Row],[Quantity Sold]]),0)","v":0}]
[null,null,null,null,null,null,null,null,0,0,0,null,null,null,0,{"$f":"IF(Inventory[[#This Row],[Item SKU/ID]]=\"\",0,SUMPRODUCT((Quantity_Sold_1=Inventory[[#This Row],[Item SKU/ID]])*Net_Profit))","v":0},{"$f":"IFERROR(AVERAGE(Inventory[[#This Row],[Total Net Profit]]/Inventory[[#This Row],[Quantity Sold]]),0)","v":0}]
[null,null,null,null,null,null,null,null,0,0,0,null,null,null,0,{"$f":"IF(Inventory[[#This Row],[Item SKU/ID]]=\"\",0,SUMPRODUCT((Quantity_Sold_1=Inventory[[#This Row],[Item SKU/ID]])*Net_Profit))","v":0},{"$f":"IFERROR(AVERAGE(Inventory[[#This Row],[Total Net Profit]]/Inventory[[#This Row],[Quantity Sold]]),0)","v":0}]
[null,null,null,null,null,null,null,null,0,0,0,null,null,null,0,{"$f":"IF(Inventory[[#This Row],[Item SKU/ID]]=\"\",0,SUMPRODUCT((Quantity_Sold_1=Inventory[[#This Row],[Item SKU/ID]])*Net_Profit))","v":0},{"$f":"IFERROR(AVERAGE(Inventory[[#This Row],[Total Net Profit]]/Inventory[[#This Row],[Quantity Sold]]),0)","v":0}]
[null,null,null,null,null,null,null,null,0,0,0,null,null,null,0,{"$f":"IF(Inventory[[#This Row],[Item SKU/ID]]=\"\",0,SUMPRODUCT((Quantity_Sold_1=Inventory[[#This Row],[Item SKU/ID]])*Net_Profit))","v":0},{"$f":"IFERROR(AVERAGE(Inventory[[#This Row],[Total Net Profit]]/Inventory[[#This Row],[Quantity Sold]]),0)","v":0}]
[null,null,null,null,null,null,null,null,0,0,0,null,null,null,0,{"$f":"IF(Inventory[[#This Row],[Item SKU/ID]]=\"\",0,SUMPRODUCT((Quantity_Sold_1=Inventory[[#This Row],[Item SKU/ID]])*Net_Profit))","v":0},{"$f":"IFERROR(AVERAGE(Inventory[[#This Row],[Total Net Profit]]/Inventory[[#This Row],[Quantity Sold]]),0)","v":0}]
[null,null,null,null,null,null,null,null,0,0,0,null,null,null,0,{"$f":"IF(Inventory[[#This Row],[Item SKU/ID]]=\"\",0,SUMPRODUCT((Quantity_Sold_1=Inventory[[#This Row],[Item SKU/ID]])*Net_Profit))","v":0},{"$f":"IFERROR(AVERAGE(Inventory[[#This Row],[Total Net Profit]]/Inventory[[#This Row],[Quantity Sold]]),0)","v":0}]
[null,null,null,null,null,null,null,null,0,0,0,null,null,null,0,{"$f":"IF(Inventory[[#This Row],[Item SKU/ID]]=\"\",0,SUMPRODUCT((Quantity_Sold_1=Inventory[[#This Row],[Item SKU/ID]])*Net_Profit))","v":0},{"$f":"IFERROR(AVERAGE(Inventory[[#This Row],[Total Net Profit]]/Inventory[[#This Row],[Quantity Sold]]),0)","v":0}]
[null,null,null,null,null,null,null,null,0,0,0,null,null,null,0,{"$f":"IF(Inventory[[#This Row],[Item SKU/ID]]=\"\",0,SUMPRODUCT((Quantity_Sold_1=Inventory[[#This Row],[Item SKU/ID]])*Net_Profit))","v":0},{"$f":"IFERROR(AVERAGE(Inventory[[#This Row],[Total Net Profit]]/Inventory[[#This Row],[Quantity Sold]]),0)","v":0}]
[null,null,null,null,null,null,null,null,0,0,0,null,null,null,0,{"$f":"IF(Inventory[[#This Row],[Item SKU/ID]]=\"\",0,SUMPRODUCT((Quantity_Sold_1=Inventory[[#This Row],[Item SKU/ID]])*Net_Profit))","v":0},{"$f":"IFERROR(AVERAGE(Inventory[[#This Row],[Total Net Profit]]/Inventory[[#This Row],[Quantity Sold]]),0)","v":0}]
[null,null,null,null,null,null,null,null,0,0,0,null,null,null,0,{"$f":"IF(Inventory[[#This Row],[Item SKU/ID]]=\"\",0,SUMPRODUCT((Quantity_Sold_1=Inventory[[#This Row],[Item SKU/ID]])*Net_Profit))","v":0},{"$f":"IFERROR(AVERAGE(Inventory[[#This Row],[Total Net Profit]]/Inventory[[#This Row],[Quantity Sold]]),0)","v":0}]
[null,null,null,null,null,null,null,null,0,0,0,null,null,null,0,{"$f":"IF(Inventory[[#This Row],[Item SKU/ID]]=\"\",0,SUMPRODUCT((Quantity_Sold_1=Inventory[[#This Row],[Item SKU/ID]])*Net_Profit))","v":0},{"$f":"IFERROR(AVERAGE(Inventory[[#This Row],[Total Net Profit]]/Inventory[[#This Row],[Quantity Sold]]),0)","v":0}]
[null,null,null,null,null,null,null,null,0,0,0,null,null,null,0,{"$f":"IF(Inventory[[#This Row],[Item SKU/ID]]=\"\",0,SUMPRODUCT((Quantity_Sold_1=Inventory[[#This Row],[Item SKU/ID]])*Net_Profit))","v":0},{"$f":"IFERROR(AVERAGE(Inventory[[#This Row],[Total Net Profit]]/Inventory[[#This Row],[Quantity Sold]]),0)","v":0}]
[null,null,null,null,null,null,null,null,0,0,0,null,null,null,0,{"$f":"IF(Inventory[[#This Row],[Item SKU/ID]]=\"\",0,SUMPRODUCT((Quantity_Sold_1=Inventory[[#This Row],[Item SKU/ID]])*Net_Profit))","v":0},{"$f":"IFERROR(AVERAGE(Inventory[[#This Row],[Total Net Profit]]/Inventory[[#This Row],[Quantity Sold]]),0)","v":0}]
[null,null,null,null,null,null,null,null,0,0,0,null,null,null,0,{"$f":"IF(Inventory[[#This Row],[Item SKU/ID]]=\"\",0,SUMPRODUCT((Quantity_Sold_1=Inventory[[#This Row],[Item SKU/ID]])*Net_Profit))","v":0},{"$f":"IFERROR(AVERAGE(Inventory[[#This Row],[Total Net Profit]]/Inventory[[#This Row],[Quantity Sold]]),0)","v":0}]
[null,null,null,null,null,null,null,null,0,0,0,null,null,null,0,{"$f":"IF(Inventory[[#This Row],[Item SKU/ID]]=\"\",0,SUMPRODUCT((Quantity_Sold_1=Inventory[[#This Row],[Item SKU/ID]])*Net_Profit))","v":0},{"$f":"IFERROR(AVERAGE(Inventory[[#This Row],[Total Net Profit]]/Inventory[[#This Row],[Quantity Sold]]),0)","v":0}]
[null,null,null,null,null,null,null,null,{"$f":"K1348*H1348","v":0},{"$f":"IF(F1348=\"\",0,SUMPRODUCT((Quantity_Sold_1=F1348)*Quantity_Sold_2))","v":0},{"$f":"G1348-J1348","v":0},null,null,null,{"$f":"K1348*H1348","v":0},{"$f":"IF(Inventory[[#This Row],[Item SKU/ID]]=\"\",0,SUMPRODUCT((Quantity_Sold_1=Inventory[[#This Row],[Item SKU/ID]])*Net_Profit))","v":0},{"$f":"IFERROR(AVERAGE(Inventory[[#This Row],[Total Net Profit]]/Inventory[[#This Row],[Quantity Sold]]),0)","v":0}]
[null,null,null,null,null,null,null,null,0,0,0,null,null,null,0,{"$f":"IF(Inventory[[#This Row],[Item SKU/ID]]=\"\",0,SUMPRODUCT((Quantity_Sold_1=Inventory[[#This Row],[Item SKU/ID]])*Net_Profit))","v":0},{"$f":"IFERROR(AVERAGE(Inventory[[#This Row],[Total Net Profit]]/Inventory[[#This Row],[Quantity Sold]]),0)","v":0}]
[null,null,null,null,null,null,null,null,0,0,0,null,null,null,0,{"$f":"IF(Inventory[[#This Row],[Item SKU/ID]]=\"\",0,SUMPRODUCT((Quantity_Sold_1=Inventory[[#This Row],[Item SKU/ID]])*Net_Profit))","v":0},{"$f":"IFERROR(AVERAGE(Inventory[[#This Row],[Total Net Profit]]/Inventory[[#This Row],[Quantity Sold]]),0)","v":0}]
[null,null,null,null,null,null,null,null,0,0,0,null,null,null,0,{"$f":"IF(Inventory[[#This Row],[Item SKU/ID]]=\"\",0,SUMPRODUCT((Quantity_Sold_1=Inventory[[#This Row],[Item SKU/ID]])*Net_Profit))","v":0},{"$f":"IFERROR(AVERAGE(Inventory[[#This Row],[Total Net Profit]]/Inventory[[#This Row],[Quantity Sold]]),0)","v":0}]
[null,null,null,null,null,null,null,null,0,0,0,null,null,null,0,{"$f":"IF(Inventory[[#This Row],[Item SKU/ID]]=\"\",0,SUMPRODUCT((Quantity_Sold_1=Inventory[[#This Row],[Item SKU/ID]])*Net_Profit))","v":0},{"$f":"IFERROR(AVERAGE(Inventory[[#This Row],[Total Net Profit]]/Inventory[[#This Row],[Quantity Sold]]),0)","v":0}]
[null,null,null,null,null,null,null,null,0,0,0,null,null,null,0,{"$f":"IF(Inventory[[#This Row],[Item SKU/ID]]=\"\",0,SUMPRODUCT((Quantity_Sold_1=Inventory[[#This Row],[Item SKU/ID]])*Net_Profit))","v":0},{"$f":"IFERROR(AVERAGE(Inventory[[#This Row],[Total Net Profit]]/Inventory[[#This Row],[Quantity Sold]]),0)","v":0}]
[null,null,null,null,null,null,null,null,0,0,0,null,null,null,0,{"$f":"IF(Inventory[[#This Row],[Item SKU/ID]]=\"\",0,SUMPRODUCT((Quantity_Sold_1=Inventory[[#This Row],[Item SKU/ID]])*Net_Profit))","v":0},{"$f":"IFERROR(AVERAGE(Inventory[[#This Row],[Total Net Profit]]/Inventory[[#This Row],[Quantity Sold]]),0)","v":0}]
[null,null,null,null,null,null,null,null,0,0,0,null,null,null,0,{"$f":"IF(Inventory[[#This Row],[Item SKU/ID]]=\"\",0,SUMPRODUCT((Quantity_Sold_1=Inventory[[#This Row],[Item SKU/ID]])*Net_Profit))","v":0},{"$f":"IFERROR(AVERAGE(Inventory[[#This Row],[Total Net Profit]]/Inventory[[#This Row],[Quantity Sold]]),0)","v":0}]
[null,null,null,null,null,null,null,null,0,0,0,null,null,null,0,{"$f":"IF(Inventory[[#This Row],[Item SKU/ID]]=\"\",0,SUMPRODUCT((Quantity_Sold_1=Inventory[[#This Row],[Item SKU/ID]])*Net_Profit))","v":0},{"$f":"IFERROR(AVERAGE(Inventory[[#This Row],[Total Net Profit]]/Inventory[[#This Row],[Quantity Sold]]),0)","v":0}]
[null,null,null,null,null,null,null,null,0,0,0,null,null,null,0,{"$f":"IF(Inventory[[#This Row],[Item SKU/ID]]=\"\",0,SUMPRODUCT((Quantity_Sold_1=Inventory[[#This Row],[Item SKU/ID]])*Net_Profit))","v":0},{"$f":"IFERROR(AVERAGE(Inventory[[#This Row],[Total Net Profit]]/Inventory[[#This Row],[Quantity Sold]]),0)","v":0}]
[null,null,null,null,null,null,null,null,0,0,0,null,null,null,0,{"$f":"IF(Inventory[[#This Row],[Item SKU/ID]]=\"\",0,SUMPRODUCT((Quantity_Sold_1=Inventory[[#This Row],[Item SKU/ID]])*Net_Profit))","v":0},{"$f":"IFERROR(AVERAGE(Inventory[[#This Row],[Total Net Profit]]/Inventory[[#This Row],[Quantity Sold]]),0)","v":0}]
[null,null,null,null,null,null,null,null,0,0,0,null,null,null,0,{"$f":"IF(Inventory[[#This Row],[Item SKU/ID]]=\"\",0,SUMPRODUCT((Quantity_Sold_1=Inventory[[#This Row],[Item SKU/ID]])*Net_Profit))","v":0},{"$f":"IFERROR(AVERAGE(Inventory[[#This Row],[Total Net Profit]]/Inventory[[#This Row],[Quantity Sold]]),0)","v":0}]
[null,null,null,null,null,null,null,null,0,0,0,null,null,null,0,{"$f":"IF(Inventory[[#This Row],[Item SKU/ID]]=\"\",0,SUMPRODUCT((Quantity_Sold_1=Inventory[[#This Row],[Item SKU/ID]])*Net_Profit))","v":0},{"$f":"IFERROR(AVERAGE(Inventory[[#This Row],[Total Net Profit]]/Inventory[[#This Row],[Quantity Sold]]),0)","v":0}]
[null,null,null,null,null,null,null,null,0,0,0,null,null,null,0,{"$f":"IF(Inventory[[#This Row],[Item SKU/ID]]=\"\",0,SUMPRODUCT((Quantity_Sold_1=Inventory[[#This Row],[Item SKU/ID]])*Net_Profit))","v":0},{"$f":"IFERROR(AVERAGE(Inventory[[#This Row],[Total Net Profit]]/Inventory[[#This Row],[Quantity Sold]]),0)","v":0}]
[null,null,null,null,null,null,null,null,0,0,0,null,null,null,0,{"$f":"IF(Inventory[[#This Row],[Item SKU/ID]]=\"\",0,SUMPRODUCT((Quantity_Sold_1=Inventory[[#This Row],[Item SKU/ID]])*Net_Profit))","v":0},{"$f":"IFERROR(AVERAGE(Inventory[[#This Row],[Total Net Profit]]/Inventory[[#This Row],[Quantity Sold]]),0)","v":0}]
[null,null,null,null,null,null,null,null,0,0,0,null,null,null,0,{"$f":"IF(Inventory[[#This Row],[Item SKU/ID]]=\"\",0,SUMPRODUCT((Quantity_Sold_1=Inventory[[#This Row],[Item SKU/ID]])*Net_Profit))","v":0},{"$f":"IFERROR(AVERAGE(Inventory[[#This Row],[Total Net Profit]]/Inventory[[#This Row],[Quantity Sold]]),0)","v":0}]
[null,null,null,null,null,null,null,null,0,0,0,null,null,null,0,{"$f":"IF(Inventory[[#This Row],[Item SKU/ID]]=\"\",0,SUMPRODUCT((Quantity_Sold_1=Inventory[[#This Row],[Item SKU/ID]])*Net_Profit))","v":0},{"$f":"IFERROR(AVERAGE(Inventory[[#This Row],[Total Net Profit]]/Inventory[[#This Row],[Quantity Sold]]),0)","v":0}]
[null,null,null,null,null,null,null,null,0,0,0,null,null,null,0,{"$f":"IF(Inventory[[#This Row],[Item SKU/ID]]=\"\",0,SUMPRODUCT((Quantity_Sold_1=Inventory[[#This Row],[Item SKU/ID]])*Net_Profit))","v":0},{"$f":"IFERROR(AVERAGE(Inventory[[#This Row],[Total Net Profit]]/Inventory[[#This Row],[Quantity Sold]]),0)","v":0}]
[null,null,null,null,null,null,null,null,0,0,0,null,null,null,0,{"$f":"IF(Inventory[[#This Row],[Item SKU/ID]]=\"\",0,SUMPRODUCT((Quantity_Sold_1=Inventory[[#This Row],[Item SKU/ID]])*Net_Profit))","v":0},{"$f":"IFERROR(AVERAGE(Inventory[[#This Row],[Total Net Profit]]/Inventory[[#This Row],[Quantity Sold]]),0)","v":0}]
[null,null,null,null,null,null,null,null,0,0,0,null,null,null,0,{"$f":"IF(Inventory[[#This Row],[Item SKU/ID]]=\"\",0,SUMPRODUCT((Quantity_Sold_1=Inventory[[#This Row],[Item SKU/ID]])*Net_Profit))","v":0},{"$f":"IFERROR(AVERAGE(Inventory[[#This Row],[Total Net Profit]]/Inventory[[#This Row],[Quantity Sold]]),0)","v":0}]
[null,null,null,null,null,null,null,null,0,0,0,null,null,null,0,{"$f":"IF(Inventory[[#This Row],[Item SKU/ID]]=\"\",0,SUMPRODUCT((Quantity_Sold_1=Inventory[[#This Row],[Item SKU/ID]])*Net_Profit))","v":0},{"$f":"IFERROR(AVERAGE(Inventory[[#This Row],[Total Net Profit]]/Inventory[[#This Row],[Quantity Sold]]),0)","v":0}]
[null,null,null,null,null,null,null,null,0,0,0,null,null,null,0,{"$f":"IF(Inventory[[#This Row],[Item SKU/ID]]=\"\",0,SUMPRODUCT((Quantity_Sold_1=Inventory[[#This Row],[Item SKU/ID]])*Net_Profit))","v":0},{"$f":"IFERROR(AVERAGE(Inventory[[#This Row],[Total Net Profit]]/Inventory[[#This Row],[Quantity Sold]]),0)","v":0}]
[null,null,null,null,null,null,null,null,0,0,0,null,null,null,0,{"$f":"IF(Inventory[[#This Row],[Item SKU/ID]]=\"\",0,SUMPRODUCT((Quantity_Sold_1=Inventory[[#This Row],[Item SKU/ID]])*Net_Profit))","v":0},{"$f":"IFERROR(AVERAGE(Inventory[[#This Row],[Total Net Profit]]/Inventory[[#This Row],[Quantity Sold]]),0)","v":0}]
[null,null,null,null,null,null,null,null,0,0,0,null,null,null,0,{"$f":"IF(Inventory[[#This Row],[Item SKU/ID]]=\"\",0,SUMPRODUCT((Quantity_Sold_1=Inventory[[#This Row],[Item SKU/ID]])*Net_Profit))","v":0},{"$f":"IFERROR(AVERAGE(Inventory[[#This Row],[Total Net Profit]]/Inventory[[#This Row],[Quantity Sold]]),0)","v":0}]
[null,null,null,null,null,null,null,null,0,0,0,null,null,null,0,{"$f":"IF(Inventory[[#This Row],[Item SKU/ID]]=\"\",0,SUMPRODUCT((Quantity_Sold_1=Inventory[[#This Row],[Item SKU/ID]])*Net_Profit))","v":0},{"$f":"IFERROR(AVERAGE(Inventory[[#This Row],[Total Net Profit]]/Inventory[[#This Row],[Quantity Sold]]),0)","v":0}]
[null,null,null,null,null,null,null,null,0,0,0,null,null,null,0,{"$f":"IF(Inventory[[#This Row],[Item SKU/ID]]=\"\",0,SUMPRODUCT((Quantity_Sold_1=Inventory[[#This Row],[Item SKU/ID]])*Net_Profit))","v":0},{"$f":"IFERROR(AVERAGE(Inventory[[#This Row],[Total Net Profit]]/Inventory[[#This Row],[Quantity Sold]]),0)","v":0}]
[null,null,null,null,null,null,null,null,0,0,0,null,null,null,0,{"$f":"IF(Inventory[[#This Row],[Item SKU/ID]]=\"\",0,SUMPRODUCT((Quantity_Sold_1=Inventory[[#This Row],[Item SKU/ID]])*Net_Profit))","v":0},{"$f":"IFERROR(AVERAGE(Inventory[[#This Row],[Total Net Profit]]/Inventory[[#This Row],[Quantity Sold]]),0)","v":0}]
[null,null,null,null,null,null,null,null,0,0,0,null,null,null,0,{"$f":"IF(Inventory[[#This Row],[Item SKU/ID]]=\"\",0,SUMPRODUCT((Quantity_Sold_1=Inventory[[#This Row],[Item SKU/ID]])*Net_Profit))","v":0},{"$f":"IFERROR(AVERAGE(Inventory[[#This Row],[Total Net Profit]]/Inventory[[#This Row],[Quantity Sold]]),0)","v":0}]
[null,null,null,null,null,null,null,null,0,0,0,null,null,null,0,{"$f":"IF(Inventory[[#This Row],[Item SKU/ID]]=\"\",0,SUMPRODUCT((Quantity_Sold_1=Inventory[[#This Row],[Item SKU/ID]])*Net_Profit))","v":0},{"$f":"IFERROR(AVERAGE(Inventory[[#This Row],[Total Net Profit]]/Inventory[[#This Row],[Quantity Sold]]),0)","v":0}]
[null,null,null,null,null,null,null,null,0,0,0,null,null,null,0,{"$f":"IF(Inventory[[#This Row],[Item SKU/ID]]=\"\",0,SUMPRODUCT((Quantity_Sold_1=Inventory[[#This Row],[Item SKU/ID]])*Net_Profit))","v":0},{"$f":"IFERROR(AVERAGE(Inventory[[#This Row],[Total Net Profit]]/Inventory[[#This Row],[Quantity Sold]]),0)","v":0}]
[null,null,null,null,null,null,null,null,0,0,0,null,null,null,0,{"$f":"IF(Inventory[[#This Row],[Item SKU/ID]]=\"\",0,SUMPRODUCT((Quantity_Sold_1=Inventory[[#This Row],[Item SKU/ID]])*Net_Profit))","v":0},{"$f":"IFERROR(AVERAGE(Inventory[[#This Row],[Total Net Profit]]/Inventory[[#This Row],[Quantity Sold]]),0)","v":0}]
[null,null,null,null,null,null,null,null,0,0,0,null,null,null,0,{"$f":"IF(Inventory[[#This Row],[Item SKU/ID]]=\"\",0,SUMPRODUCT((Quantity_Sold_1=Inventory[[#This Row],[Item SKU/ID]])*Net_Profit))","v":0},{"$f":"IFERROR(AVERAGE(Inventory[[#This Row],[Total Net Profit]]/Inventory[[#This Row],[Quantity Sold]]),0)","v":0}]
[null,null,null,null,null,null,null,null,0,0,0,null,null,null,0,{"$f":"IF(Inventory[[#This Row],[Item SKU/ID]]=\"\",0,SUMPRODUCT((Quantity_Sold_1=Inventory[[#This Row],[Item SKU/ID]])*Net_Profit))","v":0},{"$f":"IFERROR(AVERAGE(Inventory[[#This Row],[Total Net Profit]]/Inventory[[#This Row],[Quantity Sold]]),0)","v":0}]
[null,null,null,null,null,null,null,null,0,0,0,null,null,null,0,{"$f":"IF(Inventory[[#This Row],[Item SKU/ID]]=\"\",0,SUMPRODUCT((Quantity_Sold_1=Inventory[[#This Row],[Item SKU/ID]])*Net_Profit))","v":0},{"$f":"IFERROR(AVERAGE(Inventory[[#This Row],[Total Net Profit]]/Inventory[[#This Row],[Quantity Sold]]),0)","v":0}]
[null,null,null,null,null,null,null,null,0,0,0,null,null,null,0,{"$f":"IF(Inventory[[#This Row],[Item SKU/ID]]=\"\",0,SUMPRODUCT((Quantity_Sold_1=Inventory[[#This Row],[Item SKU/ID]])*Net_Profit))","v":0},{"$f":"IFERROR(AVERAGE(Inventory[[#This Row],[Total Net Profit]]/Inventory[[#This Row],[Quantity Sold]]),0)","v":0}]
[null,null,null,null,null,null,null,null,0,0,0,null,null,null,0,{"$f":"IF(Inventory[[#This Row],[Item SKU/ID]]=\"\",0,SUMPRODUCT((Quantity_Sold_1=Inventory[[#This Row],[Item SKU/ID]])*Net_Profit))","v":0},{"$f":"IFERROR(AVERAGE(Inventory[[#This Row],[Total Net Profit]]/Inventory[[#This Row],[Quantity Sold]]),0)","v":0}]
[null,null,null,null,null,null,null,null,0,0,0,null,null,null,0,{"$f":"IF(Inventory[[#This Row],[Item SKU/ID]]=\"\",0,SUMPRODUCT((Quantity_Sold_1=Inventory[[#This Row],[Item SKU/ID]])*Net_Profit))","v":0},{"$f":"IFERROR(AVERAGE(Inventory[[#This Row],[Total Net Profit]]/Inventory[[#This Row],[Quantity Sold]]),0)","v":0}]
[null,null,null,null,null,null,null,null,0,0,0,null,null,null,0,{"$f":"IF(Inventory[[#This Row],[Item SKU/ID]]=\"\",0,SUMPRODUCT((Quantity_Sold_1=Inventory[[#This Row],[Item SKU/ID]])*Net_Profit))","v":0},{"$f":"IFERROR(AVERAGE(Inventory[[#This Row],[Total Net Profit]]/Inventory[[#This Row],[Quantity Sold]]),0)","v":0}]
[null,null,null,null,null,null,null,null,0,0,0,null,null,null,0,{"$f":"IF(Inventory[[#This Row],[Item SKU/ID]]=\"\",0,SUMPRODUCT((Quantity_Sold_1=Inventory[[#This Row],[Item SKU/ID]])*Net_Profit))","v":0},{"$f":"IFERROR(AVERAGE(Inventory[[#This Row],[Total Net Profit]]/Inventory[[#This Row],[Quantity Sold]]),0)","v":0}]
[null,null,null,null,null,null,null,null,0,0,0,null,null,null,0,{"$f":"IF(Inventory[[#This Row],[Item SKU/ID]]=\"\",0,SUMPRODUCT((Quantity_Sold_1=Inventory[[#This Row],[Item SKU/ID]])*Net_Profit))","v":0},{"$f":"IFERROR(AVERAGE(Inventory[[#This Row],[Total Net Profit]]/Inventory[[#This Row],[Quantity Sold]]),0)","v":0}]
[null,null,null,null,null,null,null,null,0,0,0,null,null,null,0,{"$f":"IF(Inventory[[#This Row],[Item SKU/ID]]=\"\",0,SUMPRODUCT((Quantity_Sold_1=Inventory[[#This Row],[Item SKU/ID]])*Net_Profit))","v":0},{"$f":"IFERROR(AVERAGE(Inventory[[#This Row],[Total Net Profit]]/Inventory[[#This Row],[Quantity Sold]]),0)","v":0}]
[null,null,null,null,null,null,null,null,0,0,0,null,null,null,0,{"$f":"IF(Inventory[[#This Row],[Item SKU/ID]]=\"\",0,SUMPRODUCT((Quantity_Sold_1=Inventory[[#This Row],[Item SKU/ID]])*Net_Profit))","v":0},{"$f":"IFERROR(AVERAGE(Inventory[[#This Row],[Total Net Profit]]/Inventory[[#This Row],[Quantity Sold]]),0)","v":0}]
[null,null,null,null,null,null,null,null,0,0,0,null,null,null,0,{"$f":"IF(Inventory[[#This Row],[Item SKU/ID]]=\"\",0,SUMPRODUCT((Quantity_Sold_1=Inventory[[#This Row],[Item SKU/ID]])*Net_Profit))","v":0},{"$f":"IFERROR(AVERAGE(Inventory[[#This Row],[Total Net Profit]]/Inventory[[#This Row],[Quantity Sold]]),0)","v":0}]
[null,null,null,null,null,null,null,null,0,0,0,null,null,null,0,{"$f":"IF(Inventory[[#This Row],[Item SKU/ID]]=\"\",0,SUMPRODUCT((Quantity_Sold_1=Inventory[[#This Row],[Item SKU/ID]])*Net_Profit))","v":0},{"$f":"IFERROR(AVERAGE(Inventory[[#This Row],[Total Net Profit]]/Inventory[[#This Row],[Quantity Sold]]),0)","v":0}]
[null,null,null,null,null,null,null,null,0,0,0,null,null,null,0,{"$f":"IF(Inventory[[#This Row],[Item SKU/ID]]=\"\",0,SUMPRODUCT((Quantity_Sold_1=Inventory[[#This Row],[Item SKU/ID]])*Net_Profit))","v":0},{"$f":"IFERROR(AVERAGE(Inventory[[#This Row],[Total Net Profit]]/Inventory[[#This Row],[Quantity Sold]]),0)","v":0}]
[null,null,null,null,null,null,null,null,0,0,0,null,null,null,0,{"$f":"IF(Inventory[[#This Row],[Item SKU/ID]]=\"\",0,SUMPRODUCT((Quantity_Sold_1=Inventory[[#This Row],[Item SKU/ID]])*Net_Profit))","v":0},{"$f":"IFERROR(AVERAGE(Inventory[[#This Row],[Total Net Profit]]/Inventory[[#This Row],[Quantity Sold]]),0)","v":0}]
[null,null,null,null,null,null,null,null,0,0,0,null,null,null,0,{"$f":"IF(Inventory[[#This Row],[Item SKU/ID]]=\"\",0,SUMPRODUCT((Quantity_Sold_1=Inventory[[#This Row],[Item SKU/ID]])*Net_Profit))","v":0},{"$f":"IFERROR(AVERAGE(Inventory[[#This Row],[Total Net Profit]]/Inventory[[#This Row],[Quantity Sold]]),0)","v":0}]
[null,null,null,null,null,null,null,null,0,0,0,null,null,null,0,{"$f":"IF(Inventory[[#This Row],[Item SKU/ID]]=\"\",0,SUMPRODUCT((Quantity_Sold_1=Inventory[[#This Row],[Item SKU/ID]])*Net_Profit))","v":0},{"$f":"IFERROR(AVERAGE(Inventory[[#This Row],[Total Net Profit]]/Inventory[[#This Row],[Quantity Sold]]),0)","v":0}]
[null,null,null,null,null,null,null,null,0,0,0,null,null,null,0,{"$f":"IF(Inventory[[#This Row],[Item SKU/ID]]=\"\",0,SUMPRODUCT((Quantity_Sold_1=Inventory[[#This Row],[Item SKU/ID]])*Net_Profit))","v":0},{"$f":"IFERROR(AVERAGE(Inventory[[#This Row],[Total Net Profit]]/Inventory[[#This Row],[Quantity Sold]]),0)","v":0}]
[null,null,null,null,null,null,null,null,0,0,0,null,null,null,0,{"$f":"IF(Inventory[[#This Row],[Item SKU/ID]]=\"\",0,SUMPRODUCT((Quantity_Sold_1=Inventory[[#This Row],[Item SKU/ID]])*Net_Profit))","v":0},{"$f":"IFERROR(AVERAGE(Inventory[[#This Row],[Total Net Profit]]/Inventory[[#This Row],[Quantity Sold]]),0)","v":0}]
[null,null,null,null,null,null,null,null,0,0,0,null,null,null,0,{"$f":"IF(Inventory[[#This Row],[Item SKU/ID]]=\"\",0,SUMPRODUCT((Quantity_Sold_1=Inventory[[#This Row],[Item SKU/ID]])*Net_Profit))","v":0},{"$f":"IFERROR(AVERAGE(Inventory[[#This Row],[Total Net Profit]]/Inventory[[#This Row],[Quantity Sold]]),0)","v":0}]
[null,null,null,null,null,null,null,null,0,0,0,null,null,null,0,{"$f":"IF(Inventory[[#This Row],[Item SKU/ID]]=\"\",0,SUMPRODUCT((Quantity_Sold_1=Inventory[[#This Row],[Item SKU/ID]])*Net_Profit))","v":0},{"$f":"IFERROR(AVERAGE(Inventory[[#This Row],[Total Net Profit]]/Inventory[[#This Row],[Quantity Sold]]),0)","v":0}]
[null,null,null,null,null,null,null,null,0,0,0,null,null,null,0,{"$f":"IF(Inventory[[#This Row],[Item SKU/ID]]=\"\",0,SUMPRODUCT((Quantity_Sold_1=Inventory[[#This Row],[Item SKU/ID]])*Net_Profit))","v":0},{"$f":"IFERROR(AVERAGE(Inventory[[#This Row],[Total Net Profit]]/Inventory[[#This Row],[Quantity Sold]]),0)","v":0}]
[null,null,null,null,null,null,null,null,0,0,0,null,null,null,0,{"$f":"IF(Inventory[[#This Row],[Item SKU/ID]]=\"\",0,SUMPRODUCT((Quantity_Sold_1=Inventory[[#This Row],[Item SKU/ID]])*Net_Profit))","v":0},{"$f":"IFERROR(AVERAGE(Inventory[[#This Row],[Total Net Profit]]/Inventory[[#This Row],[Quantity Sold]]),0)","v":0}]
[null,null,null,null,null,null,null,null,0,0,0,null,null,null,0,{"$f":"IF(Inventory[[#This Row],[Item SKU/ID]]=\"\",0,SUMPRODUCT((Quantity_Sold_1=Inventory[[#This Row],[Item SKU/ID]])*Net_Profit))","v":0},{"$f":"IFERROR(AVERAGE(Inventory[[#This Row],[Total Net Profit]]/Inventory[[#This Row],[Quantity Sold]]),0)","v":0}]
[null,null,null,null,null,null,null,null,0,0,0,null,null,null,0,{"$f":"IF(Inventory[[#This Row],[Item SKU/ID]]=\"\",0,SUMPRODUCT((Quantity_Sold_1=Inventory[[#This Row],[Item SKU/ID]])*Net_Profit))","v":0},{"$f":"IFERROR(AVERAGE(Inventory[[#This Row],[Total Net Profit]]/Inventory[[#This Row],[Quantity Sold]]),0)","v":0}]
[null,null,null,null,null,null,null,null,0,0,0,null,null,null,0,{"$f":"IF(Inventory[[#This Row],[Item SKU/ID]]=\"\",0,SUMPRODUCT((Quantity_Sold_1=Inventory[[#This Row],[Item SKU/ID]])*Net_Profit))","v":0},{"$f":"IFERROR(AVERAGE(Inventory[[#This Row],[Total Net Profit]]/Inventory[[#This Row],[Quantity Sold]]),0)","v":0}]
[null,null,null,null,null,null,null,null,0,0,0,null,null,null,0,{"$f":"IF(Inventory[[#This Row],[Item SKU/ID]]=\"\",0,SUMPRODUCT((Quantity_Sold_1=Inventory[[#This Row],[Item SKU/ID]])*Net_Profit))","v":0},{"$f":"IFERROR(AVERAGE(Inventory[[#This Row],[Total Net Profit]]/Inventory[[#This Row],[Quantity Sold]]),0)","v":0}]
[null,null,null,null,null,null,null,null,0,0,0,null,null,null,0,{"$f":"IF(Inventory[[#This Row],[Item SKU/ID]]=\"\",0,SUMPRODUCT((Quantity_Sold_1=Inventory[[#This Row],[Item SKU/ID]])*Net_Profit))","v":0},{"$f":"IFERROR(AVERAGE(Inventory[[#This Row],[Total Net Profit]]/Inventory[[#This Row],[Quantity Sold]]),0)","v":0}]
[null,null,null,null,null,null,null,null,0,0,0,null,null,null,0,{"$f":"IF(Inventory[[#This Row],[Item SKU/ID]]=\"\",0,SUMPRODUCT((Quantity_Sold_1=Inventory[[#This Row],[Item SKU/ID]])*Net_Profit))","v":0},{"$f":"IFERROR(AVERAGE(Inventory[[#This Row],[Total Net Profit]]/Inventory[[#This Row],[Quantity Sold]]),0)","v":0}]
[null,null,null,null,null,null,null,null,0,0,0,null,null,null,0,{"$f":"IF(Inventory[[#This Row],[Item SKU/ID]]=\"\",0,SUMPRODUCT((Quantity_Sold_1=Inventory[[#This Row],[Item SKU/ID]])*Net_Profit))","v":0},{"$f":"IFERROR(AVERAGE(Inventory[[#This Row],[Total Net Profit]]/Inventory[[#This Row],[Quantity Sold]]),0)","v":0}]
[null,null,null,null,null,null,null,null,0,0,0,null,null,null,0,{"$f":"IF(Inventory[[#This Row],[Item SKU/ID]]=\"\",0,SUMPRODUCT((Quantity_Sold_1=Inventory[[#This Row],[Item SKU/ID]])*Net_Profit))","v":0},{"$f":"IFERROR(AVERAGE(Inventory[[#This Row],[Total Net Profit]]/Inventory[[#This Row],[Quantity Sold]]),0)","v":0}]
[null,null,null,null,null,null,null,null,0,0,0,null,null,null,0,{"$f":"IF(Inventory[[#This Row],[Item SKU/ID]]=\"\",0,SUMPRODUCT((Quantity_Sold_1=Inventory[[#This Row],[Item SKU/ID]])*Net_Profit))","v":0},{"$f":"IFERROR(AVERAGE(Inventory[[#This Row],[Total Net Profit]]/Inventory[[#This Row],[Quantity Sold]]),0)","v":0}]
[null,null,null,null,null,null,null,null,0,0,0,null,null,null,0,{"$f":"IF(Inventory[[#This Row],[Item SKU/ID]]=\"\",0,SUMPRODUCT((Quantity_Sold_1=Inventory[[#This Row],[Item SKU/ID]])*Net_Profit))","v":0},{"$f":"IFERROR(AVERAGE(Inventory[[#This Row],[Total Net Profit]]/Inventory[[#This Row],[Quantity Sold]]),0)","v":0}]
[null,null,null,null,null,null,null,null,{"$f":"K1412*H1412","v":0},{"$f":"IF(F1412=\"\",0,SUMPRODUCT((Quantity_Sold_1=F1412)*Quantity_Sold_2))","v":0},{"$f":"G1412-J1412","v":0},null,null,null,{"$f":"K1412*H1412","v":0},{"$f":"IF(Inventory[[#This Row],[Item SKU/ID]]=\"\",0,SUMPRODUCT((Quantity_Sold_1=Inventory[[#This Row],[Item SKU/ID]])*Net_Profit))","v":0},{"$f":"IFERROR(AVERAGE(Inventory[[#This Row],[Total Net Profit]]/Inventory[[#This Row],[Quantity Sold]]),0)","v":0}]
[null,null,null,null,null,null,null,null,0,0,0,null,null,null,0,{"$f":"IF(Inventory[[#This Row],[Item SKU/ID]]=\"\",0,SUMPRODUCT((Quantity_Sold_1=Inventory[[#This Row],[Item SKU/ID]])*Net_Profit))","v":0},{"$f":"IFERROR(AVERAGE(Inventory[[#This Row],[Total Net Profit]]/Inventory[[#This Row],[Quantity Sold]]),0)","v":0}]
[null,null,null,null,null,null,null,null,0,0,0,null,null,null,0,{"$f":"IF(Inventory[[#This Row],[Item SKU/ID]]=\"\",0,SUMPRODUCT((Quantity_Sold_1=Inventory[[#This Row],[Item SKU/ID]])*Net_Profit))","v":0},{"$f":"IFERROR(AVERAGE(Inventory[[#This Row],[Total Net Profit]]/Inventory[[#This Row],[Quantity Sold]]),0)","v":0}]
[null,null,null,null,null,null,null,null,0,0,0,null,null,null,0,{"$f":"IF(Inventory[[#This Row],[Item SKU/ID]]=\"\",0,SUMPRODUCT((Quantity_Sold_1=Inventory[[#This Row],[Item SKU/ID]])*Net_Profit))","v":0},{"$f":"IFERROR(AVERAGE(Inventory[[#This Row],[Total Net Profit]]/Inventory[[#This Row],[Quantity Sold]]),0)","v":0}]
[null,null,null,null,null,null,null,null,0,0,0,null,null,null,0,{"$f":"IF(Inventory[[#This Row],[Item SKU/ID]]=\"\",0,SUMPRODUCT((Quantity_Sold_1=Inventory[[#This Row],[Item SKU/ID]])*Net_Profit))","v":0},{"$f":"IFERROR(AVERAGE(Inventory[[#This Row],[Total Net Profit]]/Inventory[[#This Row],[Quantity Sold]]),0)","v":0}]
[null,null,null,null,null,null,null,null,0,0,0,null,null,null,0,{"$f":"IF(Inventory[[#This Row],[Item SKU/ID]]=\"\",0,SUMPRODUCT((Quantity_Sold_1=Inventory[[#This Row],[Item SKU/ID]])*Net_Profit))","v":0},{"$f":"IFERROR(AVERAGE(Inventory[[#This Row],[Total Net Profit]]/Inventory[[#This Row],[Quantity Sold]]),0)","v":0}]
[null,null,null,null,null,null,null,null,0,0,0,null,null,null,0,{"$f":"IF(Inventory[[#This Row],[Item SKU/ID]]=\"\",0,SUMPRODUCT((Quantity_Sold_1=Inventory[[#This Row],[Item SKU/ID]])*Net_Profit))","v":0},{"$f":"IFERROR(AVERAGE(Inventory[[#This Row],[Total Net Profit]]/Inventory[[#This Row],[Quantity Sold]]),0)","v":0}]
[null,null,null,null,null,null,null,null,0,0,0,null,null,null,0,{"$f":"IF(Inventory[[#This Row],[Item SKU/ID]]=\"\",0,SUMPRODUCT((Quantity_Sold_1=Inventory[[#This Row],[Item SKU/ID]])*Net_Profit))","v":0},{"$f":"IFERROR(AVERAGE(Inventory[[#This Row],[Total Net Profit]]/Inventory[[#This Row],[Quantity Sold]]),0)","v":0}]
[null,null,null,null,null,null,null,null,0,0,0,null,null,null,0,{"$f":"IF(Inventory[[#This Row],[Item SKU/ID]]=\"\",0,SUMPRODUCT((Quantity_Sold_1=Inventory[[#This Row],[Item SKU/ID]])*Net_Profit))","v":0},{"$f":"IFERROR(AVERAGE(Inventory[[#This Row],[Total Net Profit]]/Inventory[[#This Row],[Quantity Sold]]),0)","v":0}]
[null,null,null,null,null,null,null,null,0,0,0,null,null,null,0,{"$f":"IF(Inventory[[#This Row],[Item SKU/ID]]=\"\",0,SUMPRODUCT((Quantity_Sold_1=Inventory[[#This Row],[Item SKU/ID]])*Net_Profit))","v":0},{"$f":"IFERROR(AVERAGE(Inventory[[#This Row],[Total Net Profit]]/Inventory[[#This Row],[Quantity Sold]]),0)","v":0}]
[null,null,null,null,null,null,null,null,0,0,0,null,null,null,0,{"$f":"IF(Inventory[[#This Row],[Item SKU/ID]]=\"\",0,SUMPRODUCT((Quantity_Sold_1=Inventory[[#This Row],[Item SKU/ID]])*Net_Profit))","v":0},{"$f":"IFERROR(AVERAGE(Inventory[[#This Row],[Total Net Profit]]/Inventory[[#This Row],[Quantity Sold]]),0)","v":0}]
[null,null,null,null,null,null,null,null,0,0,0,null,null,null,0,{"$f":"IF(Inventory[[#This Row],[Item SKU/ID]]=\"\",0,SUMPRODUCT((Quantity_Sold_1=Inventory[[#This Row],[Item SKU/ID]])*Net_Profit))","v":0},{"$f":"IFERROR(AVERAGE(Inventory[[#This Row],[Total Net Profit]]/Inventory[[#This Row],[Quantity Sold]]),0)","v":0}]
[null,null,null,null,null,null,null,null,0,0,0,null,null,null,0,{"$f":"IF(Inventory[[#This Row],[Item SKU/ID]]=\"\",0,SUMPRODUCT((Quantity_Sold_1=Inventory[[#This Row],[Item SKU/ID]])*Net_Profit))","v":0},{"$f":"IFERROR(AVERAGE(Inventory[[#This Row],[Total Net Profit]]/Inventory[[#This Row],[Quantity Sold]]),0)","v":0}]
[null,null,null,null,null,null,null,null,0,0,0,null,null,null,0,{"$f":"IF(Inventory[[#This Row],[Item SKU/ID]]=\"\",0,SUMPRODUCT((Quantity_Sold_1=Inventory[[#This Row],[Item SKU/ID]])*Net_Profit))","v":0},{"$f":"IFERROR(AVERAGE(Inventory[[#This Row],[Total Net Profit]]/Inventory[[#This Row],[Quantity Sold]]),0)","v":0}]
[null,null,null,null,null,null,null,null,0,0,0,null,null,null,0,{"$f":"IF(Inventory[[#This Row],[Item SKU/ID]]=\"\",0,SUMPRODUCT((Quantity_Sold_1=Inventory[[#This Row],[Item SKU/ID]])*Net_Profit))","v":0},{"$f":"IFERROR(AVERAGE(Inventory[[#This Row],[Total Net Profit]]/Inventory[[#This Row],[Quantity Sold]]),0)","v":0}]
[null,null,null,null,null,null,null,null,0,0,0,null,null,null,0,{"$f":"IF(Inventory[[#This Row],[Item SKU/ID]]=\"\",0,SUMPRODUCT((Quantity_Sold_1=Inventory[[#This Row],[Item SKU/ID]])*Net_Profit))","v":0},{"$f":"IFERROR(AVERAGE(Inventory[[#This Row],[Total Net Profit]]/Inventory[[#This Row],[Quantity Sold]]),0)","v":0}]
[null,null,null,null,null,null,null,null,0,0,0,null,null,null,0,{"$f":"IF(Inventory[[#This Row],[Item SKU/ID]]=\"\",0,SUMPRODUCT((Quantity_Sold_1=Inventory[[#This Row],[Item SKU/ID]])*Net_Profit))","v":0},{"$f":"IFERROR(AVERAGE(Inventory[[#This Row],[Total Net Profit]]/Inventory[[#This Row],[Quantity Sold]]),0)","v":0}]
[null,null,null,null,null,null,null,null,0,0,0,null,null,null,0,{"$f":"IF(Inventory[[#This Row],[Item SKU/ID]]=\"\",0,SUMPRODUCT((Quantity_Sold_1=Inventory[[#This Row],[Item SKU/ID]])*Net_Profit))","v":0},{"$f":"IFERROR(AVERAGE(Inventory[[#This Row],[Total Net Profit]]/Inventory[[#This Row],[Quantity Sold]]),0)","v":0}]
[null,null,null,null,null,null,null,null,0,0,0,null,null,null,0,{"$f":"IF(Inventory[[#This Row],[Item SKU/ID]]=\"\",0,SUMPRODUCT((Quantity_Sold_1=Inventory[[#This Row],[Item SKU/ID]])*Net_Profit))","v":0},{"$f":"IFERROR(AVERAGE(Inventory[[#This Row],[Total Net Profit]]/Inventory[[#This Row],[Quantity Sold]]),0)","v":0}]
[null,null,null,null,null,null,null,null,0,0,0,null,null,null,0,{"$f":"IF(Inventory[[#This Row],[Item SKU/ID]]=\"\",0,SUMPRODUCT((Quantity_Sold_1=Inventory[[#This Row],[Item SKU/ID]])*Net_Profit))","v":0},{"$f":"IFERROR(AVERAGE(Inventory[[#This Row],[Total Net Profit]]/Inventory[[#This Row],[Quantity Sold]]),0)","v":0}]
[null,null,null,null,null,null,null,null,0,0,0,null,null,null,0,{"$f":"IF(Inventory[[#This Row],[Item SKU/ID]]=\"\",0,SUMPRODUCT((Quantity_Sold_1=Inventory[[#This Row],[Item SKU/ID]])*Net_Profit))","v":0},{"$f":"IFERROR(AVERAGE(Inventory[[#This Row],[Total Net Profit]]/Inventory[[#This Row],[Quantity Sold]]),0)","v":0}]
[null,null,null,null,null,null,null,null,0,0,0,null,null,null,0,{"$f":"IF(Inventory[[#This Row],[Item SKU/ID]]=\"\",0,SUMPRODUCT((Quantity_Sold_1=Inventory[[#This Row],[Item SKU/ID]])*Net_Profit))","v":0},{"$f":"IFERROR(AVERAGE(Inventory[[#This Row],[Total Net Profit]]/Inventory[[#This Row],[Quantity Sold]]),0)","v":0}]
[null,null,null,null,null,null,null,null,0,0,0,null,null,null,0,{"$f":"IF(Inventory[[#This Row],[Item SKU/ID]]=\"\",0,SUMPRODUCT((Quantity_Sold_1=Inventory[[#This Row],[Item SKU/ID]])*Net_Profit))","v":0},{"$f":"IFERROR(AVERAGE(Inventory[[#This Row],[Total Net Profit]]/Inventory[[#This Row],[Quantity Sold]]),0)","v":0}]
[null,null,null,null,null,null,null,null,0,0,0,null,null,null,0,{"$f":"IF(Inventory[[#This Row],[Item SKU/ID]]=\"\",0,SUMPRODUCT((Quantity_Sold_1=Inventory[[#This Row],[Item SKU/ID]])*Net_Profit))","v":0},{"$f":"IFERROR(AVERAGE(Inventory[[#This Row],[Total Net Profit]]/Inventory[[#This Row],[Quantity Sold]]),0)","v":0}]
[null,null,null,null,null,null,null,null,0,0,0,null,null,null,0,{"$f":"IF(Inventory[[#This Row],[Item SKU/ID]]=\"\",0,SUMPRODUCT((Quantity_Sold_1=Inventory[[#This Row],[Item SKU/ID]])*Net_Profit))","v":0},{"$f":"IFERROR(AVERAGE(Inventory[[#This Row],[Total Net Profit]]/Inventory[[#This Row],[Quantity Sold]]),0)","v":0}]
[null,null,null,null,null,null,null,null,0,0,0,null,null,null,0,{"$f":"IF(Inventory[[#This Row],[Item SKU/ID]]=\"\",0,SUMPRODUCT((Quantity_Sold_1=Inventory[[#This Row],[Item SKU/ID]])*Net_Profit))","v":0},{"$f":"IFERROR(AVERAGE(Inventory[[#This Row],[Total Net Profit]]/Inventory[[#This Row],[Quantity Sold]]),0)","v":0}]
[null,null,null,null,null,null,null,null,0,0,0,null,null,null,0,{"$f":"IF(Inventory[[#This Row],[Item SKU/ID]]=\"\",0,SUMPRODUCT((Quantity_Sold_1=Inventory[[#This Row],[Item SKU/ID]])*Net_Profit))","v":0},{"$f":"IFERROR(AVERAGE(Inventory[[#This Row],[Total Net Profit]]/Inventory[[#This Row],[Quantity Sold]]),0)","v":0}]
[null,null,null,null,null,null,null,null,0,0,0,null,null,null,0,{"$f":"IF(Inventory[[#This Row],[Item SKU/ID]]=\"\",0,SUMPRODUCT((Quantity_Sold_1=Inventory[[#This Row],[Item SKU/ID]])*Net_Profit))","v":0},{"$f":"IFERROR(AVERAGE(Inventory[[#This Row],[Total Net Profit]]/Inventory[[#This Row],[Quantity Sold]]),0)","v":0}]
[null,null,null,null,null,null,null,null,0,0,0,null,null,null,0,{"$f":"IF(Inventory[[#This Row],[Item SKU/ID]]=\"\",0,SUMPRODUCT((Quantity_Sold_1=Inventory[[#This Row],[Item SKU/ID]])*Net_Profit))","v":0},{"$f":"IFERROR(AVERAGE(Inventory[[#This Row],[Total Net Profit]]/Inventory[[#This Row],[Quantity Sold]]),0)","v":0}]
[null,null,null,null,null,null,null,null,0,0,0,null,null,null,0,{"$f":"IF(Inventory[[#This Row],[Item SKU/ID]]=\"\",0,SUMPRODUCT((Quantity_Sold_1=Inventory[[#This Row],[Item SKU/ID]])*Net_Profit))","v":0},{"$f":"IFERROR(AVERAGE(Inventory[[#This Row],[Total Net Profit]]/Inventory[[#This Row],[Quantity Sold]]),0)","v":0}]
[null,null,null,null,null,null,null,null,0,0,0,null,null,null,0,{"$f":"IF(Inventory[[#This Row],[Item SKU/ID]]=\"\",0,SUMPRODUCT((Quantity_Sold_1=Inventory[[#This Row],[Item SKU/ID]])*Net_Profit))","v":0},{"$f":"IFERROR(AVERAGE(Inventory[[#This Row],[Total Net Profit]]/Inventory[[#This Row],[Quantity Sold]]),0)","v":0}]
[null,null,null,null,null,null,null,null,0,0,0,null,null,null,0,{"$f":"IF(Inventory[[#This Row],[Item SKU/ID]]=\"\",0,SUMPRODUCT((Quantity_Sold_1=Inventory[[#This Row],[Item SKU/ID]])*Net_Profit))","v":0},{"$f":"IFERROR(AVERAGE(Inventory[[#This Row],[Total Net Profit]]/Inventory[[#This Row],[Quantity Sold]]),0)","v":0}]
[null,null,null,null,null,null,null,null,0,0,0,null,null,null,0,{"$f":"IF(Inventory[[#This Row],[Item SKU/ID]]=\"\",0,SUMPRODUCT((Quantity_Sold_1=Inventory[[#This Row],[Item SKU/ID]])*Net_Profit))","v":0},{"$f":"IFERROR(AVERAGE(Inventory[[#This Row],[Total Net Profit]]/Inventory[[#This Row],[Quantity Sold]]),0)","v":0}]
[null,null,null,null,null,null,null,null,0,0,0,null,null,null,0,{"$f":"IF(Inventory[[#This Row],[Item SKU/ID]]=\"\",0,SUMPRODUCT((Quantity_Sold_1=Inventory[[#This Row],[Item SKU/ID]])*Net_Profit))","v":0},{"$f":"IFERROR(AVERAGE(Inventory[[#This Row],[Total Net Profit]]/Inventory[[#This Row],[Quantity Sold]]),0)","v":0}]
[null,null,null,null,null,null,null,null,0,0,0,null,null,null,0,{"$f":"IF(Inventory[[#This Row],[Item SKU/ID]]=\"\",0,SUMPRODUCT((Quantity_Sold_1=Inventory[[#This Row],[Item SKU/ID]])*Net_Profit))","v":0},{"$f":"IFERROR(AVERAGE(Inventory[[#This Row],[Total Net Profit]]/Inventory[[#This Row],[Quantity Sold]]),0)","v":0}]
[null,null,null,null,null,null,null,null,0,0,0,null,null,null,0,{"$f":"IF(Inventory[[#This Row],[Item SKU/ID]]=\"\",0,SUMPRODUCT((Quantity_Sold_1=Inventory[[#This Row],[Item SKU/ID]])*Net_Profit))","v":0},{"$f":"IFERROR(AVERAGE(Inventory[[#This Row],[Total Net Profit]]/Inventory[[#This Row],[Quantity Sold]]),0)","v":0}]
[null,null,null,null,null,null,null,null,0,0,0,null,null,null,0,{"$f":"IF(Inventory[[#This Row],[Item SKU/ID]]=\"\",0,SUMPRODUCT((Quantity_Sold_1=Inventory[[#This Row],[Item SKU/ID]])*Net_Profit))","v":0},{"$f":"IFERROR(AVERAGE(Inventory[[#This Row],[Total Net Profit]]/Inventory[[#This Row],[Quantity Sold]]),0)","v":0}]
[null,null,null,null,null,null,null,null,0,0,0,null,null,null,0,{"$f":"IF(Inventory[[#This Row],[Item SKU/ID]]=\"\",0,SUMPRODUCT((Quantity_Sold_1=Inventory[[#This Row],[Item SKU/ID]])*Net_Profit))","v":0},{"$f":"IFERROR(AVERAGE(Inventory[[#This Row],[Total Net Profit]]/Inventory[[#This Row],[Quantity Sold]]),0)","v":0}]
[null,null,null,null,null,null,null,null,0,0,0,null,null,null,0,{"$f":"IF(Inventory[[#This Row],[Item SKU/ID]]=\"\",0,SUMPRODUCT((Quantity_Sold_1=Inventory[[#This Row],[Item SKU/ID]])*Net_Profit))","v":0},{"$f":"IFERROR(AVERAGE(Inventory[[#This Row],[Total Net Profit]]/Inventory[[#This Row],[Quantity Sold]]),0)","v":0}]
[null,null,null,null,null,null,null,null,0,0,0,null,null,null,0,{"$f":"IF(Inventory[[#This Row],[Item SKU/ID]]=\"\",0,SUMPRODUCT((Quantity_Sold_1=Inventory[[#This Row],[Item SKU/ID]])*Net_Profit))","v":0},{"$f":"IFERROR(AVERAGE(Inventory[[#This Row],[Total Net Profit]]/Inventory[[#This Row],[Quantity Sold]]),0)","v":0}]
[null,null,null,null,null,null,null,null,0,0,0,null,null,null,0,{"$f":"IF(Inventory[[#This Row],[Item SKU/ID]]=\"\",0,SUMPRODUCT((Quantity_Sold_1=Inventory[[#This Row],[Item SKU/ID]])*Net_Profit))","v":0},{"$f":"IFERROR(AVERAGE(Inventory[[#This Row],[Total Net Profit]]/Inventory[[#This Row],[Quantity Sold]]),0)","v":0}]
[null,null,null,null,null,null,null,null,0,0,0,null,null,null,0,{"$f":"IF(Inventory[[#This Row],[Item SKU/ID]]=\"\",0,SUMPRODUCT((Quantity_Sold_1=Inventory[[#This Row],[Item SKU/ID]])*Net_Profit))","v":0},{"$f":"IFERROR(AVERAGE(Inventory[[#This Row],[Total Net Profit]]/Inventory[[#This Row],[Quantity Sold]]),0)","v":0}]
[null,null,null,null,null,null,null,null,0,0,0,null,null,null,0,{"$f":"IF(Inventory[[#This Row],[Item SKU/ID]]=\"\",0,SUMPRODUCT((Quantity_Sold_1=Inventory[[#This Row],[Item SKU/ID]])*Net_Profit))","v":0},{"$f":"IFERROR(AVERAGE(Inventory[[#This Row],[Total Net Profit]]/Inventory[[#This Row],[Quantity Sold]]),0)","v":0}]
[null,null,null,null,null,null,null,null,0,0,0,null,null,null,0,{"$f":"IF(Inventory[[#This Row],[Item SKU/ID]]=\"\",0,SUMPRODUCT((Quantity_Sold_1=Inventory[[#This Row],[Item SKU/ID]])*Net_Profit))","v":0},{"$f":"IFERROR(AVERAGE(Inventory[[#This Row],[Total Net Profit]]/Inventory[[#This Row],[Quantity Sold]]),0)","v":0}]
[null,null,null,null,null,null,null,null,0,0,0,null,null,null,0,{"$f":"IF(Inventory[[#This Row],[Item SKU/ID]]=\"\",0,SUMPRODUCT((Quantity_Sold_1=Inventory[[#This Row],[Item SKU/ID]])*Net_Profit))","v":0},{"$f":"IFERROR(AVERAGE(Inventory[[#This Row],[Total Net Profit]]/Inventory[[#This Row],[Quantity Sold]]),0)","v":0}]
[null,null,null,null,null,null,null,null,0,0,0,null,null,null,0,{"$f":"IF(Inventory[[#This Row],[Item SKU/ID]]=\"\",0,SUMPRODUCT((Quantity_Sold_1=Inventory[[#This Row],[Item SKU/ID]])*Net_Profit))","v":0},{"$f":"IFERROR(AVERAGE(Inventory[[#This Row],[Total Net Profit]]/Inventory[[#This Row],[Quantity Sold]]),0)","v":0}]
[null,null,null,null,null,null,null,null,0,0,0,null,null,null,0,{"$f":"IF(Inventory[[#This Row],[Item SKU/ID]]=\"\",0,SUMPRODUCT((Quantity_Sold_1=Inventory[[#This Row],[Item SKU/ID]])*Net_Profit))","v":0},{"$f":"IFERROR(AVERAGE(Inventory[[#This Row],[Total Net Profit]]/Inventory[[#This Row],[Quantity Sold]]),0)","v":0}]
[null,null,null,null,null,null,null,null,0,0,0,null,null,null,0,{"$f":"IF(Inventory[[#This Row],[Item SKU/ID]]=\"\",0,SUMPRODUCT((Quantity_Sold_1=Inventory[[#This Row],[Item SKU/ID]])*Net_Profit))","v":0},{"$f":"IFERROR(AVERAGE(Inventory[[#This Row],[Total Net Profit]]/Inventory[[#This Row],[Quantity Sold]]),0)","v":0}]
[null,null,null,null,null,null,null,null,0,0,0,null,null,null,0,{"$f":"IF(Inventory[[#This Row],[Item SKU/ID]]=\"\",0,SUMPRODUCT((Quantity_Sold_1=Inventory[[#This Row],[Item SKU/ID]])*Net_Profit))","v":0},{"$f":"IFERROR(AVERAGE(Inventory[[#This Row],[Total Net Profit]]/Inventory[[#This Row],[Quantity Sold]]),0)","v":0}]
[null,null,null,null,null,null,null,null,0,0,0,null,null,null,0,{"$f":"IF(Inventory[[#This Row],[Item SKU/ID]]=\"\",0,SUMPRODUCT((Quantity_Sold_1=Inventory[[#This Row],[Item SKU/ID]])*Net_Profit))","v":0},{"$f":"IFERROR(AVERAGE(Inventory[[#This Row],[Total Net Profit]]/Inventory[[#This Row],[Quantity Sold]]),0)","v":0}]
[null,null,null,null,null,null,null,null,0,0,0,null,null,null,0,{"$f":"IF(Inventory[[#This Row],[Item SKU/ID]]=\"\",0,SUMPRODUCT((Quantity_Sold_1=Inventory[[#This Row],[Item SKU/ID]])*Net_Profit))","v":0},{"$f":"IFERROR(AVERAGE(Inventory[[#This Row],[Total Net Profit]]/Inventory[[#This Row],[Quantity Sold]]),0)","v":0}]
[null,null,null,null,null,null,null,null,0,0,0,null,null,null,0,{"$f":"IF(Inventory[[#This Row],[Item SKU/ID]]=\"\",0,SUMPRODUCT((Quantity_Sold_1=Inventory[[#This Row],[Item SKU/ID]])*Net_Profit))","v":0},{"$f":"IFERROR(AVERAGE(Inventory[[#This Row],[Total Net Profit]]/Inventory[[#This Row],[Quantity Sold]]),0)","v":0}]
[null,null,null,null,null,null,null,null,0,0,0,null,null,null,0,{"$f":"IF(Inventory[[#This Row],[Item SKU/ID]]=\"\",0,SUMPRODUCT((Quantity_Sold_1=Inventory[[#This Row],[Item SKU/ID]])*Net_Profit))","v":0},{"$f":"IFERROR(AVERAGE(Inventory[[#This Row],[Total Net Profit]]/Inventory[[#This Row],[Quantity Sold]]),0)","v":0}]
[null,null,null,null,null,null,null,null,0,0,0,null,null,null,0,{"$f":"IF(Inventory[[#This Row],[Item SKU/ID]]=\"\",0,SUMPRODUCT((Quantity_Sold_1=Inventory[[#This Row],[Item SKU/ID]])*Net_Profit))","v":0},{"$f":"IFERROR(AVERAGE(Inventory[[#This Row],[Total Net Profit]]/Inventory[[#This Row],[Quantity Sold]]),0)","v":0}]
[null,null,null,null,null,null,null,null,0,0,0,null,null,null,0,{"$f":"IF(Inventory[[#This Row],[Item SKU/ID]]=\"\",0,SUMPRODUCT((Quantity_Sold_1=Inventory[[#This Row],[Item SKU/ID]])*Net_Profit))","v":0},{"$f":"IFERROR(AVERAGE(Inventory[[#This Row],[Total Net Profit]]/Inventory[[#This Row],[Quantity Sold]]),0)","v":0}]
[null,null,null,null,null,null,null,null,0,0,0,null,null,null,0,{"$f":"IF(Inventory[[#This Row],[Item SKU/ID]]=\"\",0,SUMPRODUCT((Quantity_Sold_1=Inventory[[#This Row],[Item SKU/ID]])*Net_Profit))","v":0},{"$f":"IFERROR(AVERAGE(Inventory[[#This Row],[Total Net Profit]]/Inventory[[#This Row],[Quantity Sold]]),0)","v":0}]
[null,null,null,null,null,null,null,null,0,0,0,null,null,null,0,{"$f":"IF(Inventory[[#This Row],[Item SKU/ID]]=\"\",0,SUMPRODUCT((Quantity_Sold_1=Inventory[[#This Row],[Item SKU/ID]])*Net_Profit))","v":0},{"$f":"IFERROR(AVERAGE(Inventory[[#This Row],[Total Net Profit]]/Inventory[[#This Row],[Quantity Sold]]),0)","v":0}]
[null,null,null,null,null,null,null,null,0,0,0,null,null,null,0,{"$f":"IF(Inventory[[#This Row],[Item SKU/ID]]=\"\",0,SUMPRODUCT((Quantity_Sold_1=Inventory[[#This Row],[Item SKU/ID]])*Net_Profit))","v":0},{"$f":"IFERROR(AVERAGE(Inventory[[#This Row],[Total Net Profit]]/Inventory[[#This Row],[Quantity Sold]]),0)","v":0}]
[null,null,null,null,null,null,null,null,0,0,0,null,null,null,0,{"$f":"IF(Inventory[[#This Row],[Item SKU/ID]]=\"\",0,SUMPRODUCT((Quantity_Sold_1=Inventory[[#This Row],[Item SKU/ID]])*Net_Profit))","v":0},{"$f":"IFERROR(AVERAGE(Inventory[[#This Row],[Total Net Profit]]/Inventory[[#This Row],[Quantity Sold]]),0)","v":0}]
[null,null,null,null,null,null,null,null,0,0,0,null,null,null,0,{"$f":"IF(Inventory[[#This Row],[Item SKU/ID]]=\"\",0,SUMPRODUCT((Quantity_Sold_1=Inventory[[#This Row],[Item SKU/ID]])*Net_Profit))","v":0},{"$f":"IFERROR(AVERAGE(Inventory[[#This Row],[Total Net Profit]]/Inventory[[#This Row],[Quantity Sold]]),0)","v":0}]
[null,null,null,null,null,null,null,null,0,0,0,null,null,null,0,{"$f":"IF(Inventory[[#This Row],[Item SKU/ID]]=\"\",0,SUMPRODUCT((Quantity_Sold_1=Inventory[[#This Row],[Item SKU/ID]])*Net_Profit))","v":0},{"$f":"IFERROR(AVERAGE(Inventory[[#This Row],[Total Net Profit]]/Inventory[[#This Row],[Quantity Sold]]),0)","v":0}]
[null,null,null,null,null,null,null,null,0,0,0,null,null,null,0,{"$f":"IF(Inventory[[#This Row],[Item SKU/ID]]=\"\",0,SUMPRODUCT((Quantity_Sold_1=Inventory[[#This Row],[Item SKU/ID]])*Net_Profit))","v":0},{"$f":"IFERROR(AVERAGE(Inventory[[#This Row],[Total Net Profit]]/Inventory[[#This Row],[Quantity Sold]]),0)","v":0}]
[null,null,null,null,null,null,null,null,0,0,0,null,null,null,0,{"$f":"IF(Inventory[[#This Row],[Item SKU/ID]]=\"\",0,SUMPRODUCT((Quantity_Sold_1=Inventory[[#This Row],[Item SKU/ID]])*Net_Profit))","v":0},{"$f":"IFERROR(AVERAGE(Inventory[[#This Row],[Total Net Profit]]/Inventory[[#This Row],[Quantity Sold]]),0)","v":0}]
[null,null,null,null,null,null,null,null,0,0,0,null,null,null,0,{"$f":"IF(Inventory[[#This Row],[Item SKU/ID]]=\"\",0,SUMPRODUCT((Quantity_Sold_1=Inventory[[#This Row],[Item SKU/ID]])*Net_Profit))","v":0},{"$f":"IFERROR(AVERAGE(Inventory[[#This Row],[Total Net Profit]]/Inventory[[#This Row],[Quantity Sold]]),0)","v":0}]
[null,null,null,null,null,null,null,null,{"$f":"K1476*H1476","v":0},{"$f":"IF(F1476=\"\",0,SUMPRODUCT((Quantity_Sold_1=F1476)*Quantity_Sold_2))","v":0},{"$f":"G1476-J1476","v":0},null,null,null,{"$f":"K1476*H1476","v":0},{"$f":"IF(Inventory[[#This Row],[Item SKU/ID]]=\"\",0,SUMPRODUCT((Quantity_Sold_1=Inventory[[#This Row],[Item SKU/ID]])*Net_Profit))","v":0},{"$f":"IFERROR(AVERAGE(Inventory[[#This Row],[Total Net Profit]]/Inventory[[#This Row],[Quantity Sold]]),0)","v":0}]
[null,null,null,null,null,null,null,null,0,0,0,null,null,null,0,{"$f":"IF(Inventory[[#This Row],[Item SKU/ID]]=\"\",0,SUMPRODUCT((Quantity_Sold_1=Inventory[[#This Row],[Item SKU/ID]])*Net_Profit))","v":0},{"$f":"IFERROR(AVERAGE(Inventory[[#This Row],[Total Net Profit]]/Inventory[[#This Row],[Quantity Sold]]),0)","v":0}]
[null,null,null,null,null,null,null,null,0,0,0,null,null,null,0,{"$f":"IF(Inventory[[#This Row],[Item SKU/ID]]=\"\",0,SUMPRODUCT((Quantity_Sold_1=Inventory[[#This Row],[Item SKU/ID]])*Net_Profit))","v":0},{"$f":"IFERROR(AVERAGE(Inventory[[#This Row],[Total Net Profit]]/Inventory[[#This Row],[Quantity Sold]]),0)","v":0}]
[null,null,null,null,null,null,null,null,0,0,0,null,null,null,0,{"$f":"IF(Inventory[[#This Row],[Item SKU/ID]]=\"\",0,SUMPRODUCT((Quantity_Sold_1=Inventory[[#This Row],[Item SKU/ID]])*Net_Profit))","v":0},{"$f":"IFERROR(AVERAGE(Inventory[[#This Row],[Total Net Profit]]/Inventory[[#This Row],[Quantity Sold]]),0)","v":0}]
[null,null,null,null,null,null,null,null,0,0,0,null,null,null,0,{"$f":"IF(Inventory[[#This Row],[Item SKU/ID]]=\"\",0,SUMPRODUCT((Quantity_Sold_1=Inventory[[#This Row],[Item SKU/ID]])*Net_Profit))","v":0},{"$f":"IFERROR(AVERAGE(Inventory[[#This Row],[Total Net Profit]]/Inventory[[#This Row],[Quantity Sold]]),0)","v":0}]
[null,null,null,null,null,null,null,null,0,0,0,null,null,null,0,{"$f":"IF(Inventory[[#This Row],[Item SKU/ID]]=\"\",0,SUMPRODUCT((Quantity_Sold_1=Inventory[[#This Row],[Item SKU/ID]])*Net_Profit))","v":0},{"$f":"IFERROR(AVERAGE(Inventory[[#This Row],[Total Net Profit]]/Inventory[[#This Row],[Quantity Sold]]),0)","v":0}]
[null,null,null,null,null,null,null,null,0,0,0,null,null,null,0,{"$f":"IF(Inventory[[#This Row],[Item SKU/ID]]=\"\",0,SUMPRODUCT((Quantity_Sold_1=Inventory[[#This Row],[Item SKU/ID]])*Net_Profit))","v":0},{"$f":"IFERROR(AVERAGE(Inventory[[#This Row],[Total Net Profit]]/Inventory[[#This Row],[Quantity Sold]]),0)","v":0}]
[null,null,null,null,null,null,null,null,0,0,0,null,null,null,0,{"$f":"IF(Inventory[[#This Row],[Item SKU/ID]]=\"\",0,SUMPRODUCT((Quantity_Sold_1=Inventory[[#This Row],[Item SKU/ID]])*Net_Profit))","v":0},{"$f":"IFERROR(AVERAGE(Inventory[[#This Row],[Total Net Profit]]/Inventory[[#This Row],[Quantity Sold]]),0)","v":0}]
[null,null,null,null,null,null,null,null,0,0,0,null,null,null,0,{"$f":"IF(Inventory[[#This Row],[Item SKU/ID]]=\"\",0,SUMPRODUCT((Quantity_Sold_1=Inventory[[#This Row],[Item SKU/ID]])*Net_Profit))","v":0},{"$f":"IFERROR(AVERAGE(Inventory[[#This Row],[Total Net Profit]]/Inventory[[#This Row],[Quantity Sold]]),0)","v":0}]
[null,null,null,null,null,null,null,null,0,0,0,null,null,null,0,{"$f":"IF(Inventory[[#This Row],[Item SKU/ID]]=\"\",0,SUMPRODUCT((Quantity_Sold_1=Inventory[[#This Row],[Item SKU/ID]])*Net_Profit))","v":0},{"$f":"IFERROR(AVERAGE(Inventory[[#This Row],[Total Net Profit]]/Inventory[[#This Row],[Quantity Sold]]),0)","v":0}]
[null,null,null,null,null,null,null,null,0,0,0,null,null,null,0,{"$f":"IF(Inventory[[#This Row],[Item SKU/ID]]=\"\",0,SUMPRODUCT((Quantity_Sold_1=Inventory[[#This Row],[Item SKU/ID]])*Net_Profit))","v":0},{"$f":"IFERROR(AVERAGE(Inventory[[#This Row],[Total Net Profit]]/Inventory[[#This Row],[Quantity Sold]]),0)","v":0}]
[null,null,null,null,null,null,null,null,0,0,0,null,null,null,0,{"$f":"IF(Inventory[[#This Row],[Item SKU/ID]]=\"\",0,SUMPRODUCT((Quantity_Sold_1=Inventory[[#This Row],[Item SKU/ID]])*Net_Profit))","v":0},{"$f":"IFERROR(AVERAGE(Inventory[[#This Row],[Total Net Profit]]/Inventory[[#This Row],[Quantity Sold]]),0)","v":0}]
[null,null,null,null,null,null,null,null,0,0,0,null,null,null,0,{"$f":"IF(Inventory[[#This Row],[Item SKU/ID]]=\"\",0,SUMPRODUCT((Quantity_Sold_1=Inventory[[#This Row],[Item SKU/ID]])*Net_Profit))","v":0},{"$f":"IFERROR(AVERAGE(Inventory[[#This Row],[Total Net Profit]]/Inventory[[#This Row],[Quantity Sold]]),0)","v":0}]
[null,null,null,null,null,null,null,null,0,0,0,null,null,null,0,{"$f":"IF(Inventory[[#This Row],[Item SKU/ID]]=\"\",0,SUMPRODUCT((Quantity_Sold_1=Inventory[[#This Row],[Item SKU/ID]])*Net_Profit))","v":0},{"$f":"IFERROR(AVERAGE(Inventory[[#This Row],[Total Net Profit]]/Inventory[[#This Row],[Quantity Sold]]),0)","v":0}]
[null,null,null,null,null,null,null,null,0,0,0,null,null,null,0,{"$f":"IF(Inventory[[#This Row],[Item SKU/ID]]=\"\",0,SUMPRODUCT((Quantity_Sold_1=Inventory[[#This Row],[Item SKU/ID]])*Net_Profit))","v":0},{"$f":"IFERROR(AVERAGE(Inventory[[#This Row],[Total Net Profit]]/Inventory[[#This Row],[Quantity Sold]]),0)","v":0}]
[null,null,null,null,null,null,null,null,0,0,0,null,null,null,0,{"$f":"IF(Inventory[[#This Row],[Item SKU/ID]]=\"\",0,SUMPRODUCT((Quantity_Sold_1=Inventory[[#This Row],[Item SKU/ID]])*Net_Profit))","v":0},{"$f":"IFERROR(AVERAGE(Inventory[[#This Row],[Total Net Profit]]/Inventory[[#This Row],[Quantity Sold]]),0)","v":0}]
[null,null,null,null,null,null,null,null,0,0,0,null,null,null,0,{"$f":"IF(Inventory[[#This Row],[Item SKU/ID]]=\"\",0,SUMPRODUCT((Quantity_Sold_1=Inventory[[#This Row],[Item SKU/ID]])*Net_Profit))","v":0},{"$f":"IFERROR(AVERAGE(Inventory[[#This Row],[Total Net Profit]]/Inventory[[#This Row],[Quantity Sold]]),0)","v":0}]
[null,null,null,null,null,null,null,null,0,0,0,null,null,null,0,{"$f":"IF(Inventory[[#This Row],[Item SKU/ID]]=\"\",0,SUMPRODUCT((Quantity_Sold_1=Inventory[[#This Row],[Item SKU/ID]])*Net_Profit))","v":0},{"$f":"IFERROR(AVERAGE(Inventory[[#This Row],[Total Net Profit]]/Inventory[[#This Row],[Quantity Sold]]),0)","v":0}]
[null,null,null,null,null,null,null,null,0,0,0,null,null,null,0,{"$f":"IF(Inventory[[#This Row],[Item SKU/ID]]=\"\",0,SUMPRODUCT((Quantity_Sold_1=Inventory[[#This Row],[Item SKU/ID]])*Net_Profit))","v":0},{"$f":"IFERROR(AVERAGE(Inventory[[#This Row],[Total Net Profit]]/Inventory[[#This Row],[Quantity Sold]]),0)","v":0}]
[null,null,null,null,null,null,null,null,0,0,0,null,null,null,0,{"$f":"IF(Inventory[[#This Row],[Item SKU/ID]]=\"\",0,SUMPRODUCT((Quantity_Sold_1=Inventory[[#This Row],[Item SKU/ID]])*Net_Profit))","v":0},{"$f":"IFERROR(AVERAGE(Inventory[[#This Row],[Total Net Profit]]/Inventory[[#This Row],[Quantity Sold]]),0)","v":0}]
[null,null,null,null,null,null,null,null,0,0,0,null,null,null,0,{"$f":"IF(Inventory[[#This Row],[Item SKU/ID]]=\"\",0,SUMPRODUCT((Quantity_Sold_1=Inventory[[#This Row],[Item SKU/ID]])*Net_Profit))","v":0},{"$f":"IFERROR(AVERAGE(Inventory[[#This Row],[Total Net Profit]]/Inventory[[#This Row],[Quantity Sold]]),0)","v":0}]
[null,null,null,null,null,null,null,null,0,0,0,null,null,null,0,{"$f":"IF(Inventory[[#This Row],[Item SKU/ID]]=\"\",0,SUMPRODUCT((Quantity_Sold_1=Inventory[[#This Row],[Item SKU/ID]])*Net_Profit))","v":0},{"$f":"IFERROR(AVERAGE(Inventory[[#This Row],[Total Net Profit]]/Inventory[[#This Row],[Quantity Sold]]),0)","v":0}]
[null,null,null,null,null,null,null,null,0,0,0,null,null,null,0,{"$f":"IF(Inventory[[#This Row],[Item SKU/ID]]=\"\",0,SUMPRODUCT((Quantity_Sold_1=Inventory[[#This Row],[Item SKU/ID]])*Net_Profit))","v":0},{"$f":"IFERROR(AVERAGE(Inventory[[#This Row],[Total Net Profit]]/Inventory[[#This Row],[Quantity Sold]]),0)","v":0}]
[null,null,null,null,null,null,null,null,0,0,0,null,null,null,0,{"$f":"IF(Inventory[[#This Row],[Item SKU/ID]]=\"\",0,SUMPRODUCT((Quantity_Sold_1=Inventory[[#This Row],[Item SKU/ID]])*Net_Profit))","v":0},{"$f":"IFERROR(AVERAGE(Inventory[[#This Row],[Total Net Profit]]/Inventory[[#This Row],[Quantity Sold]]),0)","v":0}]
[null,null,null,null,null,null,null,null,0,0,0,null,null,null,0,{"$f":"IF(Inventory[[#This Row],[Item SKU/ID]]=\"\",0,SUMPRODUCT((Quantity_Sold_1=Inventory[[#This Row],[Item SKU/ID]])*Net_Profit))","v":0},{"$f":"IFERROR(AVERAGE(Inventory[[#This Row],[Total Net Profit]]/Inventory[[#This Row],[Quantity Sold]]),0)","v":0}]
[null,null,null,null,null,null,null,null,0,0,0,null,null,null,0,{"$f":"IF(Inventory[[#This Row],[Item SKU/ID]]=\"\",0,SUMPRODUCT((Quantity_Sold_1=Inventory[[#This Row],[Item SKU/ID]])*Net_Profit))","v":0},{"$f":"IFERROR(AVERAGE(Inventory[[#This Row],[Total Net Profit]]/Inventory[[#This Row],[Quantity Sold]]),0)","v":0}]
[null,null,null,null,null,null,null,null,0,0,0,null,null,null,0,{"$f":"IF(Inventory[[#This Row],[Item SKU/ID]]=\"\",0,SUMPRODUCT((Quantity_Sold_1=Inventory[[#This Row],[Item SKU/ID]])*Net_Profit))","v":0},{"$f":"IFERROR(AVERAGE(Inventory[[#This Row],[Total Net Profit]]/Inventory[[#This Row],[Quantity Sold]]),0)","v":0}]
[null,null,null,null,null,null,null,null,0,0,0,null,null,null,0,{"$f":"IF(Inventory[[#This Row],[Item SKU/ID]]=\"\",0,SUMPRODUCT((Quantity_Sold_1=Inventory[[#This Row],[Item SKU/ID]])*Net_Profit))","v":0},{"$f":"IFERROR(AVERAGE(Inventory[[#This Row],[Total Net Profit]]/Inventory[[#This Row],[Quantity Sold]]),0)","v":0}]
[null,null,null,null,null,null,null,null,0,0,0,null,null,null,0,{"$f":"IF(Inventory[[#This Row],[Item SKU/ID]]=\"\",0,SUMPRODUCT((Quantity_Sold_1=Inventory[[#This Row],[Item SKU/ID]])*Net_Profit))","v":0},{"$f":"IFERROR(AVERAGE(Inventory[[#This Row],[Total Net Profit]]/Inventory[[#This Row],[Quantity Sold]]),0)","v":0}]
[null,null,null,null,null,null,null,null,0,0,0,null,null,null,0,{"$f":"IF(Inventory[[#This Row],[Item SKU/ID]]=\"\",0,SUMPRODUCT((Quantity_Sold_1=Inventory[[#This Row],[Item SKU/ID]])*Net_Profit))","v":0},{"$f":"IFERROR(AVERAGE(Inventory[[#This Row],[Total Net Profit]]/Inventory[[#This Row],[Quantity Sold]]),0)","v":0}]
[null,null,null,null,null,null,null,null,0,0,0,null,null,null,0,{"$f":"IF(Inventory[[#This Row],[Item SKU/ID]]=\"\",0,SUMPRODUCT((Quantity_Sold_1=Inventory[[#This Row],[Item SKU/ID]])*Net_Profit))","v":0},{"$f":"IFERROR(AVERAGE(Inventory[[#This Row],[Total Net Profit]]/Inventory[[#This Row],[Quantity Sold]]),0)","v":0}]
[null,null,null,null,null,null,null,null,0,0,0,null,null,null,0,{"$f":"IF(Inventory[[#This Row],[Item SKU/ID]]=\"\",0,SUMPRODUCT((Quantity_Sold_1=Inventory[[#This Row],[Item SKU/ID]])*Net_Profit))","v":0},{"$f":"IFERROR(AVERAGE(Inventory[[#This Row],[Total Net Profit]]/Inventory[[#This Row],[Quantity Sold]]),0)","v":0}]
[null,null,null,null,null,null,null,null,0,0,0,null,null,null,0,{"$f":"IF(Inventory[[#This Row],[Item SKU/ID]]=\"\",0,SUMPRODUCT((Quantity_Sold_1=Inventory[[#This Row],[Item SKU/ID]])*Net_Profit))","v":0},{"$f":"IFERROR(AVERAGE(Inventory[[#This Row],[Total Net Profit]]/Inventory[[#This Row],[Quantity Sold]]),0)","v":0}]
[null,null,null,null,null,null,null,null,0,0,0,null,null,null,0,{"$f":"IF(Inventory[[#This Row],[Item SKU/ID]]=\"\",0,SUMPRODUCT((Quantity_Sold_1=Inventory[[#This Row],[Item SKU/ID]])*Net_Profit))","v":0},{"$f":"IFERROR(AVERAGE(Inventory[[#This Row],[Total Net Profit]]/Inventory[[#This Row],[Quantity Sold]]),0)","v":0}]
[null,null,null,null,null,null,null,null,0,0,0,null,null,null,0,{"$f":"IF(Inventory[[#This Row],[Item SKU/ID]]=\"\",0,SUMPRODUCT((Quantity_Sold_1=Inventory[[#This Row],[Item SKU/ID]])*Net_Profit))","v":0},{"$f":"IFERROR(AVERAGE(Inventory[[#This Row],[Total Net Profit]]/Inventory[[#This Row],[Quantity Sold]]),0)","v":0}]
[null,null,null,null,null,null,null,null,0,0,0,null,null,null,0,{"$f":"IF(Inventory[[#This Row],[Item SKU/ID]]=\"\",0,SUMPRODUCT((Quantity_Sold_1=Inventory[[#This Row],[Item SKU/ID]])*Net_Profit))","v":0},{"$f":"IFERROR(AVERAGE(Inventory[[#This Row],[Total Net Profit]]/Inventory[[#This Row],[Quantity Sold]]),0)","v":0}]
[null,null,null,null,null,null,null,null,0,0,0,null,null,null,0,{"$f":"IF(Inventory[[#This Row],[Item SKU/ID]]=\"\",0,SUMPRODUCT((Quantity_Sold_1=Inventory[[#This Row],[Item SKU/ID]])*Net_Profit))","v":0},{"$f":"IFERROR(AVERAGE(Inventory[[#This Row],[Total Net Profit]]/Inventory[[#This Row],[Quantity Sold]]),0)","v":0}]
[null,null,null,null,null,null,null,null,0,0,0,null,null,null,0,{"$f":"IF(Inventory[[#This Row],[Item SKU/ID]]=\"\",0,SUMPRODUCT((Quantity_Sold_1=Inventory[[#This Row],[Item SKU/ID]])*Net_Profit))","v":0},{"$f":"IFERROR(AVERAGE(Inventory[[#This Row],[Total Net Profit]]/Inventory[[#This Row],[Quantity Sold]]),0)","v":0}]
[null,null,null,null,null,null,null,null,0,0,0,null,null,null,0,{"$f":"IF(Inventory[[#This Row],[Item SKU/ID]]=\"\",0,SUMPRODUCT((Quantity_Sold_1=Inventory[[#This Row],[Item SKU/ID]])*Net_Profit))","v":0},{"$f":"IFERROR(AVERAGE(Inventory[[#This Row],[Total Net Profit]]/Inventory[[#This Row],[Quantity Sold]]),0)","v":0}]
[null,null,null,null,null,null,null,null,0,0,0,null,null,null,0,{"$f":"IF(Inventory[[#This Row],[Item SKU/ID]]=\"\",0,SUMPRODUCT((Quantity_Sold_1=Inventory[[#This Row],[Item SKU/ID]])*Net_Profit))","v":0},{"$f":"IFERROR(AVERAGE(Inventory[[#This Row],[Total Net Profit]]/Inventory[[#This Row],[Quantity Sold]]),0)","v":0}]
[null,null,null,null,null,null,null,null,0,0,0,null,null,null,0,{"$f":"IF(Inventory[[#This Row],[Item SKU/ID]]=\"\",0,SUMPRODUCT((Quantity_Sold_1=Inventory[[#This Row],[Item SKU/ID]])*Net_Profit))","v":0},{"$f":"IFERROR(AVERAGE(Inventory[[#This Row],[Total Net Profit]]/Inventory[[#This Row],[Quantity Sold]]),0)","v":0}]
[null,null,null,null,null,null,null,null,0,0,0,null,null,null,0,{"$f":"IF(Inventory[[#This Row],[Item SKU/ID]]=\"\",0,SUMPRODUCT((Quantity_Sold_1=Inventory[[#This Row],[Item SKU/ID]])*Net_Profit))","v":0},{"$f":"IFERROR(AVERAGE(Inventory[[#This Row],[Total Net Profit]]/Inventory[[#This Row],[Quantity Sold]]),0)","v":0}]
[null,null,null,null,null,null,null,null,0,0,0,null,null,null,0,{"$f":"IF(Inventory[[#This Row],[Item SKU/ID]]=\"\",0,SUMPRODUCT((Quantity_Sold_1=Inventory[[#This Row],[Item SKU/ID]])*Net_Profit))","v":0},{"$f":"IFERROR(AVERAGE(Inventory[[#This Row],[Total Net Profit]]/Inventory[[#This Row],[Quantity Sold]]),0)","v":0}]
[null,null,null,null,null,null,null,null,0,0,0,null,null,null,0,{"$f":"IF(Inventory[[#This Row],[Item SKU/ID]]=\"\",0,SUMPRODUCT((Quantity_Sold_1=Inventory[[#This Row],[Item SKU/ID]])*Net_Profit))","v":0},{"$f":"IFERROR(AVERAGE(Inventory[[#This Row],[Total Net Profit]]/Inventory[[#This Row],[Quantity Sold]]),0)","v":0}]
[null,null,null,null,null,null,null,null,0,0,0,null,null,null,0,{"$f":"IF(Inventory[[#This Row],[Item SKU/ID]]=\"\",0,SUMPRODUCT((Quantity_Sold_1=Inventory[[#This Row],[Item SKU/ID]])*Net_Profit))","v":0},{"$f":"IFERROR(AVERAGE(Inventory[[#This Row],[Total Net Profit]]/Inventory[[#This Row],[Quantity Sold]]),0)","v":0}]
[null,null,null,null,null,null,null,null,0,0,0,null,null,null,0,{"$f":"IF(Inventory[[#This Row],[Item SKU/ID]]=\"\",0,SUMPRODUCT((Quantity_Sold_1=Inventory[[#This Row],[Item SKU/ID]])*Net_Profit))","v":0},{"$f":"IFERROR(AVERAGE(Inventory[[#This Row],[Total Net Profit]]/Inventory[[#This Row],[Quantity Sold]]),0)","v":0}]
[null,null,null,null,null,null,null,null,0,0,0,null,null,null,0,{"$f":"IF(Inventory[[#This Row],[Item SKU/ID]]=\"\",0,SUMPRODUCT((Quantity_Sold_1=Inventory[[#This Row],[Item SKU/ID]])*Net_Profit))","v":0},{"$f":"IFERROR(AVERAGE(Inventory[[#This Row],[Total Net Profit]]/Inventory[[#This Row],[Quantity Sold]]),0)","v":0}]
[null,null,null,null,null,null,null,null,0,0,0,null,null,null,0,{"$f":"IF(Inventory[[#This Row],[Item SKU/ID]]=\"\",0,SUMPRODUCT((Quantity_Sold_1=Inventory[[#This Row],[Item SKU/ID]])*Net_Profit))","v":0},{"$f":"IFERROR(AVERAGE(Inventory[[#This Row],[Total Net Profit]]/Inventory[[#This Row],[Quantity Sold]]),0)","v":0}]
[null,null,null,null,null,null,null,null,0,0,0,null,null,null,0,{"$f":"IF(Inventory[[#This Row],[Item SKU/ID]]=\"\",0,SUMPRODUCT((Quantity_Sold_1=Inventory[[#This Row],[Item SKU/ID]])*Net_Profit))","v":0},{"$f":"IFERROR(AVERAGE(Inventory[[#This Row],[Total Net Profit]]/Inventory[[#This Row],[Quantity Sold]]),0)","v":0}]
[null,null,null,null,null,null,null,null,0,0,0,null,null,null,0,{"$f":"IF(Inventory[[#This Row],[Item SKU/ID]]=\"\",0,SUMPRODUCT((Quantity_Sold_1=Inventory[[#This Row],[Item SKU/ID]])*Net_Profit))","v":0},{"$f":"IFERROR(AVERAGE(Inventory[[#This Row],[Total Net Profit]]/Inventory[[#This Row],[Quantity Sold]]),0)","v":0}]
[null,null,null,null,null,null,null,null,0,0,0,null,null,null,0,{"$f":"IF(Inventory[[#This Row],[Item SKU/ID]]=\"\",0,SUMPRODUCT((Quantity_Sold_1=Inventory[[#This Row],[Item SKU/ID]])*Net_Profit))","v":0},{"$f":"IFERROR(AVERAGE(Inventory[[#This Row],[Total Net Profit]]/Inventory[[#This Row],[Quantity Sold]]),0)","v":0}]
[null,null,null,null,null,null,null,null,0,0,0,null,null,null,0,{"$f":"IF(Inventory[[#This Row],[Item SKU/ID]]=\"\",0,SUMPRODUCT((Quantity_Sold_1=Inventory[[#This Row],[Item SKU/ID]])*Net_Profit))","v":0},{"$f":"IFERROR(AVERAGE(Inventory[[#This Row],[Total Net Profit]]/Inventory[[#This Row],[Quantity Sold]]),0)","v":0}]
[null,null,null,null,null,null,null,null,0,0,0,null,null,null,0,{"$f":"IF(Inventory[[#This Row],[Item SKU/ID]]=\"\",0,SUMPRODUCT((Quantity_Sold_1=Inventory[[#This Row],[Item SKU/ID]])*Net_Profit))","v":0},{"$f":"IFERROR(AVERAGE(Inventory[[#This Row],[Total Net Profit]]/Inventory[[#This Row],[Quantity Sold]]),0)","v":0}]
[null,null,null,null,null,null,null,null,0,0,0,null,null,null,0,{"$f":"IF(Inventory[[#This Row],[Item SKU/ID]]=\"\",0,SUMPRODUCT((Quantity_Sold_1=Inventory[[#This Row],[Item SKU/ID]])*Net_Profit))","v":0},{"$f":"IFERROR(AVERAGE(Inventory[[#This Row],[Total Net Profit]]/Inventory[[#This Row],[Quantity Sold]]),0)","v":0}]
[null,null,null,null,null,null,null,null,0,0,0,null,null,null,0,{"$f":"IF(Inventory[[#This Row],[Item SKU/ID]]=\"\",0,SUMPRODUCT((Quantity_Sold_1=Inventory[[#This Row],[Item SKU/ID]])*Net_Profit))","v":0},{"$f":"IFERROR(AVERAGE(Inventory[[#This Row],[Total Net Profit]]/Inventory[[#This Row],[Quantity Sold]]),0)","v":0}]
[null,null,null,null,null,null,null,null,0,0,0,null,null,null,0,{"$f":"IF(Inventory[[#This Row],[Item SKU/ID]]=\"\",0,SUMPRODUCT((Quantity_Sold_1=Inventory[[#This Row],[Item SKU/ID]])*Net_Profit))","v":0},{"$f":"IFERROR(AVERAGE(Inventory[[#This Row],[Total Net Profit]]/Inventory[[#This Row],[Quantity Sold]]),0)","v":0}]
[null,null,null,null,null,null,null,null,0,0,0,null,null,null,0,{"$f":"IF(Inventory[[#This Row],[Item SKU/ID]]=\"\",0,SUMPRODUCT((Quantity_Sold_1=Inventory[[#This Row],[Item SKU/ID]])*Net_Profit))","v":0},{"$f":"IFERROR(AVERAGE(Inventory[[#This Row],[Total Net Profit]]/Inventory[[#This Row],[Quantity Sold]]),0)","v":0}]
[null,null,null,null,null,null,null,null,0,0,0,null,null,null,0,{"$f":"IF(Inventory[[#This Row],[Item SKU/ID]]=\"\",0,SUMPRODUCT((Quantity_Sold_1=Inventory[[#This Row],[Item SKU/ID]])*Net_Profit))","v":0},{"$f":"IFERROR(AVERAGE(Inventory[[#This Row],[Total Net Profit]]/Inventory[[#This Row],[Quantity Sold]]),0)","v":0}]
[null,null,null,null,null,null,null,null,0,0,0,null,null,null,0,{"$f":"IF(Inventory[[#This Row],[Item SKU/ID]]=\"\",0,SUMPRODUCT((Quantity_Sold_1=Inventory[[#This Row],[Item SKU/ID]])*Net_Profit))","v":0},{"$f":"IFERROR(AVERAGE(Inventory[[#This Row],[Total Net Profit]]/Inventory[[#This Row],[Quantity Sold]]),0)","v":0}]
[null,null,null,null,null,null,null,null,0,0,0,null,null,null,0,{"$f":"IF(Inventory[[#This Row],[Item SKU/ID]]=\"\",0,SUMPRODUCT((Quantity_Sold_1=Inventory[[#This Row],[Item SKU/ID]])*Net_Profit))","v":0},{"$f":"IFERROR(AVERAGE(Inventory[[#This Row],[Total Net Profit]]/Inventory[[#This Row],[Quantity Sold]]),0)","v":0}]
[null,null,null,null,null,null,null,null,0,0,0,null,null,null,0,{"$f":"IF(Inventory[[#This Row],[Item SKU/ID]]=\"\",0,SUMPRODUCT((Quantity_Sold_1=Inventory[[#This Row],[Item SKU/ID]])*Net_Profit))","v":0},{"$f":"IFERROR(AVERAGE(Inventory[[#This Row],[Total Net Profit]]/Inventory[[#This Row],[Quantity Sold]]),0)","v":0}]
[null,null,null,null,null,null,null,null,0,0,0,null,null,null,0,{"$f":"IF(Inventory[[#This Row],[Item SKU/ID]]=\"\",0,SUMPRODUCT((Quantity_Sold_1=Inventory[[#This Row],[Item SKU/ID]])*Net_Profit))","v":0},{"$f":"IFERROR(AVERAGE(Inventory[[#This Row],[Total Net Profit]]/Inventory[[#This Row],[Quantity Sold]]),0)","v":0}]
[null,null,null,null,null,null,null,null,0,0,0,null,null,null,0,{"$f":"IF(Inventory[[#This Row],[Item SKU/ID]]=\"\",0,SUMPRODUCT((Quantity_Sold_1=Inventory[[#This Row],[Item SKU/ID]])*Net_Profit))","v":0},{"$f":"IFERROR(AVERAGE(Inventory[[#This Row],[Total Net Profit]]/Inventory[[#This Row],[Quantity Sold]]),0)","v":0}]
[null,null,null,null,null,null,null,null,0,0,0,null,null,null,0,{"$f":"IF(Inventory[[#This Row],[Item SKU/ID]]=\"\",0,SUMPRODUCT((Quantity_Sold_1=Inventory[[#This Row],[Item SKU/ID]])*Net_Profit))","v":0},{"$f":"IFERROR(AVERAGE(Inventory[[#This Row],[Total Net Profit]]/Inventory[[#This Row],[Quantity Sold]]),0)","v":0}]
[null,null,null,null,null,null,null,null,{"$f":"K1540*H1540","v":0},{"$f":"IF(F1540=\"\",0,SUMPRODUCT((Quantity_Sold_1=F1540)*Quantity_Sold_2))","v":0},{"$f":"G1540-J1540","v":0},null,null,null,{"$f":"K1540*H1540","v":0},{"$f":"IF(Inventory[[#This Row],[Item SKU/ID]]=\"\",0,SUMPRODUCT((Quantity_Sold_1=Inventory[[#This Row],[Item SKU/ID]])*Net_Profit))","v":0},{"$f":"IFERROR(AVERAGE(Inventory[[#This Row],[Total Net Profit]]/Inventory[[#This Row],[Quantity Sold]]),0)","v":0}]
[null,null,null,null,null,null,null,null,0,0,0,null,null,null,0,{"$f":"IF(Inventory[[#This Row],[Item SKU/ID]]=\"\",0,SUMPRODUCT((Quantity_Sold_1=Inventory[[#This Row],[Item SKU/ID]])*Net_Profit))","v":0},{"$f":"IFERROR(AVERAGE(Inventory[[#This Row],[Total Net Profit]]/Inventory[[#This Row],[Quantity Sold]]),0)","v":0}]
[null,null,null,null,null,null,null,null,0,0,0,null,null,null,0,{"$f":"IF(Inventory[[#This Row],[Item SKU/ID]]=\"\",0,SUMPRODUCT((Quantity_Sold_1=Inventory[[#This Row],[Item SKU/ID]])*Net_Profit))","v":0},{"$f":"IFERROR(AVERAGE(Inventory[[#This Row],[Total Net Profit]]/Inventory[[#This Row],[Quantity Sold]]),0)","v":0}]
[null,null,null,null,null,null,null,null,0,0,0,null,null,null,0,{"$f":"IF(Inventory[[#This Row],[Item SKU/ID]]=\"\",0,SUMPRODUCT((Quantity_Sold_1=Inventory[[#This Row],[Item SKU/ID]])*Net_Profit))","v":0},{"$f":"IFERROR(AVERAGE(Inventory[[#This Row],[Total Net Profit]]/Inventory[[#This Row],[Quantity Sold]]),0)","v":0}]
[null,null,null,null,null,null,null,null,0,0,0,null,null,null,0,{"$f":"IF(Inventory[[#This Row],[Item SKU/ID]]=\"\",0,SUMPRODUCT((Quantity_Sold_1=Inventory[[#This Row],[Item SKU/ID]])*Net_Profit))","v":0},{"$f":"IFERROR(AVERAGE(Inventory[[#This Row],[Total Net Profit]]/Inventory[[#This Row],[Quantity Sold]]),0)","v":0}]
[null,null,null,null,null,null,null,null,0,0,0,null,null,null,0,{"$f":"IF(Inventory[[#This Row],[Item SKU/ID]]=\"\",0,SUMPRODUCT((Quantity_Sold_1=Inventory[[#This Row],[Item SKU/ID]])*Net_Profit))","v":0},{"$f":"IFERROR(AVERAGE(Inventory[[#This Row],[Total Net Profit]]/Inventory[[#This Row],[Quantity Sold]]),0)","v":0}]
[null,null,null,null,null,null,null,null,0,0,0,null,null,null,0,{"$f":"IF(Inventory[[#This Row],[Item SKU/ID]]=\"\",0,SUMPRODUCT((Quantity_Sold_1=Inventory[[#This Row],[Item SKU/ID]])*Net_Profit))","v":0},{"$f":"IFERROR(AVERAGE(Inventory[[#This Row],[Total Net Profit]]/Inventory[[#This Row],[Quantity Sold]]),0)","v":0}]
[null,null,null,null,null,null,null,null,0,0,0,null,null,null,0,{"$f":"IF(Inventory[[#This Row],[Item SKU/ID]]=\"\",0,SUMPRODUCT((Quantity_Sold_1=Inventory[[#This Row],[Item SKU/ID]])*Net_Profit))","v":0},{"$f":"IFERROR(AVERAGE(Inventory[[#This Row],[Total Net Profit]]/Inventory[[#This Row],[Quantity Sold]]),0)","v":0}]
[null,null,null,null,null,null,null,null,0,0,0,null,null,null,0,{"$f":"IF(Inventory[[#This Row],[Item SKU/ID]]=\"\",0,SUMPRODUCT((Quantity_Sold_1=Inventory[[#This Row],[Item SKU/ID]])*Net_Profit))","v":0},{"$f":"IFERROR(AVERAGE(Inventory[[#This Row],[Total Net Profit]]/Inventory[[#This Row],[Quantity Sold]]),0)","v":0}]
[null,null,null,null,null,null,null,null,0,0,0,null,null,null,0,{"$f":"IF(Inventory[[#This Row],[Item SKU/ID]]=\"\",0,SUMPRODUCT((Quantity_Sold_1=Inventory[[#This Row],[Item SKU/ID]])*Net_Profit))","v":0},{"$f":"IFERROR(AVERAGE(Inventory[[#This Row],[Total Net Profit]]/Inventory[[#This Row],[Quantity Sold]]),0)","v":0}]
[null,null,null,null,null,null,null,null,0,0,0,null,null,null,0,{"$f":"IF(Inventory[[#This Row],[Item SKU/ID]]=\"\",0,SUMPRODUCT((Quantity_Sold_1=Inventory[[#This Row],[Item SKU/ID]])*Net_Profit))","v":0},{"$f":"IFERROR(AVERAGE(Inventory[[#This Row],[Total Net Profit]]/Inventory[[#This Row],[Quantity Sold]]),0)","v":0}]
[null,null,null,null,null,null,null,null,0,0,0,null,null,null,0,{"$f":"IF(Inventory[[#This Row],[Item SKU/ID]]=\"\",0,SUMPRODUCT((Quantity_Sold_1=Inventory[[#This Row],[Item SKU/ID]])*Net_Profit))","v":0},{"$f":"IFERROR(AVERAGE(Inventory[[#This Row],[Total Net Profit]]/Inventory[[#This Row],[Quantity Sold]]),0)","v":0}]
[null,null,null,null,null,null,null,null,0,0,0,null,null,null,0,{"$f":"IF(Inventory[[#This Row],[Item SKU/ID]]=\"\",0,SUMPRODUCT((Quantity_Sold_1=Inventory[[#This Row],[Item SKU/ID]])*Net_Profit))","v":0},{"$f":"IFERROR(AVERAGE(Inventory[[#This Row],[Total Net Profit]]/Inventory[[#This Row],[Quantity Sold]]),0)","v":0}]
[null,null,null,null,null,null,null,null,0,0,0,null,null,null,0,{"$f":"IF(Inventory[[#This Row],[Item SKU/ID]]=\"\",0,SUMPRODUCT((Quantity_Sold_1=Inventory[[#This Row],[Item SKU/ID]])*Net_Profit))","v":0},{"$f":"IFERROR(AVERAGE(Inventory[[#This Row],[Total Net Profit]]/Inventory[[#This Row],[Quantity Sold]]),0)","v":0}]
[null,null,null,null,null,null,null,null,0,0,0,null,null,null,0,{"$f":"IF(Inventory[[#This Row],[Item SKU/ID]]=\"\",0,SUMPRODUCT((Quantity_Sold_1=Inventory[[#This Row],[Item SKU/ID]])*Net_Profit))","v":0},{"$f":"IFERROR(AVERAGE(Inventory[[#This Row],[Total Net Profit]]/Inventory[[#This Row],[Quantity Sold]]),0)","v":0}]
[null,null,null,null,null,null,null,null,0,0,0,null,null,null,0,{"$f":"IF(Inventory[[#This Row],[Item SKU/ID]]=\"\",0,SUMPRODUCT((Quantity_Sold_1=Inventory[[#This Row],[Item SKU/ID]])*Net_Profit))","v":0},{"$f":"IFERROR(AVERAGE(Inventory[[#This Row],[Total Net Profit]]/Inventory[[#This Row],[Quantity Sold]]),0)","v":0}]
[null,null,null,null,null,null,null,null,0,0,0,null,null,null,0,{"$f":"IF(Inventory[[#This Row],[Item SKU/ID]]=\"\",0,SUMPRODUCT((Quantity_Sold_1=Inventory[[#This Row],[Item SKU/ID]])*Net_Profit))","v":0},{"$f":"IFERROR(AVERAGE(Inventory[[#This Row],[Total Net Profit]]/Inventory[[#This Row],[Quantity Sold]]),0)","v":0}]
[null,null,null,null,null,null,null,null,0,0,0,null,null,null,0,{"$f":"IF(Inventory[[#This Row],[Item SKU/ID]]=\"\",0,SUMPRODUCT((Quantity_Sold_1=Inventory[[#This Row],[Item SKU/ID]])*Net_Profit))","v":0},{"$f":"IFERROR(AVERAGE(Inventory[[#This Row],[Total Net Profit]]/Inventory[[#This Row],[Quantity Sold]]),0)","v":0}]
[null,null,null,null,null,null,null,null,0,0,0,null,null,null,0,{"$f":"IF(Inventory[[#This Row],[Item SKU/ID]]=\"\",0,SUMPRODUCT((Quantity_Sold_1=Inventory[[#This Row],[Item SKU/ID]])*Net_Profit))","v":0},{"$f":"IFERROR(AVERAGE(Inventory[[#This Row],[Total Net Profit]]/Inventory[[#This Row],[Quantity Sold]]),0)","v":0}]
[null,null,null,null,null,null,null,null,0,0,0,null,null,null,0,{"$f":"IF(Inventory[[#This Row],[Item SKU/ID]]=\"\",0,SUMPRODUCT((Quantity_Sold_1=Inventory[[#This Row],[Item SKU/ID]])*Net_Profit))","v":0},{"$f":"IFERROR(AVERAGE(Inventory[[#This Row],[Total Net Profit]]/Inventory[[#This Row],[Quantity Sold]]),0)","v":0}]
[null,null,null,null,null,null,null,null,0,0,0,null,null,null,0,{"$f":"IF(Inventory[[#This Row],[Item SKU/ID]]=\"\",0,SUMPRODUCT((Quantity_Sold_1=Inventory[[#This Row],[Item SKU/ID]])*Net_Profit))","v":0},{"$f":"IFERROR(AVERAGE(Inventory[[#This Row],[Total Net Profit]]/Inventory[[#This Row],[Quantity Sold]]),0)","v":0}]
[null,null,null,null,null,null,null,null,0,0,0,null,null,null,0,{"$f":"IF(Inventory[[#This Row],[Item SKU/ID]]=\"\",0,SUMPRODUCT((Quantity_Sold_1=Inventory[[#This Row],[Item SKU/ID]])*Net_Profit))","v":0},{"$f":"IFERROR(AVERAGE(Inventory[[#This Row],[Total Net Profit]]/Inventory[[#This Row],[Quantity Sold]]),0)","v":0}]
[null,null,null,null,null,null,null,null,0,0,0,null,null,null,0,{"$f":"IF(Inventory[[#This Row],[Item SKU/ID]]=\"\",0,SUMPRODUCT((Quantity_Sold_1=Inventory[[#This Row],[Item SKU/ID]])*Net_Profit))","v":0},{"$f":"IFERROR(AVERAGE(Inventory[[#This Row],[Total Net Profit]]/Inventory[[#This Row],[Quantity Sold]]),0)","v":0}]
[null,null,null,null,null,null,null,null,0,0,0,null,null,null,0,{"$f":"IF(Inventory[[#This Row],[Item SKU/ID]]=\"\",0,SUMPRODUCT((Quantity_Sold_1=Inventory[[#This Row],[Item SKU/ID]])*Net_Profit))","v":0},{"$f":"IFERROR(AVERAGE(Inventory[[#This Row],[Total Net Profit]]/Inventory[[#This Row],[Quantity Sold]]),0)","v":0}]
[null,null,null,null,null,null,null,null,0,0,0,null,null,null,0,{"$f":"IF(Inventory[[#This Row],[Item SKU/ID]]=\"\",0,SUMPRODUCT((Quantity_Sold_1=Inventory[[#This Row],[Item SKU/ID]])*Net_Profit))","v":0},{"$f":"IFERROR(AVERAGE(Inventory[[#This Row],[Total Net Profit]]/Inventory[[#This Row],[Quantity Sold]]),0)","v":0}]
[null,null,null,null,null,null,null,null,0,0,0,null,null,null,0,{"$f":"IF(Inventory[[#This Row],[Item SKU/ID]]=\"\",0,SUMPRODUCT((Quantity_Sold_1=Inventory[[#This Row],[Item SKU/ID]])*Net_Profit))","v":0},{"$f":"IFERROR(AVERAGE(Inventory[[#This Row],[Total Net Profit]]/Inventory[[#This Row],[Quantity Sold]]),0)","v":0}]
[null,null,null,null,null,null,null,null,0,0,0,null,null,null,0,{"$f":"IF(Inventory[[#This Row],[Item SKU/ID]]=\"\",0,SUMPRODUCT((Quantity_Sold_1=Inventory[[#This Row],[Item SKU/ID]])*Net_Profit))","v":0},{"$f":"IFERROR(AVERAGE(Inventory[[#This Row],[Total Net Profit]]/Inventory[[#This Row],[Quantity Sold]]),0)","v":0}]
[null,null,null,null,null,null,null,null,0,0,0,null,null,null,0,{"$f":"IF(Inventory[[#This Row],[Item SKU/ID]]=\"\",0,SUMPRODUCT((Quantity_Sold_1=Inventory[[#This Row],[Item SKU/ID]])*Net_Profit))","v":0},{"$f":"IFERROR(AVERAGE(Inventory[[#This Row],[Total Net Profit]]/Inventory[[#This Row],[Quantity Sold]]),0)","v":0}]
[null,null,null,null,null,null,null,null,0,0,0,null,null,null,0,{"$f":"IF(Inventory[[#This Row],[Item SKU/ID]]=\"\",0,SUMPRODUCT((Quantity_Sold_1=Inventory[[#This Row],[Item SKU/ID]])*Net_Profit))","v":0},{"$f":"IFERROR(AVERAGE(Inventory[[#This Row],[Total Net Profit]]/Inventory[[#This Row],[Quantity Sold]]),0)","v":0}]
[null,null,null,null,null,null,null,null,0,0,0,null,null,null,0,{"$f":"IF(Inventory[[#This Row],[Item SKU/ID]]=\"\",0,SUMPRODUCT((Quantity_Sold_1=Inventory[[#This Row],[Item SKU/ID]])*Net_Profit))","v":0},{"$f":"IFERROR(AVERAGE(Inventory[[#This Row],[Total Net Profit]]/Inventory[[#This Row],[Quantity Sold]]),0)","v":0}]
[null,null,null,null,null,null,null,null,0,0,0,null,null,null,0,{"$f":"IF(Inventory[[#This Row],[Item SKU/ID]]=\"\",0,SUMPRODUCT((Quantity_Sold_1=Inventory[[#This Row],[Item SKU/ID]])*Net_Profit))","v":0},{"$f":"IFERROR(AVERAGE(Inventory[[#This Row],[Total Net Profit]]/Inventory[[#This Row],[Quantity Sold]]),0)","v":0}]
[null,null,null,null,null,null,null,null,0,0,0,null,null,null,0,{"$f":"IF(Inventory[[#This Row],[Item SKU/ID]]=\"\",0,SUMPRODUCT((Quantity_Sold_1=Inventory[[#This Row],[Item SKU/ID]])*Net_Profit))","v":0},{"$f":"IFERROR(AVERAGE(Inventory[[#This Row],[Total Net Profit]]/Inventory[[#This Row],[Quantity Sold]]),0)","v":0}]
[null,null,null,null,null,null,null,null,0,0,0,null,null,null,0,{"$f":"IF(Inventory[[#This Row],[Item SKU/ID]]=\"\",0,SUMPRODUCT((Quantity_Sold_1=Inventory[[#This Row],[Item SKU/ID]])*Net_Profit))","v":0},{"$f":"IFERROR(AVERAGE(Inventory[[#This Row],[Total Net Profit]]/Inventory[[#This Row],[Quantity Sold]]),0)","v":0}]
[null,null,null,null,null,null,null,null,0,0,0,null,null,null,0,{"$f":"IF(Inventory[[#This Row],[Item SKU/ID]]=\"\",0,SUMPRODUCT((Quantity_Sold_1=Inventory[[#This Row],[Item SKU/ID]])*Net_Profit))","v":0},{"$f":"IFERROR(AVERAGE(Inventory[[#This Row],[Total Net Profit]]/Inventory[[#This Row],[Quantity Sold]]),0)","v":0}]
[null,null,null,null,null,null,null,null,0,0,0,null,null,null,0,{"$f":"IF(Inventory[[#This Row],[Item SKU/ID]]=\"\",0,SUMPRODUCT((Quantity_Sold_1=Inventory[[#This Row],[Item SKU/ID]])*Net_Profit))","v":0},{"$f":"IFERROR(AVERAGE(Inventory[[#This Row],[Total Net Profit]]/Inventory[[#This Row],[Quantity Sold]]),0)","v":0}]
[null,null,null,null,null,null,null,null,0,0,0,null,null,null,0,{"$f":"IF(Inventory[[#This Row],[Item SKU/ID]]=\"\",0,SUMPRODUCT((Quantity_Sold_1=Inventory[[#This Row],[Item SKU/ID]])*Net_Profit))","v":0},{"$f":"IFERROR(AVERAGE(Inventory[[#This Row],[Total Net Profit]]/Inventory[[#This Row],[Quantity Sold]]),0)","v":0}]
[null,null,null,null,null,null,null,null,0,0,0,null,null,null,0,{"$f":"IF(Inventory[[#This Row],[Item SKU/ID]]=\"\",0,SUMPRODUCT((Quantity_Sold_1=Inventory[[#This Row],[Item SKU/ID]])*Net_Profit))","v":0},{"$f":"IFERROR(AVERAGE(Inventory[[#This Row],[Total Net Profit]]/Inventory[[#This Row],[Quantity Sold]]),0)","v":0}]
[null,null,null,null,null,null,null,null,0,0,0,null,null,null,0,{"$f":"IF(Inventory[[#This Row],[Item SKU/ID]]=\"\",0,SUMPRODUCT((Quantity_Sold_1=Inventory[[#This Row],[Item SKU/ID]])*Net_Profit))","v":0},{"$f":"IFERROR(AVERAGE(Inventory[[#This Row],[Total Net Profit]]/Inventory[[#This Row],[Quantity Sold]]),0)","v":0}]
[null,null,null,null,null,null,null,null,0,0,0,null,null,null,0,{"$f":"IF(Inventory[[#This Row],[Item SKU/ID]]=\"\",0,SUMPRODUCT((Quantity_Sold_1=Inventory[[#This Row],[Item SKU/ID]])*Net_Profit))","v":0},{"$f":"IFERROR(AVERAGE(Inventory[[#This Row],[Total Net Profit]]/Inventory[[#This Row],[Quantity Sold]]),0)","v":0}]
[null,null,null,null,null,null,null,null,0,0,0,null,null,null,0,{"$f":"IF(Inventory[[#This Row],[Item SKU/ID]]=\"\",0,SUMPRODUCT((Quantity_Sold_1=Inventory[[#This Row],[Item SKU/ID]])*Net_Profit))","v":0},{"$f":"IFERROR(AVERAGE(Inventory[[#This Row],[Total Net Profit]]/Inventory[[#This Row],[Quantity Sold]]),0)","v":0}]
[null,null,null,null,null,null,null,null,0,0,0,null,null,null,0,{"$f":"IF(Inventory[[#This Row],[Item SKU/ID]]=\"\",0,SUMPRODUCT((Quantity_Sold_1=Inventory[[#This Row],[Item SKU/ID]])*Net_Profit))","v":0},{"$f":"IFERROR(AVERAGE(Inventory[[#This Row],[Total Net Profit]]/Inventory[[#This Row],[Quantity Sold]]),0)","v":0}]
[null,null,null,null,null,null,null,null,0,0,0,null,null,null,0,{"$f":"IF(Inventory[[#This Row],[Item SKU/ID]]=\"\",0,SUMPRODUCT((Quantity_Sold_1=Inventory[[#This Row],[Item SKU/ID]])*Net_Profit))","v":0},{"$f":"IFERROR(AVERAGE(Inventory[[#This Row],[Total Net Profit]]/Inventory[[#This Row],[Quantity Sold]]),0)","v":0}]
[null,null,null,null,null,null,null,null,0,0,0,null,null,null,0,{"$f":"IF(Inventory[[#This Row],[Item SKU/ID]]=\"\",0,SUMPRODUCT((Quantity_Sold_1=Inventory[[#This Row],[Item SKU/ID]])*Net_Profit))","v":0},{"$f":"IFERROR(AVERAGE(Inventory[[#This Row],[Total Net Profit]]/Inventory[[#This Row],[Quantity Sold]]),0)","v":0}]
[null,null,null,null,null,null,null,null,0,0,0,null,null,null,0,{"$f":"IF(Inventory[[#This Row],[Item SKU/ID]]=\"\",0,SUMPRODUCT((Quantity_Sold_1=Inventory[[#This Row],[Item SKU/ID]])*Net_Profit))","v":0},{"$f":"IFERROR(AVERAGE(Inventory[[#This Row],[Total Net Profit]]/Inventory[[#This Row],[Quantity Sold]]),0)","v":0}]
[null,null,null,null,null,null,null,null,0,0,0,null,null,null,0,{"$f":"IF(Inventory[[#This Row],[Item SKU/ID]]=\"\",0,SUMPRODUCT((Quantity_Sold_1=Inventory[[#This Row],[Item SKU/ID]])*Net_Profit))","v":0},{"$f":"IFERROR(AVERAGE(Inventory[[#This Row],[Total Net Profit]]/Inventory[[#This Row],[Quantity Sold]]),0)","v":0}]
[null,null,null,null,null,null,null,null,0,0,0,null,null,null,0,{"$f":"IF(Inventory[[#This Row],[Item SKU/ID]]=\"\",0,SUMPRODUCT((Quantity_Sold_1=Inventory[[#This Row],[Item SKU/ID]])*Net_Profit))","v":0},{"$f":"IFERROR(AVERAGE(Inventory[[#This Row],[Total Net Profit]]/Inventory[[#This Row],[Quantity Sold]]),0)","v":0}]
[null,null,null,null,null,null,null,null,0,0,0,null,null,null,0,{"$f":"IF(Inventory[[#This Row],[Item SKU/ID]]=\"\",0,SUMPRODUCT((Quantity_Sold_1=Inventory[[#This Row],[Item SKU/ID]])*Net_Profit))","v":0},{"$f":"IFERROR(AVERAGE(Inventory[[#This Row],[Total Net Profit]]/Inventory[[#This Row],[Quantity Sold]]),0)","v":0}]
[null,null,null,null,null,null,null,null,0,0,0,null,null,null,0,{"$f":"IF(Inventory[[#This Row],[Item SKU/ID]]=\"\",0,SUMPRODUCT((Quantity_Sold_1=Inventory[[#This Row],[Item SKU/ID]])*Net_Profit))","v":0},{"$f":"IFERROR(AVERAGE(Inventory[[#This Row],[Total Net Profit]]/Inventory[[#This Row],[Quantity Sold]]),0)","v":0}]
[null,null,null,null,null,null,null,null,0,0,0,null,null,null,0,{"$f":"IF(Inventory[[#This Row],[Item SKU/ID]]=\"\",0,SUMPRODUCT((Quantity_Sold_1=Inventory[[#This Row],[Item SKU/ID]])*Net_Profit))","v":0},{"$f":"IFERROR(AVERAGE(Inventory[[#This Row],[Total Net Profit]]/Inventory[[#This Row],[Quantity Sold]]),0)","v":0}]
[null,null,null,null,null,null,null,null,0,0,0,null,null,null,0,{"$f":"IF(Inventory[[#This Row],[Item SKU/ID]]=\"\",0,SUMPRODUCT((Quantity_Sold_1=Inventory[[#This Row],[Item SKU/ID]])*Net_Profit))","v":0},{"$f":"IFERROR(AVERAGE(Inventory[[#This Row],[Total Net Profit]]/Inventory[[#This Row],[Quantity Sold]]),0)","v":0}]
[null,null,null,null,null,null,null,null,0,0,0,null,null,null,0,{"$f":"IF(Inventory[[#This Row],[Item SKU/ID]]=\"\",0,SUMPRODUCT((Quantity_Sold_1=Inventory[[#This Row],[Item SKU/ID]])*Net_Profit))","v":0},{"$f":"IFERROR(AVERAGE(Inventory[[#This Row],[Total Net Profit]]/Inventory[[#This Row],[Quantity Sold]]),0)","v":0}]
[null,null,null,null,null,null,null,null,0,0,0,null,null,null,0,{"$f":"IF(Inventory[[#This Row],[Item SKU/ID]]=\"\",0,SUMPRODUCT((Quantity_Sold_1=Inventory[[#This Row],[Item SKU/ID]])*Net_Profit))","v":0},{"$f":"IFERROR(AVERAGE(Inventory[[#This Row],[Total Net Profit]]/Inventory[[#This Row],[Quantity Sold]]),0)","v":0}]
[null,null,null,null,null,null,null,null,0,0,0,null,null,null,0,{"$f":"IF(Inventory[[#This Row],[Item SKU/ID]]=\"\",0,SUMPRODUCT((Quantity_Sold_1=Inventory[[#This Row],[Item SKU/ID]])*Net_Profit))","v":0},{"$f":"IFERROR(AVERAGE(Inventory[[#This Row],[Total Net Profit]]/Inventory[[#This Row],[Quantity Sold]]),0)","v":0}]
[null,null,null,null,null,null,null,null,0,0,0,null,null,null,0,{"$f":"IF(Inventory[[#This Row],[Item SKU/ID]]=\"\",0,SUMPRODUCT((Quantity_Sold_1=Inventory[[#This Row],[Item SKU/ID]])*Net_Profit))","v":0},{"$f":"IFERROR(AVERAGE(Inventory[[#This Row],[Total Net Profit]]/Inventory[[#This Row],[Quantity Sold]]),0)","v":0}]
[null,null,null,null,null,null,null,null,0,0,0,null,null,null,0,{"$f":"IF(Inventory[[#This Row],[Item SKU/ID]]=\"\",0,SUMPRODUCT((Quantity_Sold_1=Inventory[[#This Row],[Item SKU/ID]])*Net_Profit))","v":0},{"$f":"IFERROR(AVERAGE(Inventory[[#This Row],[Total Net Profit]]/Inventory[[#This Row],[Quantity Sold]]),0)","v":0}]
[null,null,null,null,null,null,null,null,0,0,0,null,null,null,0,{"$f":"IF(Inventory[[#This Row],[Item SKU/ID]]=\"\",0,SUMPRODUCT((Quantity_Sold_1=Inventory[[#This Row],[Item SKU/ID]])*Net_Profit))","v":0},{"$f":"IFERROR(AVERAGE(Inventory[[#This Row],[Total Net Profit]]/Inventory[[#This Row],[Quantity Sold]]),0)","v":0}]
[null,null,null,null,null,null,null,null,0,0,0,null,null,null,0,{"$f":"IF(Inventory[[#This Row],[Item SKU/ID]]=\"\",0,SUMPRODUCT((Quantity_Sold_1=Inventory[[#This Row],[Item SKU/ID]])*Net_Profit))","v":0},{"$f":"IFERROR(AVERAGE(Inventory[[#This Row],[Total Net Profit]]/Inventory[[#This Row],[Quantity Sold]]),0)","v":0}]
[null,null,null,null,null,null,null,null,0,0,0,null,null,null,0,{"$f":"IF(Inventory[[#This Row],[Item SKU/ID]]=\"\",0,SUMPRODUCT((Quantity_Sold_1=Inventory[[#This Row],[Item SKU/ID]])*Net_Profit))","v":0},{"$f":"IFERROR(AVERAGE(Inventory[[#This Row],[Total Net Profit]]/Inventory[[#This Row],[Quantity Sold]]),0)","v":0}]
[null,null,null,null,null,null,null,null,0,0,0,null,null,null,0,{"$f":"IF(Inventory[[#This Row],[Item SKU/ID]]=\"\",0,SUMPRODUCT((Quantity_Sold_1=Inventory[[#This Row],[Item SKU/ID]])*Net_Profit))","v":0},{"$f":"IFERROR(AVERAGE(Inventory[[#This Row],[Total Net Profit]]/Inventory[[#This Row],[Quantity Sold]]),0)","v":0}]
[null,null,null,null,null,null,null,null,0,0,0,null,null,null,0,{"$f":"IF(Inventory[[#This Row],[Item SKU/ID]]=\"\",0,SUMPRODUCT((Quantity_Sold_1=Inventory[[#This Row],[Item SKU/ID]])*Net_Profit))","v":0},{"$f":"IFERROR(AVERAGE(Inventory[[#This Row],[Total Net Profit]]/Inventory[[#This Row],[Quantity Sold]]),0)","v":0}]
[null,null,null,null,null,null,null,null,0,0,0,null,null,null,0,{"$f":"IF(Inventory[[#This Row],[Item SKU/ID]]=\"\",0,SUMPRODUCT((Quantity_Sold_1=Inventory[[#This Row],[Item SKU/ID]])*Net_Profit))","v":0},{"$f":"IFERROR(AVERAGE(Inventory[[#This Row],[Total Net Profit]]/Inventory[[#This Row],[Quantity Sold]]),0)","v":0}]
[null,null,null,null,null,null,null,null,0,0,0,null,null,null,0,{"$f":"IF(Inventory[[#This Row],[Item SKU/ID]]=\"\",0,SUMPRODUCT((Quantity_Sold_1=Inventory[[#This Row],[Item SKU/ID]])*Net_Profit))","v":0},{"$f":"IFERROR(AVERAGE(Inventory[[#This Row],[Total Net Profit]]/Inventory[[#This Row],[Quantity Sold]]),0)","v":0}]
[null,null,null,null,null,null,null,null,0,0,0,null,null,null,0,{"$f":"IF(Inventory[[#This Row],[Item SKU/ID]]=\"\",0,SUMPRODUCT((Quantity_Sold_1=Inventory[[#This Row],[Item SKU/ID]])*Net_Profit))","v":0},{"$f":"IFERROR(AVERAGE(Inventory[[#This Row],[Total Net Profit]]/Inventory[[#This Row],[Quantity Sold]]),0)","v":0}]
[null,null,null,null,null,null,null,null,0,0,0,null,null,null,0,{"$f":"IF(Inventory[[#This Row],[Item SKU/ID]]=\"\",0,SUMPRODUCT((Quantity_Sold_1=Inventory[[#This Row],[Item SKU/ID]])*Net_Profit))","v":0},{"$f":"IFERROR(AVERAGE(Inventory[[#This Row],[Total Net Profit]]/Inventory[[#This Row],[Quantity Sold]]),0)","v":0}]
[null,null,null,null,null,null,null,null,{"$f":"K1604*H1604","v":0},{"$f":"IF(F1604=\"\",0,SUMPRODUCT((Quantity_Sold_1=F1604)*Quantity_Sold_2))","v":0},{"$f":"G1604-J1604","v":0},null,null,null,{"$f":"K1604*H1604","v":0},{"$f":"IF(Inventory[[#This Row],[Item SKU/ID]]=\"\",0,SUMPRODUCT((Quantity_Sold_1=Inventory[[#This Row],[Item SKU/ID]])*Net_Profit))","v":0},{"$f":"IFERROR(AVERAGE(Inventory[[#This Row],[Total Net Profit]]/Inventory[[#This Row],[Quantity Sold]]),0)","v":0}]
[null,null,null,null,null,null,null,null,0,0,0,null,null,null,0,{"$f":"IF(Inventory[[#This Row],[Item SKU/ID]]=\"\",0,SUMPRODUCT((Quantity_Sold_1=Inventory[[#This Row],[Item SKU/ID]])*Net_Profit))","v":0},{"$f":"IFERROR(AVERAGE(Inventory[[#This Row],[Total Net Profit]]/Inventory[[#This Row],[Quantity Sold]]),0)","v":0}]
[null,null,null,null,null,null,null,null,0,0,0,null,null,null,0,{"$f":"IF(Inventory[[#This Row],[Item SKU/ID]]=\"\",0,SUMPRODUCT((Quantity_Sold_1=Inventory[[#This Row],[Item SKU/ID]])*Net_Profit))","v":0},{"$f":"IFERROR(AVERAGE(Inventory[[#This Row],[Total Net Profit]]/Inventory[[#This Row],[Quantity Sold]]),0)","v":0}]
[null,null,null,null,null,null,null,null,0,0,0,null,null,null,0,{"$f":"IF(Inventory[[#This Row],[Item SKU/ID]]=\"\",0,SUMPRODUCT((Quantity_Sold_1=Inventory[[#This Row],[Item SKU/ID]])*Net_Profit))","v":0},{"$f":"IFERROR(AVERAGE(Inventory[[#This Row],[Total Net Profit]]/Inventory[[#This Row],[Quantity Sold]]),0)","v":0}]
[null,null,null,null,null,null,null,null,0,0,0,null,null,null,0,{"$f":"IF(Inventory[[#This Row],[Item SKU/ID]]=\"\",0,SUMPRODUCT((Quantity_Sold_1=Inventory[[#This Row],[Item SKU/ID]])*Net_Profit))","v":0},{"$f":"IFERROR(AVERAGE(Inventory[[#This Row],[Total Net Profit]]/Inventory[[#This Row],[Quantity Sold]]),0)","v":0}]
[null,null,null,null,null,null,null,null,0,0,0,null,null,null,0,{"$f":"IF(Inventory[[#This Row],[Item SKU/ID]]=\"\",0,SUMPRODUCT((Quantity_Sold_1=Inventory[[#This Row],[Item SKU/ID]])*Net_Profit))","v":0},{"$f":"IFERROR(AVERAGE(Inventory[[#This Row],[Total Net Profit]]/Inventory[[#This Row],[Quantity Sold]]),0)","v":0}]
[null,null,null,null,null,null,null,null,0,0,0,null,null,null,0,{"$f":"IF(Inventory[[#This Row],[Item SKU/ID]]=\"\",0,SUMPRODUCT((Quantity_Sold_1=Inventory[[#This Row],[Item SKU/ID]])*Net_Profit))","v":0},{"$f":"IFERROR(AVERAGE(Inventory[[#This Row],[Total Net Profit]]/Inventory[[#This Row],[Quantity Sold]]),0)","v":0}]
[null,null,null,null,null,null,null,null,0,0,0,null,null,null,0,{"$f":"IF(Inventory[[#This Row],[Item SKU/ID]]=\"\",0,SUMPRODUCT((Quantity_Sold_1=Inventory[[#This Row],[Item SKU/ID]])*Net_Profit))","v":0},{"$f":"IFERROR(AVERAGE(Inventory[[#This Row],[Total Net Profit]]/Inventory[[#This Row],[Quantity Sold]]),0)","v":0}]
[null,null,null,null,null,null,null,null,0,0,0,null,null,null,0,{"$f":"IF(Inventory[[#This Row],[Item SKU/ID]]=\"\",0,SUMPRODUCT((Quantity_Sold_1=Inventory[[#This Row],[Item SKU/ID]])*Net_Profit))","v":0},{"$f":"IFERROR(AVERAGE(Inventory[[#This Row],[Total Net Profit]]/Inventory[[#This Row],[Quantity Sold]]),0)","v":0}]
[null,null,null,null,null,null,null,null,0,0,0,null,null,null,0,{"$f":"IF(Inventory[[#This Row],[Item SKU/ID]]=\"\",0,SUMPRODUCT((Quantity_Sold_1=Inventory[[#This Row],[Item SKU/ID]])*Net_Profit))","v":0},{"$f":"IFERROR(AVERAGE(Inventory[[#This Row],[Total Net Profit]]/Inventory[[#This Row],[Quantity Sold]]),0)","v":0}]
[null,null,null,null,null,null,null,null,0,0,0,null,null,null,0,{"$f":"IF(Inventory[[#This Row],[Item SKU/ID]]=\"\",0,SUMPRODUCT((Quantity_Sold_1=Inventory[[#This Row],[Item SKU/ID]])*Net_Profit))","v":0},{"$f":"IFERROR(AVERAGE(Inventory[[#This Row],[Total Net Profit]]/Inventory[[#This Row],[Quantity Sold]]),0)","v":0}]
[null,null,null,null,null,null,null,null,0,0,0,null,null,null,0,{"$f":"IF(Inventory[[#This Row],[Item SKU/ID]]=\"\",0,SUMPRODUCT((Quantity_Sold_1=Inventory[[#This Row],[Item SKU/ID]])*Net_Profit))","v":0},{"$f":"IFERROR(AVERAGE(Inventory[[#This Row],[Total Net Profit]]/Inventory[[#This Row],[Quantity Sold]]),0)","v":0}]
[null,null,null,null,null,null,null,null,0,0,0,null,null,null,0,{"$f":"IF(Inventory[[#This Row],[Item SKU/ID]]=\"\",0,SUMPRODUCT((Quantity_Sold_1=Inventory[[#This Row],[Item SKU/ID]])*Net_Profit))","v":0},{"$f":"IFERROR(AVERAGE(Inventory[[#This Row],[Total Net Profit]]/Inventory[[#This Row],[Quantity Sold]]),0)","v":0}]
[null,null,null,null,null,null,null,null,0,0,0,null,null,null,0,{"$f":"IF(Inventory[[#This Row],[Item SKU/ID]]=\"\",0,SUMPRODUCT((Quantity_Sold_1=Inventory[[#This Row],[Item SKU/ID]])*Net_Profit))","v":0},{"$f":"IFERROR(AVERAGE(Inventory[[#This Row],[Total Net Profit]]/Inventory[[#This Row],[Quantity Sold]]),0)","v":0}]
[null,null,null,null,null,null,null,null,0,0,0,null,null,null,0,{"$f":"IF(Inventory[[#This Row],[Item SKU/ID]]=\"\",0,SUMPRODUCT((Quantity_Sold_1=Inventory[[#This Row],[Item SKU/ID]])*Net_Profit))","v":0},{"$f":"IFERROR(AVERAGE(Inventory[[#This Row],[Total Net Profit]]/Inventory[[#This Row],[Quantity Sold]]),0)","v":0}]
[null,null,null,null,null,null,null,null,0,0,0,null,null,null,0,{"$f":"IF(Inventory[[#This Row],[Item SKU/ID]]=\"\",0,SUMPRODUCT((Quantity_Sold_1=Inventory[[#This Row],[Item SKU/ID]])*Net_Profit))","v":0},{"$f":"IFERROR(AVERAGE(Inventory[[#This Row],[Total Net Profit]]/Inventory[[#This Row],[Quantity Sold]]),0)","v":0}]
[null,null,null,null,null,null,null,null,0,0,0,null,null,null,0,{"$f":"IF(Inventory[[#This Row],[Item SKU/ID]]=\"\",0,SUMPRODUCT((Quantity_Sold_1=Inventory[[#This Row],[Item SKU/ID]])*Net_Profit))","v":0},{"$f":"IFERROR(AVERAGE(Inventory[[#This Row],[Total Net Profit]]/Inventory[[#This Row],[Quantity Sold]]),0)","v":0}]
[null,null,null,null,null,null,null,null,0,0,0,null,null,null,0,{"$f":"IF(Inventory[[#This Row],[Item SKU/ID]]=\"\",0,SUMPRODUCT((Quantity_Sold_1=Inventory[[#This Row],[Item SKU/ID]])*Net_Profit))","v":0},{"$f":"IFERROR(AVERAGE(Inventory[[#This Row],[Total Net Profit]]/Inventory[[#This Row],[Quantity Sold]]),0)","v":0}]
[null,null,null,null,null,null,null,null,0,0,0,null,null,null,0,{"$f":"IF(Inventory[[#This Row],[Item SKU/ID]]=\"\",0,SUMPRODUCT((Quantity_Sold_1=Inventory[[#This Row],[Item SKU/ID]])*Net_Profit))","v":0},{"$f":"IFERROR(AVERAGE(Inventory[[#This Row],[Total Net Profit]]/Inventory[[#This Row],[Quantity Sold]]),0)","v":0}]
[null,null,null,null,null,null,null,null,0,0,0,null,null,null,0,{"$f":"IF(Inventory[[#This Row],[Item SKU/ID]]=\"\",0,SUMPRODUCT((Quantity_Sold_1=Inventory[[#This Row],[Item SKU/ID]])*Net_Profit))","v":0},{"$f":"IFERROR(AVERAGE(Inventory[[#This Row],[Total Net Profit]]/Inventory[[#This Row],[Quantity Sold]]),0)","v":0}]
[null,null,null,null,null,null,null,null,0,0,0,null,null,null,0,{"$f":"IF(Inventory[[#This Row],[Item SKU/ID]]=\"\",0,SUMPRODUCT((Quantity_Sold_1=Inventory[[#This Row],[Item SKU/ID]])*Net_Profit))","v":0},{"$f":"IFERROR(AVERAGE(Inventory[[#This Row],[Total Net Profit]]/Inventory[[#This Row],[Quantity Sold]]),0)","v":0}]
[null,null,null,null,null,null,null,null,0,0,0,null,null,null,0,{"$f":"IF(Inventory[[#This Row],[Item SKU/ID]]=\"\",0,SUMPRODUCT((Quantity_Sold_1=Inventory[[#This Row],[Item SKU/ID]])*Net_Profit))","v":0},{"$f":"IFERROR(AVERAGE(Inventory[[#This Row],[Total Net Profit]]/Inventory[[#This Row],[Quantity Sold]]),0)","v":0}]
[null,null,null,null,null,null,null,null,0,0,0,null,null,null,0,{"$f":"IF(Inventory[[#This Row],[Item SKU/ID]]=\"\",0,SUMPRODUCT((Quantity_Sold_1=Inventory[[#This Row],[Item SKU/ID]])*Net_Profit))","v":0},{"$f":"IFERROR(AVERAGE(Inventory[[#This Row],[Total Net Profit]]/Inventory[[#This Row],[Quantity Sold]]),0)","v":0}]
[null,null,null,null,null,null,null,null,0,0,0,null,null,null,0,{"$f":"IF(Inventory[[#This Row],[Item SKU/ID]]=\"\",0,SUMPRODUCT((Quantity_Sold_1=Inventory[[#This Row],[Item SKU/ID]])*Net_Profit))","v":0},{"$f":"IFERROR(AVERAGE(Inventory[[#This Row],[Total Net Profit]]/Inventory[[#This Row],[Quantity Sold]]),0)","v":0}]
[null,null,null,null,null,null,null,null,0,0,0,null,null,null,0,{"$f":"IF(Inventory[[#This Row],[Item SKU/ID]]=\"\",0,SUMPRODUCT((Quantity_Sold_1=Inventory[[#This Row],[Item SKU/ID]])*Net_Profit))","v":0},{"$f":"IFERROR(AVERAGE(Inventory[[#This Row],[Total Net Profit]]/Inventory[[#This Row],[Quantity Sold]]),0)","v":0}]
[null,null,null,null,null,null,null,null,0,0,0,null,null,null,0,{"$f":"IF(Inventory[[#This Row],[Item SKU/ID]]=\"\",0,SUMPRODUCT((Quantity_Sold_1=Inventory[[#This Row],[Item SKU/ID]])*Net_Profit))","v":0},{"$f":"IFERROR(AVERAGE(Inventory[[#This Row],[Total Net Profit]]/Inventory[[#This Row],[Quantity Sold]]),0)","v":0}]
[null,null,null,null,null,null,null,null,0,0,0,null,null,null,0,{"$f":"IF(Inventory[[#This Row],[Item SKU/ID]]=\"\",0,SUMPRODUCT((Quantity_Sold_1=Inventory[[#This Row],[Item SKU/ID]])*Net_Profit))","v":0},{"$f":"IFERROR(AVERAGE(Inventory[[#This Row],[Total Net Profit]]/Inventory[[#This Row],[Quantity Sold]]),0)","v":0}]
[null,null,null,null,null,null,null,null,0,0,0,null,null,null,0,{"$f":"IF(Inventory[[#This Row],[Item SKU/ID]]=\"\",0,SUMPRODUCT((Quantity_Sold_1=Inventory[[#This Row],[Item SKU/ID]])*Net_Profit))","v":0},{"$f":"IFERROR(AVERAGE(Inventory[[#This Row],[Total Net Profit]]/Inventory[[#This Row],[Quantity Sold]]),0)","v":0}]
[null,null,null,null,null,null,null,null,0,0,0,null,null,null,0,{"$f":"IF(Inventory[[#This Row],[Item SKU/ID]]=\"\",0,SUMPRODUCT((Quantity_Sold_1=Inventory[[#This Row],[Item SKU/ID]])*Net_Profit))","v":0},{"$f":"IFERROR(AVERAGE(Inventory[[#This Row],[Total Net Profit]]/Inventory[[#This Row],[Quantity Sold]]),0)","v":0}]
[null,null,null,null,null,null,null,null,0,0,0,null,null,null,0,{"$f":"IF(Inventory[[#This Row],[Item SKU/ID]]=\"\",0,SUMPRODUCT((Quantity_Sold_1=Inventory[[#This Row],[Item SKU/ID]])*Net_Profit))","v":0},{"$f":"IFERROR(AVERAGE(Inventory[[#This Row],[Total Net Profit]]/Inventory[[#This Row],[Quantity Sold]]),0)","v":0}]
[null,null,null,null,null,null,null,null,0,0,0,null,null,null,0,{"$f":"IF(Inventory[[#This Row],[Item SKU/ID]]=\"\",0,SUMPRODUCT((Quantity_Sold_1=Inventory[[#This Row],[Item SKU/ID]])*Net_Profit))","v":0},{"$f":"IFERROR(AVERAGE(Inventory[[#This Row],[Total Net Profit]]/Inventory[[#This Row],[Quantity Sold]]),0)","v":0}]
[null,null,null,null,null,null,null,null,0,0,0,null,null,null,0,{"$f":"IF(Inventory[[#This Row],[Item SKU/ID]]=\"\",0,SUMPRODUCT((Quantity_Sold_1=Inventory[[#This Row],[Item SKU/ID]])*Net_Profit))","v":0},{"$f":"IFERROR(AVERAGE(Inventory[[#This Row],[Total Net Profit]]/Inventory[[#This Row],[Quantity Sold]]),0)","v":0}]
[null,null,null,null,null,null,null,null,0,0,0,null,null,null,0,{"$f":"IF(Inventory[[#This Row],[Item SKU/ID]]=\"\",0,SUMPRODUCT((Quantity_Sold_1=Inventory[[#This Row],[Item SKU/ID]])*Net_Profit))","v":0},{"$f":"IFERROR(AVERAGE(Inventory[[#This Row],[Total Net Profit]]/Inventory[[#This Row],[Quantity Sold]]),0)","v":0}]
[null,null,null,null,null,null,null,null,0,0,0,null,null,null,0,{"$f":"IF(Inventory[[#This Row],[Item SKU/ID]]=\"\",0,SUMPRODUCT((Quantity_Sold_1=Inventory[[#This Row],[Item SKU/ID]])*Net_Profit))","v":0},{"$f":"IFERROR(AVERAGE(Inventory[[#This Row],[Total Net Profit]]/Inventory[[#This Row],[Quantity Sold]]),0)","v":0}]
[null,null,null,null,null,null,null,null,0,0,0,null,null,null,0,{"$f":"IF(Inventory[[#This Row],[Item SKU/ID]]=\"\",0,SUMPRODUCT((Quantity_Sold_1=Inventory[[#This Row],[Item SKU/ID]])*Net_Profit))","v":0},{"$f":"IFERROR(AVERAGE(Inventory[[#This Row],[Total Net Profit]]/Inventory[[#This Row],[Quantity Sold]]),0)","v":0}]
[null,null,null,null,null,null,null,null,0,0,0,null,null,null,0,{"$f":"IF(Inventory[[#This Row],[Item SKU/ID]]=\"\",0,SUMPRODUCT((Quantity_Sold_1=Inventory[[#This Row],[Item SKU/ID]])*Net_Profit))","v":0},{"$f":"IFERROR(AVERAGE(Inventory[[#This Row],[Total Net Profit]]/Inventory[[#This Row],[Quantity Sold]]),0)","v":0}]
[null,null,null,null,null,null,null,null,0,0,0,null,null,null,0,{"$f":"IF(Inventory[[#This Row],[Item SKU/ID]]=\"\",0,SUMPRODUCT((Quantity_Sold_1=Inventory[[#This Row],[Item SKU/ID]])*Net_Profit))","v":0},{"$f":"IFERROR(AVERAGE(Inventory[[#This Row],[Total Net Profit]]/Inventory[[#This Row],[Quantity Sold]]),0)","v":0}]
[null,null,null,null,null,null,null,null,0,0,0,null,null,null,0,{"$f":"IF(Inventory[[#This Row],[Item SKU/ID]]=\"\",0,SUMPRODUCT((Quantity_Sold_1=Inventory[[#This Row],[Item SKU/ID]])*Net_Profit))","v":0},{"$f":"IFERROR(AVERAGE(Inventory[[#This Row],[Total Net Profit]]/Inventory[[#This Row],[Quantity Sold]]),0)","v":0}]
[null,null,null,null,null,null,null,null,0,0,0,null,null,null,0,{"$f":"IF(Inventory[[#This Row],[Item SKU/ID]]=\"\",0,SUMPRODUCT((Quantity_Sold_1=Inventory[[#This Row],[Item SKU/ID]])*Net_Profit))","v":0},{"$f":"IFERROR(AVERAGE(Inventory[[#This Row],[Total Net Profit]]/Inventory[[#This Row],[Quantity Sold]]),0)","v":0}]
[null,null,null,null,null,null,null,null,0,0,0,null,null,null,0,{"$f":"IF(Inventory[[#This Row],[Item SKU/ID]]=\"\",0,SUMPRODUCT((Quantity_Sold_1=Inventory[[#This Row],[Item SKU/ID]])*Net_Profit))","v":0},{"$f":"IFERROR(AVERAGE(Inventory[[#This Row],[Total Net Profit]]/Inventory[[#This Row],[Quantity Sold]]),0)","v":0}]
[null,null,null,null,null,null,null,null,0,0,0,null,null,null,0,{"$f":"IF(Inventory[[#This Row],[Item SKU/ID]]=\"\",0,SUMPRODUCT((Quantity_Sold_1=Inventory[[#This Row],[Item SKU/ID]])*Net_Profit))","v":0},{"$f":"IFERROR(AVERAGE(Inventory[[#This Row],[Total Net Profit]]/Inventory[[#This Row],[Quantity Sold]]),0)","v":0}]
[null,null,null,null,null,null,null,null,0,0,0,null,null,null,0,{"$f":"IF(Inventory[[#This Row],[Item SKU/ID]]=\"\",0,SUMPRODUCT((Quantity_Sold_1=Inventory[[#This Row],[Item SKU/ID]])*Net_Profit))","v":0},{"$f":"IFERROR(AVERAGE(Inventory[[#This Row],[Total Net Profit]]/Inventory[[#This Row],[Quantity Sold]]),0)","v":0}]
[null,null,null,null,null,null,null,null,0,0,0,null,null,null,0,{"$f":"IF(Inventory[[#This Row],[Item SKU/ID]]=\"\",0,SUMPRODUCT((Quantity_Sold_1=Inventory[[#This Row],[Item SKU/ID]])*Net_Profit))","v":0},{"$f":"IFERROR(AVERAGE(Inventory[[#This Row],[Total Net Profit]]/Inventory[[#This Row],[Quantity Sold]]),0)","v":0}]
[null,null,null,null,null,null,null,null,0,0,0,null,null,null,0,{"$f":"IF(Inventory[[#This Row],[Item SKU/ID]]=\"\",0,SUMPRODUCT((Quantity_Sold_1=Inventory[[#This Row],[Item SKU/ID]])*Net_Profit))","v":0},{"$f":"IFERROR(AVERAGE(Inventory[[#This Row],[Total Net Profit]]/Inventory[[#This Row],[Quantity Sold]]),0)","v":0}]
[null,null,null,null,null,null,null,null,0,0,0,null,null,null,0,{"$f":"IF(Inventory[[#This Row],[Item SKU/ID]]=\"\",0,SUMPRODUCT((Quantity_Sold_1=Inventory[[#This Row],[Item SKU/ID]])*Net_Profit))","v":0},{"$f":"IFERROR(AVERAGE(Inventory[[#This Row],[Total Net Profit]]/Inventory[[#This Row],[Quantity Sold]]),0)","v":0}]
[null,null,null,null,null,null,null,null,0,0,0,null,null,null,0,{"$f":"IF(Inventory[[#This Row],[Item SKU/ID]]=\"\",0,SUMPRODUCT((Quantity_Sold_1=Inventory[[#This Row],[Item SKU/ID]])*Net_Profit))","v":0},{"$f":"IFERROR(AVERAGE(Inventory[[#This Row],[Total Net Profit]]/Inventory[[#This Row],[Quantity Sold]]),0)","v":0}]
[null,null,null,null,null,null,null,null,0,0,0,null,null,null,0,{"$f":"IF(Inventory[[#This Row],[Item SKU/ID]]=\"\",0,SUMPRODUCT((Quantity_Sold_1=Inventory[[#This Row],[Item SKU/ID]])*Net_Profit))","v":0},{"$f":"IFERROR(AVERAGE(Inventory[[#This Row],[Total Net Profit]]/Inventory[[#This Row],[Quantity Sold]]),0)","v":0}]
[null,null,null,null,null,null,null,null,0,0,0,null,null,null,0,{"$f":"IF(Inventory[[#This Row],[Item SKU/ID]]=\"\",0,SUMPRODUCT((Quantity_Sold_1=Inventory[[#This Row],[Item SKU/ID]])*Net_Profit))","v":0},{"$f":"IFERROR(AVERAGE(Inventory[[#This Row],[Total Net Profit]]/Inventory[[#This Row],[Quantity Sold]]),0)","v":0}]
[null,null,null,null,null,null,null,null,0,0,0,null,null,null,0,{"$f":"IF(Inventory[[#This Row],[Item SKU/ID]]=\"\",0,SUMPRODUCT((Quantity_Sold_1=Inventory[[#This Row],[Item SKU/ID]])*Net_Profit))","v":0},{"$f":"IFERROR(AVERAGE(Inventory[[#This Row],[Total Net Profit]]/Inventory[[#This Row],[Quantity Sold]]),0)","v":0}]
[null,null,null,null,null,null,null,null,0,0,0,null,null,null,0,{"$f":"IF(Inventory[[#This Row],[Item SKU/ID]]=\"\",0,SUMPRODUCT((Quantity_Sold_1=Inventory[[#This Row],[Item SKU/ID]])*Net_Profit))","v":0},{"$f":"IFERROR(AVERAGE(Inventory[[#This Row],[Total Net Profit]]/Inventory[[#This Row],[Quantity Sold]]),0)","v":0}]
[null,null,null,null,null,null,null,null,0,0,0,null,null,null,0,{"$f":"IF(Inventory[[#This Row],[Item SKU/ID]]=\"\",0,SUMPRODUCT((Quantity_Sold_1=Inventory[[#This Row],[Item SKU/ID]])*Net_Profit))","v":0},{"$f":"IFERROR(AVERAGE(Inventory[[#This Row],[Total Net Profit]]/Inventory[[#This Row],[Quantity Sold]]),0)","v":0}]
[null,null,null,null,null,null,null,null,0,0,0,null,null,null,0,{"$f":"IF(Inventory[[#This Row],[Item SKU/ID]]=\"\",0,SUMPRODUCT((Quantity_Sold_1=Inventory[[#This Row],[Item SKU/ID]])*Net_Profit))","v":0},{"$f":"IFERROR(AVERAGE(Inventory[[#This Row],[Total Net Profit]]/Inventory[[#This Row],[Quantity Sold]]),0)","v":0}]
[null,null,null,null,null,null,null,null,0,0,0,null,null,null,0,{"$f":"IF(Inventory[[#This Row],[Item SKU/ID]]=\"\",0,SUMPRODUCT((Quantity_Sold_1=Inventory[[#This Row],[Item SKU/ID]])*Net_Profit))","v":0},{"$f":"IFERROR(AVERAGE(Inventory[[#This Row],[Total Net Profit]]/Inventory[[#This Row],[Quantity Sold]]),0)","v":0}]
[null,null,null,null,null,null,null,null,0,0,0,null,null,null,0,{"$f":"IF(Inventory[[#This Row],[Item SKU/ID]]=\"\",0,SUMPRODUCT((Quantity_Sold_1=Inventory[[#This Row],[Item SKU/ID]])*Net_Profit))","v":0},{"$f":"IFERROR(AVERAGE(Inventory[[#This Row],[Total Net Profit]]/Inventory[[#This Row],[Quantity Sold]]),0)","v":0}]
[null,null,null,null,null,null,null,null,0,0,0,null,null,null,0,{"$f":"IF(Inventory[[#This Row],[Item SKU/ID]]=\"\",0,SUMPRODUCT((Quantity_Sold_1=Inventory[[#This Row],[Item SKU/ID]])*Net_Profit))","v":0},{"$f":"IFERROR(AVERAGE(Inventory[[#This Row],[Total Net Profit]]/Inventory[[#This Row],[Quantity Sold]]),0)","v":0}]
[null,null,null,null,null,null,null,null,0,0,0,null,null,null,0,{"$f":"IF(Inventory[[#This Row],[Item SKU/ID]]=\"\",0,SUMPRODUCT((Quantity_Sold_1=Inventory[[#This Row],[Item SKU/ID]])*Net_Profit))","v":0},{"$f":"IFERROR(AVERAGE(Inventory[[#This Row],[Total Net Profit]]/Inventory[[#This Row],[Quantity Sold]]),0)","v":0}]
[null,null,null,null,null,null,null,null,0,0,0,null,null,null,0,{"$f":"IF(Inventory[[#This Row],[Item SKU/ID]]=\"\",0,SUMPRODUCT((Quantity_Sold_1=Inventory[[#This Row],[Item SKU/ID]])*Net_Profit))","v":0},{"$f":"IFERROR(AVERAGE(Inventory[[#This Row],[Total Net Profit]]/Inventory[[#This Row],[Quantity Sold]]),0)","v":0}]
[null,null,null,null,null,null,null,null,0,0,0,null,null,null,0,{"$f":"IF(Inventory[[#This Row],[Item SKU/ID]]=\"\",0,SUMPRODUCT((Quantity_Sold_1=Inventory[[#This Row],[Item SKU/ID]])*Net_Profit))","v":0},{"$f":"IFERROR(AVERAGE(Inventory[[#This Row],[Total Net Profit]]/Inventory[[#This Row],[Quantity Sold]]),0)","v":0}]
[null,null,null,null,null,null,null,null,0,0,0,null,null,null,0,{"$f":"IF(Inventory[[#This Row],[Item SKU/ID]]=\"\",0,SUMPRODUCT((Quantity_Sold_1=Inventory[[#This Row],[Item SKU/ID]])*Net_Profit))","v":0},{"$f":"IFERROR(AVERAGE(Inventory[[#This Row],[Total Net Profit]]/Inventory[[#This Row],[Quantity Sold]]),0)","v":0}]
[null,null,null,null,null,null,null,null,0,0,0,null,null,null,0,{"$f":"IF(Inventory[[#This Row],[Item SKU/ID]]=\"\",0,SUMPRODUCT((Quantity_Sold_1=Inventory[[#This Row],[Item SKU/ID]])*Net_Profit))","v":0},{"$f":"IFERROR(AVERAGE(Inventory[[#This Row],[Total Net Profit]]/Inventory[[#This Row],[Quantity Sold]]),0)","v":0}]
[null,null,null,null,null,null,null,null,0,0,0,null,null,null,0,{"$f":"IF(Inventory[[#This Row],[Item SKU/ID]]=\"\",0,SUMPRODUCT((Quantity_Sold_1=Inventory[[#This Row],[Item SKU/ID]])*Net_Profit))","v":0},{"$f":"IFERROR(AVERAGE(Inventory[[#This Row],[Total Net Profit]]/Inventory[[#This Row],[Quantity Sold]]),0)","v":0}]
[null,null,null,null,null,null,null,null,0,0,0,null,null,null,0,{"$f":"IF(Inventory[[#This Row],[Item SKU/ID]]=\"\",0,SUMPRODUCT((Quantity_Sold_1=Inventory[[#This Row],[Item SKU/ID]])*Net_Profit))","v":0},{"$f":"IFERROR(AVERAGE(Inventory[[#This Row],[Total Net Profit]]/Inventory[[#This Row],[Quantity Sold]]),0)","v":0}]
[null,null,null,null,null,null,null,null,0,0,0,null,null,null,0,{"$f":"IF(Inventory[[#This Row],[Item SKU/ID]]=\"\",0,SUMPRODUCT((Quantity_Sold_1=Inventory[[#This Row],[Item SKU/ID]])*Net_Profit))","v":0},{"$f":"IFERROR(AVERAGE(Inventory[[#This Row],[Total Net Profit]]/Inventory[[#This Row],[Quantity Sold]]),0)","v":0}]
[null,null,null,null,null,null,null,null,0,0,0,null,null,null,0,{"$f":"IF(Inventory[[#This Row],[Item SKU/ID]]=\"\",0,SUMPRODUCT((Quantity_Sold_1=Inventory[[#This Row],[Item SKU/ID]])*Net_Profit))","v":0},{"$f":"IFERROR(AVERAGE(Inventory[[#This Row],[Total Net Profit]]/Inventory[[#This Row],[Quantity Sold]]),0)","v":0}]
[null,null,null,null,null,null,null,null,{"$f":"K1668*H1668","v":0},{"$f":"IF(F1668=\"\",0,SUMPRODUCT((Quantity_Sold_1=F1668)*Quantity_Sold_2))","v":0},{"$f":"G1668-J1668","v":0},null,null,null,{"$f":"K1668*H1668","v":0},{"$f":"IF(Inventory[[#This Row],[Item SKU/ID]]=\"\",0,SUMPRODUCT((Quantity_Sold_1=Inventory[[#This Row],[Item SKU/ID]])*Net_Profit))","v":0},{"$f":"IFERROR(AVERAGE(Inventory[[#This Row],[Total Net Profit]]/Inventory[[#This Row],[Quantity Sold]]),0)","v":0}]
[null,null,null,null,null,null,null,null,0,0,0,null,null,null,0,{"$f":"IF(Inventory[[#This Row],[Item SKU/ID]]=\"\",0,SUMPRODUCT((Quantity_Sold_1=Inventory[[#This Row],[Item SKU/ID]])*Net_Profit))","v":0},{"$f":"IFERROR(AVERAGE(Inventory[[#This Row],[Total Net Profit]]/Inventory[[#This Row],[Quantity Sold]]),0)","v":0}]
[null,null,null,null,null,null,null,null,0,0,0,null,null,null,0,{"$f":"IF(Inventory[[#This Row],[Item SKU/ID]]=\"\",0,SUMPRODUCT((Quantity_Sold_1=Inventory[[#This Row],[Item SKU/ID]])*Net_Profit))","v":0},{"$f":"IFERROR(AVERAGE(Inventory[[#This Row],[Total Net Profit]]/Inventory[[#This Row],[Quantity Sold]]),0)","v":0}]
[null,null,null,null,null,null,null,null,0,0,0,null,null,null,0,{"$f":"IF(Inventory[[#This Row],[Item SKU/ID]]=\"\",0,SUMPRODUCT((Quantity_Sold_1=Inventory[[#This Row],[Item SKU/ID]])*Net_Profit))","v":0},{"$f":"IFERROR(AVERAGE(Inventory[[#This Row],[Total Net Profit]]/Inventory[[#This Row],[Quantity Sold]]),0)","v":0}]
[null,null,null,null,null,null,null,null,0,0,0,null,null,null,0,{"$f":"IF(Inventory[[#This Row],[Item SKU/ID]]=\"\",0,SUMPRODUCT((Quantity_Sold_1=Inventory[[#This Row],[Item SKU/ID]])*Net_Profit))","v":0},{"$f":"IFERROR(AVERAGE(Inventory[[#This Row],[Total Net Profit]]/Inventory[[#This Row],[Quantity Sold]]),0)","v":0}]
[null,null,null,null,null,null,null,null,0,0,0,null,null,null,0,{"$f":"IF(Inventory[[#This Row],[Item SKU/ID]]=\"\",0,SUMPRODUCT((Quantity_Sold_1=Inventory[[#This Row],[Item SKU/ID]])*Net_Profit))","v":0},{"$f":"IFERROR(AVERAGE(Inventory[[#This Row],[Total Net Profit]]/Inventory[[#This Row],[Quantity Sold]]),0)","v":0}]
[null,null,null,null,null,null,null,null,0,0,0,null,null,null,0,{"$f":"IF(Inventory[[#This Row],[Item SKU/ID]]=\"\",0,SUMPRODUCT((Quantity_Sold_1=Inventory[[#This Row],[Item SKU/ID]])*Net_Profit))","v":0},{"$f":"IFERROR(AVERAGE(Inventory[[#This Row],[Total Net Profit]]/Inventory[[#This Row],[Quantity Sold]]),0)","v":0}]
[null,null,null,null,null,null,null,null,0,0,0,null,null,null,0,{"$f":"IF(Inventory[[#This Row],[Item SKU/ID]]=\"\",0,SUMPRODUCT((Quantity_Sold_1=Inventory[[#This Row],[Item SKU/ID]])*Net_Profit))","v":0},{"$f":"IFERROR(AVERAGE(Inventory[[#This Row],[Total Net Profit]]/Inventory[[#This Row],[Quantity Sold]]),0)","v":0}]
[null,null,null,null,null,null,null,null,0,0,0,null,null,null,0,{"$f":"IF(Inventory[[#This Row],[Item SKU/ID]]=\"\",0,SUMPRODUCT((Quantity_Sold_1=Inventory[[#This Row],[Item SKU/ID]])*Net_Profit))","v":0},{"$f":"IFERROR(AVERAGE(Inventory[[#This Row],[Total Net Profit]]/Inventory[[#This Row],[Quantity Sold]]),0)","v":0}]
[null,null,null,null,null,null,null,null,0,0,0,null,null,null,0,{"$f":"IF(Inventory[[#This Row],[Item SKU/ID]]=\"\",0,SUMPRODUCT((Quantity_Sold_1=Inventory[[#This Row],[Item SKU/ID]])*Net_Profit))","v":0},{"$f":"IFERROR(AVERAGE(Inventory[[#This Row],[Total Net Profit]]/Inventory[[#This Row],[Quantity Sold]]),0)","v":0}]
[null,null,null,null,null,null,null,null,0,0,0,null,null,null,0,{"$f":"IF(Inventory[[#This Row],[Item SKU/ID]]=\"\",0,SUMPRODUCT((Quantity_Sold_1=Inventory[[#This Row],[Item SKU/ID]])*Net_Profit))","v":0},{"$f":"IFERROR(AVERAGE(Inventory[[#This Row],[Total Net Profit]]/Inventory[[#This Row],[Quantity Sold]]),0)","v":0}]
[null,null,null,null,null,null,null,null,0,0,0,null,null,null,0,{"$f":"IF(Inventory[[#This Row],[Item SKU/ID]]=\"\",0,SUMPRODUCT((Quantity_Sold_1=Inventory[[#This Row],[Item SKU/ID]])*Net_Profit))","v":0},{"$f":"IFERROR(AVERAGE(Inventory[[#This Row],[Total Net Profit]]/Inventory[[#This Row],[Quantity Sold]]),0)","v":0}]
[null,null,null,null,null,null,null,null,0,0,0,null,null,null,0,{"$f":"IF(Inventory[[#This Row],[Item SKU/ID]]=\"\",0,SUMPRODUCT((Quantity_Sold_1=Inventory[[#This Row],[Item SKU/ID]])*Net_Profit))","v":0},{"$f":"IFERROR(AVERAGE(Inventory[[#This Row],[Total Net Profit]]/Inventory[[#This Row],[Quantity Sold]]),0)","v":0}]
[null,null,null,null,null,null,null,null,0,0,0,null,null,null,0,{"$f":"IF(Inventory[[#This Row],[Item SKU/ID]]=\"\",0,SUMPRODUCT((Quantity_Sold_1=Inventory[[#This Row],[Item SKU/ID]])*Net_Profit))","v":0},{"$f":"IFERROR(AVERAGE(Inventory[[#This Row],[Total Net Profit]]/Inventory[[#This Row],[Quantity Sold]]),0)","v":0}]
[null,null,null,null,null,null,null,null,0,0,0,null,null,null,0,{"$f":"IF(Inventory[[#This Row],[Item SKU/ID]]=\"\",0,SUMPRODUCT((Quantity_Sold_1=Inventory[[#This Row],[Item SKU/ID]])*Net_Profit))","v":0},{"$f":"IFERROR(AVERAGE(Inventory[[#This Row],[Total Net Profit]]/Inventory[[#This Row],[Quantity Sold]]),0)","v":0}]
[null,null,null,null,null,null,null,null,0,0,0,null,null,null,0,{"$f":"IF(Inventory[[#This Row],[Item SKU/ID]]=\"\",0,SUMPRODUCT((Quantity_Sold_1=Inventory[[#This Row],[Item SKU/ID]])*Net_Profit))","v":0},{"$f":"IFERROR(AVERAGE(Inventory[[#This Row],[Total Net Profit]]/Inventory[[#This Row],[Quantity Sold]]),0)","v":0}]
[null,null,null,null,null,null,null,null,0,0,0,null,null,null,0,{"$f":"IF(Inventory[[#This Row],[Item SKU/ID]]=\"\",0,SUMPRODUCT((Quantity_Sold_1=Inventory[[#This Row],[Item SKU/ID]])*Net_Profit))","v":0},{"$f":"IFERROR(AVERAGE(Inventory[[#This Row],[Total Net Profit]]/Inventory[[#This Row],[Quantity Sold]]),0)","v":0}]
[null,null,null,null,null,null,null,null,0,0,0,null,null,null,0,{"$f":"IF(Inventory[[#This Row],[Item SKU/ID]]=\"\",0,SUMPRODUCT((Quantity_Sold_1=Inventory[[#This Row],[Item SKU/ID]])*Net_Profit))","v":0},{"$f":"IFERROR(AVERAGE(Inventory[[#This Row],[Total Net Profit]]/Inventory[[#This Row],[Quantity Sold]]),0)","v":0}]
[null,null,null,null,null,null,null,null,0,0,0,null,null,null,0,{"$f":"IF(Inventory[[#This Row],[Item SKU/ID]]=\"\",0,SUMPRODUCT((Quantity_Sold_1=Inventory[[#This Row],[Item SKU/ID]])*Net_Profit))","v":0},{"$f":"IFERROR(AVERAGE(Inventory[[#This Row],[Total Net Profit]]/Inventory[[#This Row],[Quantity Sold]]),0)","v":0}]
[null,null,null,null,null,null,null,null,0,0,0,null,null,null,0,{"$f":"IF(Inventory[[#This Row],[Item SKU/ID]]=\"\",0,SUMPRODUCT((Quantity_Sold_1=Inventory[[#This Row],[Item SKU/ID]])*Net_Profit))","v":0},{"$f":"IFERROR(AVERAGE(Inventory[[#This Row],[Total Net Profit]]/Inventory[[#This Row],[Quantity Sold]]),0)","v":0}]
[null,null,null,null,null,null,null,null,0,0,0,null,null,null,0,{"$f":"IF(Inventory[[#This Row],[Item SKU/ID]]=\"\",0,SUMPRODUCT((Quantity_Sold_1=Inventory[[#This Row],[Item SKU/ID]])*Net_Profit))","v":0},{"$f":"IFERROR(AVERAGE(Inventory[[#This Row],[Total Net Profit]]/Inventory[[#This Row],[Quantity Sold]]),0)","v":0}]
[null,null,null,null,null,null,null,null,0,0,0,null,null,null,0,{"$f":"IF(Inventory[[#This Row],[Item SKU/ID]]=\"\",0,SUMPRODUCT((Quantity_Sold_1=Inventory[[#This Row],[Item SKU/ID]])*Net_Profit))","v":0},{"$f":"IFERROR(AVERAGE(Inventory[[#This Row],[Total Net Profit]]/Inventory[[#This Row],[Quantity Sold]]),0)","v":0}]
[null,null,null,null,null,null,null,null,0,0,0,null,null,null,0,{"$f":"IF(Inventory[[#This Row],[Item SKU/ID]]=\"\",0,SUMPRODUCT((Quantity_Sold_1=Inventory[[#This Row],[Item SKU/ID]])*Net_Profit))","v":0},{"$f":"IFERROR(AVERAGE(Inventory[[#This Row],[Total Net Profit]]/Inventory[[#This Row],[Quantity Sold]]),0)","v":0}]
[null,null,null,null,null,null,null,null,0,0,0,null,null,null,0,{"$f":"IF(Inventory[[#This Row],[Item SKU/ID]]=\"\",0,SUMPRODUCT((Quantity_Sold_1=Inventory[[#This Row],[Item SKU/ID]])*Net_Profit))","v":0},{"$f":"IFERROR(AVERAGE(Inventory[[#This Row],[Total Net Profit]]/Inventory[[#This Row],[Quantity Sold]]),0)","v":0}]
[null,null,null,null,null,null,null,null,0,0,0,null,null,null,0,{"$f":"IF(Inventory[[#This Row],[Item SKU/ID]]=\"\",0,SUMPRODUCT((Quantity_Sold_1=Inventory[[#This Row],[Item SKU/ID]])*Net_Profit))","v":0},{"$f":"IFERROR(AVERAGE(Inventory[[#This Row],[Total Net Profit]]/Inventory[[#This Row],[Quantity Sold]]),0)","v":0}]
[null,null,null,null,null,null,null,null,0,0,0,null,null,null,0,{"$f":"IF(Inventory[[#This Row],[Item SKU/ID]]=\"\",0,SUMPRODUCT((Quantity_Sold_1=Inventory[[#This Row],[Item SKU/ID]])*Net_Profit))","v":0},{"$f":"IFERROR(AVERAGE(Inventory[[#This Row],[Total Net Profit]]/Inventory[[#This Row],[Quantity Sold]]),0)","v":0}]
[null,null,null,null,null,null,null,null,0,0,0,null,null,null,0,{"$f":"IF(Inventory[[#This Row],[Item SKU/ID]]=\"\",0,SUMPRODUCT((Quantity_Sold_1=Inventory[[#This Row],[Item SKU/ID]])*Net_Profit))","v":0},{"$f":"IFERROR(AVERAGE(Inventory[[#This Row],[Total Net Profit]]/Inventory[[#This Row],[Quantity Sold]]),0)","v":0}]
[null,null,null,null,null,null,null,null,0,0,0,null,null,null,0,{"$f":"IF(Inventory[[#This Row],[Item SKU/ID]]=\"\",0,SUMPRODUCT((Quantity_Sold_1=Inventory[[#This Row],[Item SKU/ID]])*Net_Profit))","v":0},{"$f":"IFERROR(AVERAGE(Inventory[[#This Row],[Total Net Profit]]/Inventory[[#This Row],[Quantity Sold]]),0)","v":0}]
[null,null,null,null,null,null,null,null,0,0,0,null,null,null,0,{"$f":"IF(Inventory[[#This Row],[Item SKU/ID]]=\"\",0,SUMPRODUCT((Quantity_Sold_1=Inventory[[#This Row],[Item SKU/ID]])*Net_Profit))","v":0},{"$f":"IFERROR(AVERAGE(Inventory[[#This Row],[Total Net Profit]]/Inventory[[#This Row],[Quantity Sold]]),0)","v":0}]
[null,null,null,null,null,null,null,null,0,0,0,null,null,null,0,{"$f":"IF(Inventory[[#This Row],[Item SKU/ID]]=\"\",0,SUMPRODUCT((Quantity_Sold_1=Inventory[[#This Row],[Item SKU/ID]])*Net_Profit))","v":0},{"$f":"IFERROR(AVERAGE(Inventory[[#This Row],[Total Net Profit]]/Inventory[[#This Row],[Quantity Sold]]),0)","v":0}]
[null,null,null,null,null,null,null,null,0,0,0,null,null,null,0,{"$f":"IF(Inventory[[#This Row],[Item SKU/ID]]=\"\",0,SUMPRODUCT((Quantity_Sold_1=Inventory[[#This Row],[Item SKU/ID]])*Net_Profit))","v":0},{"$f":"IFERROR(AVERAGE(Inventory[[#This Row],[Total Net Profit]]/Inventory[[#This Row],[Quantity Sold]]),0)","v":0}]
[null,null,null,null,null,null,null,null,0,0,0,null,null,null,0,{"$f":"IF(Inventory[[#This Row],[Item SKU/ID]]=\"\",0,SUMPRODUCT((Quantity_Sold_1=Inventory[[#This Row],[Item SKU/ID]])*Net_Profit))","v":0},{"$f":"IFERROR(AVERAGE(Inventory[[#This Row],[Total Net Profit]]/Inventory[[#This Row],[Quantity Sold]]),0)","v":0}]
[null,null,null,null,null,null,null,null,0,0,0,null,null,null,0,{"$f":"IF(Inventory[[#This Row],[Item SKU/ID]]=\"\",0,SUMPRODUCT((Quantity_Sold_1=Inventory[[#This Row],[Item SKU/ID]])*Net_Profit))","v":0},{"$f":"IFERROR(AVERAGE(Inventory[[#This Row],[Total Net Profit]]/Inventory[[#This Row],[Quantity Sold]]),0)","v":0}]
[null,null,null,null,null,null,null,null,0,0,0,null,null,null,0,{"$f":"IF(Inventory[[#This Row],[Item SKU/ID]]=\"\",0,SUMPRODUCT((Quantity_Sold_1=Inventory[[#This Row],[Item SKU/ID]])*Net_Profit))","v":0},{"$f":"IFERROR(AVERAGE(Inventory[[#This Row],[Total Net Profit]]/Inventory[[#This Row],[Quantity Sold]]),0)","v":0}]
[null,null,null,null,null,null,null,null,0,0,0,null,null,null,0,{"$f":"IF(Inventory[[#This Row],[Item SKU/ID]]=\"\",0,SUMPRODUCT((Quantity_Sold_1=Inventory[[#This Row],[Item SKU/ID]])*Net_Profit))","v":0},{"$f":"IFERROR(AVERAGE(Inventory[[#This Row],[Total Net Profit]]/Inventory[[#This Row],[Quantity Sold]]),0)","v":0}]
[null,null,null,null,null,null,null,null,0,0,0,null,null,null,0,{"$f":"IF(Inventory[[#This Row],[Item SKU/ID]]=\"\",0,SUMPRODUCT((Quantity_Sold_1=Inventory[[#This Row],[Item SKU/ID]])*Net_Profit))","v":0},{"$f":"IFERROR(AVERAGE(Inventory[[#This Row],[Total Net Profit]]/Inventory[[#This Row],[Quantity Sold]]),0)","v":0}]
[null,null,null,null,null,null,null,null,0,0,0,null,null,null,0,{"$f":"IF(Inventory[[#This Row],[Item SKU/ID]]=\"\",0,SUMPRODUCT((Quantity_Sold_1=Inventory[[#This Row],[Item SKU/ID]])*Net_Profit))","v":0},{"$f":"IFERROR(AVERAGE(Inventory[[#This Row],[Total Net Profit]]/Inventory[[#This Row],[Quantity Sold]]),0)","v":0}]
[null,null,null,null,null,null,null,null,0,0,0,null,null,null,0,{"$f":"IF(Inventory[[#This Row],[Item SKU/ID]]=\"\",0,SUMPRODUCT((Quantity_Sold_1=Inventory[[#This Row],[Item SKU/ID]])*Net_Profit))","v":0},{"$f":"IFERROR(AVERAGE(Inventory[[#This Row],[Total Net Profit]]/Inventory[[#This Row],[Quantity Sold]]),0)","v":0}]
[null,null,null,null,null,null,null,null,0,0,0,null,null,null,0,{"$f":"IF(Inventory[[#This Row],[Item SKU/ID]]=\"\",0,SUMPRODUCT((Quantity_Sold_1=Inventory[[#This Row],[Item SKU/ID]])*Net_Profit))","v":0},{"$f":"IFERROR(AVERAGE(Inventory[[#This Row],[Total Net Profit]]/Inventory[[#This Row],[Quantity Sold]]),0)","v":0}]
[null,null,null,null,null,null,null,null,0,0,0,null,null,null,0,{"$f":"IF(Inventory[[#This Row],[Item SKU/ID]]=\"\",0,SUMPRODUCT((Quantity_Sold_1=Inventory[[#This Row],[Item SKU/ID]])*Net_Profit))","v":0},{"$f":"IFERROR(AVERAGE(Inventory[[#This Row],[Total Net Profit]]/Inventory[[#This Row],[Quantity Sold]]),0)","v":0}]
[null,null,null,null,null,null,null,null,0,0,0,null,null,null,0,{"$f":"IF(Inventory[[#This Row],[Item SKU/ID]]=\"\",0,SUMPRODUCT((Quantity_Sold_1=Inventory[[#This Row],[Item SKU/ID]])*Net_Profit))","v":0},{"$f":"IFERROR(AVERAGE(Inventory[[#This Row],[Total Net Profit]]/Inventory[[#This Row],[Quantity Sold]]),0)","v":0}]
[null,null,null,null,null,null,null,null,0,0,0,null,null,null,0,{"$f":"IF(Inventory[[#This Row],[Item SKU/ID]]=\"\",0,SUMPRODUCT((Quantity_Sold_1=Inventory[[#This Row],[Item SKU/ID]])*Net_Profit))","v":0},{"$f":"IFERROR(AVERAGE(Inventory[[#This Row],[Total Net Profit]]/Inventory[[#This Row],[Quantity Sold]]),0)","v":0}]
[null,null,null,null,null,null,null,null,0,0,0,null,null,null,0,{"$f":"IF(Inventory[[#This Row],[Item SKU/ID]]=\"\",0,SUMPRODUCT((Quantity_Sold_1=Inventory[[#This Row],[Item SKU/ID]])*Net_Profit))","v":0},{"$f":"IFERROR(AVERAGE(Inventory[[#This Row],[Total Net Profit]]/Inventory[[#This Row],[Quantity Sold]]),0)","v":0}]
[null,null,null,null,null,null,null,null,0,0,0,null,null,null,0,{"$f":"IF(Inventory[[#This Row],[Item SKU/ID]]=\"\",0,SUMPRODUCT((Quantity_Sold_1=Inventory[[#This Row],[Item SKU/ID]])*Net_Profit))","v":0},{"$f":"IFERROR(AVERAGE(Inventory[[#This Row],[Total Net Profit]]/Inventory[[#This Row],[Quantity Sold]]),0)","v":0}]
[null,null,null,null,null,null,null,null,0,0,0,null,null,null,0,{"$f":"IF(Inventory[[#This Row],[Item SKU/ID]]=\"\",0,SUMPRODUCT((Quantity_Sold_1=Inventory[[#This Row],[Item SKU/ID]])*Net_Profit))","v":0},{"$f":"IFERROR(AVERAGE(Inventory[[#This Row],[Total Net Profit]]/Inventory[[#This Row],[Quantity Sold]]),0)","v":0}]
[null,null,null,null,null,null,null,null,0,0,0,null,null,null,0,{"$f":"IF(Inventory[[#This Row],[Item SKU/ID]]=\"\",0,SUMPRODUCT((Quantity_Sold_1=Inventory[[#This Row],[Item SKU/ID]])*Net_Profit))","v":0},{"$f":"IFERROR(AVERAGE(Inventory[[#This Row],[Total Net Profit]]/Inventory[[#This Row],[Quantity Sold]]),0)","v":0}]
[null,null,null,null,null,null,null,null,0,0,0,null,null,null,0,{"$f":"IF(Inventory[[#This Row],[Item SKU/ID]]=\"\",0,SUMPRODUCT((Quantity_Sold_1=Inventory[[#This Row],[Item SKU/ID]])*Net_Profit))","v":0},{"$f":"IFERROR(AVERAGE(Inventory[[#This Row],[Total Net Profit]]/Inventory[[#This Row],[Quantity Sold]]),0)","v":0}]
[null,null,null,null,null,null,null,null,0,0,0,null,null,null,0,{"$f":"IF(Inventory[[#This Row],[Item SKU/ID]]=\"\",0,SUMPRODUCT((Quantity_Sold_1=Inventory[[#This Row],[Item SKU/ID]])*Net_Profit))","v":0},{"$f":"IFERROR(AVERAGE(Inventory[[#This Row],[Total Net Profit]]/Inventory[[#This Row],[Quantity Sold]]),0)","v":0}]
[null,null,null,null,null,null,null,null,0,0,0,null,null,null,0,{"$f":"IF(Inventory[[#This Row],[Item SKU/ID]]=\"\",0,SUMPRODUCT((Quantity_Sold_1=Inventory[[#This Row],[Item SKU/ID]])*Net_Profit))","v":0},{"$f":"IFERROR(AVERAGE(Inventory[[#This Row],[Total Net Profit]]/Inventory[[#This Row],[Quantity Sold]]),0)","v":0}]
[null,null,null,null,null,null,null,null,0,0,0,null,null,null,0,{"$f":"IF(Inventory[[#This Row],[Item SKU/ID]]=\"\",0,SUMPRODUCT((Quantity_Sold_1=Inventory[[#This Row],[Item SKU/ID]])*Net_Profit))","v":0},{"$f":"IFERROR(AVERAGE(Inventory[[#This Row],[Total Net Profit]]/Inventory[[#This Row],[Quantity Sold]]),0)","v":0}]
[null,null,null,null,null,null,null,null,0,0,0,null,null,null,0,{"$f":"IF(Inventory[[#This Row],[Item SKU/ID]]=\"\",0,SUMPRODUCT((Quantity_Sold_1=Inventory[[#This Row],[Item SKU/ID]])*Net_Profit))","v":0},{"$f":"IFERROR(AVERAGE(Inventory[[#This Row],[Total Net Profit]]/Inventory[[#This Row],[Quantity Sold]]),0)","v":0}]
[null,null,null,null,null,null,null,null,0,0,0,null,null,null,0,{"$f":"IF(Inventory[[#This Row],[Item SKU/ID]]=\"\",0,SUMPRODUCT((Quantity_Sold_1=Inventory[[#This Row],[Item SKU/ID]])*Net_Profit))","v":0},{"$f":"IFERROR(AVERAGE(Inventory[[#This Row],[Total Net Profit]]/Inventory[[#This Row],[Quantity Sold]]),0)","v":0}]
[null,null,null,null,null,null,null,null,0,0,0,null,null,null,0,{"$f":"IF(Inventory[[#This Row],[Item SKU/ID]]=\"\",0,SUMPRODUCT((Quantity_Sold_1=Inventory[[#This Row],[Item SKU/ID]])*Net_Profit))","v":0},{"$f":"IFERROR(AVERAGE(Inventory[[#This Row],[Total Net Profit]]/Inventory[[#This Row],[Quantity Sold]]),0)","v":0}]
[null,null,null,null,null,null,null,null,0,0,0,null,null,null,0,{"$f":"IF(Inventory[[#This Row],[Item SKU/ID]]=\"\",0,SUMPRODUCT((Quantity_Sold_1=Inventory[[#This Row],[Item SKU/ID]])*Net_Profit))","v":0},{"$f":"IFERROR(AVERAGE(Inventory[[#This Row],[Total Net Profit]]/Inventory[[#This Row],[Quantity Sold]]),0)","v":0}]
[null,null,null,null,null,null,null,null,0,0,0,null,null,null,0,{"$f":"IF(Inventory[[#This Row],[Item SKU/ID]]=\"\",0,SUMPRODUCT((Quantity_Sold_1=Inventory[[#This Row],[Item SKU/ID]])*Net_Profit))","v":0},{"$f":"IFERROR(AVERAGE(Inventory[[#This Row],[Total Net Profit]]/Inventory[[#This Row],[Quantity Sold]]),0)","v":0}]
[null,null,null,null,null,null,null,null,0,0,0,null,null,null,0,{"$f":"IF(Inventory[[#This Row],[Item SKU/ID]]=\"\",0,SUMPRODUCT((Quantity_Sold_1=Inventory[[#This Row],[Item SKU/ID]])*Net_Profit))","v":0},{"$f":"IFERROR(AVERAGE(Inventory[[#This Row],[Total Net Profit]]/Inventory[[#This Row],[Quantity Sold]]),0)","v":0}]
[null,null,null,null,null,null,null,null,0,0,0,null,null,null,0,{"$f":"IF(Inventory[[#This Row],[Item SKU/ID]]=\"\",0,SUMPRODUCT((Quantity_Sold_1=Inventory[[#This Row],[Item SKU/ID]])*Net_Profit))","v":0},{"$f":"IFERROR(AVERAGE(Inventory[[#This Row],[Total Net Profit]]/Inventory[[#This Row],[Quantity Sold]]),0)","v":0}]
[null,null,null,null,null,null,null,null,0,0,0,null,null,null,0,{"$f":"IF(Inventory[[#This Row],[Item SKU/ID]]=\"\",0,SUMPRODUCT((Quantity_Sold_1=Inventory[[#This Row],[Item SKU/ID]])*Net_Profit))","v":0},{"$f":"IFERROR(AVERAGE(Inventory[[#This Row],[Total Net Profit]]/Inventory[[#This Row],[Quantity Sold]]),0)","v":0}]
[null,null,null,null,null,null,null,null,0,0,0,null,null,null,0,{"$f":"IF(Inventory[[#This Row],[Item SKU/ID]]=\"\",0,SUMPRODUCT((Quantity_Sold_1=Inventory[[#This Row],[Item SKU/ID]])*Net_Profit))","v":0},{"$f":"IFERROR(AVERAGE(Inventory[[#This Row],[Total Net Profit]]/Inventory[[#This Row],[Quantity Sold]]),0)","v":0}]
[null,null,null,null,null,null,null,null,0,0,0,null,null,null,0,{"$f":"IF(Inventory[[#This Row],[Item SKU/ID]]=\"\",0,SUMPRODUCT((Quantity_Sold_1=Inventory[[#This Row],[Item SKU/ID]])*Net_Profit))","v":0},{"$f":"IFERROR(AVERAGE(Inventory[[#This Row],[Total Net Profit]]/Inventory[[#This Row],[Quantity Sold]]),0)","v":0}]
[null,null,null,null,null,null,null,null,0,0,0,null,null,null,0,{"$f":"IF(Inventory[[#This Row],[Item SKU/ID]]=\"\",0,SUMPRODUCT((Quantity_Sold_1=Inventory[[#This Row],[Item SKU/ID]])*Net_Profit))","v":0},{"$f":"IFERROR(AVERAGE(Inventory[[#This Row],[Total Net Profit]]/Inventory[[#This Row],[Quantity Sold]]),0)","v":0}]
[null,null,null,null,null,null,null,null,0,0,0,null,null,null,0,{"$f":"IF(Inventory[[#This Row],[Item SKU/ID]]=\"\",0,SUMPRODUCT((Quantity_Sold_1=Inventory[[#This Row],[Item SKU/ID]])*Net_Profit))","v":0},{"$f":"IFERROR(AVERAGE(Inventory[[#This Row],[Total Net Profit]]/Inventory[[#This Row],[Quantity Sold]]),0)","v":0}]
[null,null,null,null,null,null,null,null,0,0,0,null,null,null,0,{"$f":"IF(Inventory[[#This Row],[Item SKU/ID]]=\"\",0,SUMPRODUCT((Quantity_Sold_1=Inventory[[#This Row],[Item SKU/ID]])*Net_Profit))","v":0},{"$f":"IFERROR(AVERAGE(Inventory[[#This Row],[Total Net Profit]]/Inventory[[#This Row],[Quantity Sold]]),0)","v":0}]
[null,null,null,null,null,null,null,null,0,0,0,null,null,null,0,{"$f":"IF(Inventory[[#This Row],[Item SKU/ID]]=\"\",0,SUMPRODUCT((Quantity_Sold_1=Inventory[[#This Row],[Item SKU/ID]])*Net_Profit))","v":0},{"$f":"IFERROR(AVERAGE(Inventory[[#This Row],[Total Net Profit]]/Inventory[[#This Row],[Quantity Sold]]),0)","v":0}]
[null,null,null,null,null,null,null,null,{"$f":"K1732*H1732","v":0},{"$f":"IF(F1732=\"\",0,SUMPRODUCT((Quantity_Sold_1=F1732)*Quantity_Sold_2))","v":0},{"$f":"G1732-J1732","v":0},null,null,null,{"$f":"K1732*H1732","v":0},{"$f":"IF(Inventory[[#This Row],[Item SKU/ID]]=\"\",0,SUMPRODUCT((Quantity_Sold_1=Inventory[[#This Row],[Item SKU/ID]])*Net_Profit))","v":0},{"$f":"IFERROR(AVERAGE(Inventory[[#This Row],[Total Net Profit]]/Inventory[[#This Row],[Quantity Sold]]),0)","v":0}]
[null,null,null,null,null,null,null,null,0,0,0,null,null,null,0,{"$f":"IF(Inventory[[#This Row],[Item SKU/ID]]=\"\",0,SUMPRODUCT((Quantity_Sold_1=Inventory[[#This Row],[Item SKU/ID]])*Net_Profit))","v":0},{"$f":"IFERROR(AVERAGE(Inventory[[#This Row],[Total Net Profit]]/Inventory[[#This Row],[Quantity Sold]]),0)","v":0}]
[null,null,null,null,null,null,null,null,0,0,0,null,null,null,0,{"$f":"IF(Inventory[[#This Row],[Item SKU/ID]]=\"\",0,SUMPRODUCT((Quantity_Sold_1=Inventory[[#This Row],[Item SKU/ID]])*Net_Profit))","v":0},{"$f":"IFERROR(AVERAGE(Inventory[[#This Row],[Total Net Profit]]/Inventory[[#This Row],[Quantity Sold]]),0)","v":0}]
[null,null,null,null,null,null,null,null,0,0,0,null,null,null,0,{"$f":"IF(Inventory[[#This Row],[Item SKU/ID]]=\"\",0,SUMPRODUCT((Quantity_Sold_1=Inventory[[#This Row],[Item SKU/ID]])*Net_Profit))","v":0},{"$f":"IFERROR(AVERAGE(Inventory[[#This Row],[Total Net Profit]]/Inventory[[#This Row],[Quantity Sold]]),0)","v":0}]
[null,null,null,null,null,null,null,null,0,0,0,null,null,null,0,{"$f":"IF(Inventory[[#This Row],[Item SKU/ID]]=\"\",0,SUMPRODUCT((Quantity_Sold_1=Inventory[[#This Row],[Item SKU/ID]])*Net_Profit))","v":0},{"$f":"IFERROR(AVERAGE(Inventory[[#This Row],[Total Net Profit]]/Inventory[[#This Row],[Quantity Sold]]),0)","v":0}]
[null,null,null,null,null,null,null,null,0,0,0,null,null,null,0,{"$f":"IF(Inventory[[#This Row],[Item SKU/ID]]=\"\",0,SUMPRODUCT((Quantity_Sold_1=Inventory[[#This Row],[Item SKU/ID]])*Net_Profit))","v":0},{"$f":"IFERROR(AVERAGE(Inventory[[#This Row],[Total Net Profit]]/Inventory[[#This Row],[Quantity Sold]]),0)","v":0}]
[null,null,null,null,null,null,null,null,0,0,0,null,null,null,0,{"$f":"IF(Inventory[[#This Row],[Item SKU/ID]]=\"\",0,SUMPRODUCT((Quantity_Sold_1=Inventory[[#This Row],[Item SKU/ID]])*Net_Profit))","v":0},{"$f":"IFERROR(AVERAGE(Inventory[[#This Row],[Total Net Profit]]/Inventory[[#This Row],[Quantity Sold]]),0)","v":0}]
[null,null,null,null,null,null,null,null,0,0,0,null,null,null,0,{"$f":"IF(Inventory[[#This Row],[Item SKU/ID]]=\"\",0,SUMPRODUCT((Quantity_Sold_1=Inventory[[#This Row],[Item SKU/ID]])*Net_Profit))","v":0},{"$f":"IFERROR(AVERAGE(Inventory[[#This Row],[Total Net Profit]]/Inventory[[#This Row],[Quantity Sold]]),0)","v":0}]
[null,null,null,null,null,null,null,null,0,0,0,null,null,null,0,{"$f":"IF(Inventory[[#This Row],[Item SKU/ID]]=\"\",0,SUMPRODUCT((Quantity_Sold_1=Inventory[[#This Row],[Item SKU/ID]])*Net_Profit))","v":0},{"$f":"IFERROR(AVERAGE(Inventory[[#This Row],[Total Net Profit]]/Inventory[[#This Row],[Quantity Sold]]),0)","v":0}]
[null,null,null,null,null,null,null,null,0,0,0,null,null,null,0,{"$f":"IF(Inventory[[#This Row],[Item SKU/ID]]=\"\",0,SUMPRODUCT((Quantity_Sold_1=Inventory[[#This Row],[Item SKU/ID]])*Net_Profit))","v":0},{"$f":"IFERROR(AVERAGE(Inventory[[#This Row],[Total Net Profit]]/Inventory[[#This Row],[Quantity Sold]]),0)","v":0}]
[null,null,null,null,null,null,null,null,0,0,0,null,null,null,0,{"$f":"IF(Inventory[[#This Row],[Item SKU/ID]]=\"\",0,SUMPRODUCT((Quantity_Sold_1=Inventory[[#This Row],[Item SKU/ID]])*Net_Profit))","v":0},{"$f":"IFERROR(AVERAGE(Inventory[[#This Row],[Total Net Profit]]/Inventory[[#This Row],[Quantity Sold]]),0)","v":0}]
[null,null,null,null,null,null,null,null,0,0,0,null,null,null,0,{"$f":"IF(Inventory[[#This Row],[Item SKU/ID]]=\"\",0,SUMPRODUCT((Quantity_Sold_1=Inventory[[#This Row],[Item SKU/ID]])*Net_Profit))","v":0},{"$f":"IFERROR(AVERAGE(Inventory[[#This Row],[Total Net Profit]]/Inventory[[#This Row],[Quantity Sold]]),0)","v":0}]
[null,null,null,null,null,null,null,null,0,0,0,null,null,null,0,{"$f":"IF(Inventory[[#This Row],[Item SKU/ID]]=\"\",0,SUMPRODUCT((Quantity_Sold_1=Inventory[[#This Row],[Item SKU/ID]])*Net_Profit))","v":0},{"$f":"IFERROR(AVERAGE(Inventory[[#This Row],[Total Net Profit]]/Inventory[[#This Row],[Quantity Sold]]),0)","v":0}]
[null,null,null,null,null,null,null,null,0,0,0,null,null,null,0,{"$f":"IF(Inventory[[#This Row],[Item SKU/ID]]=\"\",0,SUMPRODUCT((Quantity_Sold_1=Inventory[[#This Row],[Item SKU/ID]])*Net_Profit))","v":0},{"$f":"IFERROR(AVERAGE(Inventory[[#This Row],[Total Net Profit]]/Inventory[[#This Row],[Quantity Sold]]),0)","v":0}]
[null,null,null,null,null,null,null,null,0,0,0,null,null,null,0,{"$f":"IF(Inventory[[#This Row],[Item SKU/ID]]=\"\",0,SUMPRODUCT((Quantity_Sold_1=Inventory[[#This Row],[Item SKU/ID]])*Net_Profit))","v":0},{"$f":"IFERROR(AVERAGE(Inventory[[#This Row],[Total Net Profit]]/Inventory[[#This Row],[Quantity Sold]]),0)","v":0}]
[null,null,null,null,null,null,null,null,0,0,0,null,null,null,0,{"$f":"IF(Inventory[[#This Row],[Item SKU/ID]]=\"\",0,SUMPRODUCT((Quantity_Sold_1=Inventory[[#This Row],[Item SKU/ID]])*Net_Profit))","v":0},{"$f":"IFERROR(AVERAGE(Inventory[[#This Row],[Total Net Profit]]/Inventory[[#This Row],[Quantity Sold]]),0)","v":0}]
[null,null,null,null,null,null,null,null,0,0,0,null,null,null,0,{"$f":"IF(Inventory[[#This Row],[Item SKU/ID]]=\"\",0,SUMPRODUCT((Quantity_Sold_1=Inventory[[#This Row],[Item SKU/ID]])*Net_Profit))","v":0},{"$f":"IFERROR(AVERAGE(Inventory[[#This Row],[Total Net Profit]]/Inventory[[#This Row],[Quantity Sold]]),0)","v":0}]
[null,null,null,null,null,null,null,null,0,0,0,null,null,null,0,{"$f":"IF(Inventory[[#This Row],[Item SKU/ID]]=\"\",0,SUMPRODUCT((Quantity_Sold_1=Inventory[[#This Row],[Item SKU/ID]])*Net_Profit))","v":0},{"$f":"IFERROR(AVERAGE(Inventory[[#This Row],[Total Net Profit]]/Inventory[[#This Row],[Quantity Sold]]),0)","v":0}]
[null,null,null,null,null,null,null,null,0,0,0,null,null,null,0,{"$f":"IF(Inventory[[#This Row],[Item SKU/ID]]=\"\",0,SUMPRODUCT((Quantity_Sold_1=Inventory[[#This Row],[Item SKU/ID]])*Net_Profit))","v":0},{"$f":"IFERROR(AVERAGE(Inventory[[#This Row],[Total Net Profit]]/Inventory[[#This Row],[Quantity Sold]]),0)","v":0}]
[null,null,null,null,null,null,null,null,0,0,0,null,null,null,0,{"$f":"IF(Inventory[[#This Row],[Item SKU/ID]]=\"\",0,SUMPRODUCT((Quantity_Sold_1=Inventory[[#This Row],[Item SKU/ID]])*Net_Profit))","v":0},{"$f":"IFERROR(AVERAGE(Inventory[[#This Row],[Total Net Profit]]/Inventory[[#This Row],[Quantity Sold]]),0)","v":0}]
[null,null,null,null,null,null,null,null,0,0,0,null,null,null,0,{"$f":"IF(Inventory[[#This Row],[Item SKU/ID]]=\"\",0,SUMPRODUCT((Quantity_Sold_1=Inventory[[#This Row],[Item SKU/ID]])*Net_Profit))","v":0},{"$f":"IFERROR(AVERAGE(Inventory[[#This Row],[Total Net Profit]]/Inventory[[#This Row],[Quantity Sold]]),0)","v":0}]
[null,null,null,null,null,null,null,null,0,0,0,null,null,null,0,{"$f":"IF(Inventory[[#This Row],[Item SKU/ID]]=\"\",0,SUMPRODUCT((Quantity_Sold_1=Inventory[[#This Row],[Item SKU/ID]])*Net_Profit))","v":0},{"$f":"IFERROR(AVERAGE(Inventory[[#This Row],[Total Net Profit]]/Inventory[[#This Row],[Quantity Sold]]),0)","v":0}]
[null,null,null,null,null,null,null,null,0,0,0,null,null,null,0,{"$f":"IF(Inventory[[#This Row],[Item SKU/ID]]=\"\",0,SUMPRODUCT((Quantity_Sold_1=Inventory[[#This Row],[Item SKU/ID]])*Net_Profit))","v":0},{"$f":"IFERROR(AVERAGE(Inventory[[#This Row],[Total Net Profit]]/Inventory[[#This Row],[Quantity Sold]]),0)","v":0}]
[null,null,null,null,null,null,null,null,0,0,0,null,null,null,0,{"$f":"IF(Inventory[[#This Row],[Item SKU/ID]]=\"\",0,SUMPRODUCT((Quantity_Sold_1=Inventory[[#This Row],[Item SKU/ID]])*Net_Profit))","v":0},{"$f":"IFERROR(AVERAGE(Inventory[[#This Row],[Total Net Profit]]/Inventory[[#This Row],[Quantity Sold]]),0)","v":0}]
[null,null,null,null,null,null,null,null,0,0,0,null,null,null,0,{"$f":"IF(Inventory[[#This Row],[Item SKU/ID]]=\"\",0,SUMPRODUCT((Quantity_Sold_1=Inventory[[#This Row],[Item SKU/ID]])*Net_Profit))","v":0},{"$f":"IFERROR(AVERAGE(Inventory[[#This Row],[Total Net Profit]]/Inventory[[#This Row],[Quantity Sold]]),0)","v":0}]
[null,null,null,null,null,null,null,null,0,0,0,null,null,null,0,{"$f":"IF(Inventory[[#This Row],[Item SKU/ID]]=\"\",0,SUMPRODUCT((Quantity_Sold_1=Inventory[[#This Row],[Item SKU/ID]])*Net_Profit))","v":0},{"$f":"IFERROR(AVERAGE(Inventory[[#This Row],[Total Net Profit]]/Inventory[[#This Row],[Quantity Sold]]),0)","v":0}]
[null,null,null,null,null,null,null,null,0,0,0,null,null,null,0,{"$f":"IF(Inventory[[#This Row],[Item SKU/ID]]=\"\",0,SUMPRODUCT((Quantity_Sold_1=Inventory[[#This Row],[Item SKU/ID]])*Net_Profit))","v":0},{"$f":"IFERROR(AVERAGE(Inventory[[#This Row],[Total Net Profit]]/Inventory[[#This Row],[Quantity Sold]]),0)","v":0}]
[null,null,null,null,null,null,null,null,0,0,0,null,null,null,0,{"$f":"IF(Inventory[[#This Row],[Item SKU/ID]]=\"\",0,SUMPRODUCT((Quantity_Sold_1=Inventory[[#This Row],[Item SKU/ID]])*Net_Profit))","v":0},{"$f":"IFERROR(AVERAGE(Inventory[[#This Row],[Total Net Profit]]/Inventory[[#This Row],[Quantity Sold]]),0)","v":0}]
[null,null,null,null,null,null,null,null,0,0,0,null,null,null,0,{"$f":"IF(Inventory[[#This Row],[Item SKU/ID]]=\"\",0,SUMPRODUCT((Quantity_Sold_1=Inventory[[#This Row],[Item SKU/ID]])*Net_Profit))","v":0},{"$f":"IFERROR(AVERAGE(Inventory[[#This Row],[Total Net Profit]]/Inventory[[#This Row],[Quantity Sold]]),0)","v":0}]
[null,null,null,null,null,null,null,null,0,0,0,null,null,null,0,{"$f":"IF(Inventory[[#This Row],[Item SKU/ID]]=\"\",0,SUMPRODUCT((Quantity_Sold_1=Inventory[[#This Row],[Item SKU/ID]])*Net_Profit))","v":0},{"$f":"IFERROR(AVERAGE(Inventory[[#This Row],[Total Net Profit]]/Inventory[[#This Row],[Quantity Sold]]),0)","v":0}]
[null,null,null,null,null,null,null,null,0,0,0,null,null,null,0,{"$f":"IF(Inventory[[#This Row],[Item SKU/ID]]=\"\",0,SUMPRODUCT((Quantity_Sold_1=Inventory[[#This Row],[Item SKU/ID]])*Net_Profit))","v":0},{"$f":"IFERROR(AVERAGE(Inventory[[#This Row],[Total Net Profit]]/Inventory[[#This Row],[Quantity Sold]]),0)","v":0}]
[null,null,null,null,null,null,null,null,0,0,0,null,null,null,0,{"$f":"IF(Inventory[[#This Row],[Item SKU/ID]]=\"\",0,SUMPRODUCT((Quantity_Sold_1=Inventory[[#This Row],[Item SKU/ID]])*Net_Profit))","v":0},{"$f":"IFERROR(AVERAGE(Inventory[[#This Row],[Total Net Profit]]/Inventory[[#This Row],[Quantity Sold]]),0)","v":0}]
[null,null,null,null,null,null,null,null,0,0,0,null,null,null,0,{"$f":"IF(Inventory[[#This Row],[Item SKU/ID]]=\"\",0,SUMPRODUCT((Quantity_Sold_1=Inventory[[#This Row],[Item SKU/ID]])*Net_Profit))","v":0},{"$f":"IFERROR(AVERAGE(Inventory[[#This Row],[Total Net Profit]]/Inventory[[#This Row],[Quantity Sold]]),0)","v":0}]
[null,null,null,null,null,null,null,null,0,0,0,null,null,null,0,{"$f":"IF(Inventory[[#This Row],[Item SKU/ID]]=\"\",0,SUMPRODUCT((Quantity_Sold_1=Inventory[[#This Row],[Item SKU/ID]])*Net_Profit))","v":0},{"$f":"IFERROR(AVERAGE(Inventory[[#This Row],[Total Net Profit]]/Inventory[[#This Row],[Quantity Sold]]),0)","v":0}]
[null,null,null,null,null,null,null,null,0,0,0,null,null,null,0,{"$f":"IF(Inventory[[#This Row],[Item SKU/ID]]=\"\",0,SUMPRODUCT((Quantity_Sold_1=Inventory[[#This Row],[Item SKU/ID]])*Net_Profit))","v":0},{"$f":"IFERROR(AVERAGE(Inventory[[#This Row],[Total Net Profit]]/Inventory[[#This Row],[Quantity Sold]]),0)","v":0}]
[null,null,null,null,null,null,null,null,0,0,0,null,null,null,0,{"$f":"IF(Inventory[[#This Row],[Item SKU/ID]]=\"\",0,SUMPRODUCT((Quantity_Sold_1=Inventory[[#This Row],[Item SKU/ID]])*Net_Profit))","v":0},{"$f":"IFERROR(AVERAGE(Inventory[[#This Row],[Total Net Profit]]/Inventory[[#This Row],[Quantity Sold]]),0)","v":0}]
[null,null,null,null,null,null,null,null,0,0,0,null,null,null,0,{"$f":"IF(Inventory[[#This Row],[Item SKU/ID]]=\"\",0,SUMPRODUCT((Quantity_Sold_1=Inventory[[#This Row],[Item SKU/ID]])*Net_Profit))","v":0},{"$f":"IFERROR(AVERAGE(Inventory[[#This Row],[Total Net Profit]]/Inventory[[#This Row],[Quantity Sold]]),0)","v":0}]
[null,null,null,null,null,null,null,null,0,0,0,null,null,null,0,{"$f":"IF(Inventory[[#This Row],[Item SKU/ID]]=\"\",0,SUMPRODUCT((Quantity_Sold_1=Inventory[[#This Row],[Item SKU/ID]])*Net_Profit))","v":0},{"$f":"IFERROR(AVERAGE(Inventory[[#This Row],[Total Net Profit]]/Inventory[[#This Row],[Quantity Sold]]),0)","v":0}]
[null,null,null,null,null,null,null,null,0,0,0,null,null,null,0,{"$f":"IF(Inventory[[#This Row],[Item SKU/ID]]=\"\",0,SUMPRODUCT((Quantity_Sold_1=Inventory[[#This Row],[Item SKU/ID]])*Net_Profit))","v":0},{"$f":"IFERROR(AVERAGE(Inventory[[#This Row],[Total Net Profit]]/Inventory[[#This Row],[Quantity Sold]]),0)","v":0}]
[null,null,null,null,null,null,null,null,0,0,0,null,null,null,0,{"$f":"IF(Inventory[[#This Row],[Item SKU/ID]]=\"\",0,SUMPRODUCT((Quantity_Sold_1=Inventory[[#This Row],[Item SKU/ID]])*Net_Profit))","v":0},{"$f":"IFERROR(AVERAGE(Inventory[[#This Row],[Total Net Profit]]/Inventory[[#This Row],[Quantity Sold]]),0)","v":0}]
[null,null,null,null,null,null,null,null,0,0,0,null,null,null,0,{"$f":"IF(Inventory[[#This Row],[Item SKU/ID]]=\"\",0,SUMPRODUCT((Quantity_Sold_1=Inventory[[#This Row],[Item SKU/ID]])*Net_Profit))","v":0},{"$f":"IFERROR(AVERAGE(Inventory[[#This Row],[Total Net Profit]]/Inventory[[#This Row],[Quantity Sold]]),0)","v":0}]
[null,null,null,null,null,null,null,null,0,0,0,null,null,null,0,{"$f":"IF(Inventory[[#This Row],[Item SKU/ID]]=\"\",0,SUMPRODUCT((Quantity_Sold_1=Inventory[[#This Row],[Item SKU/ID]])*Net_Profit))","v":0},{"$f":"IFERROR(AVERAGE(Inventory[[#This Row],[Total Net Profit]]/Inventory[[#This Row],[Quantity Sold]]),0)","v":0}]
[null,null,null,null,null,null,null,null,0,0,0,null,null,null,0,{"$f":"IF(Inventory[[#This Row],[Item SKU/ID]]=\"\",0,SUMPRODUCT((Quantity_Sold_1=Inventory[[#This Row],[Item SKU/ID]])*Net_Profit))","v":0},{"$f":"IFERROR(AVERAGE(Inventory[[#This Row],[Total Net Profit]]/Inventory[[#This Row],[Quantity Sold]]),0)","v":0}]
[null,null,null,null,null,null,null,null,0,0,0,null,null,null,0,{"$f":"IF(Inventory[[#This Row],[Item SKU/ID]]=\"\",0,SUMPRODUCT((Quantity_Sold_1=Inventory[[#This Row],[Item SKU/ID]])*Net_Profit))","v":0},{"$f":"IFERROR(AVERAGE(Inventory[[#This Row],[Total Net Profit]]/Inventory[[#This Row],[Quantity Sold]]),0)","v":0}]
[null,null,null,null,null,null,null,null,0,0,0,null,null,null,0,{"$f":"IF(Inventory[[#This Row],[Item SKU/ID]]=\"\",0,SUMPRODUCT((Quantity_Sold_1=Inventory[[#This Row],[Item SKU/ID]])*Net_Profit))","v":0},{"$f":"IFERROR(AVERAGE(Inventory[[#This Row],[Total Net Profit]]/Inventory[[#This Row],[Quantity Sold]]),0)","v":0}]
[null,null,null,null,null,null,null,null,0,0,0,null,null,null,0,{"$f":"IF(Inventory[[#This Row],[Item SKU/ID]]=\"\",0,SUMPRODUCT((Quantity_Sold_1=Inventory[[#This Row],[Item SKU/ID]])*Net_Profit))","v":0},{"$f":"IFERROR(AVERAGE(Inventory[[#This Row],[Total Net Profit]]/Inventory[[#This Row],[Quantity Sold]]),0)","v":0}]
[null,null,null,null,null,null,null,null,0,0,0,null,null,null,0,{"$f":"IF(Inventory[[#This Row],[Item SKU/ID]]=\"\",0,SUMPRODUCT((Quantity_Sold_1=Inventory[[#This Row],[Item SKU/ID]])*Net_Profit))","v":0},{"$f":"IFERROR(AVERAGE(Inventory[[#This Row],[Total Net Profit]]/Inventory[[#This Row],[Quantity Sold]]),0)","v":0}]
[null,null,null,null,null,null,null,null,0,0,0,null,null,null,0,{"$f":"IF(Inventory[[#This Row],[Item SKU/ID]]=\"\",0,SUMPRODUCT((Quantity_Sold_1=Inventory[[#This Row],[Item SKU/ID]])*Net_Profit))","v":0},{"$f":"IFERROR(AVERAGE(Inventory[[#This Row],[Total Net Profit]]/Inventory[[#This Row],[Quantity Sold]]),0)","v":0}]
[null,null,null,null,null,null,null,null,0,0,0,null,null,null,0,{"$f":"IF(Inventory[[#This Row],[Item SKU/ID]]=\"\",0,SUMPRODUCT((Quantity_Sold_1=Inventory[[#This Row],[Item SKU/ID]])*Net_Profit))","v":0},{"$f":"IFERROR(AVERAGE(Inventory[[#This Row],[Total Net Profit]]/Inventory[[#This Row],[Quantity Sold]]),0)","v":0}]
[null,null,null,null,null,null,null,null,0,0,0,null,null,null,0,{"$f":"IF(Inventory[[#This Row],[Item SKU/ID]]=\"\",0,SUMPRODUCT((Quantity_Sold_1=Inventory[[#This Row],[Item SKU/ID]])*Net_Profit))","v":0},{"$f":"IFERROR(AVERAGE(Inventory[[#This Row],[Total Net Profit]]/Inventory[[#This Row],[Quantity Sold]]),0)","v":0}]
[null,null,null,null,null,null,null,null,0,0,0,null,null,null,0,{"$f":"IF(Inventory[[#This Row],[Item SKU/ID]]=\"\",0,SUMPRODUCT((Quantity_Sold_1=Inventory[[#This Row],[Item SKU/ID]])*Net_Profit))","v":0},{"$f":"IFERROR(AVERAGE(Inventory[[#This Row],[Total Net Profit]]/Inventory[[#This Row],[Quantity Sold]]),0)","v":0}]
[null,null,null,null,null,null,null,null,0,0,0,null,null,null,0,{"$f":"IF(Inventory[[#This Row],[Item SKU/ID]]=\"\",0,SUMPRODUCT((Quantity_Sold_1=Inventory[[#This Row],[Item SKU/ID]])*Net_Profit))","v":0},{"$f":"IFERROR(AVERAGE(Inventory[[#This Row],[Total Net Profit]]/Inventory[[#This Row],[Quantity Sold]]),0)","v":0}]
[null,null,null,null,null,null,null,null,0,0,0,null,null,null,0,{"$f":"IF(Inventory[[#This Row],[Item SKU/ID]]=\"\",0,SUMPRODUCT((Quantity_Sold_1=Inventory[[#This Row],[Item SKU/ID]])*Net_Profit))","v":0},{"$f":"IFERROR(AVERAGE(Inventory[[#This Row],[Total Net Profit]]/Inventory[[#This Row],[Quantity Sold]]),0)","v":0}]
[null,null,null,null,null,null,null,null,0,0,0,null,null,null,0,{"$f":"IF(Inventory[[#This Row],[Item SKU/ID]]=\"\",0,SUMPRODUCT((Quantity_Sold_1=Inventory[[#This Row],[Item SKU/ID]])*Net_Profit))","v":0},{"$f":"IFERROR(AVERAGE(Inventory[[#This Row],[Total Net Profit]]/Inventory[[#This Row],[Quantity Sold]]),0)","v":0}]
[null,null,null,null,null,null,null,null,0,0,0,null,null,null,0,{"$f":"IF(Inventory[[#This Row],[Item SKU/ID]]=\"\",0,SUMPRODUCT((Quantity_Sold_1=Inventory[[#This Row],[Item SKU/ID]])*Net_Profit))","v":0},{"$f":"IFERROR(AVERAGE(Inventory[[#This Row],[Total Net Profit]]/Inventory[[#This Row],[Quantity Sold]]),0)","v":0}]
[null,null,null,null,null,null,null,null,0,0,0,null,null,null,0,{"$f":"IF(Inventory[[#This Row],[Item SKU/ID]]=\"\",0,SUMPRODUCT((Quantity_Sold_1=Inventory[[#This Row],[Item SKU/ID]])*Net_Profit))","v":0},{"$f":"IFERROR(AVERAGE(Inventory[[#This Row],[Total Net Profit]]/Inventory[[#This Row],[Quantity Sold]]),0)","v":0}]
[null,null,null,null,null,null,null,null,0,0,0,null,null,null,0,{"$f":"IF(Inventory[[#This Row],[Item SKU/ID]]=\"\",0,SUMPRODUCT((Quantity_Sold_1=Inventory[[#This Row],[Item SKU/ID]])*Net_Profit))","v":0},{"$f":"IFERROR(AVERAGE(Inventory[[#This Row],[Total Net Profit]]/Inventory[[#This Row],[Quantity Sold]]),0)","v":0}]
[null,null,null,null,null,null,null,null,0,0,0,null,null,null,0,{"$f":"IF(Inventory[[#This Row],[Item SKU/ID]]=\"\",0,SUMPRODUCT((Quantity_Sold_1=Inventory[[#This Row],[Item SKU/ID]])*Net_Profit))","v":0},{"$f":"IFERROR(AVERAGE(Inventory[[#This Row],[Total Net Profit]]/Inventory[[#This Row],[Quantity Sold]]),0)","v":0}]
[null,null,null,null,null,null,null,null,0,0,0,null,null,null,0,{"$f":"IF(Inventory[[#This Row],[Item SKU/ID]]=\"\",0,SUMPRODUCT((Quantity_Sold_1=Inventory[[#This Row],[Item SKU/ID]])*Net_Profit))","v":0},{"$f":"IFERROR(AVERAGE(Inventory[[#This Row],[Total Net Profit]]/Inventory[[#This Row],[Quantity Sold]]),0)","v":0}]
[null,null,null,null,null,null,null,null,0,0,0,null,null,null,0,{"$f":"IF(Inventory[[#This Row],[Item SKU/ID]]=\"\",0,SUMPRODUCT((Quantity_Sold_1=Inventory[[#This Row],[Item SKU/ID]])*Net_Profit))","v":0},{"$f":"IFERROR(AVERAGE(Inventory[[#This Row],[Total Net Profit]]/Inventory[[#This Row],[Quantity Sold]]),0)","v":0}]
[null,null,null,null,null,null,null,null,0,0,0,null,null,null,0,{"$f":"IF(Inventory[[#This Row],[Item SKU/ID]]=\"\",0,SUMPRODUCT((Quantity_Sold_1=Inventory[[#This Row],[Item SKU/ID]])*Net_Profit))","v":0},{"$f":"IFERROR(AVERAGE(Inventory[[#This Row],[Total Net Profit]]/Inventory[[#This Row],[Quantity Sold]]),0)","v":0}]
[null,null,null,null,null,null,null,null,0,0,0,null,null,null,0,{"$f":"IF(Inventory[[#This Row],[Item SKU/ID]]=\"\",0,SUMPRODUCT((Quantity_Sold_1=Inventory[[#This Row],[Item SKU/ID]])*Net_Profit))","v":0},{"$f":"IFERROR(AVERAGE(Inventory[[#This Row],[Total Net Profit]]/Inventory[[#This Row],[Quantity Sold]]),0)","v":0}]
[null,null,null,null,null,null,null,null,0,0,0,null,null,null,0,{"$f":"IF(Inventory[[#This Row],[Item SKU/ID]]=\"\",0,SUMPRODUCT((Quantity_Sold_1=Inventory[[#This Row],[Item SKU/ID]])*Net_Profit))","v":0},{"$f":"IFERROR(AVERAGE(Inventory[[#This Row],[Total Net Profit]]/Inventory[[#This Row],[Quantity Sold]]),0)","v":0}]
[null,null,null,null,null,null,null,null,0,0,0,null,null,null,0,{"$f":"IF(Inventory[[#This Row],[Item SKU/ID]]=\"\",0,SUMPRODUCT((Quantity_Sold_1=Inventory[[#This Row],[Item SKU/ID]])*Net_Profit))","v":0},{"$f":"IFERROR(AVERAGE(Inventory[[#This Row],[Total Net Profit]]/Inventory[[#This Row],[Quantity Sold]]),0)","v":0}]
[null,null,null,null,null,null,null,null,{"$f":"K1796*H1796","v":0},{"$f":"IF(F1796=\"\",0,SUMPRODUCT((Quantity_Sold_1=F1796)*Quantity_Sold_2))","v":0},{"$f":"G1796-J1796","v":0},null,null,null,{"$f":"K1796*H1796","v":0},{"$f":"IF(Inventory[[#This Row],[Item SKU/ID]]=\"\",0,SUMPRODUCT((Quantity_Sold_1=Inventory[[#This Row],[Item SKU/ID]])*Net_Profit))","v":0},{"$f":"IFERROR(AVERAGE(Inventory[[#This Row],[Total Net Profit]]/Inventory[[#This Row],[Quantity Sold]]),0)","v":0}]
[null,null,null,null,null,null,null,null,0,0,0,null,null,null,0,{"$f":"IF(Inventory[[#This Row],[Item SKU/ID]]=\"\",0,SUMPRODUCT((Quantity_Sold_1=Inventory[[#This Row],[Item SKU/ID]])*Net_Profit))","v":0},{"$f":"IFERROR(AVERAGE(Inventory[[#This Row],[Total Net Profit]]/Inventory[[#This Row],[Quantity Sold]]),0)","v":0}]
[null,null,null,null,null,null,null,null,0,0,0,null,null,null,0,{"$f":"IF(Inventory[[#This Row],[Item SKU/ID]]=\"\",0,SUMPRODUCT((Quantity_Sold_1=Inventory[[#This Row],[Item SKU/ID]])*Net_Profit))","v":0},{"$f":"IFERROR(AVERAGE(Inventory[[#This Row],[Total Net Profit]]/Inventory[[#This Row],[Quantity Sold]]),0)","v":0}]
[null,null,null,null,null,null,null,null,0,0,0,null,null,null,0,{"$f":"IF(Inventory[[#This Row],[Item SKU/ID]]=\"\",0,SUMPRODUCT((Quantity_Sold_1=Inventory[[#This Row],[Item SKU/ID]])*Net_Profit))","v":0},{"$f":"IFERROR(AVERAGE(Inventory[[#This Row],[Total Net Profit]]/Inventory[[#This Row],[Quantity Sold]]),0)","v":0}]
[null,null,null,null,null,null,null,null,0,0,0,null,null,null,0,{"$f":"IF(Inventory[[#This Row],[Item SKU/ID]]=\"\",0,SUMPRODUCT((Quantity_Sold_1=Inventory[[#This Row],[Item SKU/ID]])*Net_Profit))","v":0},{"$f":"IFERROR(AVERAGE(Inventory[[#This Row],[Total Net Profit]]/Inventory[[#This Row],[Quantity Sold]]),0)","v":0}]
[null,null,null,null,null,null,null,null,0,0,0,null,null,null,0,{"$f":"IF(Inventory[[#This Row],[Item SKU/ID]]=\"\",0,SUMPRODUCT((Quantity_Sold_1=Inventory[[#This Row],[Item SKU/ID]])*Net_Profit))","v":0},{"$f":"IFERROR(AVERAGE(Inventory[[#This Row],[Total Net Profit]]/Inventory[[#This Row],[Quantity Sold]]),0)","v":0}]
[null,null,null,null,null,null,null,null,0,0,0,null,null,null,0,{"$f":"IF(Inventory[[#This Row],[Item SKU/ID]]=\"\",0,SUMPRODUCT((Quantity_Sold_1=Inventory[[#This Row],[Item SKU/ID]])*Net_Profit))","v":0},{"$f":"IFERROR(AVERAGE(Inventory[[#This Row],[Total Net Profit]]/Inventory[[#This Row],[Quantity Sold]]),0)","v":0}]
[null,null,null,null,null,null,null,null,0,0,0,null,null,null,0,{"$f":"IF(Inventory[[#This Row],[Item SKU/ID]]=\"\",0,SUMPRODUCT((Quantity_Sold_1=Inventory[[#This Row],[Item SKU/ID]])*Net_Profit))","v":0},{"$f":"IFERROR(AVERAGE(Inventory[[#This Row],[Total Net Profit]]/Inventory[[#This Row],[Quantity Sold]]),0)","v":0}]
[null,null,null,null,null,null,null,null,0,0,0,null,null,null,0,{"$f":"IF(Inventory[[#This Row],[Item SKU/ID]]=\"\",0,SUMPRODUCT((Quantity_Sold_1=Inventory[[#This Row],[Item SKU/ID]])*Net_Profit))","v":0},{"$f":"IFERROR(AVERAGE(Inventory[[#This Row],[Total Net Profit]]/Inventory[[#This Row],[Quantity Sold]]),0)","v":0}]
[null,null,null,null,null,null,null,null,0,0,0,null,null,null,0,{"$f":"IF(Inventory[[#This Row],[Item SKU/ID]]=\"\",0,SUMPRODUCT((Quantity_Sold_1=Inventory[[#This Row],[Item SKU/ID]])*Net_Profit))","v":0},{"$f":"IFERROR(AVERAGE(Inventory[[#This Row],[Total Net Profit]]/Inventory[[#This Row],[Quantity Sold]]),0)","v":0}]
[null,null,null,null,null,null,null,null,0,0,0,null,null,null,0,{"$f":"IF(Inventory[[#This Row],[Item SKU/ID]]=\"\",0,SUMPRODUCT((Quantity_Sold_1=Inventory[[#This Row],[Item SKU/ID]])*Net_Profit))","v":0},{"$f":"IFERROR(AVERAGE(Inventory[[#This Row],[Total Net Profit]]/Inventory[[#This Row],[Quantity Sold]]),0)","v":0}]
[null,null,null,null,null,null,null,null,0,0,0,null,null,null,0,{"$f":"IF(Inventory[[#This Row],[Item SKU/ID]]=\"\",0,SUMPRODUCT((Quantity_Sold_1=Inventory[[#This Row],[Item SKU/ID]])*Net_Profit))","v":0},{"$f":"IFERROR(AVERAGE(Inventory[[#This Row],[Total Net Profit]]/Inventory[[#This Row],[Quantity Sold]]),0)","v":0}]
[null,null,null,null,null,null,null,null,0,0,0,null,null,null,0,{"$f":"IF(Inventory[[#This Row],[Item SKU/ID]]=\"\",0,SUMPRODUCT((Quantity_Sold_1=Inventory[[#This Row],[Item SKU/ID]])*Net_Profit))","v":0},{"$f":"IFERROR(AVERAGE(Inventory[[#This Row],[Total Net Profit]]/Inventory[[#This Row],[Quantity Sold]]),0)","v":0}]
[null,null,null,null,null,null,null,null,0,0,0,null,null,null,0,{"$f":"IF(Inventory[[#This Row],[Item SKU/ID]]=\"\",0,SUMPRODUCT((Quantity_Sold_1=Inventory[[#This Row],[Item SKU/ID]])*Net_Profit))","v":0},{"$f":"IFERROR(AVERAGE(Inventory[[#This Row],[Total Net Profit]]/Inventory[[#This Row],[Quantity Sold]]),0)","v":0}]
[null,null,null,null,null,null,null,null,0,0,0,null,null,null,0,{"$f":"IF(Inventory[[#This Row],[Item SKU/ID]]=\"\",0,SUMPRODUCT((Quantity_Sold_1=Inventory[[#This Row],[Item SKU/ID]])*Net_Profit))","v":0},{"$f":"IFERROR(AVERAGE(Inventory[[#This Row],[Total Net Profit]]/Inventory[[#This Row],[Quantity Sold]]),0)","v":0}]
[null,null,null,null,null,null,null,null,0,0,0,null,null,null,0,{"$f":"IF(Inventory[[#This Row],[Item SKU/ID]]=\"\",0,SUMPRODUCT((Quantity_Sold_1=Inventory[[#This Row],[Item SKU/ID]])*Net_Profit))","v":0},{"$f":"IFERROR(AVERAGE(Inventory[[#This Row],[Total Net Profit]]/Inventory[[#This Row],[Quantity Sold]]),0)","v":0}]
[null,null,null,null,null,null,null,null,0,0,0,null,null,null,0,{"$f":"IF(Inventory[[#This Row],[Item SKU/ID]]=\"\",0,SUMPRODUCT((Quantity_Sold_1=Inventory[[#This Row],[Item SKU/ID]])*Net_Profit))","v":0},{"$f":"IFERROR(AVERAGE(Inventory[[#This Row],[Total Net Profit]]/Inventory[[#This Row],[Quantity Sold]]),0)","v":0}]
[null,null,null,null,null,null,null,null,0,0,0,null,null,null,0,{"$f":"IF(Inventory[[#This Row],[Item SKU/ID]]=\"\",0,SUMPRODUCT((Quantity_Sold_1=Inventory[[#This Row],[Item SKU/ID]])*Net_Profit))","v":0},{"$f":"IFERROR(AVERAGE(Inventory[[#This Row],[Total Net Profit]]/Inventory[[#This Row],[Quantity Sold]]),0)","v":0}]
[null,null,null,null,null,null,null,null,0,0,0,null,null,null,0,{"$f":"IF(Inventory[[#This Row],[Item SKU/ID]]=\"\",0,SUMPRODUCT((Quantity_Sold_1=Inventory[[#This Row],[Item SKU/ID]])*Net_Profit))","v":0},{"$f":"IFERROR(AVERAGE(Inventory[[#This Row],[Total Net Profit]]/Inventory[[#This Row],[Quantity Sold]]),0)","v":0}]
[null,null,null,null,null,null,null,null,0,0,0,null,null,null,0,{"$f":"IF(Inventory[[#This Row],[Item SKU/ID]]=\"\",0,SUMPRODUCT((Quantity_Sold_1=Inventory[[#This Row],[Item SKU/ID]])*Net_Profit))","v":0},{"$f":"IFERROR(AVERAGE(Inventory[[#This Row],[Total Net Profit]]/Inventory[[#This Row],[Quantity Sold]]),0)","v":0}]
[null,null,null,null,null,null,null,null,0,0,0,null,null,null,0,{"$f":"IF(Inventory[[#This Row],[Item SKU/ID]]=\"\",0,SUMPRODUCT((Quantity_Sold_1=Inventory[[#This Row],[Item SKU/ID]])*Net_Profit))","v":0},{"$f":"IFERROR(AVERAGE(Inventory[[#This Row],[Total Net Profit]]/Inventory[[#This Row],[Quantity Sold]]),0)","v":0}]
[null,null,null,null,null,null,null,null,0,0,0,null,null,null,0,{"$f":"IF(Inventory[[#This Row],[Item SKU/ID]]=\"\",0,SUMPRODUCT((Quantity_Sold_1=Inventory[[#This Row],[Item SKU/ID]])*Net_Profit))","v":0},{"$f":"IFERROR(AVERAGE(Inventory[[#This Row],[Total Net Profit]]/Inventory[[#This Row],[Quantity Sold]]),0)","v":0}]
[null,null,null,null,null,null,null,null,0,0,0,null,null,null,0,{"$f":"IF(Inventory[[#This Row],[Item SKU/ID]]=\"\",0,SUMPRODUCT((Quantity_Sold_1=Inventory[[#This Row],[Item SKU/ID]])*Net_Profit))","v":0},{"$f":"IFERROR(AVERAGE(Inventory[[#This Row],[Total Net Profit]]/Inventory[[#This Row],[Quantity Sold]]),0)","v":0}]
[null,null,null,null,null,null,null,null,0,0,0,null,null,null,0,{"$f":"IF(Inventory[[#This Row],[Item SKU/ID]]=\"\",0,SUMPRODUCT((Quantity_Sold_1=Inventory[[#This Row],[Item SKU/ID]])*Net_Profit))","v":0},{"$f":"IFERROR(AVERAGE(Inventory[[#This Row],[Total Net Profit]]/Inventory[[#This Row],[Quantity Sold]]),0)","v":0}]
[null,null,null,null,null,null,null,null,0,0,0,null,null,null,0,{"$f":"IF(Inventory[[#This Row],[Item SKU/ID]]=\"\",0,SUMPRODUCT((Quantity_Sold_1=Inventory[[#This Row],[Item SKU/ID]])*Net_Profit))","v":0},{"$f":"IFERROR(AVERAGE(Inventory[[#This Row],[Total Net Profit]]/Inventory[[#This Row],[Quantity Sold]]),0)","v":0}]
[null,null,null,null,null,null,null,null,0,0,0,null,null,null,0,{"$f":"IF(Inventory[[#This Row],[Item SKU/ID]]=\"\",0,SUMPRODUCT((Quantity_Sold_1=Inventory[[#This Row],[Item SKU/ID]])*Net_Profit))","v":0},{"$f":"IFERROR(AVERAGE(Inventory[[#This Row],[Total Net Profit]]/Inventory[[#This Row],[Quantity Sold]]),0)","v":0}]
[null,null,null,null,null,null,null,null,0,0,0,null,null,null,0,{"$f":"IF(Inventory[[#This Row],[Item SKU/ID]]=\"\",0,SUMPRODUCT((Quantity_Sold_1=Inventory[[#This Row],[Item SKU/ID]])*Net_Profit))","v":0},{"$f":"IFERROR(AVERAGE(Inventory[[#This Row],[Total Net Profit]]/Inventory[[#This Row],[Quantity Sold]]),0)","v":0}]
[null,null,null,null,null,null,null,null,0,0,0,null,null,null,0,{"$f":"IF(Inventory[[#This Row],[Item SKU/ID]]=\"\",0,SUMPRODUCT((Quantity_Sold_1=Inventory[[#This Row],[Item SKU/ID]])*Net_Profit))","v":0},{"$f":"IFERROR(AVERAGE(Inventory[[#This Row],[Total Net Profit]]/Inventory[[#This Row],[Quantity Sold]]),0)","v":0}]
[null,null,null,null,null,null,null,null,0,0,0,null,null,null,0,{"$f":"IF(Inventory[[#This Row],[Item SKU/ID]]=\"\",0,SUMPRODUCT((Quantity_Sold_1=Inventory[[#This Row],[Item SKU/ID]])*Net_Profit))","v":0},{"$f":"IFERROR(AVERAGE(Inventory[[#This Row],[Total Net Profit]]/Inventory[[#This Row],[Quantity Sold]]),0)","v":0}]
[null,null,null,null,null,null,null,null,0,0,0,null,null,null,0,{"$f":"IF(Inventory[[#This Row],[Item SKU/ID]]=\"\",0,SUMPRODUCT((Quantity_Sold_1=Inventory[[#This Row],[Item SKU/ID]])*Net_Profit))","v":0},{"$f":"IFERROR(AVERAGE(Inventory[[#This Row],[Total Net Profit]]/Inventory[[#This Row],[Quantity Sold]]),0)","v":0}]
[null,null,null,null,null,null,null,null,0,0,0,null,null,null,0,{"$f":"IF(Inventory[[#This Row],[Item SKU/ID]]=\"\",0,SUMPRODUCT((Quantity_Sold_1=Inventory[[#This Row],[Item SKU/ID]])*Net_Profit))","v":0},{"$f":"IFERROR(AVERAGE(Inventory[[#This Row],[Total Net Profit]]/Inventory[[#This Row],[Quantity Sold]]),0)","v":0}]
[null,null,null,null,null,null,null,null,0,0,0,null,null,null,0,{"$f":"IF(Inventory[[#This Row],[Item SKU/ID]]=\"\",0,SUMPRODUCT((Quantity_Sold_1=Inventory[[#This Row],[Item SKU/ID]])*Net_Profit))","v":0},{"$f":"IFERROR(AVERAGE(Inventory[[#This Row],[Total Net Profit]]/Inventory[[#This Row],[Quantity Sold]]),0)","v":0}]
[null,null,null,null,null,null,null,null,0,0,0,null,null,null,0,{"$f":"IF(Inventory[[#This Row],[Item SKU/ID]]=\"\",0,SUMPRODUCT((Quantity_Sold_1=Inventory[[#This Row],[Item SKU/ID]])*Net_Profit))","v":0},{"$f":"IFERROR(AVERAGE(Inventory[[#This Row],[Total Net Profit]]/Inventory[[#This Row],[Quantity Sold]]),0)","v":0}]
[null,null,null,null,null,null,null,null,0,0,0,null,null,null,0,{"$f":"IF(Inventory[[#This Row],[Item SKU/ID]]=\"\",0,SUMPRODUCT((Quantity_Sold_1=Inventory[[#This Row],[Item SKU/ID]])*Net_Profit))","v":0},{"$f":"IFERROR(AVERAGE(Inventory[[#This Row],[Total Net Profit]]/Inventory[[#This Row],[Quantity Sold]]),0)","v":0}]
[null,null,null,null,null,null,null,null,0,0,0,null,null,null,0,{"$f":"IF(Inventory[[#This Row],[Item SKU/ID]]=\"\",0,SUMPRODUCT((Quantity_Sold_1=Inventory[[#This Row],[Item SKU/ID]])*Net_Profit))","v":0},{"$f":"IFERROR(AVERAGE(Inventory[[#This Row],[Total Net Profit]]/Inventory[[#This Row],[Quantity Sold]]),0)","v":0}]
[null,null,null,null,null,null,null,null,0,0,0,null,null,null,0,{"$f":"IF(Inventory[[#This Row],[Item SKU/ID]]=\"\",0,SUMPRODUCT((Quantity_Sold_1=Inventory[[#This Row],[Item SKU/ID]])*Net_Profit))","v":0},{"$f":"IFERROR(AVERAGE(Inventory[[#This Row],[Total Net Profit]]/Inventory[[#This Row],[Quantity Sold]]),0)","v":0}]
[null,null,null,null,null,null,null,null,0,0,0,null,null,null,0,{"$f":"IF(Inventory[[#This Row],[Item SKU/ID]]=\"\",0,SUMPRODUCT((Quantity_Sold_1=Inventory[[#This Row],[Item SKU/ID]])*Net_Profit))","v":0},{"$f":"IFERROR(AVERAGE(Inventory[[#This Row],[Total Net Profit]]/Inventory[[#This Row],[Quantity Sold]]),0)","v":0}]
[null,null,null,null,null,null,null,null,0,0,0,null,null,null,0,{"$f":"IF(Inventory[[#This Row],[Item SKU/ID]]=\"\",0,SUMPRODUCT((Quantity_Sold_1=Inventory[[#This Row],[Item SKU/ID]])*Net_Profit))","v":0},{"$f":"IFERROR(AVERAGE(Inventory[[#This Row],[Total Net Profit]]/Inventory[[#This Row],[Quantity Sold]]),0)","v":0}]
[null,null,null,null,null,null,null,null,0,0,0,null,null,null,0,{"$f":"IF(Inventory[[#This Row],[Item SKU/ID]]=\"\",0,SUMPRODUCT((Quantity_Sold_1=Inventory[[#This Row],[Item SKU/ID]])*Net_Profit))","v":0},{"$f":"IFERROR(AVERAGE(Inventory[[#This Row],[Total Net Profit]]/Inventory[[#This Row],[Quantity Sold]]),0)","v":0}]
[null,null,null,null,null,null,null,null,0,0,0,null,null,null,0,{"$f":"IF(Inventory[[#This Row],[Item SKU/ID]]=\"\",0,SUMPRODUCT((Quantity_Sold_1=Inventory[[#This Row],[Item SKU/ID]])*Net_Profit))","v":0},{"$f":"IFERROR(AVERAGE(Inventory[[#This Row],[Total Net Profit]]/Inventory[[#This Row],[Quantity Sold]]),0)","v":0}]
[null,null,null,null,null,null,null,null,0,0,0,null,null,null,0,{"$f":"IF(Inventory[[#This Row],[Item SKU/ID]]=\"\",0,SUMPRODUCT((Quantity_Sold_1=Inventory[[#This Row],[Item SKU/ID]])*Net_Profit))","v":0},{"$f":"IFERROR(AVERAGE(Inventory[[#This Row],[Total Net Profit]]/Inventory[[#This Row],[Quantity Sold]]),0)","v":0}]
[null,null,null,null,null,null,null,null,0,0,0,null,null,null,0,{"$f":"IF(Inventory[[#This Row],[Item SKU/ID]]=\"\",0,SUMPRODUCT((Quantity_Sold_1=Inventory[[#This Row],[Item SKU/ID]])*Net_Profit))","v":0},{"$f":"IFERROR(AVERAGE(Inventory[[#This Row],[Total Net Profit]]/Inventory[[#This Row],[Quantity Sold]]),0)","v":0}]
[null,null,null,null,null,null,null,null,0,0,0,null,null,null,0,{"$f":"IF(Inventory[[#This Row],[Item SKU/ID]]=\"\",0,SUMPRODUCT((Quantity_Sold_1=Inventory[[#This Row],[Item SKU/ID]])*Net_Profit))","v":0},{"$f":"IFERROR(AVERAGE(Inventory[[#This Row],[Total Net Profit]]/Inventory[[#This Row],[Quantity Sold]]),0)","v":0}]
[null,null,null,null,null,null,null,null,0,0,0,null,null,null,0,{"$f":"IF(Inventory[[#This Row],[Item SKU/ID]]=\"\",0,SUMPRODUCT((Quantity_Sold_1=Inventory[[#This Row],[Item SKU/ID]])*Net_Profit))","v":0},{"$f":"IFERROR(AVERAGE(Inventory[[#This Row],[Total Net Profit]]/Inventory[[#This Row],[Quantity Sold]]),0)","v":0}]
[null,null,null,null,null,null,null,null,0,0,0,null,null,null,0,{"$f":"IF(Inventory[[#This Row],[Item SKU/ID]]=\"\",0,SUMPRODUCT((Quantity_Sold_1=Inventory[[#This Row],[Item SKU/ID]])*Net_Profit))","v":0},{"$f":"IFERROR(AVERAGE(Inventory[[#This Row],[Total Net Profit]]/Inventory[[#This Row],[Quantity Sold]]),0)","v":0}]
[null,null,null,null,null,null,null,null,0,0,0,null,null,null,0,{"$f":"IF(Inventory[[#This Row],[Item SKU/ID]]=\"\",0,SUMPRODUCT((Quantity_Sold_1=Inventory[[#This Row],[Item SKU/ID]])*Net_Profit))","v":0},{"$f":"IFERROR(AVERAGE(Inventory[[#This Row],[Total Net Profit]]/Inventory[[#This Row],[Quantity Sold]]),0)","v":0}]
[null,null,null,null,null,null,null,null,0,0,0,null,null,null,0,{"$f":"IF(Inventory[[#This Row],[Item SKU/ID]]=\"\",0,SUMPRODUCT((Quantity_Sold_1=Inventory[[#This Row],[Item SKU/ID]])*Net_Profit))","v":0},{"$f":"IFERROR(AVERAGE(Inventory[[#This Row],[Total Net Profit]]/Inventory[[#This Row],[Quantity Sold]]),0)","v":0}]
[null,null,null,null,null,null,null,null,0,0,0,null,null,null,0,{"$f":"IF(Inventory[[#This Row],[Item SKU/ID]]=\"\",0,SUMPRODUCT((Quantity_Sold_1=Inventory[[#This Row],[Item SKU/ID]])*Net_Profit))","v":0},{"$f":"IFERROR(AVERAGE(Inventory[[#This Row],[Total Net Profit]]/Inventory[[#This Row],[Quantity Sold]]),0)","v":0}]
[null,null,null,null,null,null,null,null,0,0,0,null,null,null,0,{"$f":"IF(Inventory[[#This Row],[Item SKU/ID]]=\"\",0,SUMPRODUCT((Quantity_Sold_1=Inventory[[#This Row],[Item SKU/ID]])*Net_Profit))","v":0},{"$f":"IFERROR(AVERAGE(Inventory[[#This Row],[Total Net Profit]]/Inventory[[#This Row],[Quantity Sold]]),0)","v":0}]
[null,null,null,null,null,null,null,null,0,0,0,null,null,null,0,{"$f":"IF(Inventory[[#This Row],[Item SKU/ID]]=\"\",0,SUMPRODUCT((Quantity_Sold_1=Inventory[[#This Row],[Item SKU/ID]])*Net_Profit))","v":0},{"$f":"IFERROR(AVERAGE(Inventory[[#This Row],[Total Net Profit]]/Inventory[[#This Row],[Quantity Sold]]),0)","v":0}]
[null,null,null,null,null,null,null,null,0,0,0,null,null,null,0,{"$f":"IF(Inventory[[#This Row],[Item SKU/ID]]=\"\",0,SUMPRODUCT((Quantity_Sold_1=Inventory[[#This Row],[Item SKU/ID]])*Net_Profit))","v":0},{"$f":"IFERROR(AVERAGE(Inventory[[#This Row],[Total Net Profit]]/Inventory[[#This Row],[Quantity Sold]]),0)","v":0}]
[null,null,null,null,null,null,null,null,0,0,0,null,null,null,0,{"$f":"IF(Inventory[[#This Row],[Item SKU/ID]]=\"\",0,SUMPRODUCT((Quantity_Sold_1=Inventory[[#This Row],[Item SKU/ID]])*Net_Profit))","v":0},{"$f":"IFERROR(AVERAGE(Inventory[[#This Row],[Total Net Profit]]/Inventory[[#This Row],[Quantity Sold]]),0)","v":0}]
[null,null,null,null,null,null,null,null,0,0,0,null,null,null,0,{"$f":"IF(Inventory[[#This Row],[Item SKU/ID]]=\"\",0,SUMPRODUCT((Quantity_Sold_1=Inventory[[#This Row],[Item SKU/ID]])*Net_Profit))","v":0},{"$f":"IFERROR(AVERAGE(Inventory[[#This Row],[Total Net Profit]]/Inventory[[#This Row],[Quantity Sold]]),0)","v":0}]
[null,null,null,null,null,null,null,null,0,0,0,null,null,null,0,{"$f":"IF(Inventory[[#This Row],[Item SKU/ID]]=\"\",0,SUMPRODUCT((Quantity_Sold_1=Inventory[[#This Row],[Item SKU/ID]])*Net_Profit))","v":0},{"$f":"IFERROR(AVERAGE(Inventory[[#This Row],[Total Net Profit]]/Inventory[[#This Row],[Quantity Sold]]),0)","v":0}]
[null,null,null,null,null,null,null,null,0,0,0,null,null,null,0,{"$f":"IF(Inventory[[#This Row],[Item SKU/ID]]=\"\",0,SUMPRODUCT((Quantity_Sold_1=Inventory[[#This Row],[Item SKU/ID]])*Net_Profit))","v":0},{"$f":"IFERROR(AVERAGE(Inventory[[#This Row],[Total Net Profit]]/Inventory[[#This Row],[Quantity Sold]]),0)","v":0}]
[null,null,null,null,null,null,null,null,0,0,0,null,null,null,0,{"$f":"IF(Inventory[[#This Row],[Item SKU/ID]]=\"\",0,SUMPRODUCT((Quantity_Sold_1=Inventory[[#This Row],[Item SKU/ID]])*Net_Profit))","v":0},{"$f":"IFERROR(AVERAGE(Inventory[[#This Row],[Total Net Profit]]/Inventory[[#This Row],[Quantity Sold]]),0)","v":0}]
[null,null,null,null,null,null,null,null,0,0,0,null,null,null,0,{"$f":"IF(Inventory[[#This Row],[Item SKU/ID]]=\"\",0,SUMPRODUCT((Quantity_Sold_1=Inventory[[#This Row],[Item SKU/ID]])*Net_Profit))","v":0},{"$f":"IFERROR(AVERAGE(Inventory[[#This Row],[Total Net Profit]]/Inventory[[#This Row],[Quantity Sold]]),0)","v":0}]
[null,null,null,null,null,null,null,null,0,0,0,null,null,null,0,{"$f":"IF(Inventory[[#This Row],[Item SKU/ID]]=\"\",0,SUMPRODUCT((Quantity_Sold_1=Inventory[[#This Row],[Item SKU/ID]])*Net_Profit))","v":0},{"$f":"IFERROR(AVERAGE(Inventory[[#This Row],[Total Net Profit]]/Inventory[[#This Row],[Quantity Sold]]),0)","v":0}]
[null,null,null,null,null,null,null,null,0,0,0,null,null,null,0,{"$f":"IF(Inventory[[#This Row],[Item SKU/ID]]=\"\",0,SUMPRODUCT((Quantity_Sold_1=Inventory[[#This Row],[Item SKU/ID]])*Net_Profit))","v":0},{"$f":"IFERROR(AVERAGE(Inventory[[#This Row],[Total Net Profit]]/Inventory[[#This Row],[Quantity Sold]]),0)","v":0}]
[null,null,null,null,null,null,null,null,0,0,0,null,null,null,0,{"$f":"IF(Inventory[[#This Row],[Item SKU/ID]]=\"\",0,SUMPRODUCT((Quantity_Sold_1=Inventory[[#This Row],[Item SKU/ID]])*Net_Profit))","v":0},{"$f":"IFERROR(AVERAGE(Inventory[[#This Row],[Total Net Profit]]/Inventory[[#This Row],[Quantity Sold]]),0)","v":0}]
[null,null,null,null,null,null,null,null,0,0,0,null,null,null,0,{"$f":"IF(Inventory[[#This Row],[Item SKU/ID]]=\"\",0,SUMPRODUCT((Quantity_Sold_1=Inventory[[#This Row],[Item SKU/ID]])*Net_Profit))","v":0},{"$f":"IFERROR(AVERAGE(Inventory[[#This Row],[Total Net Profit]]/Inventory[[#This Row],[Quantity Sold]]),0)","v":0}]
[null,null,null,null,null,null,null,null,0,0,0,null,null,null,0,{"$f":"IF(Inventory[[#This Row],[Item SKU/ID]]=\"\",0,SUMPRODUCT((Quantity_Sold_1=Inventory[[#This Row],[Item SKU/ID]])*Net_Profit))","v":0},{"$f":"IFERROR(AVERAGE(Inventory[[#This Row],[Total Net Profit]]/Inventory[[#This Row],[Quantity Sold]]),0)","v":0}]
[null,null,null,null,null,null,null,null,0,0,0,null,null,null,0,{"$f":"IF(Inventory[[#This Row],[Item SKU/ID]]=\"\",0,SUMPRODUCT((Quantity_Sold_1=Inventory[[#This Row],[Item SKU/ID]])*Net_Profit))","v":0},{"$f":"IFERROR(AVERAGE(Inventory[[#This Row],[Total Net Profit]]/Inventory[[#This Row],[Quantity Sold]]),0)","v":0}]
[null,null,null,null,null,null,null,null,0,0,0,null,null,null,0,{"$f":"IF(Inventory[[#This Row],[Item SKU/ID]]=\"\",0,SUMPRODUCT((Quantity_Sold_1=Inventory[[#This Row],[Item SKU/ID]])*Net_Profit))","v":0},{"$f":"IFERROR(AVERAGE(Inventory[[#This Row],[Total Net Profit]]/Inventory[[#This Row],[Quantity Sold]]),0)","v":0}]
[null,null,null,null,null,null,null,null,{"$f":"K1860*H1860","v":0},{"$f":"IF(F1860=\"\",0,SUMPRODUCT((Quantity_Sold_1=F1860)*Quantity_Sold_2))","v":0},{"$f":"G1860-J1860","v":0},null,null,null,{"$f":"K1860*H1860","v":0},{"$f":"IF(Inventory[[#This Row],[Item SKU/ID]]=\"\",0,SUMPRODUCT((Quantity_Sold_1=Inventory[[#This Row],[Item SKU/ID]])*Net_Profit))","v":0},{"$f":"IFERROR(AVERAGE(Inventory[[#This Row],[Total Net Profit]]/Inventory[[#This Row],[Quantity Sold]]),0)","v":0}]
[null,null,null,null,null,null,null,null,0,0,0,null,null,null,0,{"$f":"IF(Inventory[[#This Row],[Item SKU/ID]]=\"\",0,SUMPRODUCT((Quantity_Sold_1=Inventory[[#This Row],[Item SKU/ID]])*Net_Profit))","v":0},{"$f":"IFERROR(AVERAGE(Inventory[[#This Row],[Total Net Profit]]/Inventory[[#This Row],[Quantity Sold]]),0)","v":0}]
[null,null,null,null,null,null,null,null,0,0,0,null,null,null,0,{"$f":"IF(Inventory[[#This Row],[Item SKU/ID]]=\"\",0,SUMPRODUCT((Quantity_Sold_1=Inventory[[#This Row],[Item SKU/ID]])*Net_Profit))","v":0},{"$f":"IFERROR(AVERAGE(Inventory[[#This Row],[Total Net Profit]]/Inventory[[#This Row],[Quantity Sold]]),0)","v":0}]
[null,null,null,null,null,null,null,null,0,0,0,null,null,null,0,{"$f":"IF(Inventory[[#This Row],[Item SKU/ID]]=\"\",0,SUMPRODUCT((Quantity_Sold_1=Inventory[[#This Row],[Item SKU/ID]])*Net_Profit))","v":0},{"$f":"IFERROR(AVERAGE(Inventory[[#This Row],[Total Net Profit]]/Inventory[[#This Row],[Quantity Sold]]),0)","v":0}]
[null,null,null,null,null,null,null,null,0,0,0,null,null,null,0,{"$f":"IF(Inventory[[#This Row],[Item SKU/ID]]=\"\",0,SUMPRODUCT((Quantity_Sold_1=Inventory[[#This Row],[Item SKU/ID]])*Net_Profit))","v":0},{"$f":"IFERROR(AVERAGE(Inventory[[#This Row],[Total Net Profit]]/Inventory[[#This Row],[Quantity Sold]]),0)","v":0}]
[null,null,null,null,null,null,null,null,0,0,0,null,null,null,0,{"$f":"IF(Inventory[[#This Row],[Item SKU/ID]]=\"\",0,SUMPRODUCT((Quantity_Sold_1=Inventory[[#This Row],[Item SKU/ID]])*Net_Profit))","v":0},{"$f":"IFERROR(AVERAGE(Inventory[[#This Row],[Total Net Profit]]/Inventory[[#This Row],[Quantity Sold]]),0)","v":0}]
[null,null,null,null,null,null,null,null,0,0,0,null,null,null,0,{"$f":"IF(Inventory[[#This Row],[Item SKU/ID]]=\"\",0,SUMPRODUCT((Quantity_Sold_1=Inventory[[#This Row],[Item SKU/ID]])*Net_Profit))","v":0},{"$f":"IFERROR(AVERAGE(Inventory[[#This Row],[Total Net Profit]]/Inventory[[#This Row],[Quantity Sold]]),0)","v":0}]
[null,null,null,null,null,null,null,null,0,0,0,null,null,null,0,{"$f":"IF(Inventory[[#This Row],[Item SKU/ID]]=\"\",0,SUMPRODUCT((Quantity_Sold_1=Inventory[[#This Row],[Item SKU/ID]])*Net_Profit))","v":0},{"$f":"IFERROR(AVERAGE(Inventory[[#This Row],[Total Net Profit]]/Inventory[[#This Row],[Quantity Sold]]),0)","v":0}]
[null,null,null,null,null,null,null,null,0,0,0,null,null,null,0,{"$f":"IF(Inventory[[#This Row],[Item SKU/ID]]=\"\",0,SUMPRODUCT((Quantity_Sold_1=Inventory[[#This Row],[Item SKU/ID]])*Net_Profit))","v":0},{"$f":"IFERROR(AVERAGE(Inventory[[#This Row],[Total Net Profit]]/Inventory[[#This Row],[Quantity Sold]]),0)","v":0}]
[null,null,null,null,null,null,null,null,0,0,0,null,null,null,0,{"$f":"IF(Inventory[[#This Row],[Item SKU/ID]]=\"\",0,SUMPRODUCT((Quantity_Sold_1=Inventory[[#This Row],[Item SKU/ID]])*Net_Profit))","v":0},{"$f":"IFERROR(AVERAGE(Inventory[[#This Row],[Total Net Profit]]/Inventory[[#This Row],[Quantity Sold]]),0)","v":0}]
[null,null,null,null,null,null,null,null,0,0,0,null,null,null,0,{"$f":"IF(Inventory[[#This Row],[Item SKU/ID]]=\"\",0,SUMPRODUCT((Quantity_Sold_1=Inventory[[#This Row],[Item SKU/ID]])*Net_Profit))","v":0},{"$f":"IFERROR(AVERAGE(Inventory[[#This Row],[Total Net Profit]]/Inventory[[#This Row],[Quantity Sold]]),0)","v":0}]
[null,null,null,null,null,null,null,null,0,0,0,null,null,null,0,{"$f":"IF(Inventory[[#This Row],[Item SKU/ID]]=\"\",0,SUMPRODUCT((Quantity_Sold_1=Inventory[[#This Row],[Item SKU/ID]])*Net_Profit))","v":0},{"$f":"IFERROR(AVERAGE(Inventory[[#This Row],[Total Net Profit]]/Inventory[[#This Row],[Quantity Sold]]),0)","v":0}]
[null,null,null,null,null,null,null,null,0,0,0,null,null,null,0,{"$f":"IF(Inventory[[#This Row],[Item SKU/ID]]=\"\",0,SUMPRODUCT((Quantity_Sold_1=Inventory[[#This Row],[Item SKU/ID]])*Net_Profit))","v":0},{"$f":"IFERROR(AVERAGE(Inventory[[#This Row],[Total Net Profit]]/Inventory[[#This Row],[Quantity Sold]]),0)","v":0}]
[null,null,null,null,null,null,null,null,0,0,0,null,null,null,0,{"$f":"IF(Inventory[[#This Row],[Item SKU/ID]]=\"\",0,SUMPRODUCT((Quantity_Sold_1=Inventory[[#This Row],[Item SKU/ID]])*Net_Profit))","v":0},{"$f":"IFERROR(AVERAGE(Inventory[[#This Row],[Total Net Profit]]/Inventory[[#This Row],[Quantity Sold]]),0)","v":0}]
[null,null,null,null,null,null,null,null,0,0,0,null,null,null,0,{"$f":"IF(Inventory[[#This Row],[Item SKU/ID]]=\"\",0,SUMPRODUCT((Quantity_Sold_1=Inventory[[#This Row],[Item SKU/ID]])*Net_Profit))","v":0},{"$f":"IFERROR(AVERAGE(Inventory[[#This Row],[Total Net Profit]]/Inventory[[#This Row],[Quantity Sold]]),0)","v":0}]
[null,null,null,null,null,null,null,null,0,0,0,null,null,null,0,{"$f":"IF(Inventory[[#This Row],[Item SKU/ID]]=\"\",0,SUMPRODUCT((Quantity_Sold_1=Inventory[[#This Row],[Item SKU/ID]])*Net_Profit))","v":0},{"$f":"IFERROR(AVERAGE(Inventory[[#This Row],[Total Net Profit]]/Inventory[[#This Row],[Quantity Sold]]),0)","v":0}]
[null,null,null,null,null,null,null,null,0,0,0,null,null,null,0,{"$f":"IF(Inventory[[#This Row],[Item SKU/ID]]=\"\",0,SUMPRODUCT((Quantity_Sold_1=Inventory[[#This Row],[Item SKU/ID]])*Net_Profit))","v":0},{"$f":"IFERROR(AVERAGE(Inventory[[#This Row],[Total Net Profit]]/Inventory[[#This Row],[Quantity Sold]]),0)","v":0}]
[null,null,null,null,null,null,null,null,0,0,0,null,null,null,0,{"$f":"IF(Inventory[[#This Row],[Item SKU/ID]]=\"\",0,SUMPRODUCT((Quantity_Sold_1=Inventory[[#This Row],[Item SKU/ID]])*Net_Profit))","v":0},{"$f":"IFERROR(AVERAGE(Inventory[[#This Row],[Total Net Profit]]/Inventory[[#This Row],[Quantity Sold]]),0)","v":0}]
[null,null,null,null,null,null,null,null,0,0,0,null,null,null,0,{"$f":"IF(Inventory[[#This Row],[Item SKU/ID]]=\"\",0,SUMPRODUCT((Quantity_Sold_1=Inventory[[#This Row],[Item SKU/ID]])*Net_Profit))","v":0},{"$f":"IFERROR(AVERAGE(Inventory[[#This Row],[Total Net Profit]]/Inventory[[#This Row],[Quantity Sold]]),0)","v":0}]
[null,null,null,null,null,null,null,null,0,0,0,null,null,null,0,{"$f":"IF(Inventory[[#This Row],[Item SKU/ID]]=\"\",0,SUMPRODUCT((Quantity_Sold_1=Inventory[[#This Row],[Item SKU/ID]])*Net_Profit))","v":0},{"$f":"IFERROR(AVERAGE(Inventory[[#This Row],[Total Net Profit]]/Inventory[[#This Row],[Quantity Sold]]),0)","v":0}]
[null,null,null,null,null,null,null,null,0,0,0,null,null,null,0,{"$f":"IF(Inventory[[#This Row],[Item SKU/ID]]=\"\",0,SUMPRODUCT((Quantity_Sold_1=Inventory[[#This Row],[Item SKU/ID]])*Net_Profit))","v":0},{"$f":"IFERROR(AVERAGE(Inventory[[#This Row],[Total Net Profit]]/Inventory[[#This Row],[Quantity Sold]]),0)","v":0}]
[null,null,null,null,null,null,null,null,0,0,0,null,null,null,0,{"$f":"IF(Inventory[[#This Row],[Item SKU/ID]]=\"\",0,SUMPRODUCT((Quantity_Sold_1=Inventory[[#This Row],[Item SKU/ID]])*Net_Profit))","v":0},{"$f":"IFERROR(AVERAGE(Inventory[[#This Row],[Total Net Profit]]/Inventory[[#This Row],[Quantity Sold]]),0)","v":0}]
[null,null,null,null,null,null,null,null,0,0,0,null,null,null,0,{"$f":"IF(Inventory[[#This Row],[Item SKU/ID]]=\"\",0,SUMPRODUCT((Quantity_Sold_1=Inventory[[#This Row],[Item SKU/ID]])*Net_Profit))","v":0},{"$f":"IFERROR(AVERAGE(Inventory[[#This Row],[Total Net Profit]]/Inventory[[#This Row],[Quantity Sold]]),0)","v":0}]
[null,null,null,null,null,null,null,null,0,0,0,null,null,null,0,{"$f":"IF(Inventory[[#This Row],[Item SKU/ID]]=\"\",0,SUMPRODUCT((Quantity_Sold_1=Inventory[[#This Row],[Item SKU/ID]])*Net_Profit))","v":0},{"$f":"IFERROR(AVERAGE(Inventory[[#This Row],[Total Net Profit]]/Inventory[[#This Row],[Quantity Sold]]),0)","v":0}]
[null,null,null,null,null,null,null,null,0,0,0,null,null,null,0,{"$f":"IF(Inventory[[#This Row],[Item SKU/ID]]=\"\",0,SUMPRODUCT((Quantity_Sold_1=Inventory[[#This Row],[Item SKU/ID]])*Net_Profit))","v":0},{"$f":"IFERROR(AVERAGE(Inventory[[#This Row],[Total Net Profit]]/Inventory[[#This Row],[Quantity Sold]]),0)","v":0}]
[null,null,null,null,null,null,null,null,0,0,0,null,null,null,0,{"$f":"IF(Inventory[[#This Row],[Item SKU/ID]]=\"\",0,SUMPRODUCT((Quantity_Sold_1=Inventory[[#This Row],[Item SKU/ID]])*Net_Profit))","v":0},{"$f":"IFERROR(AVERAGE(Inventory[[#This Row],[Total Net Profit]]/Inventory[[#This Row],[Quantity Sold]]),0)","v":0}]
[null,null,null,null,null,null,null,null,0,0,0,null,null,null,0,{"$f":"IF(Inventory[[#This Row],[Item SKU/ID]]=\"\",0,SUMPRODUCT((Quantity_Sold_1=Inventory[[#This Row],[Item SKU/ID]])*Net_Profit))","v":0},{"$f":"IFERROR(AVERAGE(Inventory[[#This Row],[Total Net Profit]]/Inventory[[#This Row],[Quantity Sold]]),0)","v":0}]
[null,null,null,null,null,null,null,null,0,0,0,null,null,null,0,{"$f":"IF(Inventory[[#This Row],[Item SKU/ID]]=\"\",0,SUMPRODUCT((Quantity_Sold_1=Inventory[[#This Row],[Item SKU/ID]])*Net_Profit))","v":0},{"$f":"IFERROR(AVERAGE(Inventory[[#This Row],[Total Net Profit]]/Inventory[[#This Row],[Quantity Sold]]),0)","v":0}]
[null,null,null,null,null,null,null,null,0,0,0,null,null,null,0,{"$f":"IF(Inventory[[#This Row],[Item SKU/ID]]=\"\",0,SUMPRODUCT((Quantity_Sold_1=Inventory[[#This Row],[Item SKU/ID]])*Net_Profit))","v":0},{"$f":"IFERROR(AVERAGE(Inventory[[#This Row],[Total Net Profit]]/Inventory[[#This Row],[Quantity Sold]]),0)","v":0}]
[null,null,null,null,null,null,null,null,0,0,0,null,null,null,0,{"$f":"IF(Inventory[[#This Row],[Item SKU/ID]]=\"\",0,SUMPRODUCT((Quantity_Sold_1=Inventory[[#This Row],[Item SKU/ID]])*Net_Profit))","v":0},{"$f":"IFERROR(AVERAGE(Inventory[[#This Row],[Total Net Profit]]/Inventory[[#This Row],[Quantity Sold]]),0)","v":0}]
[null,null,null,null,null,null,null,null,0,0,0,null,null,null,0,{"$f":"IF(Inventory[[#This Row],[Item SKU/ID]]=\"\",0,SUMPRODUCT((Quantity_Sold_1=Inventory[[#This Row],[Item SKU/ID]])*Net_Profit))","v":0},{"$f":"IFERROR(AVERAGE(Inventory[[#This Row],[Total Net Profit]]/Inventory[[#This Row],[Quantity Sold]]),0)","v":0}]
[null,null,null,null,null,null,null,null,0,0,0,null,null,null,0,{"$f":"IF(Inventory[[#This Row],[Item SKU/ID]]=\"\",0,SUMPRODUCT((Quantity_Sold_1=Inventory[[#This Row],[Item SKU/ID]])*Net_Profit))","v":0},{"$f":"IFERROR(AVERAGE(Inventory[[#This Row],[Total Net Profit]]/Inventory[[#This Row],[Quantity Sold]]),0)","v":0}]
[null,null,null,null,null,null,null,null,0,0,0,null,null,null,0,{"$f":"IF(Inventory[[#This Row],[Item SKU/ID]]=\"\",0,SUMPRODUCT((Quantity_Sold_1=Inventory[[#This Row],[Item SKU/ID]])*Net_Profit))","v":0},{"$f":"IFERROR(AVERAGE(Inventory[[#This Row],[Total Net Profit]]/Inventory[[#This Row],[Quantity Sold]]),0)","v":0}]
[null,null,null,null,null,null,null,null,0,0,0,null,null,null,0,{"$f":"IF(Inventory[[#This Row],[Item SKU/ID]]=\"\",0,SUMPRODUCT((Quantity_Sold_1=Inventory[[#This Row],[Item SKU/ID]])*Net_Profit))","v":0},{"$f":"IFERROR(AVERAGE(Inventory[[#This Row],[Total Net Profit]]/Inventory[[#This Row],[Quantity Sold]]),0)","v":0}]
[null,null,null,null,null,null,null,null,0,0,0,null,null,null,0,{"$f":"IF(Inventory[[#This Row],[Item SKU/ID]]=\"\",0,SUMPRODUCT((Quantity_Sold_1=Inventory[[#This Row],[Item SKU/ID]])*Net_Profit))","v":0},{"$f":"IFERROR(AVERAGE(Inventory[[#This Row],[Total Net Profit]]/Inventory[[#This Row],[Quantity Sold]]),0)","v":0}]
[null,null,null,null,null,null,null,null,0,0,0,null,null,null,0,{"$f":"IF(Inventory[[#This Row],[Item SKU/ID]]=\"\",0,SUMPRODUCT((Quantity_Sold_1=Inventory[[#This Row],[Item SKU/ID]])*Net_Profit))","v":0},{"$f":"IFERROR(AVERAGE(Inventory[[#This Row],[Total Net Profit]]/Inventory[[#This Row],[Quantity Sold]]),0)","v":0}]
[null,null,null,null,null,null,null,null,0,0,0,null,null,null,0,{"$f":"IF(Inventory[[#This Row],[Item SKU/ID]]=\"\",0,SUMPRODUCT((Quantity_Sold_1=Inventory[[#This Row],[Item SKU/ID]])*Net_Profit))","v":0},{"$f":"IFERROR(AVERAGE(Inventory[[#This Row],[Total Net Profit]]/Inventory[[#This Row],[Quantity Sold]]),0)","v":0}]
[null,null,null,null,null,null,null,null,0,0,0,null,null,null,0,{"$f":"IF(Inventory[[#This Row],[Item SKU/ID]]=\"\",0,SUMPRODUCT((Quantity_Sold_1=Inventory[[#This Row],[Item SKU/ID]])*Net_Profit))","v":0},{"$f":"IFERROR(AVERAGE(Inventory[[#This Row],[Total Net Profit]]/Inventory[[#This Row],[Quantity Sold]]),0)","v":0}]
[null,null,null,null,null,null,null,null,0,0,0,null,null,null,0,{"$f":"IF(Inventory[[#This Row],[Item SKU/ID]]=\"\",0,SUMPRODUCT((Quantity_Sold_1=Inventory[[#This Row],[Item SKU/ID]])*Net_Profit))","v":0},{"$f":"IFERROR(AVERAGE(Inventory[[#This Row],[Total Net Profit]]/Inventory[[#This Row],[Quantity Sold]]),0)","v":0}]
[null,null,null,null,null,null,null,null,0,0,0,null,null,null,0,{"$f":"IF(Inventory[[#This Row],[Item SKU/ID]]=\"\",0,SUMPRODUCT((Quantity_Sold_1=Inventory[[#This Row],[Item SKU/ID]])*Net_Profit))","v":0},{"$f":"IFERROR(AVERAGE(Inventory[[#This Row],[Total Net Profit]]/Inventory[[#This Row],[Quantity Sold]]),0)","v":0}]
[null,null,null,null,null,null,null,null,0,0,0,null,null,null,0,{"$f":"IF(Inventory[[#This Row],[Item SKU/ID]]=\"\",0,SUMPRODUCT((Quantity_Sold_1=Inventory[[#This Row],[Item SKU/ID]])*Net_Profit))","v":0},{"$f":"IFERROR(AVERAGE(Inventory[[#This Row],[Total Net Profit]]/Inventory[[#This Row],[Quantity Sold]]),0)","v":0}]
[null,null,null,null,null,null,null,null,0,0,0,null,null,null,0,{"$f":"IF(Inventory[[#This Row],[Item SKU/ID]]=\"\",0,SUMPRODUCT((Quantity_Sold_1=Inventory[[#This Row],[Item SKU/ID]])*Net_Profit))","v":0},{"$f":"IFERROR(AVERAGE(Inventory[[#This Row],[Total Net Profit]]/Inventory[[#This Row],[Quantity Sold]]),0)","v":0}]
[null,null,null,null,null,null,null,null,0,0,0,null,null,null,0,{"$f":"IF(Inventory[[#This Row],[Item SKU/ID]]=\"\",0,SUMPRODUCT((Quantity_Sold_1=Inventory[[#This Row],[Item SKU/ID]])*Net_Profit))","v":0},{"$f":"IFERROR(AVERAGE(Inventory[[#This Row],[Total Net Profit]]/Inventory[[#This Row],[Quantity Sold]]),0)","v":0}]
[null,null,null,null,null,null,null,null,0,0,0,null,null,null,0,{"$f":"IF(Inventory[[#This Row],[Item SKU/ID]]=\"\",0,SUMPRODUCT((Quantity_Sold_1=Inventory[[#This Row],[Item SKU/ID]])*Net_Profit))","v":0},{"$f":"IFERROR(AVERAGE(Inventory[[#This Row],[Total Net Profit]]/Inventory[[#This Row],[Quantity Sold]]),0)","v":0}]
[null,null,null,null,null,null,null,null,0,0,0,null,null,null,0,{"$f":"IF(Inventory[[#This Row],[Item SKU/ID]]=\"\",0,SUMPRODUCT((Quantity_Sold_1=Inventory[[#This Row],[Item SKU/ID]])*Net_Profit))","v":0},{"$f":"IFERROR(AVERAGE(Inventory[[#This Row],[Total Net Profit]]/Inventory[[#This Row],[Quantity Sold]]),0)","v":0}]
[null,null,null,null,null,null,null,null,0,0,0,null,null,null,0,{"$f":"IF(Inventory[[#This Row],[Item SKU/ID]]=\"\",0,SUMPRODUCT((Quantity_Sold_1=Inventory[[#This Row],[Item SKU/ID]])*Net_Profit))","v":0},{"$f":"IFERROR(AVERAGE(Inventory[[#This Row],[Total Net Profit]]/Inventory[[#This Row],[Quantity Sold]]),0)","v":0}]
[null,null,null,null,null,null,null,null,0,0,0,null,null,null,0,{"$f":"IF(Inventory[[#This Row],[Item SKU/ID]]=\"\",0,SUMPRODUCT((Quantity_Sold_1=Inventory[[#This Row],[Item SKU/ID]])*Net_Profit))","v":0},{"$f":"IFERROR(AVERAGE(Inventory[[#This Row],[Total Net Profit]]/Inventory[[#This Row],[Quantity Sold]]),0)","v":0}]
[null,null,null,null,null,null,null,null,0,0,0,null,null,null,0,{"$f":"IF(Inventory[[#This Row],[Item SKU/ID]]=\"\",0,SUMPRODUCT((Quantity_Sold_1=Inventory[[#This Row],[Item SKU/ID]])*Net_Profit))","v":0},{"$f":"IFERROR(AVERAGE(Inventory[[#This Row],[Total Net Profit]]/Inventory[[#This Row],[Quantity Sold]]),0)","v":0}]
[null,null,null,null,null,null,null,null,0,0,0,null,null,null,0,{"$f":"IF(Inventory[[#This Row],[Item SKU/ID]]=\"\",0,SUMPRODUCT((Quantity_Sold_1=Inventory[[#This Row],[Item SKU/ID]])*Net_Profit))","v":0},{"$f":"IFERROR(AVERAGE(Inventory[[#This Row],[Total Net Profit]]/Inventory[[#This Row],[Quantity Sold]]),0)","v":0}]
[null,null,null,null,null,null,null,null,0,0,0,null,null,null,0,{"$f":"IF(Inventory[[#This Row],[Item SKU/ID]]=\"\",0,SUMPRODUCT((Quantity_Sold_1=Inventory[[#This Row],[Item SKU/ID]])*Net_Profit))","v":0},{"$f":"IFERROR(AVERAGE(Inventory[[#This Row],[Total Net Profit]]/Inventory[[#This Row],[Quantity Sold]]),0)","v":0}]
[null,null,null,null,null,null,null,null,0,0,0,null,null,null,0,{"$f":"IF(Inventory[[#This Row],[Item SKU/ID]]=\"\",0,SUMPRODUCT((Quantity_Sold_1=Inventory[[#This Row],[Item SKU/ID]])*Net_Profit))","v":0},{"$f":"IFERROR(AVERAGE(Inventory[[#This Row],[Total Net Profit]]/Inventory[[#This Row],[Quantity Sold]]),0)","v":0}]
[null,null,null,null,null,null,null,null,0,0,0,null,null,null,0,{"$f":"IF(Inventory[[#This Row],[Item SKU/ID]]=\"\",0,SUMPRODUCT((Quantity_Sold_1=Inventory[[#This Row],[Item SKU/ID]])*Net_Profit))","v":0},{"$f":"IFERROR(AVERAGE(Inventory[[#This Row],[Total Net Profit]]/Inventory[[#This Row],[Quantity Sold]]),0)","v":0}]
[null,null,null,null,null,null,null,null,0,0,0,null,null,null,0,{"$f":"IF(Inventory[[#This Row],[Item SKU/ID]]=\"\",0,SUMPRODUCT((Quantity_Sold_1=Inventory[[#This Row],[Item SKU/ID]])*Net_Profit))","v":0},{"$f":"IFERROR(AVERAGE(Inventory[[#This Row],[Total Net Profit]]/Inventory[[#This Row],[Quantity Sold]]),0)","v":0}]
[null,null,null,null,null,null,null,null,0,0,0,null,null,null,0,{"$f":"IF(Inventory[[#This Row],[Item SKU/ID]]=\"\",0,SUMPRODUCT((Quantity_Sold_1=Inventory[[#This Row],[Item SKU/ID]])*Net_Profit))","v":0},{"$f":"IFERROR(AVERAGE(Inventory[[#This Row],[Total Net Profit]]/Inventory[[#This Row],[Quantity Sold]]),0)","v":0}]
[null,null,null,null,null,null,null,null,0,0,0,null,null,null,0,{"$f":"IF(Inventory[[#This Row],[Item SKU/ID]]=\"\",0,SUMPRODUCT((Quantity_Sold_1=Inventory[[#This Row],[Item SKU/ID]])*Net_Profit))","v":0},{"$f":"IFERROR(AVERAGE(Inventory[[#This Row],[Total Net Profit]]/Inventory[[#This Row],[Quantity Sold]]),0)","v":0}]
[null,null,null,null,null,null,null,null,0,0,0,null,null,null,0,{"$f":"IF(Inventory[[#This Row],[Item SKU/ID]]=\"\",0,SUMPRODUCT((Quantity_Sold_1=Inventory[[#This Row],[Item SKU/ID]])*Net_Profit))","v":0},{"$f":"IFERROR(AVERAGE(Inventory[[#This Row],[Total Net Profit]]/Inventory[[#This Row],[Quantity Sold]]),0)","v":0}]
[null,null,null,null,null,null,null,null,0,0,0,null,null,null,0,{"$f":"IF(Inventory[[#This Row],[Item SKU/ID]]=\"\",0,SUMPRODUCT((Quantity_Sold_1=Inventory[[#This Row],[Item SKU/ID]])*Net_Profit))","v":0},{"$f":"IFERROR(AVERAGE(Inventory[[#This Row],[Total Net Profit]]/Inventory[[#This Row],[Quantity Sold]]),0)","v":0}]
[null,null,null,null,null,null,null,null,0,0,0,null,null,null,0,{"$f":"IF(Inventory[[#This Row],[Item SKU/ID]]=\"\",0,SUMPRODUCT((Quantity_Sold_1=Inventory[[#This Row],[Item SKU/ID]])*Net_Profit))","v":0},{"$f":"IFERROR(AVERAGE(Inventory[[#This Row],[Total Net Profit]]/Inventory[[#This Row],[Quantity Sold]]),0)","v":0}]
[null,null,null,null,null,null,null,null,0,0,0,null,null,null,0,{"$f":"IF(Inventory[[#This Row],[Item SKU/ID]]=\"\",0,SUMPRODUCT((Quantity_Sold_1=Inventory[[#This Row],[Item SKU/ID]])*Net_Profit))","v":0},{"$f":"IFERROR(AVERAGE(Inventory[[#This Row],[Total Net Profit]]/Inventory[[#This Row],[Quantity Sold]]),0)","v":0}]
[null,null,null,null,null,null,null,null,0,0,0,null,null,null,0,{"$f":"IF(Inventory[[#This Row],[Item SKU/ID]]=\"\",0,SUMPRODUCT((Quantity_Sold_1=Inventory[[#This Row],[Item SKU/ID]])*Net_Profit))","v":0},{"$f":"IFERROR(AVERAGE(Inventory[[#This Row],[Total Net Profit]]/Inventory[[#This Row],[Quantity Sold]]),0)","v":0}]
[null,null,null,null,null,null,null,null,0,0,0,null,null,null,0,{"$f":"IF(Inventory[[#This Row],[Item SKU/ID]]=\"\",0,SUMPRODUCT((Quantity_Sold_1=Inventory[[#This Row],[Item SKU/ID]])*Net_Profit))","v":0},{"$f":"IFERROR(AVERAGE(Inventory[[#This Row],[Total Net Profit]]/Inventory[[#This Row],[Quantity Sold]]),0)","v":0}]
[null,null,null,null,null,null,null,null,0,0,0,null,null,null,0,{"$f":"IF(Inventory[[#This Row],[Item SKU/ID]]=\"\",0,SUMPRODUCT((Quantity_Sold_1=Inventory[[#This Row],[Item SKU/ID]])*Net_Profit))","v":0},{"$f":"IFERROR(AVERAGE(Inventory[[#This Row],[Total Net Profit]]/Inventory[[#This Row],[Quantity Sold]]),0)","v":0}]
[null,null,null,null,null,null,null,null,0,0,0,null,null,null,0,{"$f":"IF(Inventory[[#This Row],[Item SKU/ID]]=\"\",0,SUMPRODUCT((Quantity_Sold_1=Inventory[[#This Row],[Item SKU/ID]])*Net_Profit))","v":0},{"$f":"IFERROR(AVERAGE(Inventory[[#This Row],[Total Net Profit]]/Inventory[[#This Row],[Quantity Sold]]),0)","v":0}]
[null,null,null,null,null,null,null,null,0,0,0,null,null,null,0,{"$f":"IF(Inventory[[#This Row],[Item SKU/ID]]=\"\",0,SUMPRODUCT((Quantity_Sold_1=Inventory[[#This Row],[Item SKU/ID]])*Net_Profit))","v":0},{"$f":"IFERROR(AVERAGE(Inventory[[#This Row],[Total Net Profit]]/Inventory[[#This Row],[Quantity Sold]]),0)","v":0}]
[null,null,null,null,null,null,null,null,{"$f":"K1924*H1924","v":0},{"$f":"IF(F1924=\"\",0,SUMPRODUCT((Quantity_Sold_1=F1924)*Quantity_Sold_2))","v":0},{"$f":"G1924-J1924","v":0},null,null,null,{"$f":"K1924*H1924","v":0},{"$f":"IF(Inventory[[#This Row],[Item SKU/ID]]=\"\",0,SUMPRODUCT((Quantity_Sold_1=Inventory[[#This Row],[Item SKU/ID]])*Net_Profit))","v":0},{"$f":"IFERROR(AVERAGE(Inventory[[#This Row],[Total Net Profit]]/Inventory[[#This Row],[Quantity Sold]]),0)","v":0}]
[null,null,null,null,null,null,null,null,0,0,0,null,null,null,0,{"$f":"IF(Inventory[[#This Row],[Item SKU/ID]]=\"\",0,SUMPRODUCT((Quantity_Sold_1=Inventory[[#This Row],[Item SKU/ID]])*Net_Profit))","v":0},{"$f":"IFERROR(AVERAGE(Inventory[[#This Row],[Total Net Profit]]/Inventory[[#This Row],[Quantity Sold]]),0)","v":0}]
[null,null,null,null,null,null,null,null,0,0,0,null,null,null,0,{"$f":"IF(Inventory[[#This Row],[Item SKU/ID]]=\"\",0,SUMPRODUCT((Quantity_Sold_1=Inventory[[#This Row],[Item SKU/ID]])*Net_Profit))","v":0},{"$f":"IFERROR(AVERAGE(Inventory[[#This Row],[Total Net Profit]]/Inventory[[#This Row],[Quantity Sold]]),0)","v":0}]
[null,null,null,null,null,null,null,null,0,0,0,null,null,null,0,{"$f":"IF(Inventory[[#This Row],[Item SKU/ID]]=\"\",0,SUMPRODUCT((Quantity_Sold_1=Inventory[[#This Row],[Item SKU/ID]])*Net_Profit))","v":0},{"$f":"IFERROR(AVERAGE(Inventory[[#This Row],[Total Net Profit]]/Inventory[[#This Row],[Quantity Sold]]),0)","v":0}]
[null,null,null,null,null,null,null,null,0,0,0,null,null,null,0,{"$f":"IF(Inventory[[#This Row],[Item SKU/ID]]=\"\",0,SUMPRODUCT((Quantity_Sold_1=Inventory[[#This Row],[Item SKU/ID]])*Net_Profit))","v":0},{"$f":"IFERROR(AVERAGE(Inventory[[#This Row],[Total Net Profit]]/Inventory[[#This Row],[Quantity Sold]]),0)","v":0}]
[null,null,null,null,null,null,null,null,0,0,0,null,null,null,0,{"$f":"IF(Inventory[[#This Row],[Item SKU/ID]]=\"\",0,SUMPRODUCT((Quantity_Sold_1=Inventory[[#This Row],[Item SKU/ID]])*Net_Profit))","v":0},{"$f":"IFERROR(AVERAGE(Inventory[[#This Row],[Total Net Profit]]/Inventory[[#This Row],[Quantity Sold]]),0)","v":0}]
[null,null,null,null,null,null,null,null,0,0,0,null,null,null,0,{"$f":"IF(Inventory[[#This Row],[Item SKU/ID]]=\"\",0,SUMPRODUCT((Quantity_Sold_1=Inventory[[#This Row],[Item SKU/ID]])*Net_Profit))","v":0},{"$f":"IFERROR(AVERAGE(Inventory[[#This Row],[Total Net Profit]]/Inventory[[#This Row],[Quantity Sold]]),0)","v":0}]
[null,null,null,null,null,null,null,null,0,0,0,null,null,null,0,{"$f":"IF(Inventory[[#This Row],[Item SKU/ID]]=\"\",0,SUMPRODUCT((Quantity_Sold_1=Inventory[[#This Row],[Item SKU/ID]])*Net_Profit))","v":0},{"$f":"IFERROR(AVERAGE(Inventory[[#This Row],[Total Net Profit]]/Inventory[[#This Row],[Quantity Sold]]),0)","v":0}]
[null,null,null,null,null,null,null,null,0,0,0,null,null,null,0,{"$f":"IF(Inventory[[#This Row],[Item SKU/ID]]=\"\",0,SUMPRODUCT((Quantity_Sold_1=Inventory[[#This Row],[Item SKU/ID]])*Net_Profit))","v":0},{"$f":"IFERROR(AVERAGE(Inventory[[#This Row],[Total Net Profit]]/Inventory[[#This Row],[Quantity Sold]]),0)","v":0}]
[null,null,null,null,null,null,null,null,0,0,0,null,null,null,0,{"$f":"IF(Inventory[[#This Row],[Item SKU/ID]]=\"\",0,SUMPRODUCT((Quantity_Sold_1=Inventory[[#This Row],[Item SKU/ID]])*Net_Profit))","v":0},{"$f":"IFERROR(AVERAGE(Inventory[[#This Row],[Total Net Profit]]/Inventory[[#This Row],[Quantity Sold]]),0)","v":0}]
[null,null,null,null,null,null,null,null,0,0,0,null,null,null,0,{"$f":"IF(Inventory[[#This Row],[Item SKU/ID]]=\"\",0,SUMPRODUCT((Quantity_Sold_1=Inventory[[#This Row],[Item SKU/ID]])*Net_Profit))","v":0},{"$f":"IFERROR(AVERAGE(Inventory[[#This Row],[Total Net Profit]]/Inventory[[#This Row],[Quantity Sold]]),0)","v":0}]
[null,null,null,null,null,null,null,null,0,0,0,null,null,null,0,{"$f":"IF(Inventory[[#This Row],[Item SKU/ID]]=\"\",0,SUMPRODUCT((Quantity_Sold_1=Inventory[[#This Row],[Item SKU/ID]])*Net_Profit))","v":0},{"$f":"IFERROR(AVERAGE(Inventory[[#This Row],[Total Net Profit]]/Inventory[[#This Row],[Quantity Sold]]),0)","v":0}]
[null,null,null,null,null,null,null,null,0,0,0,null,null,null,0,{"$f":"IF(Inventory[[#This Row],[Item SKU/ID]]=\"\",0,SUMPRODUCT((Quantity_Sold_1=Inventory[[#This Row],[Item SKU/ID]])*Net_Profit))","v":0},{"$f":"IFERROR(AVERAGE(Inventory[[#This Row],[Total Net Profit]]/Inventory[[#This Row],[Quantity Sold]]),0)","v":0}]
[null,null,null,null,null,null,null,null,0,0,0,null,null,null,0,{"$f":"IF(Inventory[[#This Row],[Item SKU/ID]]=\"\",0,SUMPRODUCT((Quantity_Sold_1=Inventory[[#This Row],[Item SKU/ID]])*Net_Profit))","v":0},{"$f":"IFERROR(AVERAGE(Inventory[[#This Row],[Total Net Profit]]/Inventory[[#This Row],[Quantity Sold]]),0)","v":0}]
[null,null,null,null,null,null,null,null,0,0,0,null,null,null,0,{"$f":"IF(Inventory[[#This Row],[Item SKU/ID]]=\"\",0,SUMPRODUCT((Quantity_Sold_1=Inventory[[#This Row],[Item SKU/ID]])*Net_Profit))","v":0},{"$f":"IFERROR(AVERAGE(Inventory[[#This Row],[Total Net Profit]]/Inventory[[#This Row],[Quantity Sold]]),0)","v":0}]
[null,null,null,null,null,null,null,null,0,0,0,null,null,null,0,{"$f":"IF(Inventory[[#This Row],[Item SKU/ID]]=\"\",0,SUMPRODUCT((Quantity_Sold_1=Inventory[[#This Row],[Item SKU/ID]])*Net_Profit))","v":0},{"$f":"IFERROR(AVERAGE(Inventory[[#This Row],[Total Net Profit]]/Inventory[[#This Row],[Quantity Sold]]),0)","v":0}]
[null,null,null,null,null,null,null,null,0,0,0,null,null,null,0,{"$f":"IF(Inventory[[#This Row],[Item SKU/ID]]=\"\",0,SUMPRODUCT((Quantity_Sold_1=Inventory[[#This Row],[Item SKU/ID]])*Net_Profit))","v":0},{"$f":"IFERROR(AVERAGE(Inventory[[#This Row],[Total Net Profit]]/Inventory[[#This Row],[Quantity Sold]]),0)","v":0}]
[null,null,null,null,null,null,null,null,0,0,0,null,null,null,0,{"$f":"IF(Inventory[[#This Row],[Item SKU/ID]]=\"\",0,SUMPRODUCT((Quantity_Sold_1=Inventory[[#This Row],[Item SKU/ID]])*Net_Profit))","v":0},{"$f":"IFERROR(AVERAGE(Inventory[[#This Row],[Total Net Profit]]/Inventory[[#This Row],[Quantity Sold]]),0)","v":0}]
[null,null,null,null,null,null,null,null,0,0,0,null,null,null,0,{"$f":"IF(Inventory[[#This Row],[Item SKU/ID]]=\"\",0,SUMPRODUCT((Quantity_Sold_1=Inventory[[#This Row],[Item SKU/ID]])*Net_Profit))","v":0},{"$f":"IFERROR(AVERAGE(Inventory[[#This Row],[Total Net Profit]]/Inventory[[#This Row],[Quantity Sold]]),0)","v":0}]
[null,null,null,null,null,null,null,null,0,0,0,null,null,null,0,{"$f":"IF(Inventory[[#This Row],[Item SKU/ID]]=\"\",0,SUMPRODUCT((Quantity_Sold_1=Inventory[[#This Row],[Item SKU/ID]])*Net_Profit))","v":0},{"$f":"IFERROR(AVERAGE(Inventory[[#This Row],[Total Net Profit]]/Inventory[[#This Row],[Quantity Sold]]),0)","v":0}]
[null,null,null,null,null,null,null,null,0,0,0,null,null,null,0,{"$f":"IF(Inventory[[#This Row],[Item SKU/ID]]=\"\",0,SUMPRODUCT((Quantity_Sold_1=Inventory[[#This Row],[Item SKU/ID]])*Net_Profit))","v":0},{"$f":"IFERROR(AVERAGE(Inventory[[#This Row],[Total Net Profit]]/Inventory[[#This Row],[Quantity Sold]]),0)","v":0}]
[null,null,null,null,null,null,null,null,0,0,0,null,null,null,0,{"$f":"IF(Inventory[[#This Row],[Item SKU/ID]]=\"\",0,SUMPRODUCT((Quantity_Sold_1=Inventory[[#This Row],[Item SKU/ID]])*Net_Profit))","v":0},{"$f":"IFERROR(AVERAGE(Inventory[[#This Row],[Total Net Profit]]/Inventory[[#This Row],[Quantity Sold]]),0)","v":0}]
[null,null,null,null,null,null,null,null,0,0,0,null,null,null,0,{"$f":"IF(Inventory[[#This Row],[Item SKU/ID]]=\"\",0,SUMPRODUCT((Quantity_Sold_1=Inventory[[#This Row],[Item SKU/ID]])*Net_Profit))","v":0},{"$f":"IFERROR(AVERAGE(Inventory[[#This Row],[Total Net Profit]]/Inventory[[#This Row],[Quantity Sold]]),0)","v":0}]
[null,null,null,null,null,null,null,null,0,0,0,null,null,null,0,{"$f":"IF(Inventory[[#This Row],[Item SKU/ID]]=\"\",0,SUMPRODUCT((Quantity_Sold_1=Inventory[[#This Row],[Item SKU/ID]])*Net_Profit))","v":0},{"$f":"IFERROR(AVERAGE(Inventory[[#This Row],[Total Net Profit]]/Inventory[[#This Row],[Quantity Sold]]),0)","v":0}]
[null,null,null,null,null,null,null,null,0,0,0,null,null,null,0,{"$f":"IF(Inventory[[#This Row],[Item SKU/ID]]=\"\",0,SUMPRODUCT((Quantity_Sold_1=Inventory[[#This Row],[Item SKU/ID]])*Net_Profit))","v":0},{"$f":"IFERROR(AVERAGE(Inventory[[#This Row],[Total Net Profit]]/Inventory[[#This Row],[Quantity Sold]]),0)","v":0}]
[null,null,null,null,null,null,null,null,0,0,0,null,null,null,0,{"$f":"IF(Inventory[[#This Row],[Item SKU/ID]]=\"\",0,SUMPRODUCT((Quantity_Sold_1=Inventory[[#This Row],[Item SKU/ID]])*Net_Profit))","v":0},{"$f":"IFERROR(AVERAGE(Inventory[[#This Row],[Total Net Profit]]/Inventory[[#This Row],[Quantity Sold]]),0)","v":0}]
[null,null,null,null,null,null,null,null,0,0,0,null,null,null,0,{"$f":"IF(Inventory[[#This Row],[Item SKU/ID]]=\"\",0,SUMPRODUCT((Quantity_Sold_1=Inventory[[#This Row],[Item SKU/ID]])*Net_Profit))","v":0},{"$f":"IFERROR(AVERAGE(Inventory[[#This Row],[Total Net Profit]]/Inventory[[#This Row],[Quantity Sold]]),0)","v":0}]
[null,null,null,null,null,null,null,null,0,0,0,null,null,null,0,{"$f":"IF(Inventory[[#This Row],[Item SKU/ID]]=\"\",0,SUMPRODUCT((Quantity_Sold_1=Inventory[[#This Row],[Item SKU/ID]])*Net_Profit))","v":0},{"$f":"IFERROR(AVERAGE(Inventory[[#This Row],[Total Net Profit]]/Inventory[[#This Row],[Quantity Sold]]),0)","v":0}]
[null,null,null,null,null,null,null,null,0,0,0,null,null,null,0,{"$f":"IF(Inventory[[#This Row],[Item SKU/ID]]=\"\",0,SUMPRODUCT((Quantity_Sold_1=Inventory[[#This Row],[Item SKU/ID]])*Net_Profit))","v":0},{"$f":"IFERROR(AVERAGE(Inventory[[#This Row],[Total Net Profit]]/Inventory[[#This Row],[Quantity Sold]]),0)","v":0}]
[null,null,null,null,null,null,null,null,0,0,0,null,null,null,0,{"$f":"IF(Inventory[[#This Row],[Item SKU/ID]]=\"\",0,SUMPRODUCT((Quantity_Sold_1=Inventory[[#This Row],[Item SKU/ID]])*Net_Profit))","v":0},{"$f":"IFERROR(AVERAGE(Inventory[[#This Row],[Total Net Profit]]/Inventory[[#This Row],[Quantity Sold]]),0)","v":0}]
[null,null,null,null,null,null,null,null,0,0,0,null,null,null,0,{"$f":"IF(Inventory[[#This Row],[Item SKU/ID]]=\"\",0,SUMPRODUCT((Quantity_Sold_1=Inventory[[#This Row],[Item SKU/ID]])*Net_Profit))","v":0},{"$f":"IFERROR(AVERAGE(Inventory[[#This Row],[Total Net Profit]]/Inventory[[#This Row],[Quantity Sold]]),0)","v":0}]
[null,null,null,null,null,null,null,null,0,0,0,null,null,null,0,{"$f":"IF(Inventory[[#This Row],[Item SKU/ID]]=\"\",0,SUMPRODUCT((Quantity_Sold_1=Inventory[[#This Row],[Item SKU/ID]])*Net_Profit))","v":0},{"$f":"IFERROR(AVERAGE(Inventory[[#This Row],[Total Net Profit]]/Inventory[[#This Row],[Quantity Sold]]),0)","v":0}]
[null,null,null,null,null,null,null,null,0,0,0,null,null,null,0,{"$f":"IF(Inventory[[#This Row],[Item SKU/ID]]=\"\",0,SUMPRODUCT((Quantity_Sold_1=Inventory[[#This Row],[Item SKU/ID]])*Net_Profit))","v":0},{"$f":"IFERROR(AVERAGE(Inventory[[#This Row],[Total Net Profit]]/Inventory[[#This Row],[Quantity Sold]]),0)","v":0}]
[null,null,null,null,null,null,null,null,0,0,0,null,null,null,0,{"$f":"IF(Inventory[[#This Row],[Item SKU/ID]]=\"\",0,SUMPRODUCT((Quantity_Sold_1=Inventory[[#This Row],[Item SKU/ID]])*Net_Profit))","v":0},{"$f":"IFERROR(AVERAGE(Inventory[[#This Row],[Total Net Profit]]/Inventory[[#This Row],[Quantity Sold]]),0)","v":0}]
[null,null,null,null,null,null,null,null,0,0,0,null,null,null,0,{"$f":"IF(Inventory[[#This Row],[Item SKU/ID]]=\"\",0,SUMPRODUCT((Quantity_Sold_1=Inventory[[#This Row],[Item SKU/ID]])*Net_Profit))","v":0},{"$f":"IFERROR(AVERAGE(Inventory[[#This Row],[Total Net Profit]]/Inventory[[#This Row],[Quantity Sold]]),0)","v":0}]
[null,null,null,null,null,null,null,null,0,0,0,null,null,null,0,{"$f":"IF(Inventory[[#This Row],[Item SKU/ID]]=\"\",0,SUMPRODUCT((Quantity_Sold_1=Inventory[[#This Row],[Item SKU/ID]])*Net_Profit))","v":0},{"$f":"IFERROR(AVERAGE(Inventory[[#This Row],[Total Net Profit]]/Inventory[[#This Row],[Quantity Sold]]),0)","v":0}]
[null,null,null,null,null,null,null,null,0,0,0,null,null,null,0,{"$f":"IF(Inventory[[#This Row],[Item SKU/ID]]=\"\",0,SUMPRODUCT((Quantity_Sold_1=Inventory[[#This Row],[Item SKU/ID]])*Net_Profit))","v":0},{"$f":"IFERROR(AVERAGE(Inventory[[#This Row],[Total Net Profit]]/Inventory[[#This Row],[Quantity Sold]]),0)","v":0}]
[null,null,null,null,null,null,null,null,0,0,0,null,null,null,0,{"$f":"IF(Inventory[[#This Row],[Item SKU/ID]]=\"\",0,SUMPRODUCT((Quantity_Sold_1=Inventory[[#This Row],[Item SKU/ID]])*Net_Profit))","v":0},{"$f":"IFERROR(AVERAGE(Inventory[[#This Row],[Total Net Profit]]/Inventory[[#This Row],[Quantity Sold]]),0)","v":0}]
[null,null,null,null,null,null,null,null,0,0,0,null,null,null,0,{"$f":"IF(Inventory[[#This Row],[Item SKU/ID]]=\"\",0,SUMPRODUCT((Quantity_Sold_1=Inventory[[#This Row],[Item SKU/ID]])*Net_Profit))","v":0},{"$f":"IFERROR(AVERAGE(Inventory[[#This Row],[Total Net Profit]]/Inventory[[#This Row],[Quantity Sold]]),0)","v":0}]
[null,null,null,null,null,null,null,null,0,0,0,null,null,null,0,{"$f":"IF(Inventory[[#This Row],[Item SKU/ID]]=\"\",0,SUMPRODUCT((Quantity_Sold_1=Inventory[[#This Row],[Item SKU/ID]])*Net_Profit))","v":0},{"$f":"IFERROR(AVERAGE(Inventory[[#This Row],[Total Net Profit]]/Inventory[[#This Row],[Quantity Sold]]),0)","v":0}]
[null,null,null,null,null,null,null,null,0,0,0,null,null,null,0,{"$f":"IF(Inventory[[#This Row],[Item SKU/ID]]=\"\",0,SUMPRODUCT((Quantity_Sold_1=Inventory[[#This Row],[Item SKU/ID]])*Net_Profit))","v":0},{"$f":"IFERROR(AVERAGE(Inventory[[#This Row],[Total Net Profit]]/Inventory[[#This Row],[Quantity Sold]]),0)","v":0}]
[null,null,null,null,null,null,null,null,0,0,0,null,null,null,0,{"$f":"IF(Inventory[[#This Row],[Item SKU/ID]]=\"\",0,SUMPRODUCT((Quantity_Sold_1=Inventory[[#This Row],[Item SKU/ID]])*Net_Profit))","v":0},{"$f":"IFERROR(AVERAGE(Inventory[[#This Row],[Total Net Profit]]/Inventory[[#This Row],[Quantity Sold]]),0)","v":0}]
[null,null,null,null,null,null,null,null,0,0,0,null,null,null,0,{"$f":"IF(Inventory[[#This Row],[Item SKU/ID]]=\"\",0,SUMPRODUCT((Quantity_Sold_1=Inventory[[#This Row],[Item SKU/ID]])*Net_Profit))","v":0},{"$f":"IFERROR(AVERAGE(Inventory[[#This Row],[Total Net Profit]]/Inventory[[#This Row],[Quantity Sold]]),0)","v":0}]
[null,null,null,null,null,null,null,null,0,0,0,null,null,null,0,{"$f":"IF(Inventory[[#This Row],[Item SKU/ID]]=\"\",0,SUMPRODUCT((Quantity_Sold_1=Inventory[[#This Row],[Item SKU/ID]])*Net_Profit))","v":0},{"$f":"IFERROR(AVERAGE(Inventory[[#This Row],[Total Net Profit]]/Inventory[[#This Row],[Quantity Sold]]),0)","v":0}]
[null,null,null,null,null,null,null,null,0,0,0,null,null,null,0,{"$f":"IF(Inventory[[#This Row],[Item SKU/ID]]=\"\",0,SUMPRODUCT((Quantity_Sold_1=Inventory[[#This Row],[Item SKU/ID]])*Net_Profit))","v":0},{"$f":"IFERROR(AVERAGE(Inventory[[#This Row],[Total Net Profit]]/Inventory[[#This Row],[Quantity Sold]]),0)","v":0}]
[null,null,null,null,null,null,null,null,0,0,0,null,null,null,0,{"$f":"IF(Inventory[[#This Row],[Item SKU/ID]]=\"\",0,SUMPRODUCT((Quantity_Sold_1=Inventory[[#This Row],[Item SKU/ID]])*Net_Profit))","v":0},{"$f":"IFERROR(AVERAGE(Inventory[[#This Row],[Total Net Profit]]/Inventory[[#This Row],[Quantity Sold]]),0)","v":0}]
[null,null,null,null,null,null,null,null,0,0,0,null,null,null,0,{"$f":"IF(Inventory[[#This Row],[Item SKU/ID]]=\"\",0,SUMPRODUCT((Quantity_Sold_1=Inventory[[#This Row],[Item SKU/ID]])*Net_Profit))","v":0},{"$f":"IFERROR(AVERAGE(Inventory[[#This Row],[Total Net Profit]]/Inventory[[#This Row],[Quantity Sold]]),0)","v":0}]
[null,null,null,null,null,null,null,null,0,0,0,null,null,null,0,{"$f":"IF(Inventory[[#This Row],[Item SKU/ID]]=\"\",0,SUMPRODUCT((Quantity_Sold_1=Inventory[[#This Row],[Item SKU/ID]])*Net_Profit))","v":0},{"$f":"IFERROR(AVERAGE(Inventory[[#This Row],[Total Net Profit]]/Inventory[[#This Row],[Quantity Sold]]),0)","v":0}]
[null,null,null,null,null,null,null,null,0,0,0,null,null,null,0,{"$f":"IF(Inventory[[#This Row],[Item SKU/ID]]=\"\",0,SUMPRODUCT((Quantity_Sold_1=Inventory[[#This Row],[Item SKU/ID]])*Net_Profit))","v":0},{"$f":"IFERROR(AVERAGE(Inventory[[#This Row],[Total Net Profit]]/Inventory[[#This Row],[Quantity Sold]]),0)","v":0}]
[null,null,null,null,null,null,null,null,0,0,0,null,null,null,0,{"$f":"IF(Inventory[[#This Row],[Item SKU/ID]]=\"\",0,SUMPRODUCT((Quantity_Sold_1=Inventory[[#This Row],[Item SKU/ID]])*Net_Profit))","v":0},{"$f":"IFERROR(AVERAGE(Inventory[[#This Row],[Total Net Profit]]/Inventory[[#This Row],[Quantity Sold]]),0)","v":0}]
[null,null,null,null,null,null,null,null,0,0,0,null,null,null,0,{"$f":"IF(Inventory[[#This Row],[Item SKU/ID]]=\"\",0,SUMPRODUCT((Quantity_Sold_1=Inventory[[#This Row],[Item SKU/ID]])*Net_Profit))","v":0},{"$f":"IFERROR(AVERAGE(Inventory[[#This Row],[Total Net Profit]]/Inventory[[#This Row],[Quantity Sold]]),0)","v":0}]
[null,null,null,null,null,null,null,null,0,0,0,null,null,null,0,{"$f":"IF(Inventory[[#This Row],[Item SKU/ID]]=\"\",0,SUMPRODUCT((Quantity_Sold_1=Inventory[[#This Row],[Item SKU/ID]])*Net_Profit))","v":0},{"$f":"IFERROR(AVERAGE(Inventory[[#This Row],[Total Net Profit]]/Inventory[[#This Row],[Quantity Sold]]),0)","v":0}]
[null,null,null,null,null,null,null,null,0,0,0,null,null,null,0,{"$f":"IF(Inventory[[#This Row],[Item SKU/ID]]=\"\",0,SUMPRODUCT((Quantity_Sold_1=Inventory[[#This Row],[Item SKU/ID]])*Net_Profit))","v":0},{"$f":"IFERROR(AVERAGE(Inventory[[#This Row],[Total Net Profit]]/Inventory[[#This Row],[Quantity Sold]]),0)","v":0}]
[null,null,null,null,null,null,null,null,0,0,0,null,null,null,0,{"$f":"IF(Inventory[[#This Row],[Item SKU/ID]]=\"\",0,SUMPRODUCT((Quantity_Sold_1=Inventory[[#This Row],[Item SKU/ID]])*Net_Profit))","v":0},{"$f":"IFERROR(AVERAGE(Inventory[[#This Row],[Total Net Profit]]/Inventory[[#This Row],[Quantity Sold]]),0)","v":0}]
[null,null,null,null,null,null,null,null,0,0,0,null,null,null,0,{"$f":"IF(Inventory[[#This Row],[Item SKU/ID]]=\"\",0,SUMPRODUCT((Quantity_Sold_1=Inventory[[#This Row],[Item SKU/ID]])*Net_Profit))","v":0},{"$f":"IFERROR(AVERAGE(Inventory[[#This Row],[Total Net Profit]]/Inventory[[#This Row],[Quantity Sold]]),0)","v":0}]
[null,null,null,null,null,null,null,null,0,0,0,null,null,null,0,{"$f":"IF(Inventory[[#This Row],[Item SKU/ID]]=\"\",0,SUMPRODUCT((Quantity_Sold_1=Inventory[[#This Row],[Item SKU/ID]])*Net_Profit))","v":0},{"$f":"IFERROR(AVERAGE(Inventory[[#This Row],[Total Net Profit]]/Inventory[[#This Row],[Quantity Sold]]),0)","v":0}]
[null,null,null,null,null,null,null,null,0,0,0,null,null,null,0,{"$f":"IF(Inventory[[#This Row],[Item SKU/ID]]=\"\",0,SUMPRODUCT((Quantity_Sold_1=Inventory[[#This Row],[Item SKU/ID]])*Net_Profit))","v":0},{"$f":"IFERROR(AVERAGE(Inventory[[#This Row],[Total Net Profit]]/Inventory[[#This Row],[Quantity Sold]]),0)","v":0}]
[null,null,null,null,null,null,null,null,0,0,0,null,null,null,0,{"$f":"IF(Inventory[[#This Row],[Item SKU/ID]]=\"\",0,SUMPRODUCT((Quantity_Sold_1=Inventory[[#This Row],[Item SKU/ID]])*Net_Profit))","v":0},{"$f":"IFERROR(AVERAGE(Inventory[[#This Row],[Total Net Profit]]/Inventory[[#This Row],[Quantity Sold]]),0)","v":0}]
[null,null,null,null,null,null,null,null,0,0,0,null,null,null,0,{"$f":"IF(Inventory[[#This Row],[Item SKU/ID]]=\"\",0,SUMPRODUCT((Quantity_Sold_1=Inventory[[#This Row],[Item SKU/ID]])*Net_Profit))","v":0},{"$f":"IFERROR(AVERAGE(Inventory[[#This Row],[Total Net Profit]]/Inventory[[#This Row],[Quantity Sold]]),0)","v":0}]
[null,null,null,null,null,null,null,null,0,0,0,null,null,null,0,{"$f":"IF(Inventory[[#This Row],[Item SKU/ID]]=\"\",0,SUMPRODUCT((Quantity_Sold_1=Inventory[[#This Row],[Item SKU/ID]])*Net_Profit))","v":0},{"$f":"IFERROR(AVERAGE(Inventory[[#This Row],[Total Net Profit]]/Inventory[[#This Row],[Quantity Sold]]),0)","v":0}]
[null,null,null,null,null,null,null,null,0,0,0,null,null,null,0,{"$f":"IF(Inventory[[#This Row],[Item SKU/ID]]=\"\",0,SUMPRODUCT((Quantity_Sold_1=Inventory[[#This Row],[Item SKU/ID]])*Net_Profit))","v":0},{"$f":"IFERROR(AVERAGE(Inventory[[#This Row],[Total Net Profit]]/Inventory[[#This Row],[Quantity Sold]]),0)","v":0}]
[null,null,null,null,null,null,null,null,0,0,0,null,null,null,0,{"$f":"IF(Inventory[[#This Row],[Item SKU/ID]]=\"\",0,SUMPRODUCT((Quantity_Sold_1=Inventory[[#This Row],[Item SKU/ID]])*Net_Profit))","v":0},{"$f":"IFERROR(AVERAGE(Inventory[[#This Row],[Total Net Profit]]/Inventory[[#This Row],[Quantity Sold]]),0)","v":0}]
[null,null,null,null,null,null,null,null,0,0,0,null,null,null,0,{"$f":"IF(Inventory[[#This Row],[Item SKU/ID]]=\"\",0,SUMPRODUCT((Quantity_Sold_1=Inventory[[#This Row],[Item SKU/ID]])*Net_Profit))","v":0},{"$f":"IFERROR(AVERAGE(Inventory[[#This Row],[Total Net Profit]]/Inventory[[#This Row],[Quantity Sold]]),0)","v":0}]
[null,null,null,null,null,null,null,null,0,0,0,null,null,null,0,{"$f":"IF(Inventory[[#This Row],[Item SKU/ID]]=\"\",0,SUMPRODUCT((Quantity_Sold_1=Inventory[[#This Row],[Item SKU/ID]])*Net_Profit))","v":0},{"$f":"IFERROR(AVERAGE(Inventory[[#This Row],[Total Net Profit]]/Inventory[[#This Row],[Quantity Sold]]),0)","v":0}]
[null,null,null,null,null,null,null,null,{"$f":"K1988*H1988","v":0},{"$f":"IF(F1988=\"\",0,SUMPRODUCT((Quantity_Sold_1=F1988)*Quantity_Sold_2))","v":0},{"$f":"G1988-J1988","v":0},null,null,null,{"$f":"K1988*H1988","v":0},{"$f":"IF(Inventory[[#This Row],[Item SKU/ID]]=\"\",0,SUMPRODUCT((Quantity_Sold_1=Inventory[[#This Row],[Item SKU/ID]])*Net_Profit))","v":0},{"$f":"IFERROR(AVERAGE(Inventory[[#This Row],[Total Net Profit]]/Inventory[[#This Row],[Quantity Sold]]),0)","v":0}]
[null,null,null,null,null,null,null,null,0,0,0,null,null,null,0,{"$f":"IF(Inventory[[#This Row],[Item SKU/ID]]=\"\",0,SUMPRODUCT((Quantity_Sold_1=Inventory[[#This Row],[Item SKU/ID]])*Net_Profit))","v":0},{"$f":"IFERROR(AVERAGE(Inventory[[#This Row],[Total Net Profit]]/Inventory[[#This Row],[Quantity Sold]]),0)","v":0}]
[null,null,null,null,null,null,null,null,0,0,0,null,null,null,0,{"$f":"IF(Inventory[[#This Row],[Item SKU/ID]]=\"\",0,SUMPRODUCT((Quantity_Sold_1=Inventory[[#This Row],[Item SKU/ID]])*Net_Profit))","v":0},{"$f":"IFERROR(AVERAGE(Inventory[[#This Row],[Total Net Profit]]/Inventory[[#This Row],[Quantity Sold]]),0)","v":0}]
[null,null,null,null,null,null,null,null,0,0,0,null,null,null,0,{"$f":"IF(Inventory[[#This Row],[Item SKU/ID]]=\"\",0,SUMPRODUCT((Quantity_Sold_1=Inventory[[#This Row],[Item SKU/ID]])*Net_Profit))","v":0},{"$f":"IFERROR(AVERAGE(Inventory[[#This Row],[Total Net Profit]]/Inventory[[#This Row],[Quantity Sold]]),0)","v":0}]
[null,null,null,null,null,null,null,null,0,0,0,null,null,null,0,{"$f":"IF(Inventory[[#This Row],[Item SKU/ID]]=\"\",0,SUMPRODUCT((Quantity_Sold_1=Inventory[[#This Row],[Item SKU/ID]])*Net_Profit))","v":0},{"$f":"IFERROR(AVERAGE(Inventory[[#This Row],[Total Net Profit]]/Inventory[[#This Row],[Quantity Sold]]),0)","v":0}]
[null,null,null,null,null,null,null,null,0,0,0,null,null,null,0,{"$f":"IF(Inventory[[#This Row],[Item SKU/ID]]=\"\",0,SUMPRODUCT((Quantity_Sold_1=Inventory[[#This Row],[Item SKU/ID]])*Net_Profit))","v":0},{"$f":"IFERROR(AVERAGE(Inventory[[#This Row],[Total Net Profit]]/Inventory[[#This Row],[Quantity Sold]]),0)","v":0}]
[null,null,null,null,null,null,null,null,0,0,0,null,null,null,0,{"$f":"IF(Inventory[[#This Row],[Item SKU/ID]]=\"\",0,SUMPRODUCT((Quantity_Sold_1=Inventory[[#This Row],[Item SKU/ID]])*Net_Profit))","v":0},{"$f":"IFERROR(AVERAGE(Inventory[[#This Row],[Total Net Profit]]/Inventory[[#This Row],[Quantity Sold]]),0)","v":0}]
[null,null,null,null,null,null,null,null,0,0,0,null,null,null,0,{"$f":"IF(Inventory[[#This Row],[Item SKU/ID]]=\"\",0,SUMPRODUCT((Quantity_Sold_1=Inventory[[#This Row],[Item SKU/ID]])*Net_Profit))","v":0},{"$f":"IFERROR(AVERAGE(Inventory[[#This Row],[Total Net Profit]]/Inventory[[#This Row],[Quantity Sold]]),0)","v":0}]
[null,null,null,null,null,null,null,null,0,0,0,null,null,null,0,{"$f":"IF(Inventory[[#This Row],[Item SKU/ID]]=\"\",0,SUMPRODUCT((Quantity_Sold_1=Inventory[[#This Row],[Item SKU/ID]])*Net_Profit))","v":0},{"$f":"IFERROR(AVERAGE(Inventory[[#This Row],[Total Net Profit]]/Inventory[[#This Row],[Quantity Sold]]),0)","v":0}]
[null,null,null,null,null,null,null,null,0,0,0,null,null,null,0,{"$f":"IF(Inventory[[#This Row],[Item SKU/ID]]=\"\",0,SUMPRODUCT((Quantity_Sold_1=Inventory[[#This Row],[Item SKU/ID]])*Net_Profit))","v":0},{"$f":"IFERROR(AVERAGE(Inventory[[#This Row],[Total Net Profit]]/Inventory[[#This Row],[Quantity Sold]]),0)","v":0}]
[null,null,null,null,null,null,null,null,0,0,0,null,null,null,0,{"$f":"IF(Inventory[[#This Row],[Item SKU/ID]]=\"\",0,SUMPRODUCT((Quantity_Sold_1=Inventory[[#This Row],[Item SKU/ID]])*Net_Profit))","v":0},{"$f":"IFERROR(AVERAGE(Inventory[[#This Row],[Total Net Profit]]/Inventory[[#This Row],[Quantity Sold]]),0)","v":0}]
[null,null,null,null,null,null,null,null,0,0,0,null,null,null,0,{"$f":"IF(Inventory[[#This Row],[Item SKU/ID]]=\"\",0,SUMPRODUCT((Quantity_Sold_1=Inventory[[#This Row],[Item SKU/ID]])*Net_Profit))","v":0},{"$f":"IFERROR(AVERAGE(Inventory[[#This Row],[Total Net Profit]]/Inventory[[#This Row],[Quantity Sold]]),0)","v":0}]
[null,null,null,null,null,null,null,null,0,0,0,null,null,null,0,{"$f":"IF(Inventory[[#This Row],[Item SKU/ID]]=\"\",0,SUMPRODUCT((Quantity_Sold_1=Inventory[[#This Row],[Item SKU/ID]])*Net_Profit))","v":0},{"$f":"IFERROR(AVERAGE(Inventory[[#This Row],[Total Net Profit]]/Inventory[[#This Row],[Quantity Sold]]),0)","v":0}]
[null,null,null,null,null,null,null,null,0,0,0,null,null,null,0,{"$f":"IF(Inventory[[#This Row],[Item SKU/ID]]=\"\",0,SUMPRODUCT((Quantity_Sold_1=Inventory[[#This Row],[Item SKU/ID]])*Net_Profit))","v":0},{"$f":"IFERROR(AVERAGE(Inventory[[#This Row],[Total Net Profit]]/Inventory[[#This Row],[Quantity Sold]]),0)","v":0}]
[null,null,null,null,null,null,null,null,0,0,0,null,null,null,0,{"$f":"IF(Inventory[[#This Row],[Item SKU/ID]]=\"\",0,SUMPRODUCT((Quantity_Sold_1=Inventory[[#This Row],[Item SKU/ID]])*Net_Profit))","v":0},{"$f":"IFERROR(AVERAGE(Inventory[[#This Row],[Total Net Profit]]/Inventory[[#This Row],[Quantity Sold]]),0)","v":0}]
[null,null,null,null,null,null,null,null,0,0,0,null,null,null,0,{"$f":"IF(Inventory[[#This Row],[Item SKU/ID]]=\"\",0,SUMPRODUCT((Quantity_Sold_1=Inventory[[#This Row],[Item SKU/ID]])*Net_Profit))","v":0},{"$f":"IFERROR(AVERAGE(Inventory[[#This Row],[Total Net Profit]]/Inventory[[#This Row],[Quantity Sold]]),0)","v":0}]
[null,null,null,null,null,null,null,null,0,0,0,null,null,null,0,{"$f":"IF(Inventory[[#This Row],[Item SKU/ID]]=\"\",0,SUMPRODUCT((Quantity_Sold_1=Inventory[[#This Row],[Item SKU/ID]])*Net_Profit))","v":0},{"$f":"IFERROR(AVERAGE(Inventory[[#This Row],[Total Net Profit]]/Inventory[[#This Row],[Quantity Sold]]),0)","v":0}]
[null,null,null,null,null,null,null,null,0,0,0,null,null,null,0,{"$f":"IF(Inventory[[#This Row],[Item SKU/ID]]=\"\",0,SUMPRODUCT((Quantity_Sold_1=Inventory[[#This Row],[Item SKU/ID]])*Net_Profit))","v":0},{"$f":"IFERROR(AVERAGE(Inventory[[#This Row],[Total Net Profit]]/Inventory[[#This Row],[Quantity Sold]]),0)","v":0}]
[null,null,null,null,null,null,null,null,0,0,0,null,null,null,0,{"$f":"IF(Inventory[[#This Row],[Item SKU/ID]]=\"\",0,SUMPRODUCT((Quantity_Sold_1=Inventory[[#This Row],[Item SKU/ID]])*Net_Profit))","v":0},{"$f":"IFERROR(AVERAGE(Inventory[[#This Row],[Total Net Profit]]/Inventory[[#This Row],[Quantity Sold]]),0)","v":0}]
[null,null,null,null,null,null,null,null,0,0,0,null,null,null,0,{"$f":"IF(Inventory[[#This Row],[Item SKU/ID]]=\"\",0,SUMPRODUCT((Quantity_Sold_1=Inventory[[#This Row],[Item SKU/ID]])*Net_Profit))","v":0},{"$f":"IFERROR(AVERAGE(Inventory[[#This Row],[Total Net Profit]]/Inventory[[#This Row],[Quantity Sold]]),0)","v":0}]
[null,null,null,null,null,null,null,null,0,0,0,null,null,null,0,{"$f":"IF(Inventory[[#This Row],[Item SKU/ID]]=\"\",0,SUMPRODUCT((Quantity_Sold_1=Inventory[[#This Row],[Item SKU/ID]])*Net_Profit))","v":0},{"$f":"IFERROR(AVERAGE(Inventory[[#This Row],[Total Net Profit]]/Inventory[[#This Row],[Quantity Sold]]),0)","v":0}]
[null,null,null,null,null,null,null,null,0,0,0,null,null,null,0,{"$f":"IF(Inventory[[#This Row],[Item SKU/ID]]=\"\",0,SUMPRODUCT((Quantity_Sold_1=Inventory[[#This Row],[Item SKU/ID]])*Net_Profit))","v":0},{"$f":"IFERROR(AVERAGE(Inventory[[#This Row],[Total Net Profit]]/Inventory[[#This Row],[Quantity Sold]]),0)","v":0}]
[null,null,null,null,null,null,null,null,0,0,0,null,null,null,0,{"$f":"IF(Inventory[[#This Row],[Item SKU/ID]]=\"\",0,SUMPRODUCT((Quantity_Sold_1=Inventory[[#This Row],[Item SKU/ID]])*Net_Profit))","v":0},{"$f":"IFERROR(AVERAGE(Inventory[[#This Row],[Total Net Profit]]/Inventory[[#This Row],[Quantity Sold]]),0)","v":0}]
[null,null,null,null,null,null,null,null,0,0,0,null,null,null,0,{"$f":"IF(Inventory[[#This Row],[Item SKU/ID]]=\"\",0,SUMPRODUCT((Quantity_Sold_1=Inventory[[#This Row],[Item SKU/ID]])*Net_Profit))","v":0},{"$f":"IFERROR(AVERAGE(Inventory[[#This Row],[Total Net Profit]]/Inventory[[#This Row],[Quantity Sold]]),0)","v":0}]
[null,null,null,null,null,null,null,null,0,0,0,null,null,null,0,{"$f":"IF(Inventory[[#This Row],[Item SKU/ID]]=\"\",0,SUMPRODUCT((Quantity_Sold_1=Inventory[[#This Row],[Item SKU/ID]])*Net_Profit))","v":0},{"$f":"IFERROR(AVERAGE(Inventory[[#This Row],[Total Net Profit]]/Inventory[[#This Row],[Quantity Sold]]),0)","v":0}]
[null,null,null,null,null,null,null,null,0,0,0,null,null,null,0,{"$f":"IF(Inventory[[#This Row],[Item SKU/ID]]=\"\",0,SUMPRODUCT((Quantity_Sold_1=Inventory[[#This Row],[Item SKU/ID]])*Net_Profit))","v":0},{"$f":"IFERROR(AVERAGE(Inventory[[#This Row],[Total Net Profit]]/Inventory[[#This Row],[Quantity Sold]]),0)","v":0}]
[null,null,null,null,null,null,null,null,0,0,0,null,null,null,0,{"$f":"IF(Inventory[[#This Row],[Item SKU/ID]]=\"\",0,SUMPRODUCT((Quantity_Sold_1=Inventory[[#This Row],[Item SKU/ID]])*Net_Profit))","v":0},{"$f":"IFERROR(AVERAGE(Inventory[[#This Row],[Total Net Profit]]/Inventory[[#This Row],[Quantity Sold]]),0)","v":0}]
[null,null,null,null,null,null,null,null,0,0,0,null,null,null,0,{"$f":"IF(Inventory[[#This Row],[Item SKU/ID]]=\"\",0,SUMPRODUCT((Quantity_Sold_1=Inventory[[#This Row],[Item SKU/ID]])*Net_Profit))","v":0},{"$f":"IFERROR(AVERAGE(Inventory[[#This Row],[Total Net Profit]]/Inventory[[#This Row],[Quantity Sold]]),0)","v":0}]
[null,null,null,null,null,null,null,null,0,0,0,null,null,null,0,{"$f":"IF(Inventory[[#This Row],[Item SKU/ID]]=\"\",0,SUMPRODUCT((Quantity_Sold_1=Inventory[[#This Row],[Item SKU/ID]])*Net_Profit))","v":0},{"$f":"IFERROR(AVERAGE(Inventory[[#This Row],[Total Net Profit]]/Inventory[[#This Row],[Quantity Sold]]),0)","v":0}]
[null,null,null,null,null,null,null,null,0,0,0,null,null,null,0,{"$f":"IF(Inventory[[#This Row],[Item SKU/ID]]=\"\",0,SUMPRODUCT((Quantity_Sold_1=Inventory[[#This Row],[Item SKU/ID]])*Net_Profit))","v":0},{"$f":"IFERROR(AVERAGE(Inventory[[#This Row],[Total Net Profit]]/Inventory[[#This Row],[Quantity Sold]]),0)","v":0}]
[null,null,null,null,null,null,null,null,0,0,0,null,null,null,0,{"$f":"IF(Inventory[[#This Row],[Item SKU/ID]]=\"\",0,SUMPRODUCT((Quantity_Sold_1=Inventory[[#This Row],[Item SKU/ID]])*Net_Profit))","v":0},{"$f":"IFERROR(AVERAGE(Inventory[[#This Row],[Total Net Profit]]/Inventory[[#This Row],[Quantity Sold]]),0)","v":0}]
[null,null,null,null,null,null,null,null,0,0,0,null,null,null,0,{"$f":"IF(Inventory[[#This Row],[Item SKU/ID]]=\"\",0,SUMPRODUCT((Quantity_Sold_1=Inventory[[#This Row],[Item SKU/ID]])*Net_Profit))","v":0},{"$f":"IFERROR(AVERAGE(Inventory[[#This Row],[Total Net Profit]]/Inventory[[#This Row],[Quantity Sold]]),0)","v":0}]
[null,null,null,null,null,null,null,null,0,0,0,null,null,null,0,{"$f":"IF(Inventory[[#This Row],[Item SKU/ID]]=\"\",0,SUMPRODUCT((Quantity_Sold_1=Inventory[[#This Row],[Item SKU/ID]])*Net_Profit))","v":0},{"$f":"IFERROR(AVERAGE(Inventory[[#This Row],[Total Net Profit]]/Inventory[[#This Row],[Quantity Sold]]),0)","v":0}]
[null,null,null,null,null,null,null,null,0,0,0,null,null,null,0,{"$f":"IF(Inventory[[#This Row],[Item SKU/ID]]=\"\",0,SUMPRODUCT((Quantity_Sold_1=Inventory[[#This Row],[Item SKU/ID]])*Net_Profit))","v":0},{"$f":"IFERROR(AVERAGE(Inventory[[#This Row],[Total Net Profit]]/Inventory[[#This Row],[Quantity Sold]]),0)","v":0}]
[null,null,null,null,null,null,null,null,0,0,0,null,null,null,0,{"$f":"IF(Inventory[[#This Row],[Item SKU/ID]]=\"\",0,SUMPRODUCT((Quantity_Sold_1=Inventory[[#This Row],[Item SKU/ID]])*Net_Profit))","v":0},{"$f":"IFERROR(AVERAGE(Inventory[[#This Row],[Total Net Profit]]/Inventory[[#This Row],[Quantity Sold]]),0)","v":0}]
[null,null,null,null,null,null,null,null,0,0,0,null,null,null,0,{"$f":"IF(Inventory[[#This Row],[Item SKU/ID]]=\"\",0,SUMPRODUCT((Quantity_Sold_1=Inventory[[#This Row],[Item SKU/ID]])*Net_Profit))","v":0},{"$f":"IFERROR(AVERAGE(Inventory[[#This Row],[Total Net Profit]]/Inventory[[#This Row],[Quantity Sold]]),0)","v":0}]
[null,null,null,null,null,null,null,null,0,0,0,null,null,null,0,{"$f":"IF(Inventory[[#This Row],[Item SKU/ID]]=\"\",0,SUMPRODUCT((Quantity_Sold_1=Inventory[[#This Row],[Item SKU/ID]])*Net_Profit))","v":0},{"$f":"IFERROR(AVERAGE(Inventory[[#This Row],[Total Net Profit]]/Inventory[[#This Row],[Quantity Sold]]),0)","v":0}]
[null,null,null,null,null,null,null,null,0,0,0,null,null,null,0,{"$f":"IF(Inventory[[#This Row],[Item SKU/ID]]=\"\",0,SUMPRODUCT((Quantity_Sold_1=Inventory[[#This Row],[Item SKU/ID]])*Net_Profit))","v":0},{"$f":"IFERROR(AVERAGE(Inventory[[#This Row],[Total Net Profit]]/Inventory[[#This Row],[Quantity Sold]]),0)","v":0}]
[null,null,null,null,null,null,null,null,0,0,0,null,null,null,0,{"$f":"IF(Inventory[[#This Row],[Item SKU/ID]]=\"\",0,SUMPRODUCT((Quantity_Sold_1=Inventory[[#This Row],[Item SKU/ID]])*Net_Profit))","v":0},{"$f":"IFERROR(AVERAGE(Inventory[[#This Row],[Total Net Profit]]/Inventory[[#This Row],[Quantity Sold]]),0)","v":0}]
[null,null,null,null,null,null,null,null,0,0,0,null,null,null,0,{"$f":"IF(Inventory[[#This Row],[Item SKU/ID]]=\"\",0,SUMPRODUCT((Quantity_Sold_1=Inventory[[#This Row],[Item SKU/ID]])*Net_Profit))","v":0},{"$f":"IFERROR(AVERAGE(Inventory[[#This Row],[Total Net Profit]]/Inventory[[#This Row],[Quantity Sold]]),0)","v":0}]
[null,null,null,null,null,null,null,null,0,0,0,null,null,null,0,{"$f":"IF(Inventory[[#This Row],[Item SKU/ID]]=\"\",0,SUMPRODUCT((Quantity_Sold_1=Inventory[[#This Row],[Item SKU/ID]])*Net_Profit))","v":0},{"$f":"IFERROR(AVERAGE(Inventory[[#This Row],[Total Net Profit]]/Inventory[[#This Row],[Quantity Sold]]),0)","v":0}]
[null,null,null,null,null,null,null,null,0,0,0,null,null,null,0,{"$f":"IF(Inventory[[#This Row],[Item SKU/ID]]=\"\",0,SUMPRODUCT((Quantity_Sold_1=Inventory[[#This Row],[Item SKU/ID]])*Net_Profit))","v":0},{"$f":"IFERROR(AVERAGE(Inventory[[#This Row],[Total Net Profit]]/Inventory[[#This Row],[Quantity Sold]]),0)","v":0}]
[null,null,null,null,null,null,null,null,0,0,0,null,null,null,0,{"$f":"IF(Inventory[[#This Row],[Item SKU/ID]]=\"\",0,SUMPRODUCT((Quantity_Sold_1=Inventory[[#This Row],[Item SKU/ID]])*Net_Profit))","v":0},{"$f":"IFERROR(AVERAGE(Inventory[[#This Row],[Total Net Profit]]/Inventory[[#This Row],[Quantity Sold]]),0)","v":0}]
[null,null,null,null,null,null,null,null,0,0,0,null,null,null,0,{"$f":"IF(Inventory[[#This Row],[Item SKU/ID]]=\"\",0,SUMPRODUCT((Quantity_Sold_1=Inventory[[#This Row],[Item SKU/ID]])*Net_Profit))","v":0},{"$f":"IFERROR(AVERAGE(Inventory[[#This Row],[Total Net Profit]]/Inventory[[#This Row],[Quantity Sold]]),0)","v":0}]
[null,null,null,null,null,null,null,null,0,0,0,null,null,null,0,{"$f":"IF(Inventory[[#This Row],[Item SKU/ID]]=\"\",0,SUMPRODUCT((Quantity_Sold_1=Inventory[[#This Row],[Item SKU/ID]])*Net_Profit))","v":0},{"$f":"IFERROR(AVERAGE(Inventory[[#This Row],[Total Net Profit]]/Inventory[[#This Row],[Quantity Sold]]),0)","v":0}]
[null,null,null,null,null,null,null,null,0,0,0,null,null,null,0,{"$f":"IF(Inventory[[#This Row],[Item SKU/ID]]=\"\",0,SUMPRODUCT((Quantity_Sold_1=Inventory[[#This Row],[Item SKU/ID]])*Net_Profit))","v":0},{"$f":"IFERROR(AVERAGE(Inventory[[#This Row],[Total Net Profit]]/Inventory[[#This Row],[Quantity Sold]]),0)","v":0}]
[null,null,null,null,null,null,null,null,0,0,0,null,null,null,0,{"$f":"IF(Inventory[[#This Row],[Item SKU/ID]]=\"\",0,SUMPRODUCT((Quantity_Sold_1=Inventory[[#This Row],[Item SKU/ID]])*Net_Profit))","v":0},{"$f":"IFERROR(AVERAGE(Inventory[[#This Row],[Total Net Profit]]/Inventory[[#This Row],[Quantity Sold]]),0)","v":0}]
[null,null,null,null,null,null,null,null,0,0,0,null,null,null,0,{"$f":"IF(Inventory[[#This Row],[Item SKU/ID]]=\"\",0,SUMPRODUCT((Quantity_Sold_1=Inventory[[#This Row],[Item SKU/ID]])*Net_Profit))","v":0},{"$f":"IFERROR(AVERAGE(Inventory[[#This Row],[Total Net Profit]]/Inventory[[#This Row],[Quantity Sold]]),0)","v":0}]
[null,null,null,null,null,null,null,null,0,0,0,null,null,null,0,{"$f":"IF(Inventory[[#This Row],[Item SKU/ID]]=\"\",0,SUMPRODUCT((Quantity_Sold_1=Inventory[[#This Row],[Item SKU/ID]])*Net_Profit))","v":0},{"$f":"IFERROR(AVERAGE(Inventory[[#This Row],[Total Net Profit]]/Inventory[[#This Row],[Quantity Sold]]),0)","v":0}]
[null,null,null,null,null,null,null,null,0,0,0,null,null,null,0,{"$f":"IF(Inventory[[#This Row],[Item SKU/ID]]=\"\",0,SUMPRODUCT((Quantity_Sold_1=Inventory[[#This Row],[Item SKU/ID]])*Net_Profit))","v":0},{"$f":"IFERROR(AVERAGE(Inventory[[#This Row],[Total Net Profit]]/Inventory[[#This Row],[Quantity Sold]]),0)","v":0}]
[null,null,null,null,null,null,null,null,0,0,0,null,null,null,0,{"$f":"IF(Inventory[[#This Row],[Item SKU/ID]]=\"\",0,SUMPRODUCT((Quantity_Sold_1=Inventory[[#This Row],[Item SKU/ID]])*Net_Profit))","v":0},{"$f":"IFERROR(AVERAGE(Inventory[[#This Row],[Total Net Profit]]/Inventory[[#This Row],[Quantity Sold]]),0)","v":0}]
[null,null,null,null,null,null,null,null,0,0,0,null,null,null,0,{"$f":"IF(Inventory[[#This Row],[Item SKU/ID]]=\"\",0,SUMPRODUCT((Quantity_Sold_1=Inventory[[#This Row],[Item SKU/ID]])*Net_Profit))","v":0},{"$f":"IFERROR(AVERAGE(Inventory[[#This Row],[Total Net Profit]]/Inventory[[#This Row],[Quantity Sold]]),0)","v":0}]
[null,null,null,null,null,null,null,null,0,0,0,null,null,null,0,{"$f":"IF(Inventory[[#This Row],[Item SKU/ID]]=\"\",0,SUMPRODUCT((Quantity_Sold_1=Inventory[[#This Row],[Item SKU/ID]])*Net_Profit))","v":0},{"$f":"IFERROR(AVERAGE(Inventory[[#This Row],[Total Net Profit]]/Inventory[[#This Row],[Quantity Sold]]),0)","v":0}]
[null,null,null,null,null,null,null,null,0,0,0,null,null,null,0,{"$f":"IF(Inventory[[#This Row],[Item SKU/ID]]=\"\",0,SUMPRODUCT((Quantity_Sold_1=Inventory[[#This Row],[Item SKU/ID]])*Net_Profit))","v":0},{"$f":"IFERROR(AVERAGE(Inventory[[#This Row],[Total Net Profit]]/Inventory[[#This Row],[Quantity Sold]]),0)","v":0}]
[null,null,null,null,null,null,null,null,0,0,0,null,null,null,0,{"$f":"IF(Inventory[[#This Row],[Item SKU/ID]]=\"\",0,SUMPRODUCT((Quantity_Sold_1=Inventory[[#This Row],[Item SKU/ID]])*Net_Profit))","v":0},{"$f":"IFERROR(AVERAGE(Inventory[[#This Row],[Total Net Profit]]/Inventory[[#This Row],[Quantity Sold]]),0)","v":0}]
[null,null,null,null,null,null,null,null,0,0,0,null,null,null,0,{"$f":"IF(Inventory[[#This Row],[Item SKU/ID]]=\"\",0,SUMPRODUCT((Quantity_Sold_1=Inventory[[#This Row],[Item SKU/ID]])*Net_Profit))","v":0},{"$f":"IFERROR(AVERAGE(Inventory[[#This Row],[Total Net Profit]]/Inventory[[#This Row],[Quantity Sold]]),0)","v":0}]
[null,null,null,null,null,null,null,null,0,0,0,null,null,null,0,{"$f":"IF(Inventory[[#This Row],[Item SKU/ID]]=\"\",0,SUMPRODUCT((Quantity_Sold_1=Inventory[[#This Row],[Item SKU/ID]])*Net_Profit))","v":0},{"$f":"IFERROR(AVERAGE(Inventory[[#This Row],[Total Net Profit]]/Inventory[[#This Row],[Quantity Sold]]),0)","v":0}]
[null,null,null,null,null,null,null,null,0,0,0,null,null,null,0,{"$f":"IF(Inventory[[#This Row],[Item SKU/ID]]=\"\",0,SUMPRODUCT((Quantity_Sold_1=Inventory[[#This Row],[Item SKU/ID]])*Net_Profit))","v":0},{"$f":"IFERROR(AVERAGE(Inventory[[#This Row],[Total Net Profit]]/Inventory[[#This Row],[Quantity Sold]]),0)","v":0}]
[null,null,null,null,null,null,null,null,0,0,0,null,null,null,0,{"$f":"IF(Inventory[[#This Row],[Item SKU/ID]]=\"\",0,SUMPRODUCT((Quantity_Sold_1=Inventory[[#This Row],[Item SKU/ID]])*Net_Profit))","v":0},{"$f":"IFERROR(AVERAGE(Inventory[[#This Row],[Total Net Profit]]/Inventory[[#This Row],[Quantity Sold]]),0)","v":0}]
[null,null,null,null,null,null,null,null,0,0,0,null,null,null,0,{"$f":"IF(Inventory[[#This Row],[Item SKU/ID]]=\"\",0,SUMPRODUCT((Quantity_Sold_1=Inventory[[#This Row],[Item SKU/ID]])*Net_Profit))","v":0},{"$f":"IFERROR(AVERAGE(Inventory[[#This Row],[Total Net Profit]]/Inventory[[#This Row],[Quantity Sold]]),0)","v":0}]
[null,null,null,null,null,null,null,null,0,0,0,null,null,null,0,{"$f":"IF(Inventory[[#This Row],[Item SKU/ID]]=\"\",0,SUMPRODUCT((Quantity_Sold_1=Inventory[[#This Row],[Item SKU/ID]])*Net_Profit))","v":0},{"$f":"IFERROR(AVERAGE(Inventory[[#This Row],[Total Net Profit]]/Inventory[[#This Row],[Quantity Sold]]),0)","v":0}]
[null,null,null,null,null,null,null,null,0,0,0,null,null,null,0,{"$f":"IF(Inventory[[#This Row],[Item SKU/ID]]=\"\",0,SUMPRODUCT((Quantity_Sold_1=Inventory[[#This Row],[Item SKU/ID]])*Net_Profit))","v":0},{"$f":"IFERROR(AVERAGE(Inventory[[#This Row],[Total Net Profit]]/Inventory[[#This Row],[Quantity Sold]]),0)","v":0}]
[null,null,null,null,null,null,null,null,0,0,0,null,null,null,0,{"$f":"IF(Inventory[[#This Row],[Item SKU/ID]]=\"\",0,SUMPRODUCT((Quantity_Sold_1=Inventory[[#This Row],[Item SKU/ID]])*Net_Profit))","v":0},{"$f":"IFERROR(AVERAGE(Inventory[[#This Row],[Total Net Profit]]/Inventory[[#This Row],[Quantity Sold]]),0)","v":0}]
[null,null,null,null,null,null,null,null,0,0,0,null,null,null,0,{"$f":"IF(Inventory[[#This Row],[Item SKU/ID]]=\"\",0,SUMPRODUCT((Quantity_Sold_1=Inventory[[#This Row],[Item SKU/ID]])*Net_Profit))","v":0},{"$f":"IFERROR(AVERAGE(Inventory[[#This Row],[Total Net Profit]]/Inventory[[#This Row],[Quantity Sold]]),0)","v":0}]
[null,null,null,null,null,null,null,null,{"$f":"K2052*H2052","v":0},{"$f":"IF(F2052=\"\",0,SUMPRODUCT((Quantity_Sold_1=F2052)*Quantity_Sold_2))","v":0},{"$f":"G2052-J2052","v":0},null,null,null,{"$f":"K2052*H2052","v":0},{"$f":"IF(Inventory[[#This Row],[Item SKU/ID]]=\"\",0,SUMPRODUCT((Quantity_Sold_1=Inventory[[#This Row],[Item SKU/ID]])*Net_Profit))","v":0},{"$f":"IFERROR(AVERAGE(Inventory[[#This Row],[Total Net Profit]]/Inventory[[#This Row],[Quantity Sold]]),0)","v":0}]
[null,null,null,null,null,null,null,null,0,0,0,null,null,null,0,{"$f":"IF(Inventory[[#This Row],[Item SKU/ID]]=\"\",0,SUMPRODUCT((Quantity_Sold_1=Inventory[[#This Row],[Item SKU/ID]])*Net_Profit))","v":0},{"$f":"IFERROR(AVERAGE(Inventory[[#This Row],[Total Net Profit]]/Inventory[[#This Row],[Quantity Sold]]),0)","v":0}]
[null,null,null,null,null,null,null,null,0,0,0,null,null,null,0,{"$f":"IF(Inventory[[#This Row],[Item SKU/ID]]=\"\",0,SUMPRODUCT((Quantity_Sold_1=Inventory[[#This Row],[Item SKU/ID]])*Net_Profit))","v":0},{"$f":"IFERROR(AVERAGE(Inventory[[#This Row],[Total Net Profit]]/Inventory[[#This Row],[Quantity Sold]]),0)","v":0}]
[null,null,null,null,null,null,null,null,0,0,0,null,null,null,0,{"$f":"IF(Inventory[[#This Row],[Item SKU/ID]]=\"\",0,SUMPRODUCT((Quantity_Sold_1=Inventory[[#This Row],[Item SKU/ID]])*Net_Profit))","v":0},{"$f":"IFERROR(AVERAGE(Inventory[[#This Row],[Total Net Profit]]/Inventory[[#This Row],[Quantity Sold]]),0)","v":0}]
[null,null,null,null,null,null,null,null,0,0,0,null,null,null,0,{"$f":"IF(Inventory[[#This Row],[Item SKU/ID]]=\"\",0,SUMPRODUCT((Quantity_Sold_1=Inventory[[#This Row],[Item SKU/ID]])*Net_Profit))","v":0},{"$f":"IFERROR(AVERAGE(Inventory[[#This Row],[Total Net Profit]]/Inventory[[#This Row],[Quantity Sold]]),0)","v":0}]
[null,null,null,null,null,null,null,null,0,0,0,null,null,null,0,{"$f":"IF(Inventory[[#This Row],[Item SKU/ID]]=\"\",0,SUMPRODUCT((Quantity_Sold_1=Inventory[[#This Row],[Item SKU/ID]])*Net_Profit))","v":0},{"$f":"IFERROR(AVERAGE(Inventory[[#This Row],[Total Net Profit]]/Inventory[[#This Row],[Quantity Sold]]),0)","v":0}]
[null,null,null,null,null,null,null,null,0,0,0,null,null,null,0,{"$f":"IF(Inventory[[#This Row],[Item SKU/ID]]=\"\",0,SUMPRODUCT((Quantity_Sold_1=Inventory[[#This Row],[Item SKU/ID]])*Net_Profit))","v":0},{"$f":"IFERROR(AVERAGE(Inventory[[#This Row],[Total Net Profit]]/Inventory[[#This Row],[Quantity Sold]]),0)","v":0}]
[null,null,null,null,null,null,null,null,0,0,0,null,null,null,0,{"$f":"IF(Inventory[[#This Row],[Item SKU/ID]]=\"\",0,SUMPRODUCT((Quantity_Sold_1=Inventory[[#This Row],[Item SKU/ID]])*Net_Profit))","v":0},{"$f":"IFERROR(AVERAGE(Inventory[[#This Row],[Total Net Profit]]/Inventory[[#This Row],[Quantity Sold]]),0)","v":0}]
[null,null,null,null,null,null,null,null,0,0,0,null,null,null,0,{"$f":"IF(Inventory[[#This Row],[Item SKU/ID]]=\"\",0,SUMPRODUCT((Quantity_Sold_1=Inventory[[#This Row],[Item SKU/ID]])*Net_Profit))","v":0},{"$f":"IFERROR(AVERAGE(Inventory[[#This Row],[Total Net Profit]]/Inventory[[#This Row],[Quantity Sold]]),0)","v":0}]
[null,null,null,null,null,null,null,null,0,0,0,null,null,null,0,{"$f":"IF(Inventory[[#This Row],[Item SKU/ID]]=\"\",0,SUMPRODUCT((Quantity_Sold_1=Inventory[[#This Row],[Item SKU/ID]])*Net_Profit))","v":0},{"$f":"IFERROR(AVERAGE(Inventory[[#This Row],[Total Net Profit]]/Inventory[[#This Row],[Quantity Sold]]),0)","v":0}]
[null,null,null,null,null,null,null,null,0,0,0,null,null,null,0,{"$f":"IF(Inventory[[#This Row],[Item SKU/ID]]=\"\",0,SUMPRODUCT((Quantity_Sold_1=Inventory[[#This Row],[Item SKU/ID]])*Net_Profit))","v":0},{"$f":"IFERROR(AVERAGE(Inventory[[#This Row],[Total Net Profit]]/Inventory[[#This Row],[Quantity Sold]]),0)","v":0}]
[null,null,null,null,null,null,null,null,0,0,0,null,null,null,0,{"$f":"IF(Inventory[[#This Row],[Item SKU/ID]]=\"\",0,SUMPRODUCT((Quantity_Sold_1=Inventory[[#This Row],[Item SKU/ID]])*Net_Profit))","v":0},{"$f":"IFERROR(AVERAGE(Inventory[[#This Row],[Total Net Profit]]/Inventory[[#This Row],[Quantity Sold]]),0)","v":0}]
[null,null,null,null,null,null,null,null,0,0,0,null,null,null,0,{"$f":"IF(Inventory[[#This Row],[Item SKU/ID]]=\"\",0,SUMPRODUCT((Quantity_Sold_1=Inventory[[#This Row],[Item SKU/ID]])*Net_Profit))","v":0},{"$f":"IFERROR(AVERAGE(Inventory[[#This Row],[Total Net Profit]]/Inventory[[#This Row],[Quantity Sold]]),0)","v":0}]
[null,null,null,null,null,null,null,null,0,0,0,null,null,null,0,{"$f":"IF(Inventory[[#This Row],[Item SKU/ID]]=\"\",0,SUMPRODUCT((Quantity_Sold_1=Inventory[[#This Row],[Item SKU/ID]])*Net_Profit))","v":0},{"$f":"IFERROR(AVERAGE(Inventory[[#This Row],[Total Net Profit]]/Inventory[[#This Row],[Quantity Sold]]),0)","v":0}]
[null,null,null,null,null,null,null,null,0,0,0,null,null,null,0,{"$f":"IF(Inventory[[#This Row],[Item SKU/ID]]=\"\",0,SUMPRODUCT((Quantity_Sold_1=Inventory[[#This Row],[Item SKU/ID]])*Net_Profit))","v":0},{"$f":"IFERROR(AVERAGE(Inventory[[#This Row],[Total Net Profit]]/Inventory[[#This Row],[Quantity Sold]]),0)","v":0}]
[null,null,null,null,null,null,null,null,0,0,0,null,null,null,0,{"$f":"IF(Inventory[[#This Row],[Item SKU/ID]]=\"\",0,SUMPRODUCT((Quantity_Sold_1=Inventory[[#This Row],[Item SKU/ID]])*Net_Profit))","v":0},{"$f":"IFERROR(AVERAGE(Inventory[[#This Row],[Total Net Profit]]/Inventory[[#This Row],[Quantity Sold]]),0)","v":0}]
[null,null,null,null,null,null,null,null,0,0,0,null,null,null,0,{"$f":"IF(Inventory[[#This Row],[Item SKU/ID]]=\"\",0,SUMPRODUCT((Quantity_Sold_1=Inventory[[#This Row],[Item SKU/ID]])*Net_Profit))","v":0},{"$f":"IFERROR(AVERAGE(Inventory[[#This Row],[Total Net Profit]]/Inventory[[#This Row],[Quantity Sold]]),0)","v":0}]
[null,null,null,null,null,null,null,null,0,0,0,null,null,null,0,{"$f":"IF(Inventory[[#This Row],[Item SKU/ID]]=\"\",0,SUMPRODUCT((Quantity_Sold_1=Inventory[[#This Row],[Item SKU/ID]])*Net_Profit))","v":0},{"$f":"IFERROR(AVERAGE(Inventory[[#This Row],[Total Net Profit]]/Inventory[[#This Row],[Quantity Sold]]),0)","v":0}]
[null,null,null,null,null,null,null,null,0,0,0,null,null,null,0,{"$f":"IF(Inventory[[#This Row],[Item SKU/ID]]=\"\",0,SUMPRODUCT((Quantity_Sold_1=Inventory[[#This Row],[Item SKU/ID]])*Net_Profit))","v":0},{"$f":"IFERROR(AVERAGE(Inventory[[#This Row],[Total Net Profit]]/Inventory[[#This Row],[Quantity Sold]]),0)","v":0}]
[null,null,null,null,null,null,null,null,0,0,0,null,null,null,0,{"$f":"IF(Inventory[[#This Row],[Item SKU/ID]]=\"\",0,SUMPRODUCT((Quantity_Sold_1=Inventory[[#This Row],[Item SKU/ID]])*Net_Profit))","v":0},{"$f":"IFERROR(AVERAGE(Inventory[[#This Row],[Total Net Profit]]/Inventory[[#This Row],[Quantity Sold]]),0)","v":0}]
[null,null,null,null,null,null,null,null,0,0,0,null,null,null,0,{"$f":"IF(Inventory[[#This Row],[Item SKU/ID]]=\"\",0,SUMPRODUCT((Quantity_Sold_1=Inventory[[#This Row],[Item SKU/ID]])*Net_Profit))","v":0},{"$f":"IFERROR(AVERAGE(Inventory[[#This Row],[Total Net Profit]]/Inventory[[#This Row],[Quantity Sold]]),0)","v":0}]
[null,null,null,null,null,null,null,null,0,0,0,null,null,null,0,{"$f":"IF(Inventory[[#This Row],[Item SKU/ID]]=\"\",0,SUMPRODUCT((Quantity_Sold_1=Inventory[[#This Row],[Item SKU/ID]])*Net_Profit))","v":0},{"$f":"IFERROR(AVERAGE(Inventory[[#This Row],[Total Net Profit]]/Inventory[[#This Row],[Quantity Sold]]),0)","v":0}]
[null,null,null,null,null,null,null,null,0,0,0,null,null,null,0,{"$f":"IF(Inventory[[#This Row],[Item SKU/ID]]=\"\",0,SUMPRODUCT((Quantity_Sold_1=Inventory[[#This Row],[Item SKU/ID]])*Net_Profit))","v":0},{"$f":"IFERROR(AVERAGE(Inventory[[#This Row],[Total Net Profit]]/Inventory[[#This Row],[Quantity Sold]]),0)","v":0}]
[null,null,null,null,null,null,null,null,0,0,0,null,null,null,0,{"$f":"IF(Inventory[[#This Row],[Item SKU/ID]]=\"\",0,SUMPRODUCT((Quantity_Sold_1=Inventory[[#This Row],[Item SKU/ID]])*Net_Profit))","v":0},{"$f":"IFERROR(AVERAGE(Inventory[[#This Row],[Total Net Profit]]/Inventory[[#This Row],[Quantity Sold]]),0)","v":0}]
[null,null,null,null,null,null,null,null,0,0,0,null,null,null,0,{"$f":"IF(Inventory[[#This Row],[Item SKU/ID]]=\"\",0,SUMPRODUCT((Quantity_Sold_1=Inventory[[#This Row],[Item SKU/ID]])*Net_Profit))","v":0},{"$f":"IFERROR(AVERAGE(Inventory[[#This Row],[Total Net Profit]]/Inventory[[#This Row],[Quantity Sold]]),0)","v":0}]
[null,null,null,null,null,null,null,null,0,0,0,null,null,null,0,{"$f":"IF(Inventory[[#This Row],[Item SKU/ID]]=\"\",0,SUMPRODUCT((Quantity_Sold_1=Inventory[[#This Row],[Item SKU/ID]])*Net_Profit))","v":0},{"$f":"IFERROR(AVERAGE(Inventory[[#This Row],[Total Net Profit]]/Inventory[[#This Row],[Quantity Sold]]),0)","v":0}]
[null,null,null,null,null,null,null,null,0,0,0,null,null,null,0,{"$f":"IF(Inventory[[#This Row],[Item SKU/ID]]=\"\",0,SUMPRODUCT((Quantity_Sold_1=Inventory[[#This Row],[Item SKU/ID]])*Net_Profit))","v":0},{"$f":"IFERROR(AVERAGE(Inventory[[#This Row],[Total Net Profit]]/Inventory[[#This Row],[Quantity Sold]]),0)","v":0}]
[null,null,null,null,null,null,null,null,0,0,0,null,null,null,0,{"$f":"IF(Inventory[[#This Row],[Item SKU/ID]]=\"\",0,SUMPRODUCT((Quantity_Sold_1=Inventory[[#This Row],[Item SKU/ID]])*Net_Profit))","v":0},{"$f":"IFERROR(AVERAGE(Inventory[[#This Row],[Total Net Profit]]/Inventory[[#This Row],[Quantity Sold]]),0)","v":0}]
[null,null,null,null,null,null,null,null,0,0,0,null,null,null,0,{"$f":"IF(Inventory[[#This Row],[Item SKU/ID]]=\"\",0,SUMPRODUCT((Quantity_Sold_1=Inventory[[#This Row],[Item SKU/ID]])*Net_Profit))","v":0},{"$f":"IFERROR(AVERAGE(Inventory[[#This Row],[Total Net Profit]]/Inventory[[#This Row],[Quantity Sold]]),0)","v":0}]
[null,null,null,null,null,null,null,null,0,0,0,null,null,null,0,{"$f":"IF(Inventory[[#This Row],[Item SKU/ID]]=\"\",0,SUMPRODUCT((Quantity_Sold_1=Inventory[[#This Row],[Item SKU/ID]])*Net_Profit))","v":0},{"$f":"IFERROR(AVERAGE(Inventory[[#This Row],[Total Net Profit]]/Inventory[[#This Row],[Quantity Sold]]),0)","v":0}]
[null,null,null,null,null,null,null,null,0,0,0,null,null,null,0,{"$f":"IF(Inventory[[#This Row],[Item SKU/ID]]=\"\",0,SUMPRODUCT((Quantity_Sold_1=Inventory[[#This Row],[Item SKU/ID]])*Net_Profit))","v":0},{"$f":"IFERROR(AVERAGE(Inventory[[#This Row],[Total Net Profit]]/Inventory[[#This Row],[Quantity Sold]]),0)","v":0}]
[null,null,null,null,null,null,null,null,0,0,0,null,null,null,0,{"$f":"IF(Inventory[[#This Row],[Item SKU/ID]]=\"\",0,SUMPRODUCT((Quantity_Sold_1=Inventory[[#This Row],[Item SKU/ID]])*Net_Profit))","v":0},{"$f":"IFERROR(AVERAGE(Inventory[[#This Row],[Total Net Profit]]/Inventory[[#This Row],[Quantity Sold]]),0)","v":0}]
[null,null,null,null,null,null,null,null,0,0,0,null,null,null,0,{"$f":"IF(Inventory[[#This Row],[Item SKU/ID]]=\"\",0,SUMPRODUCT((Quantity_Sold_1=Inventory[[#This Row],[Item SKU/ID]])*Net_Profit))","v":0},{"$f":"IFERROR(AVERAGE(Inventory[[#This Row],[Total Net Profit]]/Inventory[[#This Row],[Quantity Sold]]),0)","v":0}]
[null,null,null,null,null,null,null,null,0,0,0,null,null,null,0,{"$f":"IF(Inventory[[#This Row],[Item SKU/ID]]=\"\",0,SUMPRODUCT((Quantity_Sold_1=Inventory[[#This Row],[Item SKU/ID]])*Net_Profit))","v":0},{"$f":"IFERROR(AVERAGE(Inventory[[#This Row],[Total Net Profit]]/Inventory[[#This Row],[Quantity Sold]]),0)","v":0}]
[null,null,null,null,null,null,null,null,0,0,0,null,null,null,0,{"$f":"IF(Inventory[[#This Row],[Item SKU/ID]]=\"\",0,SUMPRODUCT((Quantity_Sold_1=Inventory[[#This Row],[Item SKU/ID]])*Net_Profit))","v":0},{"$f":"IFERROR(AVERAGE(Inventory[[#This Row],[Total Net Profit]]/Inventory[[#This Row],[Quantity Sold]]),0)","v":0}]
[null,null,null,null,null,null,null,null,0,0,0,null,null,null,0,{"$f":"IF(Inventory[[#This Row],[Item SKU/ID]]=\"\",0,SUMPRODUCT((Quantity_Sold_1=Inventory[[#This Row],[Item SKU/ID]])*Net_Profit))","v":0},{"$f":"IFERROR(AVERAGE(Inventory[[#This Row],[Total Net Profit]]/Inventory[[#This Row],[Quantity Sold]]),0)","v":0}]
[null,null,null,null,null,null,null,null,0,0,0,null,null,null,0,{"$f":"IF(Inventory[[#This Row],[Item SKU/ID]]=\"\",0,SUMPRODUCT((Quantity_Sold_1=Inventory[[#This Row],[Item SKU/ID]])*Net_Profit))","v":0},{"$f":"IFERROR(AVERAGE(Inventory[[#This Row],[Total Net Profit]]/Inventory[[#This Row],[Quantity Sold]]),0)","v":0}]
[null,null,null,null,null,null,null,null,0,0,0,null,null,null,0,{"$f":"IF(Inventory[[#This Row],[Item SKU/ID]]=\"\",0,SUMPRODUCT((Quantity_Sold_1=Inventory[[#This Row],[Item SKU/ID]])*Net_Profit))","v":0},{"$f":"IFERROR(AVERAGE(Inventory[[#This Row],[Total Net Profit]]/Inventory[[#This Row],[Quantity Sold]]),0)","v":0}]
[null,null,null,null,null,null,null,null,0,0,0,null,null,null,0,{"$f":"IF(Inventory[[#This Row],[Item SKU/ID]]=\"\",0,SUMPRODUCT((Quantity_Sold_1=Inventory[[#This Row],[Item SKU/ID]])*Net_Profit))","v":0},{"$f":"IFERROR(AVERAGE(Inventory[[#This Row],[Total Net Profit]]/Inventory[[#This Row],[Quantity Sold]]),0)","v":0}]
[null,null,null,null,null,null,null,null,0,0,0,null,null,null,0,{"$f":"IF(Inventory[[#This Row],[Item SKU/ID]]=\"\",0,SUMPRODUCT((Quantity_Sold_1=Inventory[[#This Row],[Item SKU/ID]])*Net_Profit))","v":0},{"$f":"IFERROR(AVERAGE(Inventory[[#This Row],[Total Net Profit]]/Inventory[[#This Row],[Quantity Sold]]),0)","v":0}]
[null,null,null,null,null,null,null,null,0,0,0,null,null,null,0,{"$f":"IF(Inventory[[#This Row],[Item SKU/ID]]=\"\",0,SUMPRODUCT((Quantity_Sold_1=Inventory[[#This Row],[Item SKU/ID]])*Net_Profit))","v":0},{"$f":"IFERROR(AVERAGE(Inventory[[#This Row],[Total Net Profit]]/Inventory[[#This Row],[Quantity Sold]]),0)","v":0}]
[null,null,null,null,null,null,null,null,0,0,0,null,null,null,0,{"$f":"IF(Inventory[[#This Row],[Item SKU/ID]]=\"\",0,SUMPRODUCT((Quantity_Sold_1=Inventory[[#This Row],[Item SKU/ID]])*Net_Profit))","v":0},{"$f":"IFERROR(AVERAGE(Inventory[[#This Row],[Total Net Profit]]/Inventory[[#This Row],[Quantity Sold]]),0)","v":0}]
[null,null,null,null,null,null,null,null,0,0,0,null,null,null,0,{"$f":"IF(Inventory[[#This Row],[Item SKU/ID]]=\"\",0,SUMPRODUCT((Quantity_Sold_1=Inventory[[#This Row],[Item SKU/ID]])*Net_Profit))","v":0},{"$f":"IFERROR(AVERAGE(Inventory[[#This Row],[Total Net Profit]]/Inventory[[#This Row],[Quantity Sold]]),0)","v":0}]
[null,null,null,null,null,null,null,null,0,0,0,null,null,null,0,{"$f":"IF(Inventory[[#This Row],[Item SKU/ID]]=\"\",0,SUMPRODUCT((Quantity_Sold_1=Inventory[[#This Row],[Item SKU/ID]])*Net_Profit))","v":0},{"$f":"IFERROR(AVERAGE(Inventory[[#This Row],[Total Net Profit]]/Inventory[[#This Row],[Quantity Sold]]),0)","v":0}]
[null,null,null,null,null,null,null,null,0,0,0,null,null,null,0,{"$f":"IF(Inventory[[#This Row],[Item SKU/ID]]=\"\",0,SUMPRODUCT((Quantity_Sold_1=Inventory[[#This Row],[Item SKU/ID]])*Net_Profit))","v":0},{"$f":"IFERROR(AVERAGE(Inventory[[#This Row],[Total Net Profit]]/Inventory[[#This Row],[Quantity Sold]]),0)","v":0}]
[null,null,null,null,null,null,null,null,0,0,0,null,null,null,0,{"$f":"IF(Inventory[[#This Row],[Item SKU/ID]]=\"\",0,SUMPRODUCT((Quantity_Sold_1=Inventory[[#This Row],[Item SKU/ID]])*Net_Profit))","v":0},{"$f":"IFERROR(AVERAGE(Inventory[[#This Row],[Total Net Profit]]/Inventory[[#This Row],[Quantity Sold]]),0)","v":0}]
[null,null,null,null,null,null,null,null,0,0,0,null,null,null,0,{"$f":"IF(Inventory[[#This Row],[Item SKU/ID]]=\"\",0,SUMPRODUCT((Quantity_Sold_1=Inventory[[#This Row],[Item SKU/ID]])*Net_Profit))","v":0},{"$f":"IFERROR(AVERAGE(Inventory[[#This Row],[Total Net Profit]]/Inventory[[#This Row],[Quantity Sold]]),0)","v":0}]
[null,null,null,null,null,null,null,null,0,0,0,null,null,null,0,{"$f":"IF(Inventory[[#This Row],[Item SKU/ID]]=\"\",0,SUMPRODUCT((Quantity_Sold_1=Inventory[[#This Row],[Item SKU/ID]])*Net_Profit))","v":0},{"$f":"IFERROR(AVERAGE(Inventory[[#This Row],[Total Net Profit]]/Inventory[[#This Row],[Quantity Sold]]),0)","v":0}]
[null,null,null,null,null,null,null,null,0,0,0,null,null,null,0,{"$f":"IF(Inventory[[#This Row],[Item SKU/ID]]=\"\",0,SUMPRODUCT((Quantity_Sold_1=Inventory[[#This Row],[Item SKU/ID]])*Net_Profit))","v":0},{"$f":"IFERROR(AVERAGE(Inventory[[#This Row],[Total Net Profit]]/Inventory[[#This Row],[Quantity Sold]]),0)","v":0}]
[null,null,null,null,null,null,null,null,0,0,0,null,null,null,0,{"$f":"IF(Inventory[[#This Row],[Item SKU/ID]]=\"\",0,SUMPRODUCT((Quantity_Sold_1=Inventory[[#This Row],[Item SKU/ID]])*Net_Profit))","v":0},{"$f":"IFERROR(AVERAGE(Inventory[[#This Row],[Total Net Profit]]/Inventory[[#This Row],[Quantity Sold]]),0)","v":0}]
[null,null,null,null,null,null,null,null,0,0,0,null,null,null,0,{"$f":"IF(Inventory[[#This Row],[Item SKU/ID]]=\"\",0,SUMPRODUCT((Quantity_Sold_1=Inventory[[#This Row],[Item SKU/ID]])*Net_Profit))","v":0},{"$f":"IFERROR(AVERAGE(Inventory[[#This Row],[Total Net Profit]]/Inventory[[#This Row],[Quantity Sold]]),0)","v":0}]
[null,null,null,null,null,null,null,null,0,0,0,null,null,null,0,{"$f":"IF(Inventory[[#This Row],[Item SKU/ID]]=\"\",0,SUMPRODUCT((Quantity_Sold_1=Inventory[[#This Row],[Item SKU/ID]])*Net_Profit))","v":0},{"$f":"IFERROR(AVERAGE(Inventory[[#This Row],[Total Net Profit]]/Inventory[[#This Row],[Quantity Sold]]),0)","v":0}]
[null,null,null,null,null,null,null,null,0,0,0,null,null,null,0,{"$f":"IF(Inventory[[#This Row],[Item SKU/ID]]=\"\",0,SUMPRODUCT((Quantity_Sold_1=Inventory[[#This Row],[Item SKU/ID]])*Net_Profit))","v":0},{"$f":"IFERROR(AVERAGE(Inventory[[#This Row],[Total Net Profit]]/Inventory[[#This Row],[Quantity Sold]]),0)","v":0}]
[null,null,null,null,null,null,null,null,0,0,0,null,null,null,0,{"$f":"IF(Inventory[[#This Row],[Item SKU/ID]]=\"\",0,SUMPRODUCT((Quantity_Sold_1=Inventory[[#This Row],[Item SKU/ID]])*Net_Profit))","v":0},{"$f":"IFERROR(AVERAGE(Inventory[[#This Row],[Total Net Profit]]/Inventory[[#This Row],[Quantity Sold]]),0)","v":0}]
[null,null,null,null,null,null,null,null,0,0,0,null,null,null,0,{"$f":"IF(Inventory[[#This Row],[Item SKU/ID]]=\"\",0,SUMPRODUCT((Quantity_Sold_1=Inventory[[#This Row],[Item SKU/ID]])*Net_Profit))","v":0},{"$f":"IFERROR(AVERAGE(Inventory[[#This Row],[Total Net Profit]]/Inventory[[#This Row],[Quantity Sold]]),0)","v":0}]
[null,null,null,null,null,null,null,null,0,0,0,null,null,null,0,{"$f":"IF(Inventory[[#This Row],[Item SKU/ID]]=\"\",0,SUMPRODUCT((Quantity_Sold_1=Inventory[[#This Row],[Item SKU/ID]])*Net_Profit))","v":0},{"$f":"IFERROR(AVERAGE(Inventory[[#This Row],[Total Net Profit]]/Inventory[[#This Row],[Quantity Sold]]),0)","v":0}]
[null,null,null,null,null,null,null,null,0,0,0,null,null,null,0,{"$f":"IF(Inventory[[#This Row],[Item SKU/ID]]=\"\",0,SUMPRODUCT((Quantity_Sold_1=Inventory[[#This Row],[Item SKU/ID]])*Net_Profit))","v":0},{"$f":"IFERROR(AVERAGE(Inventory[[#This Row],[Total Net Profit]]/Inventory[[#This Row],[Quantity Sold]]),0)","v":0}]
[null,null,null,null,null,null,null,null,0,0,0,null,null,null,0,{"$f":"IF(Inventory[[#This Row],[Item SKU/ID]]=\"\",0,SUMPRODUCT((Quantity_Sold_1=Inventory[[#This Row],[Item SKU/ID]])*Net_Profit))","v":0},{"$f":"IFERROR(AVERAGE(Inventory[[#This Row],[Total Net Profit]]/Inventory[[#This Row],[Quantity Sold]]),0)","v":0}]
[null,null,null,null,null,null,null,null,0,0,0,null,null,null,0,{"$f":"IF(Inventory[[#This Row],[Item SKU/ID]]=\"\",0,SUMPRODUCT((Quantity_Sold_1=Inventory[[#This Row],[Item SKU/ID]])*Net_Profit))","v":0},{"$f":"IFERROR(AVERAGE(Inventory[[#This Row],[Total Net Profit]]/Inventory[[#This Row],[Quantity Sold]]),0)","v":0}]
[null,null,null,null,null,null,null,null,0,0,0,null,null,null,0,{"$f":"IF(Inventory[[#This Row],[Item SKU/ID]]=\"\",0,SUMPRODUCT((Quantity_Sold_1=Inventory[[#This Row],[Item SKU/ID]])*Net_Profit))","v":0},{"$f":"IFERROR(AVERAGE(Inventory[[#This Row],[Total Net Profit]]/Inventory[[#This Row],[Quantity Sold]]),0)","v":0}]
[null,null,null,null,null,null,null,null,0,0,0,null,null,null,0,{"$f":"IF(Inventory[[#This Row],[Item SKU/ID]]=\"\",0,SUMPRODUCT((Quantity_Sold_1=Inventory[[#This Row],[Item SKU/ID]])*Net_Profit))","v":0},{"$f":"IFERROR(AVERAGE(Inventory[[#This Row],[Total Net Profit]]/Inventory[[#This Row],[Quantity Sold]]),0)","v":0}]
[null,null,null,null,null,null,null,null,0,0,0,null,null,null,0,{"$f":"IF(Inventory[[#This Row],[Item SKU/ID]]=\"\",0,SUMPRODUCT((Quantity_Sold_1=Inventory[[#This Row],[Item SKU/ID]])*Net_Profit))","v":0},{"$f":"IFERROR(AVERAGE(Inventory[[#This Row],[Total Net Profit]]/Inventory[[#This Row],[Quantity Sold]]),0)","v":0}]
[null,null,null,null,null,null,null,null,0,0,0,null,null,null,0,{"$f":"IF(Inventory[[#This Row],[Item SKU/ID]]=\"\",0,SUMPRODUCT((Quantity_Sold_1=Inventory[[#This Row],[Item SKU/ID]])*Net_Profit))","v":0},{"$f":"IFERROR(AVERAGE(Inventory[[#This Row],[Total Net Profit]]/Inventory[[#This Row],[Quantity Sold]]),0)","v":0}]
[null,null,null,null,null,null,null,null,0,0,0,null,null,null,0,{"$f":"IF(Inventory[[#This Row],[Item SKU/ID]]=\"\",0,SUMPRODUCT((Quantity_Sold_1=Inventory[[#This Row],[Item SKU/ID]])*Net_Profit))","v":0},{"$f":"IFERROR(AVERAGE(Inventory[[#This Row],[Total Net Profit]]/Inventory[[#This Row],[Quantity Sold]]),0)","v":0}]
[null,null,null,null,null,null,null,null,{"$f":"K2116*H2116","v":0},{"$f":"IF(F2116=\"\",0,SUMPRODUCT((Quantity_Sold_1=F2116)*Quantity_Sold_2))","v":0},{"$f":"G2116-J2116","v":0},null,null,null,{"$f":"K2116*H2116","v":0},{"$f":"IF(Inventory[[#This Row],[Item SKU/ID]]=\"\",0,SUMPRODUCT((Quantity_Sold_1=Inventory[[#This Row],[Item SKU/ID]])*Net_Profit))","v":0},{"$f":"IFERROR(AVERAGE(Inventory[[#This Row],[Total Net Profit]]/Inventory[[#This Row],[Quantity Sold]]),0)","v":0}]
[null,null,null,null,null,null,null,null,0,0,0,null,null,null,0,{"$f":"IF(Inventory[[#This Row],[Item SKU/ID]]=\"\",0,SUMPRODUCT((Quantity_Sold_1=Inventory[[#This Row],[Item SKU/ID]])*Net_Profit))","v":0},{"$f":"IFERROR(AVERAGE(Inventory[[#This Row],[Total Net Profit]]/Inventory[[#This Row],[Quantity Sold]]),0)","v":0}]
[null,null,null,null,null,null,null,null,0,0,0,null,null,null,0,{"$f":"IF(Inventory[[#This Row],[Item SKU/ID]]=\"\",0,SUMPRODUCT((Quantity_Sold_1=Inventory[[#This Row],[Item SKU/ID]])*Net_Profit))","v":0},{"$f":"IFERROR(AVERAGE(Inventory[[#This Row],[Total Net Profit]]/Inventory[[#This Row],[Quantity Sold]]),0)","v":0}]
[null,null,null,null,null,null,null,null,0,0,0,null,null,null,0,{"$f":"IF(Inventory[[#This Row],[Item SKU/ID]]=\"\",0,SUMPRODUCT((Quantity_Sold_1=Inventory[[#This Row],[Item SKU/ID]])*Net_Profit))","v":0},{"$f":"IFERROR(AVERAGE(Inventory[[#This Row],[Total Net Profit]]/Inventory[[#This Row],[Quantity Sold]]),0)","v":0}]
[null,null,null,null,null,null,null,null,0,0,0,null,null,null,0,{"$f":"IF(Inventory[[#This Row],[Item SKU/ID]]=\"\",0,SUMPRODUCT((Quantity_Sold_1=Inventory[[#This Row],[Item SKU/ID]])*Net_Profit))","v":0},{"$f":"IFERROR(AVERAGE(Inventory[[#This Row],[Total Net Profit]]/Inventory[[#This Row],[Quantity Sold]]),0)","v":0}]
[null,null,null,null,null,null,null,null,0,0,0,null,null,null,0,{"$f":"IF(Inventory[[#This Row],[Item SKU/ID]]=\"\",0,SUMPRODUCT((Quantity_Sold_1=Inventory[[#This Row],[Item SKU/ID]])*Net_Profit))","v":0},{"$f":"IFERROR(AVERAGE(Inventory[[#This Row],[Total Net Profit]]/Inventory[[#This Row],[Quantity Sold]]),0)","v":0}]
[null,null,null,null,null,null,null,null,0,0,0,null,null,null,0,{"$f":"IF(Inventory[[#This Row],[Item SKU/ID]]=\"\",0,SUMPRODUCT((Quantity_Sold_1=Inventory[[#This Row],[Item SKU/ID]])*Net_Profit))","v":0},{"$f":"IFERROR(AVERAGE(Inventory[[#This Row],[Total Net Profit]]/Inventory[[#This Row],[Quantity Sold]]),0)","v":0}]
[null,null,null,null,null,null,null,null,0,0,0,null,null,null,0,{"$f":"IF(Inventory[[#This Row],[Item SKU/ID]]=\"\",0,SUMPRODUCT((Quantity_Sold_1=Inventory[[#This Row],[Item SKU/ID]])*Net_Profit))","v":0},{"$f":"IFERROR(AVERAGE(Inventory[[#This Row],[Total Net Profit]]/Inventory[[#This Row],[Quantity Sold]]),0)","v":0}]
[null,null,null,null,null,null,null,null,0,0,0,null,null,null,0,{"$f":"IF(Inventory[[#This Row],[Item SKU/ID]]=\"\",0,SUMPRODUCT((Quantity_Sold_1=Inventory[[#This Row],[Item SKU/ID]])*Net_Profit))","v":0},{"$f":"IFERROR(AVERAGE(Inventory[[#This Row],[Total Net Profit]]/Inventory[[#This Row],[Quantity Sold]]),0)","v":0}]
[null,null,null,null,null,null,null,null,0,0,0,null,null,null,0,{"$f":"IF(Inventory[[#This Row],[Item SKU/ID]]=\"\",0,SUMPRODUCT((Quantity_Sold_1=Inventory[[#This Row],[Item SKU/ID]])*Net_Profit))","v":0},{"$f":"IFERROR(AVERAGE(Inventory[[#This Row],[Total Net Profit]]/Inventory[[#This Row],[Quantity Sold]]),0)","v":0}]
[null,null,null,null,null,null,null,null,0,0,0,null,null,null,0,{"$f":"IF(Inventory[[#This Row],[Item SKU/ID]]=\"\",0,SUMPRODUCT((Quantity_Sold_1=Inventory[[#This Row],[Item SKU/ID]])*Net_Profit))","v":0},{"$f":"IFERROR(AVERAGE(Inventory[[#This Row],[Total Net Profit]]/Inventory[[#This Row],[Quantity Sold]]),0)","v":0}]
[null,null,null,null,null,null,null,null,0,0,0,null,null,null,0,{"$f":"IF(Inventory[[#This Row],[Item SKU/ID]]=\"\",0,SUMPRODUCT((Quantity_Sold_1=Inventory[[#This Row],[Item SKU/ID]])*Net_Profit))","v":0},{"$f":"IFERROR(AVERAGE(Inventory[[#This Row],[Total Net Profit]]/Inventory[[#This Row],[Quantity Sold]]),0)","v":0}]
[null,null,null,null,null,null,null,null,0,0,0,null,null,null,0,{"$f":"IF(Inventory[[#This Row],[Item SKU/ID]]=\"\",0,SUMPRODUCT((Quantity_Sold_1=Inventory[[#This Row],[Item SKU/ID]])*Net_Profit))","v":0},{"$f":"IFERROR(AVERAGE(Inventory[[#This Row],[Total Net Profit]]/Inventory[[#This Row],[Quantity Sold]]),0)","v":0}]
[null,null,null,null,null,null,null,null,0,0,0,null,null,null,0,{"$f":"IF(Inventory[[#This Row],[Item SKU/ID]]=\"\",0,SUMPRODUCT((Quantity_Sold_1=Inventory[[#This Row],[Item SKU/ID]])*Net_Profit))","v":0},{"$f":"IFERROR(AVERAGE(Inventory[[#This Row],[Total Net Profit]]/Inventory[[#This Row],[Quantity Sold]]),0)","v":0}]
[null,null,null,null,null,null,null,null,0,0,0,null,null,null,0,{"$f":"IF(Inventory[[#This Row],[Item SKU/ID]]=\"\",0,SUMPRODUCT((Quantity_Sold_1=Inventory[[#This Row],[Item SKU/ID]])*Net_Profit))","v":0},{"$f":"IFERROR(AVERAGE(Inventory[[#This Row],[Total Net Profit]]/Inventory[[#This Row],[Quantity Sold]]),0)","v":0}]
[null,null,null,null,null,null,null,null,0,0,0,null,null,null,0,{"$f":"IF(Inventory[[#This Row],[Item SKU/ID]]=\"\",0,SUMPRODUCT((Quantity_Sold_1=Inventory[[#This Row],[Item SKU/ID]])*Net_Profit))","v":0},{"$f":"IFERROR(AVERAGE(Inventory[[#This Row],[Total Net Profit]]/Inventory[[#This Row],[Quantity Sold]]),0)","v":0}]
[null,null,null,null,null,null,null,null,0,0,0,null,null,null,0,{"$f":"IF(Inventory[[#This Row],[Item SKU/ID]]=\"\",0,SUMPRODUCT((Quantity_Sold_1=Inventory[[#This Row],[Item SKU/ID]])*Net_Profit))","v":0},{"$f":"IFERROR(AVERAGE(Inventory[[#This Row],[Total Net Profit]]/Inventory[[#This Row],[Quantity Sold]]),0)","v":0}]
[null,null,null,null,null,null,null,null,0,0,0,null,null,null,0,{"$f":"IF(Inventory[[#This Row],[Item SKU/ID]]=\"\",0,SUMPRODUCT((Quantity_Sold_1=Inventory[[#This Row],[Item SKU/ID]])*Net_Profit))","v":0},{"$f":"IFERROR(AVERAGE(Inventory[[#This Row],[Total Net Profit]]/Inventory[[#This Row],[Quantity Sold]]),0)","v":0}]
[null,null,null,null,null,null,null,null,0,0,0,null,null,null,0,{"$f":"IF(Inventory[[#This Row],[Item SKU/ID]]=\"\",0,SUMPRODUCT((Quantity_Sold_1=Inventory[[#This Row],[Item SKU/ID]])*Net_Profit))","v":0},{"$f":"IFERROR(AVERAGE(Inventory[[#This Row],[Total Net Profit]]/Inventory[[#This Row],[Quantity Sold]]),0)","v":0}]
[null,null,null,null,null,null,null,null,0,0,0,null,null,null,0,{"$f":"IF(Inventory[[#This Row],[Item SKU/ID]]=\"\",0,SUMPRODUCT((Quantity_Sold_1=Inventory[[#This Row],[Item SKU/ID]])*Net_Profit))","v":0},{"$f":"IFERROR(AVERAGE(Inventory[[#This Row],[Total Net Profit]]/Inventory[[#This Row],[Quantity Sold]]),0)","v":0}]
[null,null,null,null,null,null,null,null,0,0,0,null,null,null,0,{"$f":"IF(Inventory[[#This Row],[Item SKU/ID]]=\"\",0,SUMPRODUCT((Quantity_Sold_1=Inventory[[#This Row],[Item SKU/ID]])*Net_Profit))","v":0},{"$f":"IFERROR(AVERAGE(Inventory[[#This Row],[Total Net Profit]]/Inventory[[#This Row],[Quantity Sold]]),0)","v":0}]
[null,null,null,null,null,null,null,null,0,0,0,null,null,null,0,{"$f":"IF(Inventory[[#This Row],[Item SKU/ID]]=\"\",0,SUMPRODUCT((Quantity_Sold_1=Inventory[[#This Row],[Item SKU/ID]])*Net_Profit))","v":0},{"$f":"IFERROR(AVERAGE(Inventory[[#This Row],[Total Net Profit]]/Inventory[[#This Row],[Quantity Sold]]),0)","v":0}]
[null,null,null,null,null,null,null,null,0,0,0,null,null,null,0,{"$f":"IF(Inventory[[#This Row],[Item SKU/ID]]=\"\",0,SUMPRODUCT((Quantity_Sold_1=Inventory[[#This Row],[Item SKU/ID]])*Net_Profit))","v":0},{"$f":"IFERROR(AVERAGE(Inventory[[#This Row],[Total Net Profit]]/Inventory[[#This Row],[Quantity Sold]]),0)","v":0}]
[null,null,null,null,null,null,null,null,0,0,0,null,null,null,0,{"$f":"IF(Inventory[[#This Row],[Item SKU/ID]]=\"\",0,SUMPRODUCT((Quantity_Sold_1=Inventory[[#This Row],[Item SKU/ID]])*Net_Profit))","v":0},{"$f":"IFERROR(AVERAGE(Inventory[[#This Row],[Total Net Profit]]/Inventory[[#This Row],[Quantity Sold]]),0)","v":0}]
[null,null,null,null,null,null,null,null,0,0,0,null,null,null,0,{"$f":"IF(Inventory[[#This Row],[Item SKU/ID]]=\"\",0,SUMPRODUCT((Quantity_Sold_1=Inventory[[#This Row],[Item SKU/ID]])*Net_Profit))","v":0},{"$f":"IFERROR(AVERAGE(Inventory[[#This Row],[Total Net Profit]]/Inventory[[#This Row],[Quantity Sold]]),0)","v":0}]
[null,null,null,null,null,null,null,null,0,0,0,null,null,null,0,{"$f":"IF(Inventory[[#This Row],[Item SKU/ID]]=\"\",0,SUMPRODUCT((Quantity_Sold_1=Inventory[[#This Row],[Item SKU/ID]])*Net_Profit))","v":0},{"$f":"IFERROR(AVERAGE(Inventory[[#This Row],[Total Net Profit]]/Inventory[[#This Row],[Quantity Sold]]),0)","v":0}]
[null,null,null,null,null,null,null,null,0,0,0,null,null,null,0,{"$f":"IF(Inventory[[#This Row],[Item SKU/ID]]=\"\",0,SUMPRODUCT((Quantity_Sold_1=Inventory[[#This Row],[Item SKU/ID]])*Net_Profit))","v":0},{"$f":"IFERROR(AVERAGE(Inventory[[#This Row],[Total Net Profit]]/Inventory[[#This Row],[Quantity Sold]]),0)","v":0}]
[null,null,null,null,null,null,null,null,0,0,0,null,null,null,0,{"$f":"IF(Inventory[[#This Row],[Item SKU/ID]]=\"\",0,SUMPRODUCT((Quantity_Sold_1=Inventory[[#This Row],[Item SKU/ID]])*Net_Profit))","v":0},{"$f":"IFERROR(AVERAGE(Inventory[[#This Row],[Total Net Profit]]/Inventory[[#This Row],[Quantity Sold]]),0)","v":0}]
[null,null,null,null,null,null,null,null,0,0,0,null,null,null,0,{"$f":"IF(Inventory[[#This Row],[Item SKU/ID]]=\"\",0,SUMPRODUCT((Quantity_Sold_1=Inventory[[#This Row],[Item SKU/ID]])*Net_Profit))","v":0},{"$f":"IFERROR(AVERAGE(Inventory[[#This Row],[Total Net Profit]]/Inventory[[#This Row],[Quantity Sold]]),0)","v":0}]
[null,null,null,null,null,null,null,null,0,0,0,null,null,null,0,{"$f":"IF(Inventory[[#This Row],[Item SKU/ID]]=\"\",0,SUMPRODUCT((Quantity_Sold_1=Inventory[[#This Row],[Item SKU/ID]])*Net_Profit))","v":0},{"$f":"IFERROR(AVERAGE(Inventory[[#This Row],[Total Net Profit]]/Inventory[[#This Row],[Quantity Sold]]),0)","v":0}]
[null,null,null,null,null,null,null,null,0,0,0,null,null,null,0,{"$f":"IF(Inventory[[#This Row],[Item SKU/ID]]=\"\",0,SUMPRODUCT((Quantity_Sold_1=Inventory[[#This Row],[Item SKU/ID]])*Net_Profit))","v":0},{"$f":"IFERROR(AVERAGE(Inventory[[#This Row],[Total Net Profit]]/Inventory[[#This Row],[Quantity Sold]]),0)","v":0}]
[null,null,null,null,null,null,null,null,0,0,0,null,null,null,0,{"$f":"IF(Inventory[[#This Row],[Item SKU/ID]]=\"\",0,SUMPRODUCT((Quantity_Sold_1=Inventory[[#This Row],[Item SKU/ID]])*Net_Profit))","v":0},{"$f":"IFERROR(AVERAGE(Inventory[[#This Row],[Total Net Profit]]/Inventory[[#This Row],[Quantity Sold]]),0)","v":0}]
[null,null,null,null,null,null,null,null,0,0,0,null,null,null,0,{"$f":"IF(Inventory[[#This Row],[Item SKU/ID]]=\"\",0,SUMPRODUCT((Quantity_Sold_1=Inventory[[#This Row],[Item SKU/ID]])*Net_Profit))","v":0},{"$f":"IFERROR(AVERAGE(Inventory[[#This Row],[Total Net Profit]]/Inventory[[#This Row],[Quantity Sold]]),0)","v":0}]
[null,null,null,null,null,null,null,null,0,0,0,null,null,null,0,{"$f":"IF(Inventory[[#This Row],[Item SKU/ID]]=\"\",0,SUMPRODUCT((Quantity_Sold_1=Inventory[[#This Row],[Item SKU/ID]])*Net_Profit))","v":0},{"$f":"IFERROR(AVERAGE(Inventory[[#This Row],[Total Net Profit]]/Inventory[[#This Row],[Quantity Sold]]),0)","v":0}]
[null,null,null,null,null,null,null,null,0,0,0,null,null,null,0,{"$f":"IF(Inventory[[#This Row],[Item SKU/ID]]=\"\",0,SUMPRODUCT((Quantity_Sold_1=Inventory[[#This Row],[Item SKU/ID]])*Net_Profit))","v":0},{"$f":"IFERROR(AVERAGE(Inventory[[#This Row],[Total Net Profit]]/Inventory[[#This Row],[Quantity Sold]]),0)","v":0}]
[null,null,null,null,null,null,null,null,0,0,0,null,null,null,0,{"$f":"IF(Inventory[[#This Row],[Item SKU/ID]]=\"\",0,SUMPRODUCT((Quantity_Sold_1=Inventory[[#This Row],[Item SKU/ID]])*Net_Profit))","v":0},{"$f":"IFERROR(AVERAGE(Inventory[[#This Row],[Total Net Profit]]/Inventory[[#This Row],[Quantity Sold]]),0)","v":0}]
[null,null,null,null,null,null,null,null,0,0,0,null,null,null,0,{"$f":"IF(Inventory[[#This Row],[Item SKU/ID]]=\"\",0,SUMPRODUCT((Quantity_Sold_1=Inventory[[#This Row],[Item SKU/ID]])*Net_Profit))","v":0},{"$f":"IFERROR(AVERAGE(Inventory[[#This Row],[Total Net Profit]]/Inventory[[#This Row],[Quantity Sold]]),0)","v":0}]
[null,null,null,null,null,null,null,null,0,0,0,null,null,null,0,{"$f":"IF(Inventory[[#This Row],[Item SKU/ID]]=\"\",0,SUMPRODUCT((Quantity_Sold_1=Inventory[[#This Row],[Item SKU/ID]])*Net_Profit))","v":0},{"$f":"IFERROR(AVERAGE(Inventory[[#This Row],[Total Net Profit]]/Inventory[[#This Row],[Quantity Sold]]),0)","v":0}]
[null,null,null,null,null,null,null,null,0,0,0,null,null,null,0,{"$f":"IF(Inventory[[#This Row],[Item SKU/ID]]=\"\",0,SUMPRODUCT((Quantity_Sold_1=Inventory[[#This Row],[Item SKU/ID]])*Net_Profit))","v":0},{"$f":"IFERROR(AVERAGE(Inventory[[#This Row],[Total Net Profit]]/Inventory[[#This Row],[Quantity Sold]]),0)","v":0}]
[null,null,null,null,null,null,null,null,0,0,0,null,null,null,0,{"$f":"IF(Inventory[[#This Row],[Item SKU/ID]]=\"\",0,SUMPRODUCT((Quantity_Sold_1=Inventory[[#This Row],[Item SKU/ID]])*Net_Profit))","v":0},{"$f":"IFERROR(AVERAGE(Inventory[[#This Row],[Total Net Profit]]/Inventory[[#This Row],[Quantity Sold]]),0)","v":0}]
[null,null,null,null,null,null,null,null,0,0,0,null,null,null,0,{"$f":"IF(Inventory[[#This Row],[Item SKU/ID]]=\"\",0,SUMPRODUCT((Quantity_Sold_1=Inventory[[#This Row],[Item SKU/ID]])*Net_Profit))","v":0},{"$f":"IFERROR(AVERAGE(Inventory[[#This Row],[Total Net Profit]]/Inventory[[#This Row],[Quantity Sold]]),0)","v":0}]
[null,null,null,null,null,null,null,null,0,0,0,null,null,null,0,{"$f":"IF(Inventory[[#This Row],[Item SKU/ID]]=\"\",0,SUMPRODUCT((Quantity_Sold_1=Inventory[[#This Row],[Item SKU/ID]])*Net_Profit))","v":0},{"$f":"IFERROR(AVERAGE(Inventory[[#This Row],[Total Net Profit]]/Inventory[[#This Row],[Quantity Sold]]),0)","v":0}]
[null,null,null,null,null,null,null,null,0,0,0,null,null,null,0,{"$f":"IF(Inventory[[#This Row],[Item SKU/ID]]=\"\",0,SUMPRODUCT((Quantity_Sold_1=Inventory[[#This Row],[Item SKU/ID]])*Net_Profit))","v":0},{"$f":"IFERROR(AVERAGE(Inventory[[#This Row],[Total Net Profit]]/Inventory[[#This Row],[Quantity Sold]]),0)","v":0}]
[null,null,null,null,null,null,null,null,0,0,0,null,null,null,0,{"$f":"IF(Inventory[[#This Row],[Item SKU/ID]]=\"\",0,SUMPRODUCT((Quantity_Sold_1=Inventory[[#This Row],[Item SKU/ID]])*Net_Profit))","v":0},{"$f":"IFERROR(AVERAGE(Inventory[[#This Row],[Total Net Profit]]/Inventory[[#This Row],[Quantity Sold]]),0)","v":0}]
[null,null,null,null,null,null,null,null,0,0,0,null,null,null,0,{"$f":"IF(Inventory[[#This Row],[Item SKU/ID]]=\"\",0,SUMPRODUCT((Quantity_Sold_1=Inventory[[#This Row],[Item SKU/ID]])*Net_Profit))","v":0},{"$f":"IFERROR(AVERAGE(Inventory[[#This Row],[Total Net Profit]]/Inventory[[#This Row],[Quantity Sold]]),0)","v":0}]
[null,null,null,null,null,null,null,null,0,0,0,null,null,null,0,{"$f":"IF(Inventory[[#This Row],[Item SKU/ID]]=\"\",0,SUMPRODUCT((Quantity_Sold_1=Inventory[[#This Row],[Item SKU/ID]])*Net_Profit))","v":0},{"$f":"IFERROR(AVERAGE(Inventory[[#This Row],[Total Net Profit]]/Inventory[[#This Row],[Quantity Sold]]),0)","v":0}]
[null,null,null,null,null,null,null,null,0,0,0,null,null,null,0,{"$f":"IF(Inventory[[#This Row],[Item SKU/ID]]=\"\",0,SUMPRODUCT((Quantity_Sold_1=Inventory[[#This Row],[Item SKU/ID]])*Net_Profit))","v":0},{"$f":"IFERROR(AVERAGE(Inventory[[#This Row],[Total Net Profit]]/Inventory[[#This Row],[Quantity Sold]]),0)","v":0}]
[null,null,null,null,null,null,null,null,0,0,0,null,null,null,0,{"$f":"IF(Inventory[[#This Row],[Item SKU/ID]]=\"\",0,SUMPRODUCT((Quantity_Sold_1=Inventory[[#This Row],[Item SKU/ID]])*Net_Profit))","v":0},{"$f":"IFERROR(AVERAGE(Inventory[[#This Row],[Total Net Profit]]/Inventory[[#This Row],[Quantity Sold]]),0)","v":0}]
[null,null,null,null,null,null,null,null,0,0,0,null,null,null,0,{"$f":"IF(Inventory[[#This Row],[Item SKU/ID]]=\"\",0,SUMPRODUCT((Quantity_Sold_1=Inventory[[#This Row],[Item SKU/ID]])*Net_Profit))","v":0},{"$f":"IFERROR(AVERAGE(Inventory[[#This Row],[Total Net Profit]]/Inventory[[#This Row],[Quantity Sold]]),0)","v":0}]
[null,null,null,null,null,null,null,null,0,0,0,null,null,null,0,{"$f":"IF(Inventory[[#This Row],[Item SKU/ID]]=\"\",0,SUMPRODUCT((Quantity_Sold_1=Inventory[[#This Row],[Item SKU/ID]])*Net_Profit))","v":0},{"$f":"IFERROR(AVERAGE(Inventory[[#This Row],[Total Net Profit]]/Inventory[[#This Row],[Quantity Sold]]),0)","v":0}]
[null,null,null,null,null,null,null,null,0,0,0,null,null,null,0,{"$f":"IF(Inventory[[#This Row],[Item SKU/ID]]=\"\",0,SUMPRODUCT((Quantity_Sold_1=Inventory[[#This Row],[Item SKU/ID]])*Net_Profit))","v":0},{"$f":"IFERROR(AVERAGE(Inventory[[#This Row],[Total Net Profit]]/Inventory[[#This Row],[Quantity Sold]]),0)","v":0}]
[null,null,null,null,null,null,null,null,0,0,0,null,null,null,0,{"$f":"IF(Inventory[[#This Row],[Item SKU/ID]]=\"\",0,SUMPRODUCT((Quantity_Sold_1=Inventory[[#This Row],[Item SKU/ID]])*Net_Profit))","v":0},{"$f":"IFERROR(AVERAGE(Inventory[[#This Row],[Total Net Profit]]/Inventory[[#This Row],[Quantity Sold]]),0)","v":0}]
[null,null,null,null,null,null,null,null,0,0,0,null,null,null,0,{"$f":"IF(Inventory[[#This Row],[Item SKU/ID]]=\"\",0,SUMPRODUCT((Quantity_Sold_1=Inventory[[#This Row],[Item SKU/ID]])*Net_Profit))","v":0},{"$f":"IFERROR(AVERAGE(Inventory[[#This Row],[Total Net Profit]]/Inventory[[#This Row],[Quantity Sold]]),0)","v":0}]
[null,null,null,null,null,null,null,null,0,0,0,null,null,null,0,{"$f":"IF(Inventory[[#This Row],[Item SKU/ID]]=\"\",0,SUMPRODUCT((Quantity_Sold_1=Inventory[[#This Row],[Item SKU/ID]])*Net_Profit))","v":0},{"$f":"IFERROR(AVERAGE(Inventory[[#This Row],[Total Net Profit]]/Inventory[[#This Row],[Quantity Sold]]),0)","v":0}]
[null,null,null,null,null,null,null,null,0,0,0,null,null,null,0,{"$f":"IF(Inventory[[#This Row],[Item SKU/ID]]=\"\",0,SUMPRODUCT((Quantity_Sold_1=Inventory[[#This Row],[Item SKU/ID]])*Net_Profit))","v":0},{"$f":"IFERROR(AVERAGE(Inventory[[#This Row],[Total Net Profit]]/Inventory[[#This Row],[Quantity Sold]]),0)","v":0}]
[null,null,null,null,null,null,null,null,0,0,0,null,null,null,0,{"$f":"IF(Inventory[[#This Row],[Item SKU/ID]]=\"\",0,SUMPRODUCT((Quantity_Sold_1=Inventory[[#This Row],[Item SKU/ID]])*Net_Profit))","v":0},{"$f":"IFERROR(AVERAGE(Inventory[[#This Row],[Total Net Profit]]/Inventory[[#This Row],[Quantity Sold]]),0)","v":0}]
[null,null,null,null,null,null,null,null,0,0,0,null,null,null,0,{"$f":"IF(Inventory[[#This Row],[Item SKU/ID]]=\"\",0,SUMPRODUCT((Quantity_Sold_1=Inventory[[#This Row],[Item SKU/ID]])*Net_Profit))","v":0},{"$f":"IFERROR(AVERAGE(Inventory[[#This Row],[Total Net Profit]]/Inventory[[#This Row],[Quantity Sold]]),0)","v":0}]
[null,null,null,null,null,null,null,null,0,0,0,null,null,null,0,{"$f":"IF(Inventory[[#This Row],[Item SKU/ID]]=\"\",0,SUMPRODUCT((Quantity_Sold_1=Inventory[[#This Row],[Item SKU/ID]])*Net_Profit))","v":0},{"$f":"IFERROR(AVERAGE(Inventory[[#This Row],[Total Net Profit]]/Inventory[[#This Row],[Quantity Sold]]),0)","v":0}]
[null,null,null,null,null,null,null,null,0,0,0,null,null,null,0,{"$f":"IF(Inventory[[#This Row],[Item SKU/ID]]=\"\",0,SUMPRODUCT((Quantity_Sold_1=Inventory[[#This Row],[Item SKU/ID]])*Net_Profit))","v":0},{"$f":"IFERROR(AVERAGE(Inventory[[#This Row],[Total Net Profit]]/Inventory[[#This Row],[Quantity Sold]]),0)","v":0}]
[null,null,null,null,null,null,null,null,0,0,0,null,null,null,0,{"$f":"IF(Inventory[[#This Row],[Item SKU/ID]]=\"\",0,SUMPRODUCT((Quantity_Sold_1=Inventory[[#This Row],[Item SKU/ID]])*Net_Profit))","v":0},{"$f":"IFERROR(AVERAGE(Inventory[[#This Row],[Total Net Profit]]/Inventory[[#This Row],[Quantity Sold]]),0)","v":0}]
[null,null,null,null,null,null,null,null,0,0,0,null,null,null,0,{"$f":"IF(Inventory[[#This Row],[Item SKU/ID]]=\"\",0,SUMPRODUCT((Quantity_Sold_1=Inventory[[#This Row],[Item SKU/ID]])*Net_Profit))","v":0},{"$f":"IFERROR(AVERAGE(Inventory[[#This Row],[Total Net Profit]]/Inventory[[#This Row],[Quantity Sold]]),0)","v":0}]
[null,null,null,null,null,null,null,null,0,0,0,null,null,null,0,{"$f":"IF(Inventory[[#This Row],[Item SKU/ID]]=\"\",0,SUMPRODUCT((Quantity_Sold_1=Inventory[[#This Row],[Item SKU/ID]])*Net_Profit))","v":0},{"$f":"IFERROR(AVERAGE(Inventory[[#This Row],[Total Net Profit]]/Inventory[[#This Row],[Quantity Sold]]),0)","v":0}]
[null,null,null,null,null,null,null,null,0,0,0,null,null,null,0,{"$f":"IF(Inventory[[#This Row],[Item SKU/ID]]=\"\",0,SUMPRODUCT((Quantity_Sold_1=Inventory[[#This Row],[Item SKU/ID]])*Net_Profit))","v":0},{"$f":"IFERROR(AVERAGE(Inventory[[#This Row],[Total Net Profit]]/Inventory[[#This Row],[Quantity Sold]]),0)","v":0}]
[null,null,null,null,null,null,null,null,0,0,0,null,null,null,0,{"$f":"IF(Inventory[[#This Row],[Item SKU/ID]]=\"\",0,SUMPRODUCT((Quantity_Sold_1=Inventory[[#This Row],[Item SKU/ID]])*Net_Profit))","v":0},{"$f":"IFERROR(AVERAGE(Inventory[[#This Row],[Total Net Profit]]/Inventory[[#This Row],[Quantity Sold]]),0)","v":0}]
[null,null,null,null,null,null,null,null,{"$f":"K2180*H2180","v":0},{"$f":"IF(F2180=\"\",0,SUMPRODUCT((Quantity_Sold_1=F2180)*Quantity_Sold_2))","v":0},{"$f":"G2180-J2180","v":0},null,null,null,{"$f":"K2180*H2180","v":0},{"$f":"IF(Inventory[[#This Row],[Item SKU/ID]]=\"\",0,SUMPRODUCT((Quantity_Sold_1=Inventory[[#This Row],[Item SKU/ID]])*Net_Profit))","v":0},{"$f":"IFERROR(AVERAGE(Inventory[[#This Row],[Total Net Profit]]/Inventory[[#This Row],[Quantity Sold]]),0)","v":0}]
[null,null,null,null,null,null,null,null,0,0,0,null,null,null,0,{"$f":"IF(Inventory[[#This Row],[Item SKU/ID]]=\"\",0,SUMPRODUCT((Quantity_Sold_1=Inventory[[#This Row],[Item SKU/ID]])*Net_Profit))","v":0},{"$f":"IFERROR(AVERAGE(Inventory[[#This Row],[Total Net Profit]]/Inventory[[#This Row],[Quantity Sold]]),0)","v":0}]
[null,null,null,null,null,null,null,null,0,0,0,null,null,null,0,{"$f":"IF(Inventory[[#This Row],[Item SKU/ID]]=\"\",0,SUMPRODUCT((Quantity_Sold_1=Inventory[[#This Row],[Item SKU/ID]])*Net_Profit))","v":0},{"$f":"IFERROR(AVERAGE(Inventory[[#This Row],[Total Net Profit]]/Inventory[[#This Row],[Quantity Sold]]),0)","v":0}]
[null,null,null,null,null,null,null,null,0,0,0,null,null,null,0,{"$f":"IF(Inventory[[#This Row],[Item SKU/ID]]=\"\",0,SUMPRODUCT((Quantity_Sold_1=Inventory[[#This Row],[Item SKU/ID]])*Net_Profit))","v":0},{"$f":"IFERROR(AVERAGE(Inventory[[#This Row],[Total Net Profit]]/Inventory[[#This Row],[Quantity Sold]]),0)","v":0}]
[null,null,null,null,null,null,null,null,0,0,0,null,null,null,0,{"$f":"IF(Inventory[[#This Row],[Item SKU/ID]]=\"\",0,SUMPRODUCT((Quantity_Sold_1=Inventory[[#This Row],[Item SKU/ID]])*Net_Profit))","v":0},{"$f":"IFERROR(AVERAGE(Inventory[[#This Row],[Total Net Profit]]/Inventory[[#This Row],[Quantity Sold]]),0)","v":0}]
[null,null,null,null,null,null,null,null,0,0,0,null,null,null,0,{"$f":"IF(Inventory[[#This Row],[Item SKU/ID]]=\"\",0,SUMPRODUCT((Quantity_Sold_1=Inventory[[#This Row],[Item SKU/ID]])*Net_Profit))","v":0},{"$f":"IFERROR(AVERAGE(Inventory[[#This Row],[Total Net Profit]]/Inventory[[#This Row],[Quantity Sold]]),0)","v":0}]
[null,null,null,null,null,null,null,null,0,0,0,null,null,null,0,{"$f":"IF(Inventory[[#This Row],[Item SKU/ID]]=\"\",0,SUMPRODUCT((Quantity_Sold_1=Inventory[[#This Row],[Item SKU/ID]])*Net_Profit))","v":0},{"$f":"IFERROR(AVERAGE(Inventory[[#This Row],[Total Net Profit]]/Inventory[[#This Row],[Quantity Sold]]),0)","v":0}]
[null,null,null,null,null,null,null,null,0,0,0,null,null,null,0,{"$f":"IF(Inventory[[#This Row],[Item SKU/ID]]=\"\",0,SUMPRODUCT((Quantity_Sold_1=Inventory[[#This Row],[Item SKU/ID]])*Net_Profit))","v":0},{"$f":"IFERROR(AVERAGE(Inventory[[#This Row],[Total Net Profit]]/Inventory[[#This Row],[Quantity Sold]]),0)","v":0}]
[null,null,null,null,null,null,null,null,0,0,0,null,null,null,0,{"$f":"IF(Inventory[[#This Row],[Item SKU/ID]]=\"\",0,SUMPRODUCT((Quantity_Sold_1=Inventory[[#This Row],[Item SKU/ID]])*Net_Profit))","v":0},{"$f":"IFERROR(AVERAGE(Inventory[[#This Row],[Total Net Profit]]/Inventory[[#This Row],[Quantity Sold]]),0)","v":0}]
[null,null,null,null,null,null,null,null,0,0,0,null,null,null,0,{"$f":"IF(Inventory[[#This Row],[Item SKU/ID]]=\"\",0,SUMPRODUCT((Quantity_Sold_1=Inventory[[#This Row],[Item SKU/ID]])*Net_Profit))","v":0},{"$f":"IFERROR(AVERAGE(Inventory[[#This Row],[Total Net Profit]]/Inventory[[#This Row],[Quantity Sold]]),0)","v":0}]
[null,null,null,null,null,null,null,null,0,0,0,null,null,null,0,{"$f":"IF(Inventory[[#This Row],[Item SKU/ID]]=\"\",0,SUMPRODUCT((Quantity_Sold_1=Inventory[[#This Row],[Item SKU/ID]])*Net_Profit))","v":0},{"$f":"IFERROR(AVERAGE(Inventory[[#This Row],[Total Net Profit]]/Inventory[[#This Row],[Quantity Sold]]),0)","v":0}]
[null,null,null,null,null,null,null,null,0,0,0,null,null,null,0,{"$f":"IF(Inventory[[#This Row],[Item SKU/ID]]=\"\",0,SUMPRODUCT((Quantity_Sold_1=Inventory[[#This Row],[Item SKU/ID]])*Net_Profit))","v":0},{"$f":"IFERROR(AVERAGE(Inventory[[#This Row],[Total Net Profit]]/Inventory[[#This Row],[Quantity Sold]]),0)","v":0}]
[null,null,null,null,null,null,null,null,0,0,0,null,null,null,0,{"$f":"IF(Inventory[[#This Row],[Item SKU/ID]]=\"\",0,SUMPRODUCT((Quantity_Sold_1=Inventory[[#This Row],[Item SKU/ID]])*Net_Profit))","v":0},{"$f":"IFERROR(AVERAGE(Inventory[[#This Row],[Total Net Profit]]/Inventory[[#This Row],[Quantity Sold]]),0)","v":0}]
[null,null,null,null,null,null,null,null,0,0,0,null,null,null,0,{"$f":"IF(Inventory[[#This Row],[Item SKU/ID]]=\"\",0,SUMPRODUCT((Quantity_Sold_1=Inventory[[#This Row],[Item SKU/ID]])*Net_Profit))","v":0},{"$f":"IFERROR(AVERAGE(Inventory[[#This Row],[Total Net Profit]]/Inventory[[#This Row],[Quantity Sold]]),0)","v":0}]
[null,null,null,null,null,null,null,null,0,0,0,null,null,null,0,{"$f":"IF(Inventory[[#This Row],[Item SKU/ID]]=\"\",0,SUMPRODUCT((Quantity_Sold_1=Inventory[[#This Row],[Item SKU/ID]])*Net_Profit))","v":0},{"$f":"IFERROR(AVERAGE(Inventory[[#This Row],[Total Net Profit]]/Inventory[[#This Row],[Quantity Sold]]),0)","v":0}]
[null,null,null,null,null,null,null,null,0,0,0,null,null,null,0,{"$f":"IF(Inventory[[#This Row],[Item SKU/ID]]=\"\",0,SUMPRODUCT((Quantity_Sold_1=Inventory[[#This Row],[Item SKU/ID]])*Net_Profit))","v":0},{"$f":"IFERROR(AVERAGE(Inventory[[#This Row],[Total Net Profit]]/Inventory[[#This Row],[Quantity Sold]]),0)","v":0}]
[null,null,null,null,null,null,null,null,0,0,0,null,null,null,0,{"$f":"IF(Inventory[[#This Row],[Item SKU/ID]]=\"\",0,SUMPRODUCT((Quantity_Sold_1=Inventory[[#This Row],[Item SKU/ID]])*Net_Profit))","v":0},{"$f":"IFERROR(AVERAGE(Inventory[[#This Row],[Total Net Profit]]/Inventory[[#This Row],[Quantity Sold]]),0)","v":0}]
[null,null,null,null,null,null,null,null,0,0,0,null,null,null,0,{"$f":"IF(Inventory[[#This Row],[Item SKU/ID]]=\"\",0,SUMPRODUCT((Quantity_Sold_1=Inventory[[#This Row],[Item SKU/ID]])*Net_Profit))","v":0},{"$f":"IFERROR(AVERAGE(Inventory[[#This Row],[Total Net Profit]]/Inventory[[#This Row],[Quantity Sold]]),0)","v":0}]
[null,null,null,null,null,null,null,null,0,0,0,null,null,null,0,{"$f":"IF(Inventory[[#This Row],[Item SKU/ID]]=\"\",0,SUMPRODUCT((Quantity_Sold_1=Inventory[[#This Row],[Item SKU/ID]])*Net_Profit))","v":0},{"$f":"IFERROR(AVERAGE(Inventory[[#This Row],[Total Net Profit]]/Inventory[[#This Row],[Quantity Sold]]),0)","v":0}]
[null,null,null,null,null,null,null,null,0,0,0,null,null,null,0,{"$f":"IF(Inventory[[#This Row],[Item SKU/ID]]=\"\",0,SUMPRODUCT((Quantity_Sold_1=Inventory[[#This Row],[Item SKU/ID]])*Net_Profit))","v":0},{"$f":"IFERROR(AVERAGE(Inventory[[#This Row],[Total Net Profit]]/Inventory[[#This Row],[Quantity Sold]]),0)","v":0}]
[null,null,null,null,null,null,null,null,0,0,0,null,null,null,0,{"$f":"IF(Inventory[[#This Row],[Item SKU/ID]]=\"\",0,SUMPRODUCT((Quantity_Sold_1=Inventory[[#This Row],[Item SKU/ID]])*Net_Profit))","v":0},{"$f":"IFERROR(AVERAGE(Inventory[[#This Row],[Total Net Profit]]/Inventory[[#This Row],[Quantity Sold]]),0)","v":0}]
[null,null,null,null,null,null,null,null,0,0,0,null,null,null,0,{"$f":"IF(Inventory[[#This Row],[Item SKU/ID]]=\"\",0,SUMPRODUCT((Quantity_Sold_1=Inventory[[#This Row],[Item SKU/ID]])*Net_Profit))","v":0},{"$f":"IFERROR(AVERAGE(Inventory[[#This Row],[Total Net Profit]]/Inventory[[#This Row],[Quantity Sold]]),0)","v":0}]
[null,null,null,null,null,null,null,null,0,0,0,null,null,null,0,{"$f":"IF(Inventory[[#This Row],[Item SKU/ID]]=\"\",0,SUMPRODUCT((Quantity_Sold_1=Inventory[[#This Row],[Item SKU/ID]])*Net_Profit))","v":0},{"$f":"IFERROR(AVERAGE(Inventory[[#This Row],[Total Net Profit]]/Inventory[[#This Row],[Quantity Sold]]),0)","v":0}]
[null,null,null,null,null,null,null,null,0,0,0,null,null,null,0,{"$f":"IF(Inventory[[#This Row],[Item SKU/ID]]=\"\",0,SUMPRODUCT((Quantity_Sold_1=Inventory[[#This Row],[Item SKU/ID]])*Net_Profit))","v":0},{"$f":"IFERROR(AVERAGE(Inventory[[#This Row],[Total Net Profit]]/Inventory[[#This Row],[Quantity Sold]]),0)","v":0}]
[null,null,null,null,null,null,null,null,0,0,0,null,null,null,0,{"$f":"IF(Inventory[[#This Row],[Item SKU/ID]]=\"\",0,SUMPRODUCT((Quantity_Sold_1=Inventory[[#This Row],[Item SKU/ID]])*Net_Profit))","v":0},{"$f":"IFERROR(AVERAGE(Inventory[[#This Row],[Total Net Profit]]/Inventory[[#This Row],[Quantity Sold]]),0)","v":0}]
[null,null,null,null,null,null,null,null,0,0,0,null,null,null,0,{"$f":"IF(Inventory[[#This Row],[Item SKU/ID]]=\"\",0,SUMPRODUCT((Quantity_Sold_1=Inventory[[#This Row],[Item SKU/ID]])*Net_Profit))","v":0},{"$f":"IFERROR(AVERAGE(Inventory[[#This Row],[Total Net Profit]]/Inventory[[#This Row],[Quantity Sold]]),0)","v":0}]
[null,null,null,null,null,null,null,null,0,0,0,null,null,null,0,{"$f":"IF(Inventory[[#This Row],[Item SKU/ID]]=\"\",0,SUMPRODUCT((Quantity_Sold_1=Inventory[[#This Row],[Item SKU/ID]])*Net_Profit))","v":0},{"$f":"IFERROR(AVERAGE(Inventory[[#This Row],[Total Net Profit]]/Inventory[[#This Row],[Quantity Sold]]),0)","v":0}]
[null,null,null,null,null,null,null,null,0,0,0,null,null,null,0,{"$f":"IF(Inventory[[#This Row],[Item SKU/ID]]=\"\",0,SUMPRODUCT((Quantity_Sold_1=Inventory[[#This Row],[Item SKU/ID]])*Net_Profit))","v":0},{"$f":"IFERROR(AVERAGE(Inventory[[#This Row],[Total Net Profit]]/Inventory[[#This Row],[Quantity Sold]]),0)","v":0}]
[null,null,null,null,null,null,null,null,0,0,0,null,null,null,0,{"$f":"IF(Inventory[[#This Row],[Item SKU/ID]]=\"\",0,SUMPRODUCT((Quantity_Sold_1=Inventory[[#This Row],[Item SKU/ID]])*Net_Profit))","v":0},{"$f":"IFERROR(AVERAGE(Inventory[[#This Row],[Total Net Profit]]/Inventory[[#This Row],[Quantity Sold]]),0)","v":0}]
[null,null,null,null,null,null,null,null,0,0,0,null,null,null,0,{"$f":"IF(Inventory[[#This Row],[Item SKU/ID]]=\"\",0,SUMPRODUCT((Quantity_Sold_1=Inventory[[#This Row],[Item SKU/ID]])*Net_Profit))","v":0},{"$f":"IFERROR(AVERAGE(Inventory[[#This Row],[Total Net Profit]]/Inventory[[#This Row],[Quantity Sold]]),0)","v":0}]
[null,null,null,null,null,null,null,null,0,0,0,null,null,null,0,{"$f":"IF(Inventory[[#This Row],[Item SKU/ID]]=\"\",0,SUMPRODUCT((Quantity_Sold_1=Inventory[[#This Row],[Item SKU/ID]])*Net_Profit))","v":0},{"$f":"IFERROR(AVERAGE(Inventory[[#This Row],[Total Net Profit]]/Inventory[[#This Row],[Quantity Sold]]),0)","v":0}]
[null,null,null,null,null,null,null,null,0,0,0,null,null,null,0,{"$f":"IF(Inventory[[#This Row],[Item SKU/ID]]=\"\",0,SUMPRODUCT((Quantity_Sold_1=Inventory[[#This Row],[Item SKU/ID]])*Net_Profit))","v":0},{"$f":"IFERROR(AVERAGE(Inventory[[#This Row],[Total Net Profit]]/Inventory[[#This Row],[Quantity Sold]]),0)","v":0}]
[null,null,null,null,null,null,null,null,0,0,0,null,null,null,0,{"$f":"IF(Inventory[[#This Row],[Item SKU/ID]]=\"\",0,SUMPRODUCT((Quantity_Sold_1=Inventory[[#This Row],[Item SKU/ID]])*Net_Profit))","v":0},{"$f":"IFERROR(AVERAGE(Inventory[[#This Row],[Total Net Profit]]/Inventory[[#This Row],[Quantity Sold]]),0)","v":0}]
[null,null,null,null,null,null,null,null,0,0,0,null,null,null,0,{"$f":"IF(Inventory[[#This Row],[Item SKU/ID]]=\"\",0,SUMPRODUCT((Quantity_Sold_1=Inventory[[#This Row],[Item SKU/ID]])*Net_Profit))","v":0},{"$f":"IFERROR(AVERAGE(Inventory[[#This Row],[Total Net Profit]]/Inventory[[#This Row],[Quantity Sold]]),0)","v":0}]
[null,null,null,null,null,null,null,null,0,0,0,null,null,null,0,{"$f":"IF(Inventory[[#This Row],[Item SKU/ID]]=\"\",0,SUMPRODUCT((Quantity_Sold_1=Inventory[[#This Row],[Item SKU/ID]])*Net_Profit))","v":0},{"$f":"IFERROR(AVERAGE(Inventory[[#This Row],[Total Net Profit]]/Inventory[[#This Row],[Quantity Sold]]),0)","v":0}]
[null,null,null,null,null,null,null,null,0,0,0,null,null,null,0,{"$f":"IF(Inventory[[#This Row],[Item SKU/ID]]=\"\",0,SUMPRODUCT((Quantity_Sold_1=Inventory[[#This Row],[Item SKU/ID]])*Net_Profit))","v":0},{"$f":"IFERROR(AVERAGE(Inventory[[#This Row],[Total Net Profit]]/Inventory[[#This Row],[Quantity Sold]]),0)","v":0}]
[null,null,null,null,null,null,null,null,0,0,0,null,null,null,0,{"$f":"IF(Inventory[[#This Row],[Item SKU/ID]]=\"\",0,SUMPRODUCT((Quantity_Sold_1=Inventory[[#This Row],[Item SKU/ID]])*Net_Profit))","v":0},{"$f":"IFERROR(AVERAGE(Inventory[[#This Row],[Total Net Profit]]/Inventory[[#This Row],[Quantity Sold]]),0)","v":0}]
[null,null,null,null,null,null,null,null,0,0,0,null,null,null,0,{"$f":"IF(Inventory[[#This Row],[Item SKU/ID]]=\"\",0,SUMPRODUCT((Quantity_Sold_1=Inventory[[#This Row],[Item SKU/ID]])*Net_Profit))","v":0},{"$f":"IFERROR(AVERAGE(Inventory[[#This Row],[Total Net Profit]]/Inventory[[#This Row],[Quantity Sold]]),0)","v":0}]
[null,null,null,null,null,null,null,null,0,0,0,null,null,null,0,{"$f":"IF(Inventory[[#This Row],[Item SKU/ID]]=\"\",0,SUMPRODUCT((Quantity_Sold_1=Inventory[[#This Row],[Item SKU/ID]])*Net_Profit))","v":0},{"$f":"IFERROR(AVERAGE(Inventory[[#This Row],[Total Net Profit]]/Inventory[[#This Row],[Quantity Sold]]),0)","v":0}]
[null,null,null,null,null,null,null,null,0,0,0,null,null,null,0,{"$f":"IF(Inventory[[#This Row],[Item SKU/ID]]=\"\",0,SUMPRODUCT((Quantity_Sold_1=Inventory[[#This Row],[Item SKU/ID]])*Net_Profit))","v":0},{"$f":"IFERROR(AVERAGE(Inventory[[#This Row],[Total Net Profit]]/Inventory[[#This Row],[Quantity Sold]]),0)","v":0}]
[null,null,null,null,null,null,null,null,0,0,0,null,null,null,0,{"$f":"IF(Inventory[[#This Row],[Item SKU/ID]]=\"\",0,SUMPRODUCT((Quantity_Sold_1=Inventory[[#This Row],[Item SKU/ID]])*Net_Profit))","v":0},{"$f":"IFERROR(AVERAGE(Inventory[[#This Row],[Total Net Profit]]/Inventory[[#This Row],[Quantity Sold]]),0)","v":0}]
[null,null,null,null,null,null,null,null,0,0,0,null,null,null,0,{"$f":"IF(Inventory[[#This Row],[Item SKU/ID]]=\"\",0,SUMPRODUCT((Quantity_Sold_1=Inventory[[#This Row],[Item SKU/ID]])*Net_Profit))","v":0},{"$f":"IFERROR(AVERAGE(Inventory[[#This Row],[Total Net Profit]]/Inventory[[#This Row],[Quantity Sold]]),0)","v":0}]
[null,null,null,null,null,null,null,null,0,0,0,null,null,null,0,{"$f":"IF(Inventory[[#This Row],[Item SKU/ID]]=\"\",0,SUMPRODUCT((Quantity_Sold_1=Inventory[[#This Row],[Item SKU/ID]])*Net_Profit))","v":0},{"$f":"IFERROR(AVERAGE(Inventory[[#This Row],[Total Net Profit]]/Inventory[[#This Row],[Quantity Sold]]),0)","v":0}]
[null,null,null,null,null,null,null,null,0,0,0,null,null,null,0,{"$f":"IF(Inventory[[#This Row],[Item SKU/ID]]=\"\",0,SUMPRODUCT((Quantity_Sold_1=Inventory[[#This Row],[Item SKU/ID]])*Net_Profit))","v":0},{"$f":"IFERROR(AVERAGE(Inventory[[#This Row],[Total Net Profit]]/Inventory[[#This Row],[Quantity Sold]]),0)","v":0}]
[null,null,null,null,null,null,null,null,0,0,0,null,null,null,0,{"$f":"IF(Inventory[[#This Row],[Item SKU/ID]]=\"\",0,SUMPRODUCT((Quantity_Sold_1=Inventory[[#This Row],[Item SKU/ID]])*Net_Profit))","v":0},{"$f":"IFERROR(AVERAGE(Inventory[[#This Row],[Total Net Profit]]/Inventory[[#This Row],[Quantity Sold]]),0)","v":0}]
[null,null,null,null,null,null,null,null,0,0,0,null,null,null,0,{"$f":"IF(Inventory[[#This Row],[Item SKU/ID]]=\"\",0,SUMPRODUCT((Quantity_Sold_1=Inventory[[#This Row],[Item SKU/ID]])*Net_Profit))","v":0},{"$f":"IFERROR(AVERAGE(Inventory[[#This Row],[Total Net Profit]]/Inventory[[#This Row],[Quantity Sold]]),0)","v":0}]
[null,null,null,null,null,null,null,null,0,0,0,null,null,null,0,{"$f":"IF(Inventory[[#This Row],[Item SKU/ID]]=\"\",0,SUMPRODUCT((Quantity_Sold_1=Inventory[[#This Row],[Item SKU/ID]])*Net_Profit))","v":0},{"$f":"IFERROR(AVERAGE(Inventory[[#This Row],[Total Net Profit]]/Inventory[[#This Row],[Quantity Sold]]),0)","v":0}]
[null,null,null,null,null,null,null,null,0,0,0,null,null,null,0,{"$f":"IF(Inventory[[#This Row],[Item SKU/ID]]=\"\",0,SUMPRODUCT((Quantity_Sold_1=Inventory[[#This Row],[Item SKU/ID]])*Net_Profit))","v":0},{"$f":"IFERROR(AVERAGE(Inventory[[#This Row],[Total Net Profit]]/Inventory[[#This Row],[Quantity Sold]]),0)","v":0}]
[null,null,null,null,null,null,null,null,0,0,0,null,null,null,0,{"$f":"IF(Inventory[[#This Row],[Item SKU/ID]]=\"\",0,SUMPRODUCT((Quantity_Sold_1=Inventory[[#This Row],[Item SKU/ID]])*Net_Profit))","v":0},{"$f":"IFERROR(AVERAGE(Inventory[[#This Row],[Total Net Profit]]/Inventory[[#This Row],[Quantity Sold]]),0)","v":0}]
[null,null,null,null,null,null,null,null,0,0,0,null,null,null,0,{"$f":"IF(Inventory[[#This Row],[Item SKU/ID]]=\"\",0,SUMPRODUCT((Quantity_Sold_1=Inventory[[#This Row],[Item SKU/ID]])*Net_Profit))","v":0},{"$f":"IFERROR(AVERAGE(Inventory[[#This Row],[Total Net Profit]]/Inventory[[#This Row],[Quantity Sold]]),0)","v":0}]
[null,null,null,null,null,null,null,null,0,0,0,null,null,null,0,{"$f":"IF(Inventory[[#This Row],[Item SKU/ID]]=\"\",0,SUMPRODUCT((Quantity_Sold_1=Inventory[[#This Row],[Item SKU/ID]])*Net_Profit))","v":0},{"$f":"IFERROR(AVERAGE(Inventory[[#This Row],[Total Net Profit]]/Inventory[[#This Row],[Quantity Sold]]),0)","v":0}]
[null,null,null,null,null,null,null,null,0,0,0,null,null,null,0,{"$f":"IF(Inventory[[#This Row],[Item SKU/ID]]=\"\",0,SUMPRODUCT((Quantity_Sold_1=Inventory[[#This Row],[Item SKU/ID]])*Net_Profit))","v":0},{"$f":"IFERROR(AVERAGE(Inventory[[#This Row],[Total Net Profit]]/Inventory[[#This Row],[Quantity Sold]]),0)","v":0}]
[null,null,null,null,null,null,null,null,0,0,0,null,null,null,0,{"$f":"IF(Inventory[[#This Row],[Item SKU/ID]]=\"\",0,SUMPRODUCT((Quantity_Sold_1=Inventory[[#This Row],[Item SKU/ID]])*Net_Profit))","v":0},{"$f":"IFERROR(AVERAGE(Inventory[[#This Row],[Total Net Profit]]/Inventory[[#This Row],[Quantity Sold]]),0)","v":0}]
[null,null,null,null,null,null,null,null,0,0,0,null,null,null,0,{"$f":"IF(Inventory[[#This Row],[Item SKU/ID]]=\"\",0,SUMPRODUCT((Quantity_Sold_1=Inventory[[#This Row],[Item SKU/ID]])*Net_Profit))","v":0},{"$f":"IFERROR(AVERAGE(Inventory[[#This Row],[Total Net Profit]]/Inventory[[#This Row],[Quantity Sold]]),0)","v":0}]
[null,null,null,null,null,null,null,null,0,0,0,null,null,null,0,{"$f":"IF(Inventory[[#This Row],[Item SKU/ID]]=\"\",0,SUMPRODUCT((Quantity_Sold_1=Inventory[[#This Row],[Item SKU/ID]])*Net_Profit))","v":0},{"$f":"IFERROR(AVERAGE(Inventory[[#This Row],[Total Net Profit]]/Inventory[[#This Row],[Quantity Sold]]),0)","v":0}]
[null,null,null,null,null,null,null,null,0,0,0,null,null,null,0,{"$f":"IF(Inventory[[#This Row],[Item SKU/ID]]=\"\",0,SUMPRODUCT((Quantity_Sold_1=Inventory[[#This Row],[Item SKU/ID]])*Net_Profit))","v":0},{"$f":"IFERROR(AVERAGE(Inventory[[#This Row],[Total Net Profit]]/Inventory[[#This Row],[Quantity Sold]]),0)","v":0}]
[null,null,null,null,null,null,null,null,0,0,0,null,null,null,0,{"$f":"IF(Inventory[[#This Row],[Item SKU/ID]]=\"\",0,SUMPRODUCT((Quantity_Sold_1=Inventory[[#This Row],[Item SKU/ID]])*Net_Profit))","v":0},{"$f":"IFERROR(AVERAGE(Inventory[[#This Row],[Total Net Profit]]/Inventory[[#This Row],[Quantity Sold]]),0)","v":0}]
[null,null,null,null,null,null,null,null,0,0,0,null,null,null,0,{"$f":"IF(Inventory[[#This Row],[Item SKU/ID]]=\"\",0,SUMPRODUCT((Quantity_Sold_1=Inventory[[#This Row],[Item SKU/ID]])*Net_Profit))","v":0},{"$f":"IFERROR(AVERAGE(Inventory[[#This Row],[Total Net Profit]]/Inventory[[#This Row],[Quantity Sold]]),0)","v":0}]
[null,null,null,null,null,null,null,null,0,0,0,null,null,null,0,{"$f":"IF(Inventory[[#This Row],[Item SKU/ID]]=\"\",0,SUMPRODUCT((Quantity_Sold_1=Inventory[[#This Row],[Item SKU/ID]])*Net_Profit))","v":0},{"$f":"IFERROR(AVERAGE(Inventory[[#This Row],[Total Net Profit]]/Inventory[[#This Row],[Quantity Sold]]),0)","v":0}]
[null,null,null,null,null,null,null,null,0,0,0,null,null,null,0,{"$f":"IF(Inventory[[#This Row],[Item SKU/ID]]=\"\",0,SUMPRODUCT((Quantity_Sold_1=Inventory[[#This Row],[Item SKU/ID]])*Net_Profit))","v":0},{"$f":"IFERROR(AVERAGE(Inventory[[#This Row],[Total Net Profit]]/Inventory[[#This Row],[Quantity Sold]]),0)","v":0}]
[null,null,null,null,null,null,null,null,0,0,0,null,null,null,0,{"$f":"IF(Inventory[[#This Row],[Item SKU/ID]]=\"\",0,SUMPRODUCT((Quantity_Sold_1=Inventory[[#This Row],[Item SKU/ID]])*Net_Profit))","v":0},{"$f":"IFERROR(AVERAGE(Inventory[[#This Row],[Total Net Profit]]/Inventory[[#This Row],[Quantity Sold]]),0)","v":0}]
[null,null,null,null,null,null,null,null,0,0,0,null,null,null,0,{"$f":"IF(Inventory[[#This Row],[Item SKU/ID]]=\"\",0,SUMPRODUCT((Quantity_Sold_1=Inventory[[#This Row],[Item SKU/ID]])*Net_Profit))","v":0},{"$f":"IFERROR(AVERAGE(Inventory[[#This Row],[Total Net Profit]]/Inventory[[#This Row],[Quantity Sold]]),0)","v":0}]
[null,null,null,null,null,null,null,null,0,0,0,null,null,null,0,{"$f":"IF(Inventory[[#This Row],[Item SKU/ID]]=\"\",0,SUMPRODUCT((Quantity_Sold_1=Inventory[[#This Row],[Item SKU/ID]])*Net_Profit))","v":0},{"$f":"IFERROR(AVERAGE(Inventory[[#This Row],[Total Net Profit]]/Inventory[[#This Row],[Quantity Sold]]),0)","v":0}]
[null,null,null,null,null,null,null,null,0,0,0,null,null,null,0,{"$f":"IF(Inventory[[#This Row],[Item SKU/ID]]=\"\",0,SUMPRODUCT((Quantity_Sold_1=Inventory[[#This Row],[Item SKU/ID]])*Net_Profit))","v":0},{"$f":"IFERROR(AVERAGE(Inventory[[#This Row],[Total Net Profit]]/Inventory[[#This Row],[Quantity Sold]]),0)","v":0}]
[null,null,null,null,null,null,null,null,{"$f":"K2244*H2244","v":0},{"$f":"IF(F2244=\"\",0,SUMPRODUCT((Quantity_Sold_1=F2244)*Quantity_Sold_2))","v":0},{"$f":"G2244-J2244","v":0},null,null,null,{"$f":"K2244*H2244","v":0},{"$f":"IF(Inventory[[#This Row],[Item SKU/ID]]=\"\",0,SUMPRODUCT((Quantity_Sold_1=Inventory[[#This Row],[Item SKU/ID]])*Net_Profit))","v":0},{"$f":"IFERROR(AVERAGE(Inventory[[#This Row],[Total Net Profit]]/Inventory[[#This Row],[Quantity Sold]]),0)","v":0}]
[null,null,null,null,null,null,null,null,0,0,0,null,null,null,0,{"$f":"IF(Inventory[[#This Row],[Item SKU/ID]]=\"\",0,SUMPRODUCT((Quantity_Sold_1=Inventory[[#This Row],[Item SKU/ID]])*Net_Profit))","v":0},{"$f":"IFERROR(AVERAGE(Inventory[[#This Row],[Total Net Profit]]/Inventory[[#This Row],[Quantity Sold]]),0)","v":0}]
[null,null,null,null,null,null,null,null,0,0,0,null,null,null,0,{"$f":"IF(Inventory[[#This Row],[Item SKU/ID]]=\"\",0,SUMPRODUCT((Quantity_Sold_1=Inventory[[#This Row],[Item SKU/ID]])*Net_Profit))","v":0},{"$f":"IFERROR(AVERAGE(Inventory[[#This Row],[Total Net Profit]]/Inventory[[#This Row],[Quantity Sold]]),0)","v":0}]
[null,null,null,null,null,null,null,null,0,0,0,null,null,null,0,{"$f":"IF(Inventory[[#This Row],[Item SKU/ID]]=\"\",0,SUMPRODUCT((Quantity_Sold_1=Inventory[[#This Row],[Item SKU/ID]])*Net_Profit))","v":0},{"$f":"IFERROR(AVERAGE(Inventory[[#This Row],[Total Net Profit]]/Inventory[[#This Row],[Quantity Sold]]),0)","v":0}]
[null,null,null,null,null,null,null,null,0,0,0,null,null,null,0,{"$f":"IF(Inventory[[#This Row],[Item SKU/ID]]=\"\",0,SUMPRODUCT((Quantity_Sold_1=Inventory[[#This Row],[Item SKU/ID]])*Net_Profit))","v":0},{"$f":"IFERROR(AVERAGE(Inventory[[#This Row],[Total Net Profit]]/Inventory[[#This Row],[Quantity Sold]]),0)","v":0}]
[null,null,null,null,null,null,null,null,0,0,0,null,null,null,0,{"$f":"IF(Inventory[[#This Row],[Item SKU/ID]]=\"\",0,SUMPRODUCT((Quantity_Sold_1=Inventory[[#This Row],[Item SKU/ID]])*Net_Profit))","v":0},{"$f":"IFERROR(AVERAGE(Inventory[[#This Row],[Total Net Profit]]/Inventory[[#This Row],[Quantity Sold]]),0)","v":0}]
[null,null,null,null,null,null,null,null,0,0,0,null,null,null,0,{"$f":"IF(Inventory[[#This Row],[Item SKU/ID]]=\"\",0,SUMPRODUCT((Quantity_Sold_1=Inventory[[#This Row],[Item SKU/ID]])*Net_Profit))","v":0},{"$f":"IFERROR(AVERAGE(Inventory[[#This Row],[Total Net Profit]]/Inventory[[#This Row],[Quantity Sold]]),0)","v":0}]
[null,null,null,null,null,null,null,null,0,0,0,null,null,null,0,{"$f":"IF(Inventory[[#This Row],[Item SKU/ID]]=\"\",0,SUMPRODUCT((Quantity_Sold_1=Inventory[[#This Row],[Item SKU/ID]])*Net_Profit))","v":0},{"$f":"IFERROR(AVERAGE(Inventory[[#This Row],[Total Net Profit]]/Inventory[[#This Row],[Quantity Sold]]),0)","v":0}]
[null,null,null,null,null,null,null,null,0,0,0,null,null,null,0,{"$f":"IF(Inventory[[#This Row],[Item SKU/ID]]=\"\",0,SUMPRODUCT((Quantity_Sold_1=Inventory[[#This Row],[Item SKU/ID]])*Net_Profit))","v":0},{"$f":"IFERROR(AVERAGE(Inventory[[#This Row],[Total Net Profit]]/Inventory[[#This Row],[Quantity Sold]]),0)","v":0}]
[null,null,null,null,null,null,null,null,0,0,0,null,null,null,0,{"$f":"IF(Inventory[[#This Row],[Item SKU/ID]]=\"\",0,SUMPRODUCT((Quantity_Sold_1=Inventory[[#This Row],[Item SKU/ID]])*Net_Profit))","v":0},{"$f":"IFERROR(AVERAGE(Inventory[[#This Row],[Total Net Profit]]/Inventory[[#This Row],[Quantity Sold]]),0)","v":0}]
[null,null,null,null,null,null,null,null,0,0,0,null,null,null,0,{"$f":"IF(Inventory[[#This Row],[Item SKU/ID]]=\"\",0,SUMPRODUCT((Quantity_Sold_1=Inventory[[#This Row],[Item SKU/ID]])*Net_Profit))","v":0},{"$f":"IFERROR(AVERAGE(Inventory[[#This Row],[Total Net Profit]]/Inventory[[#This Row],[Quantity Sold]]),0)","v":0}]
[null,null,null,null,null,null,null,null,0,0,0,null,null,null,0,{"$f":"IF(Inventory[[#This Row],[Item SKU/ID]]=\"\",0,SUMPRODUCT((Quantity_Sold_1=Inventory[[#This Row],[Item SKU/ID]])*Net_Profit))","v":0},{"$f":"IFERROR(AVERAGE(Inventory[[#This Row],[Total Net Profit]]/Inventory[[#This Row],[Quantity Sold]]),0)","v":0}]
[null,null,null,null,null,null,null,null,0,0,0,null,null,null,0,{"$f":"IF(Inventory[[#This Row],[Item SKU/ID]]=\"\",0,SUMPRODUCT((Quantity_Sold_1=Inventory[[#This Row],[Item SKU/ID]])*Net_Profit))","v":0},{"$f":"IFERROR(AVERAGE(Inventory[[#This Row],[Total Net Profit]]/Inventory[[#This Row],[Quantity Sold]]),0)","v":0}]
[null,null,null,null,null,null,null,null,0,0,0,null,null,null,0,{"$f":"IF(Inventory[[#This Row],[Item SKU/ID]]=\"\",0,SUMPRODUCT((Quantity_Sold_1=Inventory[[#This Row],[Item SKU/ID]])*Net_Profit))","v":0},{"$f":"IFERROR(AVERAGE(Inventory[[#This Row],[Total Net Profit]]/Inventory[[#This Row],[Quantity Sold]]),0)","v":0}]
[null,null,null,null,null,null,null,null,0,0,0,null,null,null,0,{"$f":"IF(Inventory[[#This Row],[Item SKU/ID]]=\"\",0,SUMPRODUCT((Quantity_Sold_1=Inventory[[#This Row],[Item SKU/ID]])*Net_Profit))","v":0},{"$f":"IFERROR(AVERAGE(Inventory[[#This Row],[Total Net Profit]]/Inventory[[#This Row],[Quantity Sold]]),0)","v":0}]
[null,null,null,null,null,null,null,null,0,0,0,null,null,null,0,{"$f":"IF(Inventory[[#This Row],[Item SKU/ID]]=\"\",0,SUMPRODUCT((Quantity_Sold_1=Inventory[[#This Row],[Item SKU/ID]])*Net_Profit))","v":0},{"$f":"IFERROR(AVERAGE(Inventory[[#This Row],[Total Net Profit]]/Inventory[[#This Row],[Quantity Sold]]),0)","v":0}]
[null,null,null,null,null,null,null,null,0,0,0,null,null,null,0,{"$f":"IF(Inventory[[#This Row],[Item SKU/ID]]=\"\",0,SUMPRODUCT((Quantity_Sold_1=Inventory[[#This Row],[Item SKU/ID]])*Net_Profit))","v":0},{"$f":"IFERROR(AVERAGE(Inventory[[#This Row],[Total Net Profit]]/Inventory[[#This Row],[Quantity Sold]]),0)","v":0}]
[null,null,null,null,null,null,null,null,0,0,0,null,null,null,0,{"$f":"IF(Inventory[[#This Row],[Item SKU/ID]]=\"\",0,SUMPRODUCT((Quantity_Sold_1=Inventory[[#This Row],[Item SKU/ID]])*Net_Profit))","v":0},{"$f":"IFERROR(AVERAGE(Inventory[[#This Row],[Total Net Profit]]/Inventory[[#This Row],[Quantity Sold]]),0)","v":0}]
[null,null,null,null,null,null,null,null,0,0,0,null,null,null,0,{"$f":"IF(Inventory[[#This Row],[Item SKU/ID]]=\"\",0,SUMPRODUCT((Quantity_Sold_1=Inventory[[#This Row],[Item SKU/ID]])*Net_Profit))","v":0},{"$f":"IFERROR(AVERAGE(Inventory[[#This Row],[Total Net Profit]]/Inventory[[#This Row],[Quantity Sold]]),0)","v":0}]
[null,null,null,null,null,null,null,null,0,0,0,null,null,null,0,{"$f":"IF(Inventory[[#This Row],[Item SKU/ID]]=\"\",0,SUMPRODUCT((Quantity_Sold_1=Inventory[[#This Row],[Item SKU/ID]])*Net_Profit))","v":0},{"$f":"IFERROR(AVERAGE(Inventory[[#This Row],[Total Net Profit]]/Inventory[[#This Row],[Quantity Sold]]),0)","v":0}]
[null,null,null,null,null,null,null,null,0,0,0,null,null,null,0,{"$f":"IF(Inventory[[#This Row],[Item SKU/ID]]=\"\",0,SUMPRODUCT((Quantity_Sold_1=Inventory[[#This Row],[Item SKU/ID]])*Net_Profit))","v":0},{"$f":"IFERROR(AVERAGE(Inventory[[#This Row],[Total Net Profit]]/Inventory[[#This Row],[Quantity Sold]]),0)","v":0}]
[null,null,null,null,null,null,null,null,0,0,0,null,null,null,0,{"$f":"IF(Inventory[[#This Row],[Item SKU/ID]]=\"\",0,SUMPRODUCT((Quantity_Sold_1=Inventory[[#This Row],[Item SKU/ID]])*Net_Profit))","v":0},{"$f":"IFERROR(AVERAGE(Inventory[[#This Row],[Total Net Profit]]/Inventory[[#This Row],[Quantity Sold]]),0)","v":0}]
[null,null,null,null,null,null,null,null,0,0,0,null,null,null,0,{"$f":"IF(Inventory[[#This Row],[Item SKU/ID]]=\"\",0,SUMPRODUCT((Quantity_Sold_1=Inventory[[#This Row],[Item SKU/ID]])*Net_Profit))","v":0},{"$f":"IFERROR(AVERAGE(Inventory[[#This Row],[Total Net Profit]]/Inventory[[#This Row],[Quantity Sold]]),0)","v":0}]
[null,null,null,null,null,null,null,null,0,0,0,null,null,null,0,{"$f":"IF(Inventory[[#This Row],[Item SKU/ID]]=\"\",0,SUMPRODUCT((Quantity_Sold_1=Inventory[[#This Row],[Item SKU/ID]])*Net_Profit))","v":0},{"$f":"IFERROR(AVERAGE(Inventory[[#This Row],[Total Net Profit]]/Inventory[[#This Row],[Quantity Sold]]),0)","v":0}]
[null,null,null,null,null,null,null,null,0,0,0,null,null,null,0,{"$f":"IF(Inventory[[#This Row],[Item SKU/ID]]=\"\",0,SUMPRODUCT((Quantity_Sold_1=Inventory[[#This Row],[Item SKU/ID]])*Net_Profit))","v":0},{"$f":"IFERROR(AVERAGE(Inventory[[#This Row],[Total Net Profit]]/Inventory[[#This Row],[Quantity Sold]]),0)","v":0}]
[null,null,null,null,null,null,null,null,0,0,0,null,null,null,0,{"$f":"IF(Inventory[[#This Row],[Item SKU/ID]]=\"\",0,SUMPRODUCT((Quantity_Sold_1=Inventory[[#This Row],[Item SKU/ID]])*Net_Profit))","v":0},{"$f":"IFERROR(AVERAGE(Inventory[[#This Row],[Total Net Profit]]/Inventory[[#This Row],[Quantity Sold]]),0)","v":0}]
[null,null,null,null,null,null,null,null,0,0,0,null,null,null,0,{"$f":"IF(Inventory[[#This Row],[Item SKU/ID]]=\"\",0,SUMPRODUCT((Quantity_Sold_1=Inventory[[#This Row],[Item SKU/ID]])*Net_Profit))","v":0},{"$f":"IFERROR(AVERAGE(Inventory[[#This Row],[Total Net Profit]]/Inventory[[#This Row],[Quantity Sold]]),0)","v":0}]
[null,null,null,null,null,null,null,null,0,0,0,null,null,null,0,{"$f":"IF(Inventory[[#This Row],[Item SKU/ID]]=\"\",0,SUMPRODUCT((Quantity_Sold_1=Inventory[[#This Row],[Item SKU/ID]])*Net_Profit))","v":0},{"$f":"IFERROR(AVERAGE(Inventory[[#This Row],[Total Net Profit]]/Inventory[[#This Row],[Quantity Sold]]),0)","v":0}]
[null,null,null,null,null,null,null,null,0,0,0,null,null,null,0,{"$f":"IF(Inventory[[#This Row],[Item SKU/ID]]=\"\",0,SUMPRODUCT((Quantity_Sold_1=Inventory[[#This Row],[Item SKU/ID]])*Net_Profit))","v":0},{"$f":"IFERROR(AVERAGE(Inventory[[#This Row],[Total Net Profit]]/Inventory[[#This Row],[Quantity Sold]]),0)","v":0}]
[null,null,null,null,null,null,null,null,0,0,0,null,null,null,0,{"$f":"IF(Inventory[[#This Row],[Item SKU/ID]]=\"\",0,SUMPRODUCT((Quantity_Sold_1=Inventory[[#This Row],[Item SKU/ID]])*Net_Profit))","v":0},{"$f":"IFERROR(AVERAGE(Inventory[[#This Row],[Total Net Profit]]/Inventory[[#This Row],[Quantity Sold]]),0)","v":0}]
[null,null,null,null,null,null,null,null,0,0,0,null,null,null,0,{"$f":"IF(Inventory[[#This Row],[Item SKU/ID]]=\"\",0,SUMPRODUCT((Quantity_Sold_1=Inventory[[#This Row],[Item SKU/ID]])*Net_Profit))","v":0},{"$f":"IFERROR(AVERAGE(Inventory[[#This Row],[Total Net Profit]]/Inventory[[#This Row],[Quantity Sold]]),0)","v":0}]
[null,null,null,null,null,null,null,null,0,0,0,null,null,null,0,{"$f":"IF(Inventory[[#This Row],[Item SKU/ID]]=\"\",0,SUMPRODUCT((Quantity_Sold_1=Inventory[[#This Row],[Item SKU/ID]])*Net_Profit))","v":0},{"$f":"IFERROR(AVERAGE(Inventory[[#This Row],[Total Net Profit]]/Inventory[[#This Row],[Quantity Sold]]),0)","v":0}]
[null,null,null,null,null,null,null,null,0,0,0,null,null,null,0,{"$f":"IF(Inventory[[#This Row],[Item SKU/ID]]=\"\",0,SUMPRODUCT((Quantity_Sold_1=Inventory[[#This Row],[Item SKU/ID]])*Net_Profit))","v":0},{"$f":"IFERROR(AVERAGE(Inventory[[#This Row],[Total Net Profit]]/Inventory[[#This Row],[Quantity Sold]]),0)","v":0}]
[null,null,null,null,null,null,null,null,0,0,0,null,null,null,0,{"$f":"IF(Inventory[[#This Row],[Item SKU/ID]]=\"\",0,SUMPRODUCT((Quantity_Sold_1=Inventory[[#This Row],[Item SKU/ID]])*Net_Profit))","v":0},{"$f":"IFERROR(AVERAGE(Inventory[[#This Row],[Total Net Profit]]/Inventory[[#This Row],[Quantity Sold]]),0)","v":0}]
[null,null,null,null,null,null,null,null,0,0,0,null,null,null,0,{"$f":"IF(Inventory[[#This Row],[Item SKU/ID]]=\"\",0,SUMPRODUCT((Quantity_Sold_1=Inventory[[#This Row],[Item SKU/ID]])*Net_Profit))","v":0},{"$f":"IFERROR(AVERAGE(Inventory[[#This Row],[Total Net Profit]]/Inventory[[#This Row],[Quantity Sold]]),0)","v":0}]
[null,null,null,null,null,null,null,null,0,0,0,null,null,null,0,{"$f":"IF(Inventory[[#This Row],[Item SKU/ID]]=\"\",0,SUMPRODUCT((Quantity_Sold_1=Inventory[[#This Row],[Item SKU/ID]])*Net_Profit))","v":0},{"$f":"IFERROR(AVERAGE(Inventory[[#This Row],[Total Net Profit]]/Inventory[[#This Row],[Quantity Sold]]),0)","v":0}]
[null,null,null,null,null,null,null,null,0,0,0,null,null,null,0,{"$f":"IF(Inventory[[#This Row],[Item SKU/ID]]=\"\",0,SUMPRODUCT((Quantity_Sold_1=Inventory[[#This Row],[Item SKU/ID]])*Net_Profit))","v":0},{"$f":"IFERROR(AVERAGE(Inventory[[#This Row],[Total Net Profit]]/Inventory[[#This Row],[Quantity Sold]]),0)","v":0}]
[null,null,null,null,null,null,null,null,0,0,0,null,null,null,0,{"$f":"IF(Inventory[[#This Row],[Item SKU/ID]]=\"\",0,SUMPRODUCT((Quantity_Sold_1=Inventory[[#This Row],[Item SKU/ID]])*Net_Profit))","v":0},{"$f":"IFERROR(AVERAGE(Inventory[[#This Row],[Total Net Profit]]/Inventory[[#This Row],[Quantity Sold]]),0)","v":0}]
[null,null,null,null,null,null,null,null,0,0,0,null,null,null,0,{"$f":"IF(Inventory[[#This Row],[Item SKU/ID]]=\"\",0,SUMPRODUCT((Quantity_Sold_1=Inventory[[#This Row],[Item SKU/ID]])*Net_Profit))","v":0},{"$f":"IFERROR(AVERAGE(Inventory[[#This Row],[Total Net Profit]]/Inventory[[#This Row],[Quantity Sold]]),0)","v":0}]
[null,null,null,null,null,null,null,null,0,0,0,null,null,null,0,{"$f":"IF(Inventory[[#This Row],[Item SKU/ID]]=\"\",0,SUMPRODUCT((Quantity_Sold_1=Inventory[[#This Row],[Item SKU/ID]])*Net_Profit))","v":0},{"$f":"IFERROR(AVERAGE(Inventory[[#This Row],[Total Net Profit]]/Inventory[[#This Row],[Quantity Sold]]),0)","v":0}]
[null,null,null,null,null,null,null,null,0,0,0,null,null,null,0,{"$f":"IF(Inventory[[#This Row],[Item SKU/ID]]=\"\",0,SUMPRODUCT((Quantity_Sold_1=Inventory[[#This Row],[Item SKU/ID]])*Net_Profit))","v":0},{"$f":"IFERROR(AVERAGE(Inventory[[#This Row],[Total Net Profit]]/Inventory[[#This Row],[Quantity Sold]]),0)","v":0}]
[null,null,null,null,null,null,null,null,0,0,0,null,null,null,0,{"$f":"IF(Inventory[[#This Row],[Item SKU/ID]]=\"\",0,SUMPRODUCT((Quantity_Sold_1=Inventory[[#This Row],[Item SKU/ID]])*Net_Profit))","v":0},{"$f":"IFERROR(AVERAGE(Inventory[[#This Row],[Total Net Profit]]/Inventory[[#This Row],[Quantity Sold]]),0)","v":0}]
[null,null,null,null,null,null,null,null,0,0,0,null,null,null,0,{"$f":"IF(Inventory[[#This Row],[Item SKU/ID]]=\"\",0,SUMPRODUCT((Quantity_Sold_1=Inventory[[#This Row],[Item SKU/ID]])*Net_Profit))","v":0},{"$f":"IFERROR(AVERAGE(Inventory[[#This Row],[Total Net Profit]]/Inventory[[#This Row],[Quantity Sold]]),0)","v":0}]
[null,null,null,null,null,null,null,null,0,0,0,null,null,null,0,{"$f":"IF(Inventory[[#This Row],[Item SKU/ID]]=\"\",0,SUMPRODUCT((Quantity_Sold_1=Inventory[[#This Row],[Item SKU/ID]])*Net_Profit))","v":0},{"$f":"IFERROR(AVERAGE(Inventory[[#This Row],[Total Net Profit]]/Inventory[[#This Row],[Quantity Sold]]),0)","v":0}]
[null,null,null,null,null,null,null,null,0,0,0,null,null,null,0,{"$f":"IF(Inventory[[#This Row],[Item SKU/ID]]=\"\",0,SUMPRODUCT((Quantity_Sold_1=Inventory[[#This Row],[Item SKU/ID]])*Net_Profit))","v":0},{"$f":"IFERROR(AVERAGE(Inventory[[#This Row],[Total Net Profit]]/Inventory[[#This Row],[Quantity Sold]]),0)","v":0}]
[null,null,null,null,null,null,null,null,0,0,0,null,null,null,0,{"$f":"IF(Inventory[[#This Row],[Item SKU/ID]]=\"\",0,SUMPRODUCT((Quantity_Sold_1=Inventory[[#This Row],[Item SKU/ID]])*Net_Profit))","v":0},{"$f":"IFERROR(AVERAGE(Inventory[[#This Row],[Total Net Profit]]/Inventory[[#This Row],[Quantity Sold]]),0)","v":0}]
[null,null,null,null,null,null,null,null,0,0,0,null,null,null,0,{"$f":"IF(Inventory[[#This Row],[Item SKU/ID]]=\"\",0,SUMPRODUCT((Quantity_Sold_1=Inventory[[#This Row],[Item SKU/ID]])*Net_Profit))","v":0},{"$f":"IFERROR(AVERAGE(Inventory[[#This Row],[Total Net Profit]]/Inventory[[#This Row],[Quantity Sold]]),0)","v":0}]
[null,null,null,null,null,null,null,null,0,0,0,null,null,null,0,{"$f":"IF(Inventory[[#This Row],[Item SKU/ID]]=\"\",0,SUMPRODUCT((Quantity_Sold_1=Inventory[[#This Row],[Item SKU/ID]])*Net_Profit))","v":0},{"$f":"IFERROR(AVERAGE(Inventory[[#This Row],[Total Net Profit]]/Inventory[[#This Row],[Quantity Sold]]),0)","v":0}]
[null,null,null,null,null,null,null,null,0,0,0,null,null,null,0,{"$f":"IF(Inventory[[#This Row],[Item SKU/ID]]=\"\",0,SUMPRODUCT((Quantity_Sold_1=Inventory[[#This Row],[Item SKU/ID]])*Net_Profit))","v":0},{"$f":"IFERROR(AVERAGE(Inventory[[#This Row],[Total Net Profit]]/Inventory[[#This Row],[Quantity Sold]]),0)","v":0}]
[null,null,null,null,null,null,null,null,0,0,0,null,null,null,0,{"$f":"IF(Inventory[[#This Row],[Item SKU/ID]]=\"\",0,SUMPRODUCT((Quantity_Sold_1=Inventory[[#This Row],[Item SKU/ID]])*Net_Profit))","v":0},{"$f":"IFERROR(AVERAGE(Inventory[[#This Row],[Total Net Profit]]/Inventory[[#This Row],[Quantity Sold]]),0)","v":0}]
[null,null,null,null,null,null,null,null,0,0,0,null,null,null,0,{"$f":"IF(Inventory[[#This Row],[Item SKU/ID]]=\"\",0,SUMPRODUCT((Quantity_Sold_1=Inventory[[#This Row],[Item SKU/ID]])*Net_Profit))","v":0},{"$f":"IFERROR(AVERAGE(Inventory[[#This Row],[Total Net Profit]]/Inventory[[#This Row],[Quantity Sold]]),0)","v":0}]
[null,null,null,null,null,null,null,null,0,0,0,null,null,null,0,{"$f":"IF(Inventory[[#This Row],[Item SKU/ID]]=\"\",0,SUMPRODUCT((Quantity_Sold_1=Inventory[[#This Row],[Item SKU/ID]])*Net_Profit))","v":0},{"$f":"IFERROR(AVERAGE(Inventory[[#This Row],[Total Net Profit]]/Inventory[[#This Row],[Quantity Sold]]),0)","v":0}]
[null,null,null,null,null,null,null,null,0,0,0,null,null,null,0,{"$f":"IF(Inventory[[#This Row],[Item SKU/ID]]=\"\",0,SUMPRODUCT((Quantity_Sold_1=Inventory[[#This Row],[Item SKU/ID]])*Net_Profit))","v":0},{"$f":"IFERROR(AVERAGE(Inventory[[#This Row],[Total Net Profit]]/Inventory[[#This Row],[Quantity Sold]]),0)","v":0}]
[null,null,null,null,null,null,null,null,0,0,0,null,null,null,0,{"$f":"IF(Inventory[[#This Row],[Item SKU/ID]]=\"\",0,SUMPRODUCT((Quantity_Sold_1=Inventory[[#This Row],[Item SKU/ID]])*Net_Profit))","v":0},{"$f":"IFERROR(AVERAGE(Inventory[[#This Row],[Total Net Profit]]/Inventory[[#This Row],[Quantity Sold]]),0)","v":0}]
[null,null,null,null,null,null,null,null,0,0,0,null,null,null,0,{"$f":"IF(Inventory[[#This Row],[Item SKU/ID]]=\"\",0,SUMPRODUCT((Quantity_Sold_1=Inventory[[#This Row],[Item SKU/ID]])*Net_Profit))","v":0},{"$f":"IFERROR(AVERAGE(Inventory[[#This Row],[Total Net Profit]]/Inventory[[#This Row],[Quantity Sold]]),0)","v":0}]
[null,null,null,null,null,null,null,null,0,0,0,null,null,null,0,{"$f":"IF(Inventory[[#This Row],[Item SKU/ID]]=\"\",0,SUMPRODUCT((Quantity_Sold_1=Inventory[[#This Row],[Item SKU/ID]])*Net_Profit))","v":0},{"$f":"IFERROR(AVERAGE(Inventory[[#This Row],[Total Net Profit]]/Inventory[[#This Row],[Quantity Sold]]),0)","v":0}]
[null,null,null,null,null,null,null,null,0,0,0,null,null,null,0,{"$f":"IF(Inventory[[#This Row],[Item SKU/ID]]=\"\",0,SUMPRODUCT((Quantity_Sold_1=Inventory[[#This Row],[Item SKU/ID]])*Net_Profit))","v":0},{"$f":"IFERROR(AVERAGE(Inventory[[#This Row],[Total Net Profit]]/Inventory[[#This Row],[Quantity Sold]]),0)","v":0}]
[null,null,null,null,null,null,null,null,0,0,0,null,null,null,0,{"$f":"IF(Inventory[[#This Row],[Item SKU/ID]]=\"\",0,SUMPRODUCT((Quantity_Sold_1=Inventory[[#This Row],[Item SKU/ID]])*Net_Profit))","v":0},{"$f":"IFERROR(AVERAGE(Inventory[[#This Row],[Total Net Profit]]/Inventory[[#This Row],[Quantity Sold]]),0)","v":0}]
[null,null,null,null,null,null,null,null,0,0,0,null,null,null,0,{"$f":"IF(Inventory[[#This Row],[Item SKU/ID]]=\"\",0,SUMPRODUCT((Quantity_Sold_1=Inventory[[#This Row],[Item SKU/ID]])*Net_Profit))","v":0},{"$f":"IFERROR(AVERAGE(Inventory[[#This Row],[Total Net Profit]]/Inventory[[#This Row],[Quantity Sold]]),0)","v":0}]
[null,null,null,null,null,null,null,null,0,0,0,null,null,null,0,{"$f":"IF(Inventory[[#This Row],[Item SKU/ID]]=\"\",0,SUMPRODUCT((Quantity_Sold_1=Inventory[[#This Row],[Item SKU/ID]])*Net_Profit))","v":0},{"$f":"IFERROR(AVERAGE(Inventory[[#This Row],[Total Net Profit]]/Inventory[[#This Row],[Quantity Sold]]),0)","v":0}]
[null,null,null,null,null,null,null,null,0,0,0,null,null,null,0,{"$f":"IF(Inventory[[#This Row],[Item SKU/ID]]=\"\",0,SUMPRODUCT((Quantity_Sold_1=Inventory[[#This Row],[Item SKU/ID]])*Net_Profit))","v":0},{"$f":"IFERROR(AVERAGE(Inventory[[#This Row],[Total Net Profit]]/Inventory[[#This Row],[Quantity Sold]]),0)","v":0}]
[null,null,null,null,null,null,null,null,0,0,0,null,null,null,0,{"$f":"IF(Inventory[[#This Row],[Item SKU/ID]]=\"\",0,SUMPRODUCT((Quantity_Sold_1=Inventory[[#This Row],[Item SKU/ID]])*Net_Profit))","v":0},{"$f":"IFERROR(AVERAGE(Inventory[[#This Row],[Total Net Profit]]/Inventory[[#This Row],[Quantity Sold]]),0)","v":0}]
[null,null,null,null,null,null,null,null,0,0,0,null,null,null,0,{"$f":"IF(Inventory[[#This Row],[Item SKU/ID]]=\"\",0,SUMPRODUCT((Quantity_Sold_1=Inventory[[#This Row],[Item SKU/ID]])*Net_Profit))","v":0},{"$f":"IFERROR(AVERAGE(Inventory[[#This Row],[Total Net Profit]]/Inventory[[#This Row],[Quantity Sold]]),0)","v":0}]
[null,null,null,null,null,null,null,null,0,0,0,null,null,null,0,{"$f":"IF(Inventory[[#This Row],[Item SKU/ID]]=\"\",0,SUMPRODUCT((Quantity_Sold_1=Inventory[[#This Row],[Item SKU/ID]])*Net_Profit))","v":0},{"$f":"IFERROR(AVERAGE(Inventory[[#This Row],[Total Net Profit]]/Inventory[[#This Row],[Quantity Sold]]),0)","v":0}]
[null,null,null,null,null,null,null,null,{"$f":"K2308*H2308","v":0},{"$f":"IF(F2308=\"\",0,SUMPRODUCT((Quantity_Sold_1=F2308)*Quantity_Sold_2))","v":0},{"$f":"G2308-J2308","v":0},null,null,null,{"$f":"K2308*H2308","v":0},{"$f":"IF(Inventory[[#This Row],[Item SKU/ID]]=\"\",0,SUMPRODUCT((Quantity_Sold_1=Inventory[[#This Row],[Item SKU/ID]])*Net_Profit))","v":0},{"$f":"IFERROR(AVERAGE(Inventory[[#This Row],[Total Net Profit]]/Inventory[[#This Row],[Quantity Sold]]),0)","v":0}]
[null,null,null,null,null,null,null,null,0,0,0,null,null,null,0,{"$f":"IF(Inventory[[#This Row],[Item SKU/ID]]=\"\",0,SUMPRODUCT((Quantity_Sold_1=Inventory[[#This Row],[Item SKU/ID]])*Net_Profit))","v":0},{"$f":"IFERROR(AVERAGE(Inventory[[#This Row],[Total Net Profit]]/Inventory[[#This Row],[Quantity Sold]]),0)","v":0}]
[null,null,null,null,null,null,null,null,0,0,0,null,null,null,0,{"$f":"IF(Inventory[[#This Row],[Item SKU/ID]]=\"\",0,SUMPRODUCT((Quantity_Sold_1=Inventory[[#This Row],[Item SKU/ID]])*Net_Profit))","v":0},{"$f":"IFERROR(AVERAGE(Inventory[[#This Row],[Total Net Profit]]/Inventory[[#This Row],[Quantity Sold]]),0)","v":0}]
[null,null,null,null,null,null,null,null,0,0,0,null,null,null,0,{"$f":"IF(Inventory[[#This Row],[Item SKU/ID]]=\"\",0,SUMPRODUCT((Quantity_Sold_1=Inventory[[#This Row],[Item SKU/ID]])*Net_Profit))","v":0},{"$f":"IFERROR(AVERAGE(Inventory[[#This Row],[Total Net Profit]]/Inventory[[#This Row],[Quantity Sold]]),0)","v":0}]
[null,null,null,null,null,null,null,null,0,0,0,null,null,null,0,{"$f":"IF(Inventory[[#This Row],[Item SKU/ID]]=\"\",0,SUMPRODUCT((Quantity_Sold_1=Inventory[[#This Row],[Item SKU/ID]])*Net_Profit))","v":0},{"$f":"IFERROR(AVERAGE(Inventory[[#This Row],[Total Net Profit]]/Inventory[[#This Row],[Quantity Sold]]),0)","v":0}]
[null,null,null,null,null,null,null,null,0,0,0,null,null,null,0,{"$f":"IF(Inventory[[#This Row],[Item SKU/ID]]=\"\",0,SUMPRODUCT((Quantity_Sold_1=Inventory[[#This Row],[Item SKU/ID]])*Net_Profit))","v":0},{"$f":"IFERROR(AVERAGE(Inventory[[#This Row],[Total Net Profit]]/Inventory[[#This Row],[Quantity Sold]]),0)","v":0}]
[null,null,null,null,null,null,null,null,0,0,0,null,null,null,0,{"$f":"IF(Inventory[[#This Row],[Item SKU/ID]]=\"\",0,SUMPRODUCT((Quantity_Sold_1=Inventory[[#This Row],[Item SKU/ID]])*Net_Profit))","v":0},{"$f":"IFERROR(AVERAGE(Inventory[[#This Row],[Total Net Profit]]/Inventory[[#This Row],[Quantity Sold]]),0)","v":0}]
[null,null,null,null,null,null,null,null,0,0,0,null,null,null,0,{"$f":"IF(Inventory[[#This Row],[Item SKU/ID]]=\"\",0,SUMPRODUCT((Quantity_Sold_1=Inventory[[#This Row],[Item SKU/ID]])*Net_Profit))","v":0},{"$f":"IFERROR(AVERAGE(Inventory[[#This Row],[Total Net Profit]]/Inventory[[#This Row],[Quantity Sold]]),0)","v":0}]
[null,null,null,null,null,null,null,null,0,0,0,null,null,null,0,{"$f":"IF(Inventory[[#This Row],[Item SKU/ID]]=\"\",0,SUMPRODUCT((Quantity_Sold_1=Inventory[[#This Row],[Item SKU/ID]])*Net_Profit))","v":0},{"$f":"IFERROR(AVERAGE(Inventory[[#This Row],[Total Net Profit]]/Inventory[[#This Row],[Quantity Sold]]),0)","v":0}]
[null,null,null,null,null,null,null,null,0,0,0,null,null,null,0,{"$f":"IF(Inventory[[#This Row],[Item SKU/ID]]=\"\",0,SUMPRODUCT((Quantity_Sold_1=Inventory[[#This Row],[Item SKU/ID]])*Net_Profit))","v":0},{"$f":"IFERROR(AVERAGE(Inventory[[#This Row],[Total Net Profit]]/Inventory[[#This Row],[Quantity Sold]]),0)","v":0}]
[null,null,null,null,null,null,null,null,0,0,0,null,null,null,0,{"$f":"IF(Inventory[[#This Row],[Item SKU/ID]]=\"\",0,SUMPRODUCT((Quantity_Sold_1=Inventory[[#This Row],[Item SKU/ID]])*Net_Profit))","v":0},{"$f":"IFERROR(AVERAGE(Inventory[[#This Row],[Total Net Profit]]/Inventory[[#This Row],[Quantity Sold]]),0)","v":0}]
[null,null,null,null,null,null,null,null,0,0,0,null,null,null,0,{"$f":"IF(Inventory[[#This Row],[Item SKU/ID]]=\"\",0,SUMPRODUCT((Quantity_Sold_1=Inventory[[#This Row],[Item SKU/ID]])*Net_Profit))","v":0},{"$f":"IFERROR(AVERAGE(Inventory[[#This Row],[Total Net Profit]]/Inventory[[#This Row],[Quantity Sold]]),0)","v":0}]
[null,null,null,null,null,null,null,null,0,0,0,null,null,null,0,{"$f":"IF(Inventory[[#This Row],[Item SKU/ID]]=\"\",0,SUMPRODUCT((Quantity_Sold_1=Inventory[[#This Row],[Item SKU/ID]])*Net_Profit))","v":0},{"$f":"IFERROR(AVERAGE(Inventory[[#This Row],[Total Net Profit]]/Inventory[[#This Row],[Quantity Sold]]),0)","v":0}]
[null,null,null,null,null,null,null,null,0,0,0,null,null,null,0,{"$f":"IF(Inventory[[#This Row],[Item SKU/ID]]=\"\",0,SUMPRODUCT((Quantity_Sold_1=Inventory[[#This Row],[Item SKU/ID]])*Net_Profit))","v":0},{"$f":"IFERROR(AVERAGE(Inventory[[#This Row],[Total Net Profit]]/Inventory[[#This Row],[Quantity Sold]]),0)","v":0}]
[null,null,null,null,null,null,null,null,0,0,0,null,null,null,0,{"$f":"IF(Inventory[[#This Row],[Item SKU/ID]]=\"\",0,SUMPRODUCT((Quantity_Sold_1=Inventory[[#This Row],[Item SKU/ID]])*Net_Profit))","v":0},{"$f":"IFERROR(AVERAGE(Inventory[[#This Row],[Total Net Profit]]/Inventory[[#This Row],[Quantity Sold]]),0)","v":0}]
[null,null,null,null,null,null,null,null,0,0,0,null,null,null,0,{"$f":"IF(Inventory[[#This Row],[Item SKU/ID]]=\"\",0,SUMPRODUCT((Quantity_Sold_1=Inventory[[#This Row],[Item SKU/ID]])*Net_Profit))","v":0},{"$f":"IFERROR(AVERAGE(Inventory[[#This Row],[Total Net Profit]]/Inventory[[#This Row],[Quantity Sold]]),0)","v":0}]
[null,null,null,null,null,null,null,null,0,0,0,null,null,null,0,{"$f":"IF(Inventory[[#This Row],[Item SKU/ID]]=\"\",0,SUMPRODUCT((Quantity_Sold_1=Inventory[[#This Row],[Item SKU/ID]])*Net_Profit))","v":0},{"$f":"IFERROR(AVERAGE(Inventory[[#This Row],[Total Net Profit]]/Inventory[[#This Row],[Quantity Sold]]),0)","v":0}]
[null,null,null,null,null,null,null,null,0,0,0,null,null,null,0,{"$f":"IF(Inventory[[#This Row],[Item SKU/ID]]=\"\",0,SUMPRODUCT((Quantity_Sold_1=Inventory[[#This Row],[Item SKU/ID]])*Net_Profit))","v":0},{"$f":"IFERROR(AVERAGE(Inventory[[#This Row],[Total Net Profit]]/Inventory[[#This Row],[Quantity Sold]]),0)","v":0}]
[null,null,null,null,null,null,null,null,0,0,0,null,null,null,0,{"$f":"IF(Inventory[[#This Row],[Item SKU/ID]]=\"\",0,SUMPRODUCT((Quantity_Sold_1=Inventory[[#This Row],[Item SKU/ID]])*Net_Profit))","v":0},{"$f":"IFERROR(AVERAGE(Inventory[[#This Row],[Total Net Profit]]/Inventory[[#This Row],[Quantity Sold]]),0)","v":0}]
[null,null,null,null,null,null,null,null,0,0,0,null,null,null,0,{"$f":"IF(Inventory[[#This Row],[Item SKU/ID]]=\"\",0,SUMPRODUCT((Quantity_Sold_1=Inventory[[#This Row],[Item SKU/ID]])*Net_Profit))","v":0},{"$f":"IFERROR(AVERAGE(Inventory[[#This Row],[Total Net Profit]]/Inventory[[#This Row],[Quantity Sold]]),0)","v":0}]
[null,null,null,null,null,null,null,null,0,0,0,null,null,null,0,{"$f":"IF(Inventory[[#This Row],[Item SKU/ID]]=\"\",0,SUMPRODUCT((Quantity_Sold_1=Inventory[[#This Row],[Item SKU/ID]])*Net_Profit))","v":0},{"$f":"IFERROR(AVERAGE(Inventory[[#This Row],[Total Net Profit]]/Inventory[[#This Row],[Quantity Sold]]),0)","v":0}]
[null,null,null,null,null,null,null,null,0,0,0,null,null,null,0,{"$f":"IF(Inventory[[#This Row],[Item SKU/ID]]=\"\",0,SUMPRODUCT((Quantity_Sold_1=Inventory[[#This Row],[Item SKU/ID]])*Net_Profit))","v":0},{"$f":"IFERROR(AVERAGE(Inventory[[#This Row],[Total Net Profit]]/Inventory[[#This Row],[Quantity Sold]]),0)","v":0}]
[null,null,null,null,null,null,null,null,0,0,0,null,null,null,0,{"$f":"IF(Inventory[[#This Row],[Item SKU/ID]]=\"\",0,SUMPRODUCT((Quantity_Sold_1=Inventory[[#This Row],[Item SKU/ID]])*Net_Profit))","v":0},{"$f":"IFERROR(AVERAGE(Inventory[[#This Row],[Total Net Profit]]/Inventory[[#This Row],[Quantity Sold]]),0)","v":0}]
[null,null,null,null,null,null,null,null,0,0,0,null,null,null,0,{"$f":"IF(Inventory[[#This Row],[Item SKU/ID]]=\"\",0,SUMPRODUCT((Quantity_Sold_1=Inventory[[#This Row],[Item SKU/ID]])*Net_Profit))","v":0},{"$f":"IFERROR(AVERAGE(Inventory[[#This Row],[Total Net Profit]]/Inventory[[#This Row],[Quantity Sold]]),0)","v":0}]
[null,null,null,null,null,null,null,null,0,0,0,null,null,null,0,{"$f":"IF(Inventory[[#This Row],[Item SKU/ID]]=\"\",0,SUMPRODUCT((Quantity_Sold_1=Inventory[[#This Row],[Item SKU/ID]])*Net_Profit))","v":0},{"$f":"IFERROR(AVERAGE(Inventory[[#This Row],[Total Net Profit]]/Inventory[[#This Row],[Quantity Sold]]),0)","v":0}]
[null,null,null,null,null,null,null,null,0,0,0,null,null,null,0,{"$f":"IF(Inventory[[#This Row],[Item SKU/ID]]=\"\",0,SUMPRODUCT((Quantity_Sold_1=Inventory[[#This Row],[Item SKU/ID]])*Net_Profit))","v":0},{"$f":"IFERROR(AVERAGE(Inventory[[#This Row],[Total Net Profit]]/Inventory[[#This Row],[Quantity Sold]]),0)","v":0}]
[null,null,null,null,null,null,null,null,0,0,0,null,null,null,0,{"$f":"IF(Inventory[[#This Row],[Item SKU/ID]]=\"\",0,SUMPRODUCT((Quantity_Sold_1=Inventory[[#This Row],[Item SKU/ID]])*Net_Profit))","v":0},{"$f":"IFERROR(AVERAGE(Inventory[[#This Row],[Total Net Profit]]/Inventory[[#This Row],[Quantity Sold]]),0)","v":0}]
[null,null,null,null,null,null,null,null,0,0,0,null,null,null,0,{"$f":"IF(Inventory[[#This Row],[Item SKU/ID]]=\"\",0,SUMPRODUCT((Quantity_Sold_1=Inventory[[#This Row],[Item SKU/ID]])*Net_Profit))","v":0},{"$f":"IFERROR(AVERAGE(Inventory[[#This Row],[Total Net Profit]]/Inventory[[#This Row],[Quantity Sold]]),0)","v":0}]
[null,null,null,null,null,null,null,null,0,0,0,null,null,null,0,{"$f":"IF(Inventory[[#This Row],[Item SKU/ID]]=\"\",0,SUMPRODUCT((Quantity_Sold_1=Inventory[[#This Row],[Item SKU/ID]])*Net_Profit))","v":0},{"$f":"IFERROR(AVERAGE(Inventory[[#This Row],[Total Net Profit]]/Inventory[[#This Row],[Quantity Sold]]),0)","v":0}]
[null,null,null,null,null,null,null,null,0,0,0,null,null,null,0,{"$f":"IF(Inventory[[#This Row],[Item SKU/ID]]=\"\",0,SUMPRODUCT((Quantity_Sold_1=Inventory[[#This Row],[Item SKU/ID]])*Net_Profit))","v":0},{"$f":"IFERROR(AVERAGE(Inventory[[#This Row],[Total Net Profit]]/Inventory[[#This Row],[Quantity Sold]]),0)","v":0}]
[null,null,null,null,null,null,null,null,0,0,0,null,null,null,0,{"$f":"IF(Inventory[[#This Row],[Item SKU/ID]]=\"\",0,SUMPRODUCT((Quantity_Sold_1=Inventory[[#This Row],[Item SKU/ID]])*Net_Profit))","v":0},{"$f":"IFERROR(AVERAGE(Inventory[[#This Row],[Total Net Profit]]/Inventory[[#This Row],[Quantity Sold]]),0)","v":0}]
[null,null,null,null,null,null,null,null,0,0,0,null,null,null,0,{"$f":"IF(Inventory[[#This Row],[Item SKU/ID]]=\"\",0,SUMPRODUCT((Quantity_Sold_1=Inventory[[#This Row],[Item SKU/ID]])*Net_Profit))","v":0},{"$f":"IFERROR(AVERAGE(Inventory[[#This Row],[Total Net Profit]]/Inventory[[#This Row],[Quantity Sold]]),0)","v":0}]
[null,null,null,null,null,null,null,null,0,0,0,null,null,null,0,{"$f":"IF(Inventory[[#This Row],[Item SKU/ID]]=\"\",0,SUMPRODUCT((Quantity_Sold_1=Inventory[[#This Row],[Item SKU/ID]])*Net_Profit))","v":0},{"$f":"IFERROR(AVERAGE(Inventory[[#This Row],[Total Net Profit]]/Inventory[[#This Row],[Quantity Sold]]),0)","v":0}]
[null,null,null,null,null,null,null,null,0,0,0,null,null,null,0,{"$f":"IF(Inventory[[#This Row],[Item SKU/ID]]=\"\",0,SUMPRODUCT((Quantity_Sold_1=Inventory[[#This Row],[Item SKU/ID]])*Net_Profit))","v":0},{"$f":"IFERROR(AVERAGE(Inventory[[#This Row],[Total Net Profit]]/Inventory[[#This Row],[Quantity Sold]]),0)","v":0}]
[null,null,null,null,null,null,null,null,0,0,0,null,null,null,0,{"$f":"IF(Inventory[[#This Row],[Item SKU/ID]]=\"\",0,SUMPRODUCT((Quantity_Sold_1=Inventory[[#This Row],[Item SKU/ID]])*Net_Profit))","v":0},{"$f":"IFERROR(AVERAGE(Inventory[[#This Row],[Total Net Profit]]/Inventory[[#This Row],[Quantity Sold]]),0)","v":0}]
[null,null,null,null,null,null,null,null,0,0,0,null,null,null,0,{"$f":"IF(Inventory[[#This Row],[Item SKU/ID]]=\"\",0,SUMPRODUCT((Quantity_Sold_1=Inventory[[#This Row],[Item SKU/ID]])*Net_Profit))","v":0},{"$f":"IFERROR(AVERAGE(Inventory[[#This Row],[Total Net Profit]]/Inventory[[#This Row],[Quantity Sold]]),0)","v":0}]
[null,null,null,null,null,null,null,null,0,0,0,null,null,null,0,{"$f":"IF(Inventory[[#This Row],[Item SKU/ID]]=\"\",0,SUMPRODUCT((Quantity_Sold_1=Inventory[[#This Row],[Item SKU/ID]])*Net_Profit))","v":0},{"$f":"IFERROR(AVERAGE(Inventory[[#This Row],[Total Net Profit]]/Inventory[[#This Row],[Quantity Sold]]),0)","v":0}]
[null,null,null,null,null,null,null,null,0,0,0,null,null,null,0,{"$f":"IF(Inventory[[#This Row],[Item SKU/ID]]=\"\",0,SUMPRODUCT((Quantity_Sold_1=Inventory[[#This Row],[Item SKU/ID]])*Net_Profit))","v":0},{"$f":"IFERROR(AVERAGE(Inventory[[#This Row],[Total Net Profit]]/Inventory[[#This Row],[Quantity Sold]]),0)","v":0}]
[null,null,null,null,null,null,null,null,0,0,0,null,null,null,0,{"$f":"IF(Inventory[[#This Row],[Item SKU/ID]]=\"\",0,SUMPRODUCT((Quantity_Sold_1=Inventory[[#This Row],[Item SKU/ID]])*Net_Profit))","v":0},{"$f":"IFERROR(AVERAGE(Inventory[[#This Row],[Total Net Profit]]/Inventory[[#This Row],[Quantity Sold]]),0)","v":0}]
[null,null,null,null,null,null,null,null,0,0,0,null,null,null,0,{"$f":"IF(Inventory[[#This Row],[Item SKU/ID]]=\"\",0,SUMPRODUCT((Quantity_Sold_1=Inventory[[#This Row],[Item SKU/ID]])*Net_Profit))","v":0},{"$f":"IFERROR(AVERAGE(Inventory[[#This Row],[Total Net Profit]]/Inventory[[#This Row],[Quantity Sold]]),0)","v":0}]
[null,null,null,null,null,null,null,null,0,0,0,null,null,null,0,{"$f":"IF(Inventory[[#This Row],[Item SKU/ID]]=\"\",0,SUMPRODUCT((Quantity_Sold_1=Inventory[[#This Row],[Item SKU/ID]])*Net_Profit))","v":0},{"$f":"IFERROR(AVERAGE(Inventory[[#This Row],[Total Net Profit]]/Inventory[[#This Row],[Quantity Sold]]),0)","v":0}]
[null,null,null,null,null,null,null,null,0,0,0,null,null,null,0,{"$f":"IF(Inventory[[#This Row],[Item SKU/ID]]=\"\",0,SUMPRODUCT((Quantity_Sold_1=Inventory[[#This Row],[Item SKU/ID]])*Net_Profit))","v":0},{"$f":"IFERROR(AVERAGE(Inventory[[#This Row],[Total Net Profit]]/Inventory[[#This Row],[Quantity Sold]]),0)","v":0}]
[null,null,null,null,null,null,null,null,0,0,0,null,null,null,0,{"$f":"IF(Inventory[[#This Row],[Item SKU/ID]]=\"\",0,SUMPRODUCT((Quantity_Sold_1=Inventory[[#This Row],[Item SKU/ID]])*Net_Profit))","v":0},{"$f":"IFERROR(AVERAGE(Inventory[[#This Row],[Total Net Profit]]/Inventory[[#This Row],[Quantity Sold]]),0)","v":0}]
[null,null,null,null,null,null,null,null,0,0,0,null,null,null,0,{"$f":"IF(Inventory[[#This Row],[Item SKU/ID]]=\"\",0,SUMPRODUCT((Quantity_Sold_1=Inventory[[#This Row],[Item SKU/ID]])*Net_Profit))","v":0},{"$f":"IFERROR(AVERAGE(Inventory[[#This Row],[Total Net Profit]]/Inventory[[#This Row],[Quantity Sold]]),0)","v":0}]
[null,null,null,null,null,null,null,null,0,0,0,null,null,null,0,{"$f":"IF(Inventory[[#This Row],[Item SKU/ID]]=\"\",0,SUMPRODUCT((Quantity_Sold_1=Inventory[[#This Row],[Item SKU/ID]])*Net_Profit))","v":0},{"$f":"IFERROR(AVERAGE(Inventory[[#This Row],[Total Net Profit]]/Inventory[[#This Row],[Quantity Sold]]),0)","v":0}]
[null,null,null,null,null,null,null,null,0,0,0,null,null,null,0,{"$f":"IF(Inventory[[#This Row],[Item SKU/ID]]=\"\",0,SUMPRODUCT((Quantity_Sold_1=Inventory[[#This Row],[Item SKU/ID]])*Net_Profit))","v":0},{"$f":"IFERROR(AVERAGE(Inventory[[#This Row],[Total Net Profit]]/Inventory[[#This Row],[Quantity Sold]]),0)","v":0}]
[null,null,null,null,null,null,null,null,0,0,0,null,null,null,0,{"$f":"IF(Inventory[[#This Row],[Item SKU/ID]]=\"\",0,SUMPRODUCT((Quantity_Sold_1=Inventory[[#This Row],[Item SKU/ID]])*Net_Profit))","v":0},{"$f":"IFERROR(AVERAGE(Inventory[[#This Row],[Total Net Profit]]/Inventory[[#This Row],[Quantity Sold]]),0)","v":0}]
[null,null,null,null,null,null,null,null,0,0,0,null,null,null,0,{"$f":"IF(Inventory[[#This Row],[Item SKU/ID]]=\"\",0,SUMPRODUCT((Quantity_Sold_1=Inventory[[#This Row],[Item SKU/ID]])*Net_Profit))","v":0},{"$f":"IFERROR(AVERAGE(Inventory[[#This Row],[Total Net Profit]]/Inventory[[#This Row],[Quantity Sold]]),0)","v":0}]
[null,null,null,null,null,null,null,null,0,0,0,null,null,null,0,{"$f":"IF(Inventory[[#This Row],[Item SKU/ID]]=\"\",0,SUMPRODUCT((Quantity_Sold_1=Inventory[[#This Row],[Item SKU/ID]])*Net_Profit))","v":0},{"$f":"IFERROR(AVERAGE(Inventory[[#This Row],[Total Net Profit]]/Inventory[[#This Row],[Quantity Sold]]),0)","v":0}]
[null,null,null,null,null,null,null,null,0,0,0,null,null,null,0,{"$f":"IF(Inventory[[#This Row],[Item SKU/ID]]=\"\",0,SUMPRODUCT((Quantity_Sold_1=Inventory[[#This Row],[Item SKU/ID]])*Net_Profit))","v":0},{"$f":"IFERROR(AVERAGE(Inventory[[#This Row],[Total Net Profit]]/Inventory[[#This Row],[Quantity Sold]]),0)","v":0}]
[null,null,null,null,null,null,null,null,0,0,0,null,null,null,0,{"$f":"IF(Inventory[[#This Row],[Item SKU/ID]]=\"\",0,SUMPRODUCT((Quantity_Sold_1=Inventory[[#This Row],[Item SKU/ID]])*Net_Profit))","v":0},{"$f":"IFERROR(AVERAGE(Inventory[[#This Row],[Total Net Profit]]/Inventory[[#This Row],[Quantity Sold]]),0)","v":0}]
[null,null,null,null,null,null,null,null,0,0,0,null,null,null,0,{"$f":"IF(Inventory[[#This Row],[Item SKU/ID]]=\"\",0,SUMPRODUCT((Quantity_Sold_1=Inventory[[#This Row],[Item SKU/ID]])*Net_Profit))","v":0},{"$f":"IFERROR(AVERAGE(Inventory[[#This Row],[Total Net Profit]]/Inventory[[#This Row],[Quantity Sold]]),0)","v":0}]
[null,null,null,null,null,null,null,null,0,0,0,null,null,null,0,{"$f":"IF(Inventory[[#This Row],[Item SKU/ID]]=\"\",0,SUMPRODUCT((Quantity_Sold_1=Inventory[[#This Row],[Item SKU/ID]])*Net_Profit))","v":0},{"$f":"IFERROR(AVERAGE(Inventory[[#This Row],[Total Net Profit]]/Inventory[[#This Row],[Quantity Sold]]),0)","v":0}]
[null,null,null,null,null,null,null,null,0,0,0,null,null,null,0,{"$f":"IF(Inventory[[#This Row],[Item SKU/ID]]=\"\",0,SUMPRODUCT((Quantity_Sold_1=Inventory[[#This Row],[Item SKU/ID]])*Net_Profit))","v":0},{"$f":"IFERROR(AVERAGE(Inventory[[#This Row],[Total Net Profit]]/Inventory[[#This Row],[Quantity Sold]]),0)","v":0}]
[null,null,null,null,null,null,null,null,0,0,0,null,null,null,0,{"$f":"IF(Inventory[[#This Row],[Item SKU/ID]]=\"\",0,SUMPRODUCT((Quantity_Sold_1=Inventory[[#This Row],[Item SKU/ID]])*Net_Profit))","v":0},{"$f":"IFERROR(AVERAGE(Inventory[[#This Row],[Total Net Profit]]/Inventory[[#This Row],[Quantity Sold]]),0)","v":0}]
[null,null,null,null,null,null,null,null,0,0,0,null,null,null,0,{"$f":"IF(Inventory[[#This Row],[Item SKU/ID]]=\"\",0,SUMPRODUCT((Quantity_Sold_1=Inventory[[#This Row],[Item SKU/ID]])*Net_Profit))","v":0},{"$f":"IFERROR(AVERAGE(Inventory[[#This Row],[Total Net Profit]]/Inventory[[#This Row],[Quantity Sold]]),0)","v":0}]
[null,null,null,null,null,null,null,null,0,0,0,null,null,null,0,{"$f":"IF(Inventory[[#This Row],[Item SKU/ID]]=\"\",0,SUMPRODUCT((Quantity_Sold_1=Inventory[[#This Row],[Item SKU/ID]])*Net_Profit))","v":0},{"$f":"IFERROR(AVERAGE(Inventory[[#This Row],[Total Net Profit]]/Inventory[[#This Row],[Quantity Sold]]),0)","v":0}]
[null,null,null,null,null,null,null,null,0,0,0,null,null,null,0,{"$f":"IF(Inventory[[#This Row],[Item SKU/ID]]=\"\",0,SUMPRODUCT((Quantity_Sold_1=Inventory[[#This Row],[Item SKU/ID]])*Net_Profit))","v":0},{"$f":"IFERROR(AVERAGE(Inventory[[#This Row],[Total Net Profit]]/Inventory[[#This Row],[Quantity Sold]]),0)","v":0}]
[null,null,null,null,null,null,null,null,0,0,0,null,null,null,0,{"$f":"IF(Inventory[[#This Row],[Item SKU/ID]]=\"\",0,SUMPRODUCT((Quantity_Sold_1=Inventory[[#This Row],[Item SKU/ID]])*Net_Profit))","v":0},{"$f":"IFERROR(AVERAGE(Inventory[[#This Row],[Total Net Profit]]/Inventory[[#This Row],[Quantity Sold]]),0)","v":0}]
[null,null,null,null,null,null,null,null,0,0,0,null,null,null,0,{"$f":"IF(Inventory[[#This Row],[Item SKU/ID]]=\"\",0,SUMPRODUCT((Quantity_Sold_1=Inventory[[#This Row],[Item SKU/ID]])*Net_Profit))","v":0},{"$f":"IFERROR(AVERAGE(Inventory[[#This Row],[Total Net Profit]]/Inventory[[#This Row],[Quantity Sold]]),0)","v":0}]
[null,null,null,null,null,null,null,null,0,0,0,null,null,null,0,{"$f":"IF(Inventory[[#This Row],[Item SKU/ID]]=\"\",0,SUMPRODUCT((Quantity_Sold_1=Inventory[[#This Row],[Item SKU/ID]])*Net_Profit))","v":0},{"$f":"IFERROR(AVERAGE(Inventory[[#This Row],[Total Net Profit]]/Inventory[[#This Row],[Quantity Sold]]),0)","v":0}]
[null,null,null,null,null,null,null,null,0,0,0,null,null,null,0,{"$f":"IF(Inventory[[#This Row],[Item SKU/ID]]=\"\",0,SUMPRODUCT((Quantity_Sold_1=Inventory[[#This Row],[Item SKU/ID]])*Net_Profit))","v":0},{"$f":"IFERROR(AVERAGE(Inventory[[#This Row],[Total Net Profit]]/Inventory[[#This Row],[Quantity Sold]]),0)","v":0}]
[null,null,null,null,null,null,null,null,0,0,0,null,null,null,0,{"$f":"IF(Inventory[[#This Row],[Item SKU/ID]]=\"\",0,SUMPRODUCT((Quantity_Sold_1=Inventory[[#This Row],[Item SKU/ID]])*Net_Profit))","v":0},{"$f":"IFERROR(AVERAGE(Inventory[[#This Row],[Total Net Profit]]/Inventory[[#This Row],[Quantity Sold]]),0)","v":0}]
[null,null,null,null,null,null,null,null,0,0,0,null,null,null,0,{"$f":"IF(Inventory[[#This Row],[Item SKU/ID]]=\"\",0,SUMPRODUCT((Quantity_Sold_1=Inventory[[#This Row],[Item SKU/ID]])*Net_Profit))","v":0},{"$f":"IFERROR(AVERAGE(Inventory[[#This Row],[Total Net Profit]]/Inventory[[#This Row],[Quantity Sold]]),0)","v":0}]
[null,null,null,null,null,null,null,null,{"$f":"K2372*H2372","v":0},{"$f":"IF(F2372=\"\",0,SUMPRODUCT((Quantity_Sold_1=F2372)*Quantity_Sold_2))","v":0},{"$f":"G2372-J2372","v":0},null,null,null,{"$f":"K2372*H2372","v":0},{"$f":"IF(Inventory[[#This Row],[Item SKU/ID]]=\"\",0,SUMPRODUCT((Quantity_Sold_1=Inventory[[#This Row],[Item SKU/ID]])*Net_Profit))","v":0},{"$f":"IFERROR(AVERAGE(Inventory[[#This Row],[Total Net Profit]]/Inventory[[#This Row],[Quantity Sold]]),0)","v":0}]
[null,null,null,null,null,null,null,null,0,0,0,null,null,null,0,{"$f":"IF(Inventory[[#This Row],[Item SKU/ID]]=\"\",0,SUMPRODUCT((Quantity_Sold_1=Inventory[[#This Row],[Item SKU/ID]])*Net_Profit))","v":0},{"$f":"IFERROR(AVERAGE(Inventory[[#This Row],[Total Net Profit]]/Inventory[[#This Row],[Quantity Sold]]),0)","v":0}]
[null,null,null,null,null,null,null,null,0,0,0,null,null,null,0,{"$f":"IF(Inventory[[#This Row],[Item SKU/ID]]=\"\",0,SUMPRODUCT((Quantity_Sold_1=Inventory[[#This Row],[Item SKU/ID]])*Net_Profit))","v":0},{"$f":"IFERROR(AVERAGE(Inventory[[#This Row],[Total Net Profit]]/Inventory[[#This Row],[Quantity Sold]]),0)","v":0}]
[null,null,null,null,null,null,null,null,0,0,0,null,null,null,0,{"$f":"IF(Inventory[[#This Row],[Item SKU/ID]]=\"\",0,SUMPRODUCT((Quantity_Sold_1=Inventory[[#This Row],[Item SKU/ID]])*Net_Profit))","v":0},{"$f":"IFERROR(AVERAGE(Inventory[[#This Row],[Total Net Profit]]/Inventory[[#This Row],[Quantity Sold]]),0)","v":0}]
[null,null,null,null,null,null,null,null,0,0,0,null,null,null,0,{"$f":"IF(Inventory[[#This Row],[Item SKU/ID]]=\"\",0,SUMPRODUCT((Quantity_Sold_1=Inventory[[#This Row],[Item SKU/ID]])*Net_Profit))","v":0},{"$f":"IFERROR(AVERAGE(Inventory[[#This Row],[Total Net Profit]]/Inventory[[#This Row],[Quantity Sold]]),0)","v":0}]
[null,null,null,null,null,null,null,null,0,0,0,null,null,null,0,{"$f":"IF(Inventory[[#This Row],[Item SKU/ID]]=\"\",0,SUMPRODUCT((Quantity_Sold_1=Inventory[[#This Row],[Item SKU/ID]])*Net_Profit))","v":0},{"$f":"IFERROR(AVERAGE(Inventory[[#This Row],[Total Net Profit]]/Inventory[[#This Row],[Quantity Sold]]),0)","v":0}]
[null,null,null,null,null,null,null,null,0,0,0,null,null,null,0,{"$f":"IF(Inventory[[#This Row],[Item SKU/ID]]=\"\",0,SUMPRODUCT((Quantity_Sold_1=Inventory[[#This Row],[Item SKU/ID]])*Net_Profit))","v":0},{"$f":"IFERROR(AVERAGE(Inventory[[#This Row],[Total Net Profit]]/Inventory[[#This Row],[Quantity Sold]]),0)","v":0}]
[null,null,null,null,null,null,null,null,0,0,0,null,null,null,0,{"$f":"IF(Inventory[[#This Row],[Item SKU/ID]]=\"\",0,SUMPRODUCT((Quantity_Sold_1=Inventory[[#This Row],[Item SKU/ID]])*Net_Profit))","v":0},{"$f":"IFERROR(AVERAGE(Inventory[[#This Row],[Total Net Profit]]/Inventory[[#This Row],[Quantity Sold]]),0)","v":0}]
[null,null,null,null,null,null,null,null,0,0,0,null,null,null,0,{"$f":"IF(Inventory[[#This Row],[Item SKU/ID]]=\"\",0,SUMPRODUCT((Quantity_Sold_1=Inventory[[#This Row],[Item SKU/ID]])*Net_Profit))","v":0},{"$f":"IFERROR(AVERAGE(Inventory[[#This Row],[Total Net Profit]]/Inventory[[#This Row],[Quantity Sold]]),0)","v":0}]
[null,null,null,null,null,null,null,null,0,0,0,null,null,null,0,{"$f":"IF(Inventory[[#This Row],[Item SKU/ID]]=\"\",0,SUMPRODUCT((Quantity_Sold_1=Inventory[[#This Row],[Item SKU/ID]])*Net_Profit))","v":0},{"$f":"IFERROR(AVERAGE(Inventory[[#This Row],[Total Net Profit]]/Inventory[[#This Row],[Quantity Sold]]),0)","v":0}]
[null,null,null,null,null,null,null,null,0,0,0,null,null,null,0,{"$f":"IF(Inventory[[#This Row],[Item SKU/ID]]=\"\",0,SUMPRODUCT((Quantity_Sold_1=Inventory[[#This Row],[Item SKU/ID]])*Net_Profit))","v":0},{"$f":"IFERROR(AVERAGE(Inventory[[#This Row],[Total Net Profit]]/Inventory[[#This Row],[Quantity Sold]]),0)","v":0}]
[null,null,null,null,null,null,null,null,0,0,0,null,null,null,0,{"$f":"IF(Inventory[[#This Row],[Item SKU/ID]]=\"\",0,SUMPRODUCT((Quantity_Sold_1=Inventory[[#This Row],[Item SKU/ID]])*Net_Profit))","v":0},{"$f":"IFERROR(AVERAGE(Inventory[[#This Row],[Total Net Profit]]/Inventory[[#This Row],[Quantity Sold]]),0)","v":0}]
[null,null,null,null,null,null,null,null,0,0,0,null,null,null,0,{"$f":"IF(Inventory[[#This Row],[Item SKU/ID]]=\"\",0,SUMPRODUCT((Quantity_Sold_1=Inventory[[#This Row],[Item SKU/ID]])*Net_Profit))","v":0},{"$f":"IFERROR(AVERAGE(Inventory[[#This Row],[Total Net Profit]]/Inventory[[#This Row],[Quantity Sold]]),0)","v":0}]
[null,null,null,null,null,null,null,null,0,0,0,null,null,null,0,{"$f":"IF(Inventory[[#This Row],[Item SKU/ID]]=\"\",0,SUMPRODUCT((Quantity_Sold_1=Inventory[[#This Row],[Item SKU/ID]])*Net_Profit))","v":0},{"$f":"IFERROR(AVERAGE(Inventory[[#This Row],[Total Net Profit]]/Inventory[[#This Row],[Quantity Sold]]),0)","v":0}]
[null,null,null,null,null,null,null,null,0,0,0,null,null,null,0,{"$f":"IF(Inventory[[#This Row],[Item SKU/ID]]=\"\",0,SUMPRODUCT((Quantity_Sold_1=Inventory[[#This Row],[Item SKU/ID]])*Net_Profit))","v":0},{"$f":"IFERROR(AVERAGE(Inventory[[#This Row],[Total Net Profit]]/Inventory[[#This Row],[Quantity Sold]]),0)","v":0}]
[null,null,null,null,null,null,null,null,0,0,0,null,null,null,0,{"$f":"IF(Inventory[[#This Row],[Item SKU/ID]]=\"\",0,SUMPRODUCT((Quantity_Sold_1=Inventory[[#This Row],[Item SKU/ID]])*Net_Profit))","v":0},{"$f":"IFERROR(AVERAGE(Inventory[[#This Row],[Total Net Profit]]/Inventory[[#This Row],[Quantity Sold]]),0)","v":0}]
[null,null,null,null,null,null,null,null,0,0,0,null,null,null,0,{"$f":"IF(Inventory[[#This Row],[Item SKU/ID]]=\"\",0,SUMPRODUCT((Quantity_Sold_1=Inventory[[#This Row],[Item SKU/ID]])*Net_Profit))","v":0},{"$f":"IFERROR(AVERAGE(Inventory[[#This Row],[Total Net Profit]]/Inventory[[#This Row],[Quantity Sold]]),0)","v":0}]
[null,null,null,null,null,null,null,null,0,0,0,null,null,null,0,{"$f":"IF(Inventory[[#This Row],[Item SKU/ID]]=\"\",0,SUMPRODUCT((Quantity_Sold_1=Inventory[[#This Row],[Item SKU/ID]])*Net_Profit))","v":0},{"$f":"IFERROR(AVERAGE(Inventory[[#This Row],[Total Net Profit]]/Inventory[[#This Row],[Quantity Sold]]),0)","v":0}]
[null,null,null,null,null,null,null,null,0,0,0,null,null,null,0,{"$f":"IF(Inventory[[#This Row],[Item SKU/ID]]=\"\",0,SUMPRODUCT((Quantity_Sold_1=Inventory[[#This Row],[Item SKU/ID]])*Net_Profit))","v":0},{"$f":"IFERROR(AVERAGE(Inventory[[#This Row],[Total Net Profit]]/Inventory[[#This Row],[Quantity Sold]]),0)","v":0}]
[null,null,null,null,null,null,null,null,0,0,0,null,null,null,0,{"$f":"IF(Inventory[[#This Row],[Item SKU/ID]]=\"\",0,SUMPRODUCT((Quantity_Sold_1=Inventory[[#This Row],[Item SKU/ID]])*Net_Profit))","v":0},{"$f":"IFERROR(AVERAGE(Inventory[[#This Row],[Total Net Profit]]/Inventory[[#This Row],[Quantity Sold]]),0)","v":0}]
[null,null,null,null,null,null,null,null,0,0,0,null,null,null,0,{"$f":"IF(Inventory[[#This Row],[Item SKU/ID]]=\"\",0,SUMPRODUCT((Quantity_Sold_1=Inventory[[#This Row],[Item SKU/ID]])*Net_Profit))","v":0},{"$f":"IFERROR(AVERAGE(Inventory[[#This Row],[Total Net Profit]]/Inventory[[#This Row],[Quantity Sold]]),0)","v":0}]
[null,null,null,null,null,null,null,null,0,0,0,null,null,null,0,{"$f":"IF(Inventory[[#This Row],[Item SKU/ID]]=\"\",0,SUMPRODUCT((Quantity_Sold_1=Inventory[[#This Row],[Item SKU/ID]])*Net_Profit))","v":0},{"$f":"IFERROR(AVERAGE(Inventory[[#This Row],[Total Net Profit]]/Inventory[[#This Row],[Quantity Sold]]),0)","v":0}]
[null,null,null,null,null,null,null,null,0,0,0,null,null,null,0,{"$f":"IF(Inventory[[#This Row],[Item SKU/ID]]=\"\",0,SUMPRODUCT((Quantity_Sold_1=Inventory[[#This Row],[Item SKU/ID]])*Net_Profit))","v":0},{"$f":"IFERROR(AVERAGE(Inventory[[#This Row],[Total Net Profit]]/Inventory[[#This Row],[Quantity Sold]]),0)","v":0}]
[null,null,null,null,null,null,null,null,0,0,0,null,null,null,0,{"$f":"IF(Inventory[[#This Row],[Item SKU/ID]]=\"\",0,SUMPRODUCT((Quantity_Sold_1=Inventory[[#This Row],[Item SKU/ID]])*Net_Profit))","v":0},{"$f":"IFERROR(AVERAGE(Inventory[[#This Row],[Total Net Profit]]/Inventory[[#This Row],[Quantity Sold]]),0)","v":0}]
[null,null,null,null,null,null,null,null,0,0,0,null,null,null,0,{"$f":"IF(Inventory[[#This Row],[Item SKU/ID]]=\"\",0,SUMPRODUCT((Quantity_Sold_1=Inventory[[#This Row],[Item SKU/ID]])*Net_Profit))","v":0},{"$f":"IFERROR(AVERAGE(Inventory[[#This Row],[Total Net Profit]]/Inventory[[#This Row],[Quantity Sold]]),0)","v":0}]
[null,null,null,null,null,null,null,null,0,0,0,null,null,null,0,{"$f":"IF(Inventory[[#This Row],[Item SKU/ID]]=\"\",0,SUMPRODUCT((Quantity_Sold_1=Inventory[[#This Row],[Item SKU/ID]])*Net_Profit))","v":0},{"$f":"IFERROR(AVERAGE(Inventory[[#This Row],[Total Net Profit]]/Inventory[[#This Row],[Quantity Sold]]),0)","v":0}]
[null,null,null,null,null,null,null,null,0,0,0,null,null,null,0,{"$f":"IF(Inventory[[#This Row],[Item SKU/ID]]=\"\",0,SUMPRODUCT((Quantity_Sold_1=Inventory[[#This Row],[Item SKU/ID]])*Net_Profit))","v":0},{"$f":"IFERROR(AVERAGE(Inventory[[#This Row],[Total Net Profit]]/Inventory[[#This Row],[Quantity Sold]]),0)","v":0}]
[null,null,null,null,null,null,null,null,0,0,0,null,null,null,0,{"$f":"IF(Inventory[[#This Row],[Item SKU/ID]]=\"\",0,SUMPRODUCT((Quantity_Sold_1=Inventory[[#This Row],[Item SKU/ID]])*Net_Profit))","v":0},{"$f":"IFERROR(AVERAGE(Inventory[[#This Row],[Total Net Profit]]/Inventory[[#This Row],[Quantity Sold]]),0)","v":0}]
[null,null,null,null,null,null,null,null,0,0,0,null,null,null,0,{"$f":"IF(Inventory[[#This Row],[Item SKU/ID]]=\"\",0,SUMPRODUCT((Quantity_Sold_1=Inventory[[#This Row],[Item SKU/ID]])*Net_Profit))","v":0},{"$f":"IFERROR(AVERAGE(Inventory[[#This Row],[Total Net Profit]]/Inventory[[#This Row],[Quantity Sold]]),0)","v":0}]
[null,null,null,null,null,null,null,null,0,0,0,null,null,null,0,{"$f":"IF(Inventory[[#This Row],[Item SKU/ID]]=\"\",0,SUMPRODUCT((Quantity_Sold_1=Inventory[[#This Row],[Item SKU/ID]])*Net_Profit))","v":0},{"$f":"IFERROR(AVERAGE(Inventory[[#This Row],[Total Net Profit]]/Inventory[[#This Row],[Quantity Sold]]),0)","v":0}]
[null,null,null,null,null,null,null,null,0,0,0,null,null,null,0,{"$f":"IF(Inventory[[#This Row],[Item SKU/ID]]=\"\",0,SUMPRODUCT((Quantity_Sold_1=Inventory[[#This Row],[Item SKU/ID]])*Net_Profit))","v":0},{"$f":"IFERROR(AVERAGE(Inventory[[#This Row],[Total Net Profit]]/Inventory[[#This Row],[Quantity Sold]]),0)","v":0}]
[null,null,null,null,null,null,null,null,0,0,0,null,null,null,0,{"$f":"IF(Inventory[[#This Row],[Item SKU/ID]]=\"\",0,SUMPRODUCT((Quantity_Sold_1=Inventory[[#This Row],[Item SKU/ID]])*Net_Profit))","v":0},{"$f":"IFERROR(AVERAGE(Inventory[[#This Row],[Total Net Profit]]/Inventory[[#This Row],[Quantity Sold]]),0)","v":0}]
[null,null,null,null,null,null,null,null,0,0,0,null,null,null,0,{"$f":"IF(Inventory[[#This Row],[Item SKU/ID]]=\"\",0,SUMPRODUCT((Quantity_Sold_1=Inventory[[#This Row],[Item SKU/ID]])*Net_Profit))","v":0},{"$f":"IFERROR(AVERAGE(Inventory[[#This Row],[Total Net Profit]]/Inventory[[#This Row],[Quantity Sold]]),0)","v":0}]
[null,null,null,null,null,null,null,null,0,0,0,null,null,null,0,{"$f":"IF(Inventory[[#This Row],[Item SKU/ID]]=\"\",0,SUMPRODUCT((Quantity_Sold_1=Inventory[[#This Row],[Item SKU/ID]])*Net_Profit))","v":0},{"$f":"IFERROR(AVERAGE(Inventory[[#This Row],[Total Net Profit]]/Inventory[[#This Row],[Quantity Sold]]),0)","v":0}]
[null,null,null,null,null,null,null,null,0,0,0,null,null,null,0,{"$f":"IF(Inventory[[#This Row],[Item SKU/ID]]=\"\",0,SUMPRODUCT((Quantity_Sold_1=Inventory[[#This Row],[Item SKU/ID]])*Net_Profit))","v":0},{"$f":"IFERROR(AVERAGE(Inventory[[#This Row],[Total Net Profit]]/Inventory[[#This Row],[Quantity Sold]]),0)","v":0}]
[null,null,null,null,null,null,null,null,0,0,0,null,null,null,0,{"$f":"IF(Inventory[[#This Row],[Item SKU/ID]]=\"\",0,SUMPRODUCT((Quantity_Sold_1=Inventory[[#This Row],[Item SKU/ID]])*Net_Profit))","v":0},{"$f":"IFERROR(AVERAGE(Inventory[[#This Row],[Total Net Profit]]/Inventory[[#This Row],[Quantity Sold]]),0)","v":0}]
[null,null,null,null,null,null,null,null,0,0,0,null,null,null,0,{"$f":"IF(Inventory[[#This Row],[Item SKU/ID]]=\"\",0,SUMPRODUCT((Quantity_Sold_1=Inventory[[#This Row],[Item SKU/ID]])*Net_Profit))","v":0},{"$f":"IFERROR(AVERAGE(Inventory[[#This Row],[Total Net Profit]]/Inventory[[#This Row],[Quantity Sold]]),0)","v":0}]
[null,null,null,null,null,null,null,null,0,0,0,null,null,null,0,{"$f":"IF(Inventory[[#This Row],[Item SKU/ID]]=\"\",0,SUMPRODUCT((Quantity_Sold_1=Inventory[[#This Row],[Item SKU/ID]])*Net_Profit))","v":0},{"$f":"IFERROR(AVERAGE(Inventory[[#This Row],[Total Net Profit]]/Inventory[[#This Row],[Quantity Sold]]),0)","v":0}]
[null,null,null,null,null,null,null,null,0,0,0,null,null,null,0,{"$f":"IF(Inventory[[#This Row],[Item SKU/ID]]=\"\",0,SUMPRODUCT((Quantity_Sold_1=Inventory[[#This Row],[Item SKU/ID]])*Net_Profit))","v":0},{"$f":"IFERROR(AVERAGE(Inventory[[#This Row],[Total Net Profit]]/Inventory[[#This Row],[Quantity Sold]]),0)","v":0}]
[null,null,null,null,null,null,null,null,0,0,0,null,null,null,0,{"$f":"IF(Inventory[[#This Row],[Item SKU/ID]]=\"\",0,SUMPRODUCT((Quantity_Sold_1=Inventory[[#This Row],[Item SKU/ID]])*Net_Profit))","v":0},{"$f":"IFERROR(AVERAGE(Inventory[[#This Row],[Total Net Profit]]/Inventory[[#This Row],[Quantity Sold]]),0)","v":0}]
[null,null,null,null,null,null,null,null,0,0,0,null,null,null,0,{"$f":"IF(Inventory[[#This Row],[Item SKU/ID]]=\"\",0,SUMPRODUCT((Quantity_Sold_1=Inventory[[#This Row],[Item SKU/ID]])*Net_Profit))","v":0},{"$f":"IFERROR(AVERAGE(Inventory[[#This Row],[Total Net Profit]]/Inventory[[#This Row],[Quantity Sold]]),0)","v":0}]
[null,null,null,null,null,null,null,null,0,0,0,null,null,null,0,{"$f":"IF(Inventory[[#This Row],[Item SKU/ID]]=\"\",0,SUMPRODUCT((Quantity_Sold_1=Inventory[[#This Row],[Item SKU/ID]])*Net_Profit))","v":0},{"$f":"IFERROR(AVERAGE(Inventory[[#This Row],[Total Net Profit]]/Inventory[[#This Row],[Quantity Sold]]),0)","v":0}]
[null,null,null,null,null,null,null,null,0,0,0,null,null,null,0,{"$f":"IF(Inventory[[#This Row],[Item SKU/ID]]=\"\",0,SUMPRODUCT((Quantity_Sold_1=Inventory[[#This Row],[Item SKU/ID]])*Net_Profit))","v":0},{"$f":"IFERROR(AVERAGE(Inventory[[#This Row],[Total Net Profit]]/Inventory[[#This Row],[Quantity Sold]]),0)","v":0}]
[null,null,null,null,null,null,null,null,0,0,0,null,null,null,0,{"$f":"IF(Inventory[[#This Row],[Item SKU/ID]]=\"\",0,SUMPRODUCT((Quantity_Sold_1=Inventory[[#This Row],[Item SKU/ID]])*Net_Profit))","v":0},{"$f":"IFERROR(AVERAGE(Inventory[[#This Row],[Total Net Profit]]/Inventory[[#This Row],[Quantity Sold]]),0)","v":0}]
[null,null,null,null,null,null,null,null,0,0,0,null,null,null,0,{"$f":"IF(Inventory[[#This Row],[Item SKU/ID]]=\"\",0,SUMPRODUCT((Quantity_Sold_1=Inventory[[#This Row],[Item SKU/ID]])*Net_Profit))","v":0},{"$f":"IFERROR(AVERAGE(Inventory[[#This Row],[Total Net Profit]]/Inventory[[#This Row],[Quantity Sold]]),0)","v":0}]
[null,null,null,null,null,null,null,null,0,0,0,null,null,null,0,{"$f":"IF(Inventory[[#This Row],[Item SKU/ID]]=\"\",0,SUMPRODUCT((Quantity_Sold_1=Inventory[[#This Row],[Item SKU/ID]])*Net_Profit))","v":0},{"$f":"IFERROR(AVERAGE(Inventory[[#This Row],[Total Net Profit]]/Inventory[[#This Row],[Quantity Sold]]),0)","v":0}]
[null,null,null,null,null,null,null,null,0,0,0,null,null,null,0,{"$f":"IF(Inventory[[#This Row],[Item SKU/ID]]=\"\",0,SUMPRODUCT((Quantity_Sold_1=Inventory[[#This Row],[Item SKU/ID]])*Net_Profit))","v":0},{"$f":"IFERROR(AVERAGE(Inventory[[#This Row],[Total Net Profit]]/Inventory[[#This Row],[Quantity Sold]]),0)","v":0}]
[null,null,null,null,null,null,null,null,0,0,0,null,null,null,0,{"$f":"IF(Inventory[[#This Row],[Item SKU/ID]]=\"\",0,SUMPRODUCT((Quantity_Sold_1=Inventory[[#This Row],[Item SKU/ID]])*Net_Profit))","v":0},{"$f":"IFERROR(AVERAGE(Inventory[[#This Row],[Total Net Profit]]/Inventory[[#This Row],[Quantity Sold]]),0)","v":0}]
[null,null,null,null,null,null,null,null,0,0,0,null,null,null,0,{"$f":"IF(Inventory[[#This Row],[Item SKU/ID]]=\"\",0,SUMPRODUCT((Quantity_Sold_1=Inventory[[#This Row],[Item SKU/ID]])*Net_Profit))","v":0},{"$f":"IFERROR(AVERAGE(Inventory[[#This Row],[Total Net Profit]]/Inventory[[#This Row],[Quantity Sold]]),0)","v":0}]
[null,null,null,null,null,null,null,null,0,0,0,null,null,null,0,{"$f":"IF(Inventory[[#This Row],[Item SKU/ID]]=\"\",0,SUMPRODUCT((Quantity_Sold_1=Inventory[[#This Row],[Item SKU/ID]])*Net_Profit))","v":0},{"$f":"IFERROR(AVERAGE(Inventory[[#This Row],[Total Net Profit]]/Inventory[[#This Row],[Quantity Sold]]),0)","v":0}]
[null,null,null,null,null,null,null,null,0,0,0,null,null,null,0,{"$f":"IF(Inventory[[#This Row],[Item SKU/ID]]=\"\",0,SUMPRODUCT((Quantity_Sold_1=Inventory[[#This Row],[Item SKU/ID]])*Net_Profit))","v":0},{"$f":"IFERROR(AVERAGE(Inventory[[#This Row],[Total Net Profit]]/Inventory[[#This Row],[Quantity Sold]]),0)","v":0}]
[null,null,null,null,null,null,null,null,0,0,0,null,null,null,0,{"$f":"IF(Inventory[[#This Row],[Item SKU/ID]]=\"\",0,SUMPRODUCT((Quantity_Sold_1=Inventory[[#This Row],[Item SKU/ID]])*Net_Profit))","v":0},{"$f":"IFERROR(AVERAGE(Inventory[[#This Row],[Total Net Profit]]/Inventory[[#This Row],[Quantity Sold]]),0)","v":0}]
[null,null,null,null,null,null,null,null,0,0,0,null,null,null,0,{"$f":"IF(Inventory[[#This Row],[Item SKU/ID]]=\"\",0,SUMPRODUCT((Quantity_Sold_1=Inventory[[#This Row],[Item SKU/ID]])*Net_Profit))","v":0},{"$f":"IFERROR(AVERAGE(Inventory[[#This Row],[Total Net Profit]]/Inventory[[#This Row],[Quantity Sold]]),0)","v":0}]
[null,null,null,null,null,null,null,null,0,0,0,null,null,null,0,{"$f":"IF(Inventory[[#This Row],[Item SKU/ID]]=\"\",0,SUMPRODUCT((Quantity_Sold_1=Inventory[[#This Row],[Item SKU/ID]])*Net_Profit))","v":0},{"$f":"IFERROR(AVERAGE(Inventory[[#This Row],[Total Net Profit]]/Inventory[[#This Row],[Quantity Sold]]),0)","v":0}]
[null,null,null,null,null,null,null,null,0,0,0,null,null,null,0,{"$f":"IF(Inventory[[#This Row],[Item SKU/ID]]=\"\",0,SUMPRODUCT((Quantity_Sold_1=Inventory[[#This Row],[Item SKU/ID]])*Net_Profit))","v":0},{"$f":"IFERROR(AVERAGE(Inventory[[#This Row],[Total Net Profit]]/Inventory[[#This Row],[Quantity Sold]]),0)","v":0}]
[null,null,null,null,null,null,null,null,0,0,0,null,null,null,0,{"$f":"IF(Inventory[[#This Row],[Item SKU/ID]]=\"\",0,SUMPRODUCT((Quantity_Sold_1=Inventory[[#This Row],[Item SKU/ID]])*Net_Profit))","v":0},{"$f":"IFERROR(AVERAGE(Inventory[[#This Row],[Total Net Profit]]/Inventory[[#This Row],[Quantity Sold]]),0)","v":0}]
[null,null,null,null,null,null,null,null,0,0,0,null,null,null,0,{"$f":"IF(Inventory[[#This Row],[Item SKU/ID]]=\"\",0,SUMPRODUCT((Quantity_Sold_1=Inventory[[#This Row],[Item SKU/ID]])*Net_Profit))","v":0},{"$f":"IFERROR(AVERAGE(Inventory[[#This Row],[Total Net Profit]]/Inventory[[#This Row],[Quantity Sold]]),0)","v":0}]
[null,null,null,null,null,null,null,null,0,0,0,null,null,null,0,{"$f":"IF(Inventory[[#This Row],[Item SKU/ID]]=\"\",0,SUMPRODUCT((Quantity_Sold_1=Inventory[[#This Row],[Item SKU/ID]])*Net_Profit))","v":0},{"$f":"IFERROR(AVERAGE(Inventory[[#This Row],[Total Net Profit]]/Inventory[[#This Row],[Quantity Sold]]),0)","v":0}]
[null,null,null,null,null,null,null,null,0,0,0,null,null,null,0,{"$f":"IF(Inventory[[#This Row],[Item SKU/ID]]=\"\",0,SUMPRODUCT((Quantity_Sold_1=Inventory[[#This Row],[Item SKU/ID]])*Net_Profit))","v":0},{"$f":"IFERROR(AVERAGE(Inventory[[#This Row],[Total Net Profit]]/Inventory[[#This Row],[Quantity Sold]]),0)","v":0}]
[null,null,null,null,null,null,null,null,0,0,0,null,null,null,0,{"$f":"IF(Inventory[[#This Row],[Item SKU/ID]]=\"\",0,SUMPRODUCT((Quantity_Sold_1=Inventory[[#This Row],[Item SKU/ID]])*Net_Profit))","v":0},{"$f":"IFERROR(AVERAGE(Inventory[[#This Row],[Total Net Profit]]/Inventory[[#This Row],[Quantity Sold]]),0)","v":0}]
[null,null,null,null,null,null,null,null,0,0,0,null,null,null,0,{"$f":"IF(Inventory[[#This Row],[Item SKU/ID]]=\"\",0,SUMPRODUCT((Quantity_Sold_1=Inventory[[#This Row],[Item SKU/ID]])*Net_Profit))","v":0},{"$f":"IFERROR(AVERAGE(Inventory[[#This Row],[Total Net Profit]]/Inventory[[#This Row],[Quantity Sold]]),0)","v":0}]
[null,null,null,null,null,null,null,null,0,0,0,null,null,null,0,{"$f":"IF(Inventory[[#This Row],[Item SKU/ID]]=\"\",0,SUMPRODUCT((Quantity_Sold_1=Inventory[[#This Row],[Item SKU/ID]])*Net_Profit))","v":0},{"$f":"IFERROR(AVERAGE(Inventory[[#This Row],[Total Net Profit]]/Inventory[[#This Row],[Quantity Sold]]),0)","v":0}]
[null,null,null,null,null,null,null,null,0,0,0,null,null,null,0,{"$f":"IF(Inventory[[#This Row],[Item SKU/ID]]=\"\",0,SUMPRODUCT((Quantity_Sold_1=Inventory[[#This Row],[Item SKU/ID]])*Net_Profit))","v":0},{"$f":"IFERROR(AVERAGE(Inventory[[#This Row],[Total Net Profit]]/Inventory[[#This Row],[Quantity Sold]]),0)","v":0}]
[null,null,null,null,null,null,null,null,0,0,0,null,null,null,0,{"$f":"IF(Inventory[[#This Row],[Item SKU/ID]]=\"\",0,SUMPRODUCT((Quantity_Sold_1=Inventory[[#This Row],[Item SKU/ID]])*Net_Profit))","v":0},{"$f":"IFERROR(AVERAGE(Inventory[[#This Row],[Total Net Profit]]/Inventory[[#This Row],[Quantity Sold]]),0)","v":0}]
[null,null,null,null,null,null,null,null,{"$f":"K2436*H2436","v":0},{"$f":"IF(F2436=\"\",0,SUMPRODUCT((Quantity_Sold_1=F2436)*Quantity_Sold_2))","v":0},{"$f":"G2436-J2436","v":0},null,null,null,{"$f":"K2436*H2436","v":0},{"$f":"IF(Inventory[[#This Row],[Item SKU/ID]]=\"\",0,SUMPRODUCT((Quantity_Sold_1=Inventory[[#This Row],[Item SKU/ID]])*Net_Profit))","v":0},{"$f":"IFERROR(AVERAGE(Inventory[[#This Row],[Total Net Profit]]/Inventory[[#This Row],[Quantity Sold]]),0)","v":0}]
[null,null,null,null,null,null,null,null,0,0,0,null,null,null,0,{"$f":"IF(Inventory[[#This Row],[Item SKU/ID]]=\"\",0,SUMPRODUCT((Quantity_Sold_1=Inventory[[#This Row],[Item SKU/ID]])*Net_Profit))","v":0},{"$f":"IFERROR(AVERAGE(Inventory[[#This Row],[Total Net Profit]]/Inventory[[#This Row],[Quantity Sold]]),0)","v":0}]
[null,null,null,null,null,null,null,null,0,0,0,null,null,null,0,{"$f":"IF(Inventory[[#This Row],[Item SKU/ID]]=\"\",0,SUMPRODUCT((Quantity_Sold_1=Inventory[[#This Row],[Item SKU/ID]])*Net_Profit))","v":0},{"$f":"IFERROR(AVERAGE(Inventory[[#This Row],[Total Net Profit]]/Inventory[[#This Row],[Quantity Sold]]),0)","v":0}]
[null,null,null,null,null,null,null,null,0,0,0,null,null,null,0,{"$f":"IF(Inventory[[#This Row],[Item SKU/ID]]=\"\",0,SUMPRODUCT((Quantity_Sold_1=Inventory[[#This Row],[Item SKU/ID]])*Net_Profit))","v":0},{"$f":"IFERROR(AVERAGE(Inventory[[#This Row],[Total Net Profit]]/Inventory[[#This Row],[Quantity Sold]]),0)","v":0}]
[null,null,null,null,null,null,null,null,0,0,0,null,null,null,0,{"$f":"IF(Inventory[[#This Row],[Item SKU/ID]]=\"\",0,SUMPRODUCT((Quantity_Sold_1=Inventory[[#This Row],[Item SKU/ID]])*Net_Profit))","v":0},{"$f":"IFERROR(AVERAGE(Inventory[[#This Row],[Total Net Profit]]/Inventory[[#This Row],[Quantity Sold]]),0)","v":0}]
[null,null,null,null,null,null,null,null,0,0,0,null,null,null,0,{"$f":"IF(Inventory[[#This Row],[Item SKU/ID]]=\"\",0,SUMPRODUCT((Quantity_Sold_1=Inventory[[#This Row],[Item SKU/ID]])*Net_Profit))","v":0},{"$f":"IFERROR(AVERAGE(Inventory[[#This Row],[Total Net Profit]]/Inventory[[#This Row],[Quantity Sold]]),0)","v":0}]
[null,null,null,null,null,null,null,null,0,0,0,null,null,null,0,{"$f":"IF(Inventory[[#This Row],[Item SKU/ID]]=\"\",0,SUMPRODUCT((Quantity_Sold_1=Inventory[[#This Row],[Item SKU/ID]])*Net_Profit))","v":0},{"$f":"IFERROR(AVERAGE(Inventory[[#This Row],[Total Net Profit]]/Inventory[[#This Row],[Quantity Sold]]),0)","v":0}]
[null,null,null,null,null,null,null,null,0,0,0,null,null,null,0,{"$f":"IF(Inventory[[#This Row],[Item SKU/ID]]=\"\",0,SUMPRODUCT((Quantity_Sold_1=Inventory[[#This Row],[Item SKU/ID]])*Net_Profit))","v":0},{"$f":"IFERROR(AVERAGE(Inventory[[#This Row],[Total Net Profit]]/Inventory[[#This Row],[Quantity Sold]]),0)","v":0}]
[null,null,null,null,null,null,null,null,0,0,0,null,null,null,0,{"$f":"IF(Inventory[[#This Row],[Item SKU/ID]]=\"\",0,SUMPRODUCT((Quantity_Sold_1=Inventory[[#This Row],[Item SKU/ID]])*Net_Profit))","v":0},{"$f":"IFERROR(AVERAGE(Inventory[[#This Row],[Total Net Profit]]/Inventory[[#This Row],[Quantity Sold]]),0)","v":0}]
[null,null,null,null,null,null,null,null,0,0,0,null,null,null,0,{"$f":"IF(Inventory[[#This Row],[Item SKU/ID]]=\"\",0,SUMPRODUCT((Quantity_Sold_1=Inventory[[#This Row],[Item SKU/ID]])*Net_Profit))","v":0},{"$f":"IFERROR(AVERAGE(Inventory[[#This Row],[Total Net Profit]]/Inventory[[#This Row],[Quantity Sold]]),0)","v":0}]
[null,null,null,null,null,null,null,null,0,0,0,null,null,null,0,{"$f":"IF(Inventory[[#This Row],[Item SKU/ID]]=\"\",0,SUMPRODUCT((Quantity_Sold_1=Inventory[[#This Row],[Item SKU/ID]])*Net_Profit))","v":0},{"$f":"IFERROR(AVERAGE(Inventory[[#This Row],[Total Net Profit]]/Inventory[[#This Row],[Quantity Sold]]),0)","v":0}]
[null,null,null,null,null,null,null,null,0,0,0,null,null,null,0,{"$f":"IF(Inventory[[#This Row],[Item SKU/ID]]=\"\",0,SUMPRODUCT((Quantity_Sold_1=Inventory[[#This Row],[Item SKU/ID]])*Net_Profit))","v":0},{"$f":"IFERROR(AVERAGE(Inventory[[#This Row],[Total Net Profit]]/Inventory[[#This Row],[Quantity Sold]]),0)","v":0}]
[null,null,null,null,null,null,null,null,0,0,0,null,null,null,0,{"$f":"IF(Inventory[[#This Row],[Item SKU/ID]]=\"\",0,SUMPRODUCT((Quantity_Sold_1=Inventory[[#This Row],[Item SKU/ID]])*Net_Profit))","v":0},{"$f":"IFERROR(AVERAGE(Inventory[[#This Row],[Total Net Profit]]/Inventory[[#This Row],[Quantity Sold]]),0)","v":0}]
[null,null,null,null,null,null,null,null,0,0,0,null,null,null,0,{"$f":"IF(Inventory[[#This Row],[Item SKU/ID]]=\"\",0,SUMPRODUCT((Quantity_Sold_1=Inventory[[#This Row],[Item SKU/ID]])*Net_Profit))","v":0},{"$f":"IFERROR(AVERAGE(Inventory[[#This Row],[Total Net Profit]]/Inventory[[#This Row],[Quantity Sold]]),0)","v":0}]
[null,null,null,null,null,null,null,null,0,0,0,null,null,null,0,{"$f":"IF(Inventory[[#This Row],[Item SKU/ID]]=\"\",0,SUMPRODUCT((Quantity_Sold_1=Inventory[[#This Row],[Item SKU/ID]])*Net_Profit))","v":0},{"$f":"IFERROR(AVERAGE(Inventory[[#This Row],[Total Net Profit]]/Inventory[[#This Row],[Quantity Sold]]),0)","v":0}]
[null,null,null,null,null,null,null,null,0,0,0,null,null,null,0,{"$f":"IF(Inventory[[#This Row],[Item SKU/ID]]=\"\",0,SUMPRODUCT((Quantity_Sold_1=Inventory[[#This Row],[Item SKU/ID]])*Net_Profit))","v":0},{"$f":"IFERROR(AVERAGE(Inventory[[#This Row],[Total Net Profit]]/Inventory[[#This Row],[Quantity Sold]]),0)","v":0}]
[null,null,null,null,null,null,null,null,0,0,0,null,null,null,0,{"$f":"IF(Inventory[[#This Row],[Item SKU/ID]]=\"\",0,SUMPRODUCT((Quantity_Sold_1=Inventory[[#This Row],[Item SKU/ID]])*Net_Profit))","v":0},{"$f":"IFERROR(AVERAGE(Inventory[[#This Row],[Total Net Profit]]/Inventory[[#This Row],[Quantity Sold]]),0)","v":0}]
[null,null,null,null,null,null,null,null,0,0,0,null,null,null,0,{"$f":"IF(Inventory[[#This Row],[Item SKU/ID]]=\"\",0,SUMPRODUCT((Quantity_Sold_1=Inventory[[#This Row],[Item SKU/ID]])*Net_Profit))","v":0},{"$f":"IFERROR(AVERAGE(Inventory[[#This Row],[Total Net Profit]]/Inventory[[#This Row],[Quantity Sold]]),0)","v":0}]
[null,null,null,null,null,null,null,null,0,0,0,null,null,null,0,{"$f":"IF(Inventory[[#This Row],[Item SKU/ID]]=\"\",0,SUMPRODUCT((Quantity_Sold_1=Inventory[[#This Row],[Item SKU/ID]])*Net_Profit))","v":0},{"$f":"IFERROR(AVERAGE(Inventory[[#This Row],[Total Net Profit]]/Inventory[[#This Row],[Quantity Sold]]),0)","v":0}]
[null,null,null,null,null,null,null,null,0,0,0,null,null,null,0,{"$f":"IF(Inventory[[#This Row],[Item SKU/ID]]=\"\",0,SUMPRODUCT((Quantity_Sold_1=Inventory[[#This Row],[Item SKU/ID]])*Net_Profit))","v":0},{"$f":"IFERROR(AVERAGE(Inventory[[#This Row],[Total Net Profit]]/Inventory[[#This Row],[Quantity Sold]]),0)","v":0}]
[null,null,null,null,null,null,null,null,0,0,0,null,null,null,0,{"$f":"IF(Inventory[[#This Row],[Item SKU/ID]]=\"\",0,SUMPRODUCT((Quantity_Sold_1=Inventory[[#This Row],[Item SKU/ID]])*Net_Profit))","v":0},{"$f":"IFERROR(AVERAGE(Inventory[[#This Row],[Total Net Profit]]/Inventory[[#This Row],[Quantity Sold]]),0)","v":0}]
[null,null,null,null,null,null,null,null,0,0,0,null,null,null,0,{"$f":"IF(Inventory[[#This Row],[Item SKU/ID]]=\"\",0,SUMPRODUCT((Quantity_Sold_1=Inventory[[#This Row],[Item SKU/ID]])*Net_Profit))","v":0},{"$f":"IFERROR(AVERAGE(Inventory[[#This Row],[Total Net Profit]]/Inventory[[#This Row],[Quantity Sold]]),0)","v":0}]
[null,null,null,null,null,null,null,null,0,0,0,null,null,null,0,{"$f":"IF(Inventory[[#This Row],[Item SKU/ID]]=\"\",0,SUMPRODUCT((Quantity_Sold_1=Inventory[[#This Row],[Item SKU/ID]])*Net_Profit))","v":0},{"$f":"IFERROR(AVERAGE(Inventory[[#This Row],[Total Net Profit]]/Inventory[[#This Row],[Quantity Sold]]),0)","v":0}]
[null,null,null,null,null,null,null,null,0,0,0,null,null,null,0,{"$f":"IF(Inventory[[#This Row],[Item SKU/ID]]=\"\",0,SUMPRODUCT((Quantity_Sold_1=Inventory[[#This Row],[Item SKU/ID]])*Net_Profit))","v":0},{"$f":"IFERROR(AVERAGE(Inventory[[#This Row],[Total Net Profit]]/Inventory[[#This Row],[Quantity Sold]]),0)","v":0}]
[null,null,null,null,null,null,null,null,0,0,0,null,null,null,0,{"$f":"IF(Inventory[[#This Row],[Item SKU/ID]]=\"\",0,SUMPRODUCT((Quantity_Sold_1=Inventory[[#This Row],[Item SKU/ID]])*Net_Profit))","v":0},{"$f":"IFERROR(AVERAGE(Inventory[[#This Row],[Total Net Profit]]/Inventory[[#This Row],[Quantity Sold]]),0)","v":0}]
[null,null,null,null,null,null,null,null,0,0,0,null,null,null,0,{"$f":"IF(Inventory[[#This Row],[Item SKU/ID]]=\"\",0,SUMPRODUCT((Quantity_Sold_1=Inventory[[#This Row],[Item SKU/ID]])*Net_Profit))","v":0},{"$f":"IFERROR(AVERAGE(Inventory[[#This Row],[Total Net Profit]]/Inventory[[#This Row],[Quantity Sold]]),0)","v":0}]
[null,null,null,null,null,null,null,null,0,0,0,null,null,null,0,{"$f":"IF(Inventory[[#This Row],[Item SKU/ID]]=\"\",0,SUMPRODUCT((Quantity_Sold_1=Inventory[[#This Row],[Item SKU/ID]])*Net_Profit))","v":0},{"$f":"IFERROR(AVERAGE(Inventory[[#This Row],[Total Net Profit]]/Inventory[[#This Row],[Quantity Sold]]),0)","v":0}]
[null,null,null,null,null,null,null,null,0,0,0,null,null,null,0,{"$f":"IF(Inventory[[#This Row],[Item SKU/ID]]=\"\",0,SUMPRODUCT((Quantity_Sold_1=Inventory[[#This Row],[Item SKU/ID]])*Net_Profit))","v":0},{"$f":"IFERROR(AVERAGE(Inventory[[#This Row],[Total Net Profit]]/Inventory[[#This Row],[Quantity Sold]]),0)","v":0}]
[null,null,null,null,null,null,null,null,0,0,0,null,null,null,0,{"$f":"IF(Inventory[[#This Row],[Item SKU/ID]]=\"\",0,SUMPRODUCT((Quantity_Sold_1=Inventory[[#This Row],[Item SKU/ID]])*Net_Profit))","v":0},{"$f":"IFERROR(AVERAGE(Inventory[[#This Row],[Total Net Profit]]/Inventory[[#This Row],[Quantity Sold]]),0)","v":0}]
[null,null,null,null,null,null,null,null,0,0,0,null,null,null,0,{"$f":"IF(Inventory[[#This Row],[Item SKU/ID]]=\"\",0,SUMPRODUCT((Quantity_Sold_1=Inventory[[#This Row],[Item SKU/ID]])*Net_Profit))","v":0},{"$f":"IFERROR(AVERAGE(Inventory[[#This Row],[Total Net Profit]]/Inventory[[#This Row],[Quantity Sold]]),0)","v":0}]
[null,null,null,null,null,null,null,null,0,0,0,null,null,null,0,{"$f":"IF(Inventory[[#This Row],[Item SKU/ID]]=\"\",0,SUMPRODUCT((Quantity_Sold_1=Inventory[[#This Row],[Item SKU/ID]])*Net_Profit))","v":0},{"$f":"IFERROR(AVERAGE(Inventory[[#This Row],[Total Net Profit]]/Inventory[[#This Row],[Quantity Sold]]),0)","v":0}]
[null,null,null,null,null,null,null,null,0,0,0,null,null,null,0,{"$f":"IF(Inventory[[#This Row],[Item SKU/ID]]=\"\",0,SUMPRODUCT((Quantity_Sold_1=Inventory[[#This Row],[Item SKU/ID]])*Net_Profit))","v":0},{"$f":"IFERROR(AVERAGE(Inventory[[#This Row],[Total Net Profit]]/Inventory[[#This Row],[Quantity Sold]]),0)","v":0}]
[null,null,null,null,null,null,null,null,0,0,0,null,null,null,0,{"$f":"IF(Inventory[[#This Row],[Item SKU/ID]]=\"\",0,SUMPRODUCT((Quantity_Sold_1=Inventory[[#This Row],[Item SKU/ID]])*Net_Profit))","v":0},{"$f":"IFERROR(AVERAGE(Inventory[[#This Row],[Total Net Profit]]/Inventory[[#This Row],[Quantity Sold]]),0)","v":0}]
[null,null,null,null,null,null,null,null,0,0,0,null,null,null,0,{"$f":"IF(Inventory[[#This Row],[Item SKU/ID]]=\"\",0,SUMPRODUCT((Quantity_Sold_1=Inventory[[#This Row],[Item SKU/ID]])*Net_Profit))","v":0},{"$f":"IFERROR(AVERAGE(Inventory[[#This Row],[Total Net Profit]]/Inventory[[#This Row],[Quantity Sold]]),0)","v":0}]
[null,null,null,null,null,null,null,null,0,0,0,null,null,null,0,{"$f":"IF(Inventory[[#This Row],[Item SKU/ID]]=\"\",0,SUMPRODUCT((Quantity_Sold_1=Inventory[[#This Row],[Item SKU/ID]])*Net_Profit))","v":0},{"$f":"IFERROR(AVERAGE(Inventory[[#This Row],[Total Net Profit]]/Inventory[[#This Row],[Quantity Sold]]),0)","v":0}]
[null,null,null,null,null,null,null,null,0,0,0,null,null,null,0,{"$f":"IF(Inventory[[#This Row],[Item SKU/ID]]=\"\",0,SUMPRODUCT((Quantity_Sold_1=Inventory[[#This Row],[Item SKU/ID]])*Net_Profit))","v":0},{"$f":"IFERROR(AVERAGE(Inventory[[#This Row],[Total Net Profit]]/Inventory[[#This Row],[Quantity Sold]]),0)","v":0}]
[null,null,null,null,null,null,null,null,0,0,0,null,null,null,0,{"$f":"IF(Inventory[[#This Row],[Item SKU/ID]]=\"\",0,SUMPRODUCT((Quantity_Sold_1=Inventory[[#This Row],[Item SKU/ID]])*Net_Profit))","v":0},{"$f":"IFERROR(AVERAGE(Inventory[[#This Row],[Total Net Profit]]/Inventory[[#This Row],[Quantity Sold]]),0)","v":0}]
[null,null,null,null,null,null,null,null,0,0,0,null,null,null,0,{"$f":"IF(Inventory[[#This Row],[Item SKU/ID]]=\"\",0,SUMPRODUCT((Quantity_Sold_1=Inventory[[#This Row],[Item SKU/ID]])*Net_Profit))","v":0},{"$f":"IFERROR(AVERAGE(Inventory[[#This Row],[Total Net Profit]]/Inventory[[#This Row],[Quantity Sold]]),0)","v":0}]
[null,null,null,null,null,null,null,null,0,0,0,null,null,null,0,{"$f":"IF(Inventory[[#This Row],[Item SKU/ID]]=\"\",0,SUMPRODUCT((Quantity_Sold_1=Inventory[[#This Row],[Item SKU/ID]])*Net_Profit))","v":0},{"$f":"IFERROR(AVERAGE(Inventory[[#This Row],[Total Net Profit]]/Inventory[[#This Row],[Quantity Sold]]),0)","v":0}]
[null,null,null,null,null,null,null,null,0,0,0,null,null,null,0,{"$f":"IF(Inventory[[#This Row],[Item SKU/ID]]=\"\",0,SUMPRODUCT((Quantity_Sold_1=Inventory[[#This Row],[Item SKU/ID]])*Net_Profit))","v":0},{"$f":"IFERROR(AVERAGE(Inventory[[#This Row],[Total Net Profit]]/Inventory[[#This Row],[Quantity Sold]]),0)","v":0}]
[null,null,null,null,null,null,null,null,0,0,0,null,null,null,0,{"$f":"IF(Inventory[[#This Row],[Item SKU/ID]]=\"\",0,SUMPRODUCT((Quantity_Sold_1=Inventory[[#This Row],[Item SKU/ID]])*Net_Profit))","v":0},{"$f":"IFERROR(AVERAGE(Inventory[[#This Row],[Total Net Profit]]/Inventory[[#This Row],[Quantity Sold]]),0)","v":0}]
[null,null,null,null,null,null,null,null,0,0,0,null,null,null,0,{"$f":"IF(Inventory[[#This Row],[Item SKU/ID]]=\"\",0,SUMPRODUCT((Quantity_Sold_1=Inventory[[#This Row],[Item SKU/ID]])*Net_Profit))","v":0},{"$f":"IFERROR(AVERAGE(Inventory[[#This Row],[Total Net Profit]]/Inventory[[#This Row],[Quantity Sold]]),0)","v":0}]
[null,null,null,null,null,null,null,null,0,0,0,null,null,null,0,{"$f":"IF(Inventory[[#This Row],[Item SKU/ID]]=\"\",0,SUMPRODUCT((Quantity_Sold_1=Inventory[[#This Row],[Item SKU/ID]])*Net_Profit))","v":0},{"$f":"IFERROR(AVERAGE(Inventory[[#This Row],[Total Net Profit]]/Inventory[[#This Row],[Quantity Sold]]),0)","v":0}]
[null,null,null,null,null,null,null,null,0,0,0,null,null,null,0,{"$f":"IF(Inventory[[#This Row],[Item SKU/ID]]=\"\",0,SUMPRODUCT((Quantity_Sold_1=Inventory[[#This Row],[Item SKU/ID]])*Net_Profit))","v":0},{"$f":"IFERROR(AVERAGE(Inventory[[#This Row],[Total Net Profit]]/Inventory[[#This Row],[Quantity Sold]]),0)","v":0}]
[null,null,null,null,null,null,null,null,0,0,0,null,null,null,0,{"$f":"IF(Inventory[[#This Row],[Item SKU/ID]]=\"\",0,SUMPRODUCT((Quantity_Sold_1=Inventory[[#This Row],[Item SKU/ID]])*Net_Profit))","v":0},{"$f":"IFERROR(AVERAGE(Inventory[[#This Row],[Total Net Profit]]/Inventory[[#This Row],[Quantity Sold]]),0)","v":0}]
[null,null,null,null,null,null,null,null,0,0,0,null,null,null,0,{"$f":"IF(Inventory[[#This Row],[Item SKU/ID]]=\"\",0,SUMPRODUCT((Quantity_Sold_1=Inventory[[#This Row],[Item SKU/ID]])*Net_Profit))","v":0},{"$f":"IFERROR(AVERAGE(Inventory[[#This Row],[Total Net Profit]]/Inventory[[#This Row],[Quantity Sold]]),0)","v":0}]
[null,null,null,null,null,null,null,null,0,0,0,null,null,null,0,{"$f":"IF(Inventory[[#This Row],[Item SKU/ID]]=\"\",0,SUMPRODUCT((Quantity_Sold_1=Inventory[[#This Row],[Item SKU/ID]])*Net_Profit))","v":0},{"$f":"IFERROR(AVERAGE(Inventory[[#This Row],[Total Net Profit]]/Inventory[[#This Row],[Quantity Sold]]),0)","v":0}]
[null,null,null,null,null,null,null,null,0,0,0,null,null,null,0,{"$f":"IF(Inventory[[#This Row],[Item SKU/ID]]=\"\",0,SUMPRODUCT((Quantity_Sold_1=Inventory[[#This Row],[Item SKU/ID]])*Net_Profit))","v":0},{"$f":"IFERROR(AVERAGE(Inventory[[#This Row],[Total Net Profit]]/Inventory[[#This Row],[Quantity Sold]]),0)","v":0}]
[null,null,null,null,null,null,null,null,0,0,0,null,null,null,0,{"$f":"IF(Inventory[[#This Row],[Item SKU/ID]]=\"\",0,SUMPRODUCT((Quantity_Sold_1=Inventory[[#This Row],[Item SKU/ID]])*Net_Profit))","v":0},{"$f":"IFERROR(AVERAGE(Inventory[[#This Row],[Total Net Profit]]/Inventory[[#This Row],[Quantity Sold]]),0)","v":0}]
[null,null,null,null,null,null,null,null,0,0,0,null,null,null,0,{"$f":"IF(Inventory[[#This Row],[Item SKU/ID]]=\"\",0,SUMPRODUCT((Quantity_Sold_1=Inventory[[#This Row],[Item SKU/ID]])*Net_Profit))","v":0},{"$f":"IFERROR(AVERAGE(Inventory[[#This Row],[Total Net Profit]]/Inventory[[#This Row],[Quantity Sold]]),0)","v":0}]
[null,null,null,null,null,null,null,null,0,0,0,null,null,null,0,{"$f":"IF(Inventory[[#This Row],[Item SKU/ID]]=\"\",0,SUMPRODUCT((Quantity_Sold_1=Inventory[[#This Row],[Item SKU/ID]])*Net_Profit))","v":0},{"$f":"IFERROR(AVERAGE(Inventory[[#This Row],[Total Net Profit]]/Inventory[[#This Row],[Quantity Sold]]),0)","v":0}]
[null,null,null,null,null,null,null,null,0,0,0,null,null,null,0,{"$f":"IF(Inventory[[#This Row],[Item SKU/ID]]=\"\",0,SUMPRODUCT((Quantity_Sold_1=Inventory[[#This Row],[Item SKU/ID]])*Net_Profit))","v":0},{"$f":"IFERROR(AVERAGE(Inventory[[#This Row],[Total Net Profit]]/Inventory[[#This Row],[Quantity Sold]]),0)","v":0}]
[null,null,null,null,null,null,null,null,0,0,0,null,null,null,0,{"$f":"IF(Inventory[[#This Row],[Item SKU/ID]]=\"\",0,SUMPRODUCT((Quantity_Sold_1=Inventory[[#This Row],[Item SKU/ID]])*Net_Profit))","v":0},{"$f":"IFERROR(AVERAGE(Inventory[[#This Row],[Total Net Profit]]/Inventory[[#This Row],[Quantity Sold]]),0)","v":0}]
[null,null,null,null,null,null,null,null,0,0,0,null,null,null,0,{"$f":"IF(Inventory[[#This Row],[Item SKU/ID]]=\"\",0,SUMPRODUCT((Quantity_Sold_1=Inventory[[#This Row],[Item SKU/ID]])*Net_Profit))","v":0},{"$f":"IFERROR(AVERAGE(Inventory[[#This Row],[Total Net Profit]]/Inventory[[#This Row],[Quantity Sold]]),0)","v":0}]
[null,null,null,null,null,null,null,null,0,0,0,null,null,null,0,{"$f":"IF(Inventory[[#This Row],[Item SKU/ID]]=\"\",0,SUMPRODUCT((Quantity_Sold_1=Inventory[[#This Row],[Item SKU/ID]])*Net_Profit))","v":0},{"$f":"IFERROR(AVERAGE(Inventory[[#This Row],[Total Net Profit]]/Inventory[[#This Row],[Quantity Sold]]),0)","v":0}]
[null,null,null,null,null,null,null,null,0,0,0,null,null,null,0,{"$f":"IF(Inventory[[#This Row],[Item SKU/ID]]=\"\",0,SUMPRODUCT((Quantity_Sold_1=Inventory[[#This Row],[Item SKU/ID]])*Net_Profit))","v":0},{"$f":"IFERROR(AVERAGE(Inventory[[#This Row],[Total Net Profit]]/Inventory[[#This Row],[Quantity Sold]]),0)","v":0}]
[null,null,null,null,null,null,null,null,0,0,0,null,null,null,0,{"$f":"IF(Inventory[[#This Row],[Item SKU/ID]]=\"\",0,SUMPRODUCT((Quantity_Sold_1=Inventory[[#This Row],[Item SKU/ID]])*Net_Profit))","v":0},{"$f":"IFERROR(AVERAGE(Inventory[[#This Row],[Total Net Profit]]/Inventory[[#This Row],[Quantity Sold]]),0)","v":0}]
[null,null,null,null,null,null,null,null,0,0,0,null,null,null,0,{"$f":"IF(Inventory[[#This Row],[Item SKU/ID]]=\"\",0,SUMPRODUCT((Quantity_Sold_1=Inventory[[#This Row],[Item SKU/ID]])*Net_Profit))","v":0},{"$f":"IFERROR(AVERAGE(Inventory[[#This Row],[Total Net Profit]]/Inventory[[#This Row],[Quantity Sold]]),0)","v":0}]
[null,null,null,null,null,null,null,null,0,0,0,null,null,null,0,{"$f":"IF(Inventory[[#This Row],[Item SKU/ID]]=\"\",0,SUMPRODUCT((Quantity_Sold_1=Inventory[[#This Row],[Item SKU/ID]])*Net_Profit))","v":0},{"$f":"IFERROR(AVERAGE(Inventory[[#This Row],[Total Net Profit]]/Inventory[[#This Row],[Quantity Sold]]),0)","v":0}]
[null,null,null,null,null,null,null,null,0,0,0,null,null,null,0,{"$f":"IF(Inventory[[#This Row],[Item SKU/ID]]=\"\",0,SUMPRODUCT((Quantity_Sold_1=Inventory[[#This Row],[Item SKU/ID]])*Net_Profit))","v":0},{"$f":"IFERROR(AVERAGE(Inventory[[#This Row],[Total Net Profit]]/Inventory[[#This Row],[Quantity Sold]]),0)","v":0}]
[null,null,null,null,null,null,null,null,0,0,0,null,null,null,0,{"$f":"IF(Inventory[[#This Row],[Item SKU/ID]]=\"\",0,SUMPRODUCT((Quantity_Sold_1=Inventory[[#This Row],[Item SKU/ID]])*Net_Profit))","v":0},{"$f":"IFERROR(AVERAGE(Inventory[[#This Row],[Total Net Profit]]/Inventory[[#This Row],[Quantity Sold]]),0)","v":0}]
[null,null,null,null,null,null,null,null,0,0,0,null,null,null,0,{"$f":"IF(Inventory[[#This Row],[Item SKU/ID]]=\"\",0,SUMPRODUCT((Quantity_Sold_1=Inventory[[#This Row],[Item SKU/ID]])*Net_Profit))","v":0},{"$f":"IFERROR(AVERAGE(Inventory[[#This Row],[Total Net Profit]]/Inventory[[#This Row],[Quantity Sold]]),0)","v":0}]
[null,null,null,null,null,null,null,null,0,0,0,null,null,null,0,{"$f":"IF(Inventory[[#This Row],[Item SKU/ID]]=\"\",0,SUMPRODUCT((Quantity_Sold_1=Inventory[[#This Row],[Item SKU/ID]])*Net_Profit))","v":0},{"$f":"IFERROR(AVERAGE(Inventory[[#This Row],[Total Net Profit]]/Inventory[[#This Row],[Quantity Sold]]),0)","v":0}]
[null,null,null,null,null,null,null,null,0,0,0,null,null,null,0,{"$f":"IF(Inventory[[#This Row],[Item SKU/ID]]=\"\",0,SUMPRODUCT((Quantity_Sold_1=Inventory[[#This Row],[Item SKU/ID]])*Net_Profit))","v":0},{"$f":"IFERROR(AVERAGE(Inventory[[#This Row],[Total Net Profit]]/Inventory[[#This Row],[Quantity Sold]]),0)","v":0}]
[null,null,null,null,null,null,null,null,{"$f":"K2500*H2500","v":0},{"$f":"IF(F2500=\"\",0,SUMPRODUCT((Quantity_Sold_1=F2500)*Quantity_Sold_2))","v":0},{"$f":"G2500-J2500","v":0},null,null,null,{"$f":"K2500*H2500","v":0},{"$f":"IF(Inventory[[#This Row],[Item SKU/ID]]=\"\",0,SUMPRODUCT((Quantity_Sold_1=Inventory[[#This Row],[Item SKU/ID]])*Net_Profit))","v":0},{"$f":"IFERROR(AVERAGE(Inventory[[#This Row],[Total Net Profit]]/Inventory[[#This Row],[Quantity Sold]]),0)","v":0}]
[null,null,null,null,null,null,null,null,0,0,0,null,null,null,0,{"$f":"IF(Inventory[[#This Row],[Item SKU/ID]]=\"\",0,SUMPRODUCT((Quantity_Sold_1=Inventory[[#This Row],[Item SKU/ID]])*Net_Profit))","v":0},{"$f":"IFERROR(AVERAGE(Inventory[[#This Row],[Total Net Profit]]/Inventory[[#This Row],[Quantity Sold]]),0)","v":0}]
[null,null,null,null,null,null,null,null,0,0,0,null,null,null,0,{"$f":"IF(Inventory[[#This Row],[Item SKU/ID]]=\"\",0,SUMPRODUCT((Quantity_Sold_1=Inventory[[#This Row],[Item SKU/ID]])*Net_Profit))","v":0},{"$f":"IFERROR(AVERAGE(Inventory[[#This Row],[Total Net Profit]]/Inventory[[#This Row],[Quantity Sold]]),0)","v":0}]
[null,null,null,null,null,null,null,null,0,0,0,null,null,null,0,{"$f":"IF(Inventory[[#This Row],[Item SKU/ID]]=\"\",0,SUMPRODUCT((Quantity_Sold_1=Inventory[[#This Row],[Item SKU/ID]])*Net_Profit))","v":0},{"$f":"IFERROR(AVERAGE(Inventory[[#This Row],[Total Net Profit]]/Inventory[[#This Row],[Quantity Sold]]),0)","v":0}]
[null,null,null,null,null,null,null,null,0,0,0,null,null,null,0,{"$f":"IF(Inventory[[#This Row],[Item SKU/ID]]=\"\",0,SUMPRODUCT((Quantity_Sold_1=Inventory[[#This Row],[Item SKU/ID]])*Net_Profit))","v":0},{"$f":"IFERROR(AVERAGE(Inventory[[#This Row],[Total Net Profit]]/Inventory[[#This Row],[Quantity Sold]]),0)","v":0}]
[null,null,null,null,null,null,null,null,0,0,0,null,null,null,0,{"$f":"IF(Inventory[[#This Row],[Item SKU/ID]]=\"\",0,SUMPRODUCT((Quantity_Sold_1=Inventory[[#This Row],[Item SKU/ID]])*Net_Profit))","v":0},{"$f":"IFERROR(AVERAGE(Inventory[[#This Row],[Total Net Profit]]/Inventory[[#This Row],[Quantity Sold]]),0)","v":0}]
[null,null,null,null,null,null,null,null,0,0,0,null,null,null,0,{"$f":"IF(Inventory[[#This Row],[Item SKU/ID]]=\"\",0,SUMPRODUCT((Quantity_Sold_1=Inventory[[#This Row],[Item SKU/ID]])*Net_Profit))","v":0},{"$f":"IFERROR(AVERAGE(Inventory[[#This Row],[Total Net Profit]]/Inventory[[#This Row],[Quantity Sold]]),0)","v":0}]
[null,null,null,null,null,null,null,null,0,0,0,null,null,null,0,{"$f":"IF(Inventory[[#This Row],[Item SKU/ID]]=\"\",0,SUMPRODUCT((Quantity_Sold_1=Inventory[[#This Row],[Item SKU/ID]])*Net_Profit))","v":0},{"$f":"IFERROR(AVERAGE(Inventory[[#This Row],[Total Net Profit]]/Inventory[[#This Row],[Quantity Sold]]),0)","v":0}]
[null,null,null,null,null,null,null,null,0,0,0,null,null,null,0,{"$f":"IF(Inventory[[#This Row],[Item SKU/ID]]=\"\",0,SUMPRODUCT((Quantity_Sold_1=Inventory[[#This Row],[Item SKU/ID]])*Net_Profit))","v":0},{"$f":"IFERROR(AVERAGE(Inventory[[#This Row],[Total Net Profit]]/Inventory[[#This Row],[Quantity Sold]]),0)","v":0}]
[null,null,null,null,null,null,null,null,0,0,0,null,null,null,0,{"$f":"IF(Inventory[[#This Row],[Item SKU/ID]]=\"\",0,SUMPRODUCT((Quantity_Sold_1=Inventory[[#This Row],[Item SKU/ID]])*Net_Profit))","v":0},{"$f":"IFERROR(AVERAGE(Inventory[[#This Row],[Total Net Profit]]/Inventory[[#This Row],[Quantity Sold]]),0)","v":0}]
[null,null,null,null,null,null,null,null,0,0,0,null,null,null,0,{"$f":"IF(Inventory[[#This Row],[Item SKU/ID]]=\"\",0,SUMPRODUCT((Quantity_Sold_1=Inventory[[#This Row],[Item SKU/ID]])*Net_Profit))","v":0},{"$f":"IFERROR(AVERAGE(Inventory[[#This Row],[Total Net Profit]]/Inventory[[#This Row],[Quantity Sold]]),0)","v":0}]
[null,null,null,null,null,null,null,null,0,0,0,null,null,null,0,{"$f":"IF(Inventory[[#This Row],[Item SKU/ID]]=\"\",0,SUMPRODUCT((Quantity_Sold_1=Inventory[[#This Row],[Item SKU/ID]])*Net_Profit))","v":0},{"$f":"IFERROR(AVERAGE(Inventory[[#This Row],[Total Net Profit]]/Inventory[[#This Row],[Quantity Sold]]),0)","v":0}]
[null,null,null,null,null,null,null,null,0,0,0,null,null,null,0,{"$f":"IF(Inventory[[#This Row],[Item SKU/ID]]=\"\",0,SUMPRODUCT((Quantity_Sold_1=Inventory[[#This Row],[Item SKU/ID]])*Net_Profit))","v":0},{"$f":"IFERROR(AVERAGE(Inventory[[#This Row],[Total Net Profit]]/Inventory[[#This Row],[Quantity Sold]]),0)","v":0}]
[null,null,null,null,null,null,null,null,0,0,0,null,null,null,0,{"$f":"IF(Inventory[[#This Row],[Item SKU/ID]]=\"\",0,SUMPRODUCT((Quantity_Sold_1=Inventory[[#This Row],[Item SKU/ID]])*Net_Profit))","v":0},{"$f":"IFERROR(AVERAGE(Inventory[[#This Row],[Total Net Profit]]/Inventory[[#This Row],[Quantity Sold]]),0)","v":0}]
[null,null,null,null,null,null,null,null,0,0,0,null,null,null,0,{"$f":"IF(Inventory[[#This Row],[Item SKU/ID]]=\"\",0,SUMPRODUCT((Quantity_Sold_1=Inventory[[#This Row],[Item SKU/ID]])*Net_Profit))","v":0},{"$f":"IFERROR(AVERAGE(Inventory[[#This Row],[Total Net Profit]]/Inventory[[#This Row],[Quantity Sold]]),0)","v":0}]
[null,null,null,null,null,null,null,null,0,0,0,null,null,null,0,{"$f":"IF(Inventory[[#This Row],[Item SKU/ID]]=\"\",0,SUMPRODUCT((Quantity_Sold_1=Inventory[[#This Row],[Item SKU/ID]])*Net_Profit))","v":0},{"$f":"IFERROR(AVERAGE(Inventory[[#This Row],[Total Net Profit]]/Inventory[[#This Row],[Quantity Sold]]),0)","v":0}]
[null,null,null,null,null,null,null,null,0,0,0,null,null,null,0,{"$f":"IF(Inventory[[#This Row],[Item SKU/ID]]=\"\",0,SUMPRODUCT((Quantity_Sold_1=Inventory[[#This Row],[Item SKU/ID]])*Net_Profit))","v":0},{"$f":"IFERROR(AVERAGE(Inventory[[#This Row],[Total Net Profit]]/Inventory[[#This Row],[Quantity Sold]]),0)","v":0}]
[null,null,null,null,null,null,null,null,0,0,0,null,null,null,0,{"$f":"IF(Inventory[[#This Row],[Item SKU/ID]]=\"\",0,SUMPRODUCT((Quantity_Sold_1=Inventory[[#This Row],[Item SKU/ID]])*Net_Profit))","v":0},{"$f":"IFERROR(AVERAGE(Inventory[[#This Row],[Total Net Profit]]/Inventory[[#This Row],[Quantity Sold]]),0)","v":0}]
[null,null,null,null,null,null,null,null,0,0,0,null,null,null,0,{"$f":"IF(Inventory[[#This Row],[Item SKU/ID]]=\"\",0,SUMPRODUCT((Quantity_Sold_1=Inventory[[#This Row],[Item SKU/ID]])*Net_Profit))","v":0},{"$f":"IFERROR(AVERAGE(Inventory[[#This Row],[Total Net Profit]]/Inventory[[#This Row],[Quantity Sold]]),0)","v":0}]
[null,null,null,null,null,null,null,null,0,0,0,null,null,null,0,{"$f":"IF(Inventory[[#This Row],[Item SKU/ID]]=\"\",0,SUMPRODUCT((Quantity_Sold_1=Inventory[[#This Row],[Item SKU/ID]])*Net_Profit))","v":0},{"$f":"IFERROR(AVERAGE(Inventory[[#This Row],[Total Net Profit]]/Inventory[[#This Row],[Quantity Sold]]),0)","v":0}]
[null,null,null,null,null,null,null,null,0,0,0,null,null,null,0,{"$f":"IF(Inventory[[#This Row],[Item SKU/ID]]=\"\",0,SUMPRODUCT((Quantity_Sold_1=Inventory[[#This Row],[Item SKU/ID]])*Net_Profit))","v":0},{"$f":"IFERROR(AVERAGE(Inventory[[#This Row],[Total Net Profit]]/Inventory[[#This Row],[Quantity Sold]]),0)","v":0}]
[null,null,null,null,null,null,null,null,0,0,0,null,null,null,0,{"$f":"IF(Inventory[[#This Row],[Item SKU/ID]]=\"\",0,SUMPRODUCT((Quantity_Sold_1=Inventory[[#This Row],[Item SKU/ID]])*Net_Profit))","v":0},{"$f":"IFERROR(AVERAGE(Inventory[[#This Row],[Total Net Profit]]/Inventory[[#This Row],[Quantity Sold]]),0)","v":0}]
[null,null,null,null,null,null,null,null,0,0,0,null,null,null,0,{"$f":"IF(Inventory[[#This Row],[Item SKU/ID]]=\"\",0,SUMPRODUCT((Quantity_Sold_1=Inventory[[#This Row],[Item SKU/ID]])*Net_Profit))","v":0},{"$f":"IFERROR(AVERAGE(Inventory[[#This Row],[Total Net Profit]]/Inventory[[#This Row],[Quantity Sold]]),0)","v":0}]
[null,null,null,null,null,null,null,null,0,0,0,null,null,null,0,{"$f":"IF(Inventory[[#This Row],[Item SKU/ID]]=\"\",0,SUMPRODUCT((Quantity_Sold_1=Inventory[[#This Row],[Item SKU/ID]])*Net_Profit))","v":0},{"$f":"IFERROR(AVERAGE(Inventory[[#This Row],[Total Net Profit]]/Inventory[[#This Row],[Quantity Sold]]),0)","v":0}]
[null,null,null,null,null,null,null,null,0,0,0,null,null,null,0,{"$f":"IF(Inventory[[#This Row],[Item SKU/ID]]=\"\",0,SUMPRODUCT((Quantity_Sold_1=Inventory[[#This Row],[Item SKU/ID]])*Net_Profit))","v":0},{"$f":"IFERROR(AVERAGE(Inventory[[#This Row],[Total Net Profit]]/Inventory[[#This Row],[Quantity Sold]]),0)","v":0}]
[null,null,null,null,null,null,null,null,0,0,0,null,null,null,0,{"$f":"IF(Inventory[[#This Row],[Item SKU/ID]]=\"\",0,SUMPRODUCT((Quantity_Sold_1=Inventory[[#This Row],[Item SKU/ID]])*Net_Profit))","v":0},{"$f":"IFERROR(AVERAGE(Inventory[[#This Row],[Total Net Profit]]/Inventory[[#This Row],[Quantity Sold]]),0)","v":0}]
[null,null,null,null,null,null,null,null,0,0,0,null,null,null,0,{"$f":"IF(Inventory[[#This Row],[Item SKU/ID]]=\"\",0,SUMPRODUCT((Quantity_Sold_1=Inventory[[#This Row],[Item SKU/ID]])*Net_Profit))","v":0},{"$f":"IFERROR(AVERAGE(Inventory[[#This Row],[Total Net Profit]]/Inventory[[#This Row],[Quantity Sold]]),0)","v":0}]
[null,null,null,null,null,null,null,null,0,0,0,null,null,null,0,{"$f":"IF(Inventory[[#This Row],[Item SKU/ID]]=\"\",0,SUMPRODUCT((Quantity_Sold_1=Inventory[[#This Row],[Item SKU/ID]])*Net_Profit))","v":0},{"$f":"IFERROR(AVERAGE(Inventory[[#This Row],[Total Net Profit]]/Inventory[[#This Row],[Quantity Sold]]),0)","v":0}]
[null,null,null,null,null,null,null,null,0,0,0,null,null,null,0,{"$f":"IF(Inventory[[#This Row],[Item SKU/ID]]=\"\",0,SUMPRODUCT((Quantity_Sold_1=Inventory[[#This Row],[Item SKU/ID]])*Net_Profit))","v":0},{"$f":"IFERROR(AVERAGE(Inventory[[#This Row],[Total Net Profit]]/Inventory[[#This Row],[Quantity Sold]]),0)","v":0}]
[null,null,null,null,null,null,null,null,0,0,0,null,null,null,0,{"$f":"IF(Inventory[[#This Row],[Item SKU/ID]]=\"\",0,SUMPRODUCT((Quantity_Sold_1=Inventory[[#This Row],[Item SKU/ID]])*Net_Profit))","v":0},{"$f":"IFERROR(AVERAGE(Inventory[[#This Row],[Total Net Profit]]/Inventory[[#This Row],[Quantity Sold]]),0)","v":0}]
[null,null,null,null,null,null,null,null,0,0,0,null,null,null,0,{"$f":"IF(Inventory[[#This Row],[Item SKU/ID]]=\"\",0,SUMPRODUCT((Quantity_Sold_1=Inventory[[#This Row],[Item SKU/ID]])*Net_Profit))","v":0},{"$f":"IFERROR(AVERAGE(Inventory[[#This Row],[Total Net Profit]]/Inventory[[#This Row],[Quantity Sold]]),0)","v":0}]
[null,null,null,null,null,null,null,null,0,0,0,null,null,null,0,{"$f":"IF(Inventory[[#This Row],[Item SKU/ID]]=\"\",0,SUMPRODUCT((Quantity_Sold_1=Inventory[[#This Row],[Item SKU/ID]])*Net_Profit))","v":0},{"$f":"IFERROR(AVERAGE(Inventory[[#This Row],[Total Net Profit]]/Inventory[[#This Row],[Quantity Sold]]),0)","v":0}]
[null,null,null,null,null,null,null,null,0,0,0,null,null,null,0,{"$f":"IF(Inventory[[#This Row],[Item SKU/ID]]=\"\",0,SUMPRODUCT((Quantity_Sold_1=Inventory[[#This Row],[Item SKU/ID]])*Net_Profit))","v":0},{"$f":"IFERROR(AVERAGE(Inventory[[#This Row],[Total Net Profit]]/Inventory[[#This Row],[Quantity Sold]]),0)","v":0}]
[null,null,null,null,null,null,null,null,0,0,0,null,null,null,0,{"$f":"IF(Inventory[[#This Row],[Item SKU/ID]]=\"\",0,SUMPRODUCT((Quantity_Sold_1=Inventory[[#This Row],[Item SKU/ID]])*Net_Profit))","v":0},{"$f":"IFERROR(AVERAGE(Inventory[[#This Row],[Total Net Profit]]/Inventory[[#This Row],[Quantity Sold]]),0)","v":0}]
[null,null,null,null,null,null,null,null,0,0,0,null,null,null,0,{"$f":"IF(Inventory[[#This Row],[Item SKU/ID]]=\"\",0,SUMPRODUCT((Quantity_Sold_1=Inventory[[#This Row],[Item SKU/ID]])*Net_Profit))","v":0},{"$f":"IFERROR(AVERAGE(Inventory[[#This Row],[Total Net Profit]]/Inventory[[#This Row],[Quantity Sold]]),0)","v":0}]
[null,null,null,null,null,null,null,null,0,0,0,null,null,null,0,{"$f":"IF(Inventory[[#This Row],[Item SKU/ID]]=\"\",0,SUMPRODUCT((Quantity_Sold_1=Inventory[[#This Row],[Item SKU/ID]])*Net_Profit))","v":0},{"$f":"IFERROR(AVERAGE(Inventory[[#This Row],[Total Net Profit]]/Inventory[[#This Row],[Quantity Sold]]),0)","v":0}]
[null,null,null,null,null,null,null,null,0,0,0,null,null,null,0,{"$f":"IF(Inventory[[#This Row],[Item SKU/ID]]=\"\",0,SUMPRODUCT((Quantity_Sold_1=Inventory[[#This Row],[Item SKU/ID]])*Net_Profit))","v":0},{"$f":"IFERROR(AVERAGE(Inventory[[#This Row],[Total Net Profit]]/Inventory[[#This Row],[Quantity Sold]]),0)","v":0}]
[null,null,null,null,null,null,null,null,0,0,0,null,null,null,0,{"$f":"IF(Inventory[[#This Row],[Item SKU/ID]]=\"\",0,SUMPRODUCT((Quantity_Sold_1=Inventory[[#This Row],[Item SKU/ID]])*Net_Profit))","v":0},{"$f":"IFERROR(AVERAGE(Inventory[[#This Row],[Total Net Profit]]/Inventory[[#This Row],[Quantity Sold]]),0)","v":0}]
[null,null,null,null,null,null,null,null,0,0,0,null,null,null,0,{"$f":"IF(Inventory[[#This Row],[Item SKU/ID]]=\"\",0,SUMPRODUCT((Quantity_Sold_1=Inventory[[#This Row],[Item SKU/ID]])*Net_Profit))","v":0},{"$f":"IFERROR(AVERAGE(Inventory[[#This Row],[Total Net Profit]]/Inventory[[#This Row],[Quantity Sold]]),0)","v":0}]
[null,null,null,null,null,null,null,null,0,0,0,null,null,null,0,{"$f":"IF(Inventory[[#This Row],[Item SKU/ID]]=\"\",0,SUMPRODUCT((Quantity_Sold_1=Inventory[[#This Row],[Item SKU/ID]])*Net_Profit))","v":0},{"$f":"IFERROR(AVERAGE(Inventory[[#This Row],[Total Net Profit]]/Inventory[[#This Row],[Quantity Sold]]),0)","v":0}]
[null,null,null,null,null,null,null,null,0,0,0,null,null,null,0,{"$f":"IF(Inventory[[#This Row],[Item SKU/ID]]=\"\",0,SUMPRODUCT((Quantity_Sold_1=Inventory[[#This Row],[Item SKU/ID]])*Net_Profit))","v":0},{"$f":"IFERROR(AVERAGE(Inventory[[#This Row],[Total Net Profit]]/Inventory[[#This Row],[Quantity Sold]]),0)","v":0}]
[null,null,null,null,null,null,null,null,0,0,0,null,null,null,0,{"$f":"IF(Inventory[[#This Row],[Item SKU/ID]]=\"\",0,SUMPRODUCT((Quantity_Sold_1=Inventory[[#This Row],[Item SKU/ID]])*Net_Profit))","v":0},{"$f":"IFERROR(AVERAGE(Inventory[[#This Row],[Total Net Profit]]/Inventory[[#This Row],[Quantity Sold]]),0)","v":0}]
[null,null,null,null,null,null,null,null,0,0,0,null,null,null,0,{"$f":"IF(Inventory[[#This Row],[Item SKU/ID]]=\"\",0,SUMPRODUCT((Quantity_Sold_1=Inventory[[#This Row],[Item SKU/ID]])*Net_Profit))","v":0},{"$f":"IFERROR(AVERAGE(Inventory[[#This Row],[Total Net Profit]]/Inventory[[#This Row],[Quantity Sold]]),0)","v":0}]
[null,null,null,null,null,null,null,null,0,0,0,null,null,null,0,{"$f":"IF(Inventory[[#This Row],[Item SKU/ID]]=\"\",0,SUMPRODUCT((Quantity_Sold_1=Inventory[[#This Row],[Item SKU/ID]])*Net_Profit))","v":0},{"$f":"IFERROR(AVERAGE(Inventory[[#This Row],[Total Net Profit]]/Inventory[[#This Row],[Quantity Sold]]),0)","v":0}]
[null,null,null,null,null,null,null,null,0,0,0,null,null,null,0,{"$f":"IF(Inventory[[#This Row],[Item SKU/ID]]=\"\",0,SUMPRODUCT((Quantity_Sold_1=Inventory[[#This Row],[Item SKU/ID]])*Net_Profit))","v":0},{"$f":"IFERROR(AVERAGE(Inventory[[#This Row],[Total Net Profit]]/Inventory[[#This Row],[Quantity Sold]]),0)","v":0}]
[null,null,null,null,null,null,null,null,0,0,0,null,null,null,0,{"$f":"IF(Inventory[[#This Row],[Item SKU/ID]]=\"\",0,SUMPRODUCT((Quantity_Sold_1=Inventory[[#This Row],[Item SKU/ID]])*Net_Profit))","v":0},{"$f":"IFERROR(AVERAGE(Inventory[[#This Row],[Total Net Profit]]/Inventory[[#This Row],[Quantity Sold]]),0)","v":0}]
[null,null,null,null,null,null,null,null,0,0,0,null,null,null,0,{"$f":"IF(Inventory[[#This Row],[Item SKU/ID]]=\"\",0,SUMPRODUCT((Quantity_Sold_1=Inventory[[#This Row],[Item SKU/ID]])*Net_Profit))","v":0},{"$f":"IFERROR(AVERAGE(Inventory[[#This Row],[Total Net Profit]]/Inventory[[#This Row],[Quantity Sold]]),0)","v":0}]
[null,null,null,null,null,null,null,null,0,0,0,null,null,null,0,{"$f":"IF(Inventory[[#This Row],[Item SKU/ID]]=\"\",0,SUMPRODUCT((Quantity_Sold_1=Inventory[[#This Row],[Item SKU/ID]])*Net_Profit))","v":0},{"$f":"IFERROR(AVERAGE(Inventory[[#This Row],[Total Net Profit]]/Inventory[[#This Row],[Quantity Sold]]),0)","v":0}]
[null,null,null,null,null,null,null,null,0,0,0,null,null,null,0,{"$f":"IF(Inventory[[#This Row],[Item SKU/ID]]=\"\",0,SUMPRODUCT((Quantity_Sold_1=Inventory[[#This Row],[Item SKU/ID]])*Net_Profit))","v":0},{"$f":"IFERROR(AVERAGE(Inventory[[#This Row],[Total Net Profit]]/Inventory[[#This Row],[Quantity Sold]]),0)","v":0}]
[null,null,null,null,null,null,null,null,0,0,0,null,null,null,0,{"$f":"IF(Inventory[[#This Row],[Item SKU/ID]]=\"\",0,SUMPRODUCT((Quantity_Sold_1=Inventory[[#This Row],[Item SKU/ID]])*Net_Profit))","v":0},{"$f":"IFERROR(AVERAGE(Inventory[[#This Row],[Total Net Profit]]/Inventory[[#This Row],[Quantity Sold]]),0)","v":0}]
[null,null,null,null,null,null,null,null,0,0,0,null,null,null,0,{"$f":"IF(Inventory[[#This Row],[Item SKU/ID]]=\"\",0,SUMPRODUCT((Quantity_Sold_1=Inventory[[#This Row],[Item SKU/ID]])*Net_Profit))","v":0},{"$f":"IFERROR(AVERAGE(Inventory[[#This Row],[Total Net Profit]]/Inventory[[#This Row],[Quantity Sold]]),0)","v":0}]
[null,null,null,null,null,null,null,null,0,0,0,null,null,null,0,{"$f":"IF(Inventory[[#This Row],[Item SKU/ID]]=\"\",0,SUMPRODUCT((Quantity_Sold_1=Inventory[[#This Row],[Item SKU/ID]])*Net_Profit))","v":0},{"$f":"IFERROR(AVERAGE(Inventory[[#This Row],[Total Net Profit]]/Inventory[[#This Row],[Quantity Sold]]),0)","v":0}]
[null,null,null,null,null,null,null,null,0,0,0,null,null,null,0,{"$f":"IF(Inventory[[#This Row],[Item SKU/ID]]=\"\",0,SUMPRODUCT((Quantity_Sold_1=Inventory[[#This Row],[Item SKU/ID]])*Net_Profit))","v":0},{"$f":"IFERROR(AVERAGE(Inventory[[#This Row],[Total Net Profit]]/Inventory[[#This Row],[Quantity Sold]]),0)","v":0}]
[null,null,null,null,null,null,null,null,0,0,0,null,null,null,0,{"$f":"IF(Inventory[[#This Row],[Item SKU/ID]]=\"\",0,SUMPRODUCT((Quantity_Sold_1=Inventory[[#This Row],[Item SKU/ID]])*Net_Profit))","v":0},{"$f":"IFERROR(AVERAGE(Inventory[[#This Row],[Total Net Profit]]/Inventory[[#This Row],[Quantity Sold]]),0)","v":0}]
[null,null,null,null,null,null,null,null,0,0,0,null,null,null,0,{"$f":"IF(Inventory[[#This Row],[Item SKU/ID]]=\"\",0,SUMPRODUCT((Quantity_Sold_1=Inventory[[#This Row],[Item SKU/ID]])*Net_Profit))","v":0},{"$f":"IFERROR(AVERAGE(Inventory[[#This Row],[Total Net Profit]]/Inventory[[#This Row],[Quantity Sold]]),0)","v":0}]
[null,null,null,null,null,null,null,null,0,0,0,null,null,null,0,{"$f":"IF(Inventory[[#This Row],[Item SKU/ID]]=\"\",0,SUMPRODUCT((Quantity_Sold_1=Inventory[[#This Row],[Item SKU/ID]])*Net_Profit))","v":0},{"$f":"IFERROR(AVERAGE(Inventory[[#This Row],[Total Net Profit]]/Inventory[[#This Row],[Quantity Sold]]),0)","v":0}]
[null,null,null,null,null,null,null,null,0,0,0,null,null,null,0,{"$f":"IF(Inventory[[#This Row],[Item SKU/ID]]=\"\",0,SUMPRODUCT((Quantity_Sold_1=Inventory[[#This Row],[Item SKU/ID]])*Net_Profit))","v":0},{"$f":"IFERROR(AVERAGE(Inventory[[#This Row],[Total Net Profit]]/Inventory[[#This Row],[Quantity Sold]]),0)","v":0}]
[null,null,null,null,null,null,null,null,0,0,0,null,null,null,0,{"$f":"IF(Inventory[[#This Row],[Item SKU/ID]]=\"\",0,SUMPRODUCT((Quantity_Sold_1=Inventory[[#This Row],[Item SKU/ID]])*Net_Profit))","v":0},{"$f":"IFERROR(AVERAGE(Inventory[[#This Row],[Total Net Profit]]/Inventory[[#This Row],[Quantity Sold]]),0)","v":0}]
[null,null,null,null,null,null,null,null,0,0,0,null,null,null,0,{"$f":"IF(Inventory[[#This Row],[Item SKU/ID]]=\"\",0,SUMPRODUCT((Quantity_Sold_1=Inventory[[#This Row],[Item SKU/ID]])*Net_Profit))","v":0},{"$f":"IFERROR(AVERAGE(Inventory[[#This Row],[Total Net Profit]]/Inventory[[#This Row],[Quantity Sold]]),0)","v":0}]
[null,null,null,null,null,null,null,null,0,0,0,null,null,null,0,{"$f":"IF(Inventory[[#This Row],[Item SKU/ID]]=\"\",0,SUMPRODUCT((Quantity_Sold_1=Inventory[[#This Row],[Item SKU/ID]])*Net_Profit))","v":0},{"$f":"IFERROR(AVERAGE(Inventory[[#This Row],[Total Net Profit]]/Inventory[[#This Row],[Quantity Sold]]),0)","v":0}]
[null,null,null,null,null,null,null,null,0,0,0,null,null,null,0,{"$f":"IF(Inventory[[#This Row],[Item SKU/ID]]=\"\",0,SUMPRODUCT((Quantity_Sold_1=Inventory[[#This Row],[Item SKU/ID]])*Net_Profit))","v":0},{"$f":"IFERROR(AVERAGE(Inventory[[#This Row],[Total Net Profit]]/Inventory[[#This Row],[Quantity Sold]]),0)","v":0}]
[null,null,null,null,null,null,null,null,0,0,0,null,null,null,0,{"$f":"IF(Inventory[[#This Row],[Item SKU/ID]]=\"\",0,SUMPRODUCT((Quantity_Sold_1=Inventory[[#This Row],[Item SKU/ID]])*Net_Profit))","v":0},{"$f":"IFERROR(AVERAGE(Inventory[[#This Row],[Total Net Profit]]/Inventory[[#This Row],[Quantity Sold]]),0)","v":0}]
[null,null,null,null,null,null,null,null,0,0,0,null,null,null,0,{"$f":"IF(Inventory[[#This Row],[Item SKU/ID]]=\"\",0,SUMPRODUCT((Quantity_Sold_1=Inventory[[#This Row],[Item SKU/ID]])*Net_Profit))","v":0},{"$f":"IFERROR(AVERAGE(Inventory[[#This Row],[Total Net Profit]]/Inventory[[#This Row],[Quantity Sold]]),0)","v":0}]
[null,null,null,null,null,null,null,null,0,0,0,null,null,null,0,{"$f":"IF(Inventory[[#This Row],[Item SKU/ID]]=\"\",0,SUMPRODUCT((Quantity_Sold_1=Inventory[[#This Row],[Item SKU/ID]])*Net_Profit))","v":0},{"$f":"IFERROR(AVERAGE(Inventory[[#This Row],[Total Net Profit]]/Inventory[[#This Row],[Quantity Sold]]),0)","v":0}]
[null,null,null,null,null,null,null,null,{"$f":"K2564*H2564","v":0},{"$f":"IF(F2564=\"\",0,SUMPRODUCT((Quantity_Sold_1=F2564)*Quantity_Sold_2))","v":0},{"$f":"G2564-J2564","v":0},null,null,null,{"$f":"K2564*H2564","v":0},{"$f":"IF(Inventory[[#This Row],[Item SKU/ID]]=\"\",0,SUMPRODUCT((Quantity_Sold_1=Inventory[[#This Row],[Item SKU/ID]])*Net_Profit))","v":0},{"$f":"IFERROR(AVERAGE(Inventory[[#This Row],[Total Net Profit]]/Inventory[[#This Row],[Quantity Sold]]),0)","v":0}]
[null,null,null,null,null,null,null,null,0,0,0,null,null,null,0,{"$f":"IF(Inventory[[#This Row],[Item SKU/ID]]=\"\",0,SUMPRODUCT((Quantity_Sold_1=Inventory[[#This Row],[Item SKU/ID]])*Net_Profit))","v":0},{"$f":"IFERROR(AVERAGE(Inventory[[#This Row],[Total Net Profit]]/Inventory[[#This Row],[Quantity Sold]]),0)","v":0}]
[null,null,null,null,null,null,null,null,0,0,0,null,null,null,0,{"$f":"IF(Inventory[[#This Row],[Item SKU/ID]]=\"\",0,SUMPRODUCT((Quantity_Sold_1=Inventory[[#This Row],[Item SKU/ID]])*Net_Profit))","v":0},{"$f":"IFERROR(AVERAGE(Inventory[[#This Row],[Total Net Profit]]/Inventory[[#This Row],[Quantity Sold]]),0)","v":0}]
[null,null,null,null,null,null,null,null,0,0,0,null,null,null,0,{"$f":"IF(Inventory[[#This Row],[Item SKU/ID]]=\"\",0,SUMPRODUCT((Quantity_Sold_1=Inventory[[#This Row],[Item SKU/ID]])*Net_Profit))","v":0},{"$f":"IFERROR(AVERAGE(Inventory[[#This Row],[Total Net Profit]]/Inventory[[#This Row],[Quantity Sold]]),0)","v":0}]
[null,null,null,null,null,null,null,null,0,0,0,null,null,null,0,{"$f":"IF(Inventory[[#This Row],[Item SKU/ID]]=\"\",0,SUMPRODUCT((Quantity_Sold_1=Inventory[[#This Row],[Item SKU/ID]])*Net_Profit))","v":0},{"$f":"IFERROR(AVERAGE(Inventory[[#This Row],[Total Net Profit]]/Inventory[[#This Row],[Quantity Sold]]),0)","v":0}]
[null,null,null,null,null,null,null,null,0,0,0,null,null,null,0,{"$f":"IF(Inventory[[#This Row],[Item SKU/ID]]=\"\",0,SUMPRODUCT((Quantity_Sold_1=Inventory[[#This Row],[Item SKU/ID]])*Net_Profit))","v":0},{"$f":"IFERROR(AVERAGE(Inventory[[#This Row],[Total Net Profit]]/Inventory[[#This Row],[Quantity Sold]]),0)","v":0}]
[null,null,null,null,null,null,null,null,0,0,0,null,null,null,0,{"$f":"IF(Inventory[[#This Row],[Item SKU/ID]]=\"\",0,SUMPRODUCT((Quantity_Sold_1=Inventory[[#This Row],[Item SKU/ID]])*Net_Profit))","v":0},{"$f":"IFERROR(AVERAGE(Inventory[[#This Row],[Total Net Profit]]/Inventory[[#This Row],[Quantity Sold]]),0)","v":0}]
[null,null,null,null,null,null,null,null,0,0,0,null,null,null,0,{"$f":"IF(Inventory[[#This Row],[Item SKU/ID]]=\"\",0,SUMPRODUCT((Quantity_Sold_1=Inventory[[#This Row],[Item SKU/ID]])*Net_Profit))","v":0},{"$f":"IFERROR(AVERAGE(Inventory[[#This Row],[Total Net Profit]]/Inventory[[#This Row],[Quantity Sold]]),0)","v":0}]
[null,null,null,null,null,null,null,null,0,0,0,null,null,null,0,{"$f":"IF(Inventory[[#This Row],[Item SKU/ID]]=\"\",0,SUMPRODUCT((Quantity_Sold_1=Inventory[[#This Row],[Item SKU/ID]])*Net_Profit))","v":0},{"$f":"IFERROR(AVERAGE(Inventory[[#This Row],[Total Net Profit]]/Inventory[[#This Row],[Quantity Sold]]),0)","v":0}]
[null,null,null,null,null,null,null,null,0,0,0,null,null,null,0,{"$f":"IF(Inventory[[#This Row],[Item SKU/ID]]=\"\",0,SUMPRODUCT((Quantity_Sold_1=Inventory[[#This Row],[Item SKU/ID]])*Net_Profit))","v":0},{"$f":"IFERROR(AVERAGE(Inventory[[#This Row],[Total Net Profit]]/Inventory[[#This Row],[Quantity Sold]]),0)","v":0}]
[null,null,null,null,null,null,null,null,0,0,0,null,null,null,0,{"$f":"IF(Inventory[[#This Row],[Item SKU/ID]]=\"\",0,SUMPRODUCT((Quantity_Sold_1=Inventory[[#This Row],[Item SKU/ID]])*Net_Profit))","v":0},{"$f":"IFERROR(AVERAGE(Inventory[[#This Row],[Total Net Profit]]/Inventory[[#This Row],[Quantity Sold]]),0)","v":0}]
[null,null,null,null,null,null,null,null,0,0,0,null,null,null,0,{"$f":"IF(Inventory[[#This Row],[Item SKU/ID]]=\"\",0,SUMPRODUCT((Quantity_Sold_1=Inventory[[#This Row],[Item SKU/ID]])*Net_Profit))","v":0},{"$f":"IFERROR(AVERAGE(Inventory[[#This Row],[Total Net Profit]]/Inventory[[#This Row],[Quantity Sold]]),0)","v":0}]
[null,null,null,null,null,null,null,null,0,0,0,null,null,null,0,{"$f":"IF(Inventory[[#This Row],[Item SKU/ID]]=\"\",0,SUMPRODUCT((Quantity_Sold_1=Inventory[[#This Row],[Item SKU/ID]])*Net_Profit))","v":0},{"$f":"IFERROR(AVERAGE(Inventory[[#This Row],[Total Net Profit]]/Inventory[[#This Row],[Quantity Sold]]),0)","v":0}]
[null,null,null,null,null,null,null,null,0,0,0,null,null,null,0,{"$f":"IF(Inventory[[#This Row],[Item SKU/ID]]=\"\",0,SUMPRODUCT((Quantity_Sold_1=Inventory[[#This Row],[Item SKU/ID]])*Net_Profit))","v":0},{"$f":"IFERROR(AVERAGE(Inventory[[#This Row],[Total Net Profit]]/Inventory[[#This Row],[Quantity Sold]]),0)","v":0}]
[null,null,null,null,null,null,null,null,0,0,0,null,null,null,0,{"$f":"IF(Inventory[[#This Row],[Item SKU/ID]]=\"\",0,SUMPRODUCT((Quantity_Sold_1=Inventory[[#This Row],[Item SKU/ID]])*Net_Profit))","v":0},{"$f":"IFERROR(AVERAGE(Inventory[[#This Row],[Total Net Profit]]/Inventory[[#This Row],[Quantity Sold]]),0)","v":0}]
[null,null,null,null,null,null,null,null,0,0,0,null,null,null,0,{"$f":"IF(Inventory[[#This Row],[Item SKU/ID]]=\"\",0,SUMPRODUCT((Quantity_Sold_1=Inventory[[#This Row],[Item SKU/ID]])*Net_Profit))","v":0},{"$f":"IFERROR(AVERAGE(Inventory[[#This Row],[Total Net Profit]]/Inventory[[#This Row],[Quantity Sold]]),0)","v":0}]
[null,null,null,null,null,null,null,null,0,0,0,null,null,null,0,{"$f":"IF(Inventory[[#This Row],[Item SKU/ID]]=\"\",0,SUMPRODUCT((Quantity_Sold_1=Inventory[[#This Row],[Item SKU/ID]])*Net_Profit))","v":0},{"$f":"IFERROR(AVERAGE(Inventory[[#This Row],[Total Net Profit]]/Inventory[[#This Row],[Quantity Sold]]),0)","v":0}]
[null,null,null,null,null,null,null,null,0,0,0,null,null,null,0,{"$f":"IF(Inventory[[#This Row],[Item SKU/ID]]=\"\",0,SUMPRODUCT((Quantity_Sold_1=Inventory[[#This Row],[Item SKU/ID]])*Net_Profit))","v":0},{"$f":"IFERROR(AVERAGE(Inventory[[#This Row],[Total Net Profit]]/Inventory[[#This Row],[Quantity Sold]]),0)","v":0}]
[null,null,null,null,null,null,null,null,0,0,0,null,null,null,0,{"$f":"IF(Inventory[[#This Row],[Item SKU/ID]]=\"\",0,SUMPRODUCT((Quantity_Sold_1=Inventory[[#This Row],[Item SKU/ID]])*Net_Profit))","v":0},{"$f":"IFERROR(AVERAGE(Inventory[[#This Row],[Total Net Profit]]/Inventory[[#This Row],[Quantity Sold]]),0)","v":0}]
[null,null,null,null,null,null,null,null,0,0,0,null,null,null,0,{"$f":"IF(Inventory[[#This Row],[Item SKU/ID]]=\"\",0,SUMPRODUCT((Quantity_Sold_1=Inventory[[#This Row],[Item SKU/ID]])*Net_Profit))","v":0},{"$f":"IFERROR(AVERAGE(Inventory[[#This Row],[Total Net Profit]]/Inventory[[#This Row],[Quantity Sold]]),0)","v":0}]
[null,null,null,null,null,null,null,null,0,0,0,null,null,null,0,{"$f":"IF(Inventory[[#This Row],[Item SKU/ID]]=\"\",0,SUMPRODUCT((Quantity_Sold_1=Inventory[[#This Row],[Item SKU/ID]])*Net_Profit))","v":0},{"$f":"IFERROR(AVERAGE(Inventory[[#This Row],[Total Net Profit]]/Inventory[[#This Row],[Quantity Sold]]),0)","v":0}]
[null,null,null,null,null,null,null,null,0,0,0,null,null,null,0,{"$f":"IF(Inventory[[#This Row],[Item SKU/ID]]=\"\",0,SUMPRODUCT((Quantity_Sold_1=Inventory[[#This Row],[Item SKU/ID]])*Net_Profit))","v":0},{"$f":"IFERROR(AVERAGE(Inventory[[#This Row],[Total Net Profit]]/Inventory[[#This Row],[Quantity Sold]]),0)","v":0}]
[null,null,null,null,null,null,null,null,0,0,0,null,null,null,0,{"$f":"IF(Inventory[[#This Row],[Item SKU/ID]]=\"\",0,SUMPRODUCT((Quantity_Sold_1=Inventory[[#This Row],[Item SKU/ID]])*Net_Profit))","v":0},{"$f":"IFERROR(AVERAGE(Inventory[[#This Row],[Total Net Profit]]/Inventory[[#This Row],[Quantity Sold]]),0)","v":0}]
[null,null,null,null,null,null,null,null,0,0,0,null,null,null,0,{"$f":"IF(Inventory[[#This Row],[Item SKU/ID]]=\"\",0,SUMPRODUCT((Quantity_Sold_1=Inventory[[#This Row],[Item SKU/ID]])*Net_Profit))","v":0},{"$f":"IFERROR(AVERAGE(Inventory[[#This Row],[Total Net Profit]]/Inventory[[#This Row],[Quantity Sold]]),0)","v":0}]
[null,null,null,null,null,null,null,null,0,0,0,null,null,null,0,{"$f":"IF(Inventory[[#This Row],[Item SKU/ID]]=\"\",0,SUMPRODUCT((Quantity_Sold_1=Inventory[[#This Row],[Item SKU/ID]])*Net_Profit))","v":0},{"$f":"IFERROR(AVERAGE(Inventory[[#This Row],[Total Net Profit]]/Inventory[[#This Row],[Quantity Sold]]),0)","v":0}]
[null,null,null,null,null,null,null,null,0,0,0,null,null,null,0,{"$f":"IF(Inventory[[#This Row],[Item SKU/ID]]=\"\",0,SUMPRODUCT((Quantity_Sold_1=Inventory[[#This Row],[Item SKU/ID]])*Net_Profit))","v":0},{"$f":"IFERROR(AVERAGE(Inventory[[#This Row],[Total Net Profit]]/Inventory[[#This Row],[Quantity Sold]]),0)","v":0}]
[null,null,null,null,null,null,null,null,0,0,0,null,null,null,0,{"$f":"IF(Inventory[[#This Row],[Item SKU/ID]]=\"\",0,SUMPRODUCT((Quantity_Sold_1=Inventory[[#This Row],[Item SKU/ID]])*Net_Profit))","v":0},{"$f":"IFERROR(AVERAGE(Inventory[[#This Row],[Total Net Profit]]/Inventory[[#This Row],[Quantity Sold]]),0)","v":0}]
[null,null,null,null,null,null,null,null,0,0,0,null,null,null,0,{"$f":"IF(Inventory[[#This Row],[Item SKU/ID]]=\"\",0,SUMPRODUCT((Quantity_Sold_1=Inventory[[#This Row],[Item SKU/ID]])*Net_Profit))","v":0},{"$f":"IFERROR(AVERAGE(Inventory[[#This Row],[Total Net Profit]]/Inventory[[#This Row],[Quantity Sold]]),0)","v":0}]
[null,null,null,null,null,null,null,null,0,0,0,null,null,null,0,{"$f":"IF(Inventory[[#This Row],[Item SKU/ID]]=\"\",0,SUMPRODUCT((Quantity_Sold_1=Inventory[[#This Row],[Item SKU/ID]])*Net_Profit))","v":0},{"$f":"IFERROR(AVERAGE(Inventory[[#This Row],[Total Net Profit]]/Inventory[[#This Row],[Quantity Sold]]),0)","v":0}]
[null,null,null,null,null,null,null,null,0,0,0,null,null,null,0,{"$f":"IF(Inventory[[#This Row],[Item SKU/ID]]=\"\",0,SUMPRODUCT((Quantity_Sold_1=Inventory[[#This Row],[Item SKU/ID]])*Net_Profit))","v":0},{"$f":"IFERROR(AVERAGE(Inventory[[#This Row],[Total Net Profit]]/Inventory[[#This Row],[Quantity Sold]]),0)","v":0}]
[null,null,null,null,null,null,null,null,0,0,0,null,null,null,0,{"$f":"IF(Inventory[[#This Row],[Item SKU/ID]]=\"\",0,SUMPRODUCT((Quantity_Sold_1=Inventory[[#This Row],[Item SKU/ID]])*Net_Profit))","v":0},{"$f":"IFERROR(AVERAGE(Inventory[[#This Row],[Total Net Profit]]/Inventory[[#This Row],[Quantity Sold]]),0)","v":0}]
[null,null,null,null,null,null,null,null,0,0,0,null,null,null,0,{"$f":"IF(Inventory[[#This Row],[Item SKU/ID]]=\"\",0,SUMPRODUCT((Quantity_Sold_1=Inventory[[#This Row],[Item SKU/ID]])*Net_Profit))","v":0},{"$f":"IFERROR(AVERAGE(Inventory[[#This Row],[Total Net Profit]]/Inventory[[#This Row],[Quantity Sold]]),0)","v":0}]
[null,null,null,null,null,null,null,null,0,0,0,null,null,null,0,{"$f":"IF(Inventory[[#This Row],[Item SKU/ID]]=\"\",0,SUMPRODUCT((Quantity_Sold_1=Inventory[[#This Row],[Item SKU/ID]])*Net_Profit))","v":0},{"$f":"IFERROR(AVERAGE(Inventory[[#This Row],[Total Net Profit]]/Inventory[[#This Row],[Quantity Sold]]),0)","v":0}]
[null,null,null,null,null,null,null,null,0,0,0,null,null,null,0,{"$f":"IF(Inventory[[#This Row],[Item SKU/ID]]=\"\",0,SUMPRODUCT((Quantity_Sold_1=Inventory[[#This Row],[Item SKU/ID]])*Net_Profit))","v":0},{"$f":"IFERROR(AVERAGE(Inventory[[#This Row],[Total Net Profit]]/Inventory[[#This Row],[Quantity Sold]]),0)","v":0}]
[null,null,null,null,null,null,null,null,0,0,0,null,null,null,0,{"$f":"IF(Inventory[[#This Row],[Item SKU/ID]]=\"\",0,SUMPRODUCT((Quantity_Sold_1=Inventory[[#This Row],[Item SKU/ID]])*Net_Profit))","v":0},{"$f":"IFERROR(AVERAGE(Inventory[[#This Row],[Total Net Profit]]/Inventory[[#This Row],[Quantity Sold]]),0)","v":0}]
[null,null,null,null,null,null,null,null,0,0,0,null,null,null,0,{"$f":"IF(Inventory[[#This Row],[Item SKU/ID]]=\"\",0,SUMPRODUCT((Quantity_Sold_1=Inventory[[#This Row],[Item SKU/ID]])*Net_Profit))","v":0},{"$f":"IFERROR(AVERAGE(Inventory[[#This Row],[Total Net Profit]]/Inventory[[#This Row],[Quantity Sold]]),0)","v":0}]
[null,null,null,null,null,null,null,null,0,0,0,null,null,null,0,{"$f":"IF(Inventory[[#This Row],[Item SKU/ID]]=\"\",0,SUMPRODUCT((Quantity_Sold_1=Inventory[[#This Row],[Item SKU/ID]])*Net_Profit))","v":0},{"$f":"IFERROR(AVERAGE(Inventory[[#This Row],[Total Net Profit]]/Inventory[[#This Row],[Quantity Sold]]),0)","v":0}]
[null,null,null,null,null,null,null,null,0,0,0,null,null,null,0,{"$f":"IF(Inventory[[#This Row],[Item SKU/ID]]=\"\",0,SUMPRODUCT((Quantity_Sold_1=Inventory[[#This Row],[Item SKU/ID]])*Net_Profit))","v":0},{"$f":"IFERROR(AVERAGE(Inventory[[#This Row],[Total Net Profit]]/Inventory[[#This Row],[Quantity Sold]]),0)","v":0}]
[null,null,null,null,null,null,null,null,0,0,0,null,null,null,0,{"$f":"IF(Inventory[[#This Row],[Item SKU/ID]]=\"\",0,SUMPRODUCT((Quantity_Sold_1=Inventory[[#This Row],[Item SKU/ID]])*Net_Profit))","v":0},{"$f":"IFERROR(AVERAGE(Inventory[[#This Row],[Total Net Profit]]/Inventory[[#This Row],[Quantity Sold]]),0)","v":0}]
[null,null,null,null,null,null,null,null,0,0,0,null,null,null,0,{"$f":"IF(Inventory[[#This Row],[Item SKU/ID]]=\"\",0,SUMPRODUCT((Quantity_Sold_1=Inventory[[#This Row],[Item SKU/ID]])*Net_Profit))","v":0},{"$f":"IFERROR(AVERAGE(Inventory[[#This Row],[Total Net Profit]]/Inventory[[#This Row],[Quantity Sold]]),0)","v":0}]
[null,null,null,null,null,null,null,null,0,0,0,null,null,null,0,{"$f":"IF(Inventory[[#This Row],[Item SKU/ID]]=\"\",0,SUMPRODUCT((Quantity_Sold_1=Inventory[[#This Row],[Item SKU/ID]])*Net_Profit))","v":0},{"$f":"IFERROR(AVERAGE(Inventory[[#This Row],[Total Net Profit]]/Inventory[[#This Row],[Quantity Sold]]),0)","v":0}]
[null,null,null,null,null,null,null,null,0,0,0,null,null,null,0,{"$f":"IF(Inventory[[#This Row],[Item SKU/ID]]=\"\",0,SUMPRODUCT((Quantity_Sold_1=Inventory[[#This Row],[Item SKU/ID]])*Net_Profit))","v":0},{"$f":"IFERROR(AVERAGE(Inventory[[#This Row],[Total Net Profit]]/Inventory[[#This Row],[Quantity Sold]]),0)","v":0}]
[null,null,null,null,null,null,null,null,0,0,0,null,null,null,0,{"$f":"IF(Inventory[[#This Row],[Item SKU/ID]]=\"\",0,SUMPRODUCT((Quantity_Sold_1=Inventory[[#This Row],[Item SKU/ID]])*Net_Profit))","v":0},{"$f":"IFERROR(AVERAGE(Inventory[[#This Row],[Total Net Profit]]/Inventory[[#This Row],[Quantity Sold]]),0)","v":0}]
[null,null,null,null,null,null,null,null,0,0,0,null,null,null,0,{"$f":"IF(Inventory[[#This Row],[Item SKU/ID]]=\"\",0,SUMPRODUCT((Quantity_Sold_1=Inventory[[#This Row],[Item SKU/ID]])*Net_Profit))","v":0},{"$f":"IFERROR(AVERAGE(Inventory[[#This Row],[Total Net Profit]]/Inventory[[#This Row],[Quantity Sold]]),0)","v":0}]
[null,null,null,null,null,null,null,null,0,0,0,null,null,null,0,{"$f":"IF(Inventory[[#This Row],[Item SKU/ID]]=\"\",0,SUMPRODUCT((Quantity_Sold_1=Inventory[[#This Row],[Item SKU/ID]])*Net_Profit))","v":0},{"$f":"IFERROR(AVERAGE(Inventory[[#This Row],[Total Net Profit]]/Inventory[[#This Row],[Quantity Sold]]),0)","v":0}]
[null,null,null,null,null,null,null,null,0,0,0,null,null,null,0,{"$f":"IF(Inventory[[#This Row],[Item SKU/ID]]=\"\",0,SUMPRODUCT((Quantity_Sold_1=Inventory[[#This Row],[Item SKU/ID]])*Net_Profit))","v":0},{"$f":"IFERROR(AVERAGE(Inventory[[#This Row],[Total Net Profit]]/Inventory[[#This Row],[Quantity Sold]]),0)","v":0}]
[null,null,null,null,null,null,null,null,0,0,0,null,null,null,0,{"$f":"IF(Inventory[[#This Row],[Item SKU/ID]]=\"\",0,SUMPRODUCT((Quantity_Sold_1=Inventory[[#This Row],[Item SKU/ID]])*Net_Profit))","v":0},{"$f":"IFERROR(AVERAGE(Inventory[[#This Row],[Total Net Profit]]/Inventory[[#This Row],[Quantity Sold]]),0)","v":0}]
[null,null,null,null,null,null,null,null,0,0,0,null,null,null,0,{"$f":"IF(Inventory[[#This Row],[Item SKU/ID]]=\"\",0,SUMPRODUCT((Quantity_Sold_1=Inventory[[#This Row],[Item SKU/ID]])*Net_Profit))","v":0},{"$f":"IFERROR(AVERAGE(Inventory[[#This Row],[Total Net Profit]]/Inventory[[#This Row],[Quantity Sold]]),0)","v":0}]
[null,null,null,null,null,null,null,null,0,0,0,null,null,null,0,{"$f":"IF(Inventory[[#This Row],[Item SKU/ID]]=\"\",0,SUMPRODUCT((Quantity_Sold_1=Inventory[[#This Row],[Item SKU/ID]])*Net_Profit))","v":0},{"$f":"IFERROR(AVERAGE(Inventory[[#This Row],[Total Net Profit]]/Inventory[[#This Row],[Quantity Sold]]),0)","v":0}]
[null,null,null,null,null,null,null,null,0,0,0,null,null,null,0,{"$f":"IF(Inventory[[#This Row],[Item SKU/ID]]=\"\",0,SUMPRODUCT((Quantity_Sold_1=Inventory[[#This Row],[Item SKU/ID]])*Net_Profit))","v":0},{"$f":"IFERROR(AVERAGE(Inventory[[#This Row],[Total Net Profit]]/Inventory[[#This Row],[Quantity Sold]]),0)","v":0}]
[null,null,null,null,null,null,null,null,0,0,0,null,null,null,0,{"$f":"IF(Inventory[[#This Row],[Item SKU/ID]]=\"\",0,SUMPRODUCT((Quantity_Sold_1=Inventory[[#This Row],[Item SKU/ID]])*Net_Profit))","v":0},{"$f":"IFERROR(AVERAGE(Inventory[[#This Row],[Total Net Profit]]/Inventory[[#This Row],[Quantity Sold]]),0)","v":0}]
[null,null,null,null,null,null,null,null,0,0,0,null,null,null,0,{"$f":"IF(Inventory[[#This Row],[Item SKU/ID]]=\"\",0,SUMPRODUCT((Quantity_Sold_1=Inventory[[#This Row],[Item SKU/ID]])*Net_Profit))","v":0},{"$f":"IFERROR(AVERAGE(Inventory[[#This Row],[Total Net Profit]]/Inventory[[#This Row],[Quantity Sold]]),0)","v":0}]
[null,null,null,null,null,null,null,null,0,0,0,null,null,null,0,{"$f":"IF(Inventory[[#This Row],[Item SKU/ID]]=\"\",0,SUMPRODUCT((Quantity_Sold_1=Inventory[[#This Row],[Item SKU/ID]])*Net_Profit))","v":0},{"$f":"IFERROR(AVERAGE(Inventory[[#This Row],[Total Net Profit]]/Inventory[[#This Row],[Quantity Sold]]),0)","v":0}]
[null,null,null,null,null,null,null,null,0,0,0,null,null,null,0,{"$f":"IF(Inventory[[#This Row],[Item SKU/ID]]=\"\",0,SUMPRODUCT((Quantity_Sold_1=Inventory[[#This Row],[Item SKU/ID]])*Net_Profit))","v":0},{"$f":"IFERROR(AVERAGE(Inventory[[#This Row],[Total Net Profit]]/Inventory[[#This Row],[Quantity Sold]]),0)","v":0}]
[null,null,null,null,null,null,null,null,0,0,0,null,null,null,0,{"$f":"IF(Inventory[[#This Row],[Item SKU/ID]]=\"\",0,SUMPRODUCT((Quantity_Sold_1=Inventory[[#This Row],[Item SKU/ID]])*Net_Profit))","v":0},{"$f":"IFERROR(AVERAGE(Inventory[[#This Row],[Total Net Profit]]/Inventory[[#This Row],[Quantity Sold]]),0)","v":0}]
[null,null,null,null,null,null,null,null,0,0,0,null,null,null,0,{"$f":"IF(Inventory[[#This Row],[Item SKU/ID]]=\"\",0,SUMPRODUCT((Quantity_Sold_1=Inventory[[#This Row],[Item SKU/ID]])*Net_Profit))","v":0},{"$f":"IFERROR(AVERAGE(Inventory[[#This Row],[Total Net Profit]]/Inventory[[#This Row],[Quantity Sold]]),0)","v":0}]
[null,null,null,null,null,null,null,null,0,0,0,null,null,null,0,{"$f":"IF(Inventory[[#This Row],[Item SKU/ID]]=\"\",0,SUMPRODUCT((Quantity_Sold_1=Inventory[[#This Row],[Item SKU/ID]])*Net_Profit))","v":0},{"$f":"IFERROR(AVERAGE(Inventory[[#This Row],[Total Net Profit]]/Inventory[[#This Row],[Quantity Sold]]),0)","v":0}]
[null,null,null,null,null,null,null,null,0,0,0,null,null,null,0,{"$f":"IF(Inventory[[#This Row],[Item SKU/ID]]=\"\",0,SUMPRODUCT((Quantity_Sold_1=Inventory[[#This Row],[Item SKU/ID]])*Net_Profit))","v":0},{"$f":"IFERROR(AVERAGE(Inventory[[#This Row],[Total Net Profit]]/Inventory[[#This Row],[Quantity Sold]]),0)","v":0}]
[null,null,null,null,null,null,null,null,0,0,0,null,null,null,0,{"$f":"IF(Inventory[[#This Row],[Item SKU/ID]]=\"\",0,SUMPRODUCT((Quantity_Sold_1=Inventory[[#This Row],[Item SKU/ID]])*Net_Profit))","v":0},{"$f":"IFERROR(AVERAGE(Inventory[[#This Row],[Total Net Profit]]/Inventory[[#This Row],[Quantity Sold]]),0)","v":0}]
[null,null,null,null,null,null,null,null,0,0,0,null,null,null,0,{"$f":"IF(Inventory[[#This Row],[Item SKU/ID]]=\"\",0,SUMPRODUCT((Quantity_Sold_1=Inventory[[#This Row],[Item SKU/ID]])*Net_Profit))","v":0},{"$f":"IFERROR(AVERAGE(Inventory[[#This Row],[Total Net Profit]]/Inventory[[#This Row],[Quantity Sold]]),0)","v":0}]
[null,null,null,null,null,null,null,null,0,0,0,null,null,null,0,{"$f":"IF(Inventory[[#This Row],[Item SKU/ID]]=\"\",0,SUMPRODUCT((Quantity_Sold_1=Inventory[[#This Row],[Item SKU/ID]])*Net_Profit))","v":0},{"$f":"IFERROR(AVERAGE(Inventory[[#This Row],[Total Net Profit]]/Inventory[[#This Row],[Quantity Sold]]),0)","v":0}]
[null,null,null,null,null,null,null,null,0,0,0,null,null,null,0,{"$f":"IF(Inventory[[#This Row],[Item SKU/ID]]=\"\",0,SUMPRODUCT((Quantity_Sold_1=Inventory[[#This Row],[Item SKU/ID]])*Net_Profit))","v":0},{"$f":"IFERROR(AVERAGE(Inventory[[#This Row],[Total Net Profit]]/Inventory[[#This Row],[Quantity Sold]]),0)","v":0}]
[null,null,null,null,null,null,null,null,0,0,0,null,null,null,0,{"$f":"IF(Inventory[[#This Row],[Item SKU/ID]]=\"\",0,SUMPRODUCT((Quantity_Sold_1=Inventory[[#This Row],[Item SKU/ID]])*Net_Profit))","v":0},{"$f":"IFERROR(AVERAGE(Inventory[[#This Row],[Total Net Profit]]/Inventory[[#This Row],[Quantity Sold]]),0)","v":0}]
[null,null,null,null,null,null,null,null,0,0,0,null,null,null,0,{"$f":"IF(Inventory[[#This Row],[Item SKU/ID]]=\"\",0,SUMPRODUCT((Quantity_Sold_1=Inventory[[#This Row],[Item SKU/ID]])*Net_Profit))","v":0},{"$f":"IFERROR(AVERAGE(Inventory[[#This Row],[Total Net Profit]]/Inventory[[#This Row],[Quantity Sold]]),0)","v":0}]
[null,null,null,null,null,null,null,null,{"$f":"K2628*H2628","v":0},{"$f":"IF(F2628=\"\",0,SUMPRODUCT((Quantity_Sold_1=F2628)*Quantity_Sold_2))","v":0},{"$f":"G2628-J2628","v":0},null,null,null,{"$f":"K2628*H2628","v":0},{"$f":"IF(Inventory[[#This Row],[Item SKU/ID]]=\"\",0,SUMPRODUCT((Quantity_Sold_1=Inventory[[#This Row],[Item SKU/ID]])*Net_Profit))","v":0},{"$f":"IFERROR(AVERAGE(Inventory[[#This Row],[Total Net Profit]]/Inventory[[#This Row],[Quantity Sold]]),0)","v":0}]
[null,null,null,null,null,null,null,null,0,0,0,null,null,null,0,{"$f":"IF(Inventory[[#This Row],[Item SKU/ID]]=\"\",0,SUMPRODUCT((Quantity_Sold_1=Inventory[[#This Row],[Item SKU/ID]])*Net_Profit))","v":0},{"$f":"IFERROR(AVERAGE(Inventory[[#This Row],[Total Net Profit]]/Inventory[[#This Row],[Quantity Sold]]),0)","v":0}]
[null,null,null,null,null,null,null,null,0,0,0,null,null,null,0,{"$f":"IF(Inventory[[#This Row],[Item SKU/ID]]=\"\",0,SUMPRODUCT((Quantity_Sold_1=Inventory[[#This Row],[Item SKU/ID]])*Net_Profit))","v":0},{"$f":"IFERROR(AVERAGE(Inventory[[#This Row],[Total Net Profit]]/Inventory[[#This Row],[Quantity Sold]]),0)","v":0}]
[null,null,null,null,null,null,null,null,0,0,0,null,null,null,0,{"$f":"IF(Inventory[[#This Row],[Item SKU/ID]]=\"\",0,SUMPRODUCT((Quantity_Sold_1=Inventory[[#This Row],[Item SKU/ID]])*Net_Profit))","v":0},{"$f":"IFERROR(AVERAGE(Inventory[[#This Row],[Total Net Profit]]/Inventory[[#This Row],[Quantity Sold]]),0)","v":0}]
[null,null,null,null,null,null,null,null,0,0,0,null,null,null,0,{"$f":"IF(Inventory[[#This Row],[Item SKU/ID]]=\"\",0,SUMPRODUCT((Quantity_Sold_1=Inventory[[#This Row],[Item SKU/ID]])*Net_Profit))","v":0},{"$f":"IFERROR(AVERAGE(Inventory[[#This Row],[Total Net Profit]]/Inventory[[#This Row],[Quantity Sold]]),0)","v":0}]
[null,null,null,null,null,null,null,null,0,0,0,null,null,null,0,{"$f":"IF(Inventory[[#This Row],[Item SKU/ID]]=\"\",0,SUMPRODUCT((Quantity_Sold_1=Inventory[[#This Row],[Item SKU/ID]])*Net_Profit))","v":0},{"$f":"IFERROR(AVERAGE(Inventory[[#This Row],[Total Net Profit]]/Inventory[[#This Row],[Quantity Sold]]),0)","v":0}]
[null,null,null,null,null,null,null,null,0,0,0,null,null,null,0,{"$f":"IF(Inventory[[#This Row],[Item SKU/ID]]=\"\",0,SUMPRODUCT((Quantity_Sold_1=Inventory[[#This Row],[Item SKU/ID]])*Net_Profit))","v":0},{"$f":"IFERROR(AVERAGE(Inventory[[#This Row],[Total Net Profit]]/Inventory[[#This Row],[Quantity Sold]]),0)","v":0}]
[null,null,null,null,null,null,null,null,0,0,0,null,null,null,0,{"$f":"IF(Inventory[[#This Row],[Item SKU/ID]]=\"\",0,SUMPRODUCT((Quantity_Sold_1=Inventory[[#This Row],[Item SKU/ID]])*Net_Profit))","v":0},{"$f":"IFERROR(AVERAGE(Inventory[[#This Row],[Total Net Profit]]/Inventory[[#This Row],[Quantity Sold]]),0)","v":0}]
[null,null,null,null,null,null,null,null,0,0,0,null,null,null,0,{"$f":"IF(Inventory[[#This Row],[Item SKU/ID]]=\"\",0,SUMPRODUCT((Quantity_Sold_1=Inventory[[#This Row],[Item SKU/ID]])*Net_Profit))","v":0},{"$f":"IFERROR(AVERAGE(Inventory[[#This Row],[Total Net Profit]]/Inventory[[#This Row],[Quantity Sold]]),0)","v":0}]
[null,null,null,null,null,null,null,null,0,0,0,null,null,null,0,{"$f":"IF(Inventory[[#This Row],[Item SKU/ID]]=\"\",0,SUMPRODUCT((Quantity_Sold_1=Inventory[[#This Row],[Item SKU/ID]])*Net_Profit))","v":0},{"$f":"IFERROR(AVERAGE(Inventory[[#This Row],[Total Net Profit]]/Inventory[[#This Row],[Quantity Sold]]),0)","v":0}]
[null,null,null,null,null,null,null,null,0,0,0,null,null,null,0,{"$f":"IF(Inventory[[#This Row],[Item SKU/ID]]=\"\",0,SUMPRODUCT((Quantity_Sold_1=Inventory[[#This Row],[Item SKU/ID]])*Net_Profit))","v":0},{"$f":"IFERROR(AVERAGE(Inventory[[#This Row],[Total Net Profit]]/Inventory[[#This Row],[Quantity Sold]]),0)","v":0}]
[null,null,null,null,null,null,null,null,0,0,0,null,null,null,0,{"$f":"IF(Inventory[[#This Row],[Item SKU/ID]]=\"\",0,SUMPRODUCT((Quantity_Sold_1=Inventory[[#This Row],[Item SKU/ID]])*Net_Profit))","v":0},{"$f":"IFERROR(AVERAGE(Inventory[[#This Row],[Total Net Profit]]/Inventory[[#This Row],[Quantity Sold]]),0)","v":0}]
[null,null,null,null,null,null,null,null,0,0,0,null,null,null,0,{"$f":"IF(Inventory[[#This Row],[Item SKU/ID]]=\"\",0,SUMPRODUCT((Quantity_Sold_1=Inventory[[#This Row],[Item SKU/ID]])*Net_Profit))","v":0},{"$f":"IFERROR(AVERAGE(Inventory[[#This Row],[Total Net Profit]]/Inventory[[#This Row],[Quantity Sold]]),0)","v":0}]
[null,null,null,null,null,null,null,null,0,0,0,null,null,null,0,{"$f":"IF(Inventory[[#This Row],[Item SKU/ID]]=\"\",0,SUMPRODUCT((Quantity_Sold_1=Inventory[[#This Row],[Item SKU/ID]])*Net_Profit))","v":0},{"$f":"IFERROR(AVERAGE(Inventory[[#This Row],[Total Net Profit]]/Inventory[[#This Row],[Quantity Sold]]),0)","v":0}]
[null,null,null,null,null,null,null,null,0,0,0,null,null,null,0,{"$f":"IF(Inventory[[#This Row],[Item SKU/ID]]=\"\",0,SUMPRODUCT((Quantity_Sold_1=Inventory[[#This Row],[Item SKU/ID]])*Net_Profit))","v":0},{"$f":"IFERROR(AVERAGE(Inventory[[#This Row],[Total Net Profit]]/Inventory[[#This Row],[Quantity Sold]]),0)","v":0}]
[null,null,null,null,null,null,null,null,0,0,0,null,null,null,0,{"$f":"IF(Inventory[[#This Row],[Item SKU/ID]]=\"\",0,SUMPRODUCT((Quantity_Sold_1=Inventory[[#This Row],[Item SKU/ID]])*Net_Profit))","v":0},{"$f":"IFERROR(AVERAGE(Inventory[[#This Row],[Total Net Profit]]/Inventory[[#This Row],[Quantity Sold]]),0)","v":0}]
[null,null,null,null,null,null,null,null,0,0,0,null,null,null,0,{"$f":"IF(Inventory[[#This Row],[Item SKU/ID]]=\"\",0,SUMPRODUCT((Quantity_Sold_1=Inventory[[#This Row],[Item SKU/ID]])*Net_Profit))","v":0},{"$f":"IFERROR(AVERAGE(Inventory[[#This Row],[Total Net Profit]]/Inventory[[#This Row],[Quantity Sold]]),0)","v":0}]
[null,null,null,null,null,null,null,null,0,0,0,null,null,null,0,{"$f":"IF(Inventory[[#This Row],[Item SKU/ID]]=\"\",0,SUMPRODUCT((Quantity_Sold_1=Inventory[[#This Row],[Item SKU/ID]])*Net_Profit))","v":0},{"$f":"IFERROR(AVERAGE(Inventory[[#This Row],[Total Net Profit]]/Inventory[[#This Row],[Quantity Sold]]),0)","v":0}]
[null,null,null,null,null,null,null,null,0,0,0,null,null,null,0,{"$f":"IF(Inventory[[#This Row],[Item SKU/ID]]=\"\",0,SUMPRODUCT((Quantity_Sold_1=Inventory[[#This Row],[Item SKU/ID]])*Net_Profit))","v":0},{"$f":"IFERROR(AVERAGE(Inventory[[#This Row],[Total Net Profit]]/Inventory[[#This Row],[Quantity Sold]]),0)","v":0}]
[null,null,null,null,null,null,null,null,0,0,0,null,null,null,0,{"$f":"IF(Inventory[[#This Row],[Item SKU/ID]]=\"\",0,SUMPRODUCT((Quantity_Sold_1=Inventory[[#This Row],[Item SKU/ID]])*Net_Profit))","v":0},{"$f":"IFERROR(AVERAGE(Inventory[[#This Row],[Total Net Profit]]/Inventory[[#This Row],[Quantity Sold]]),0)","v":0}]
[null,null,null,null,null,null,null,null,0,0,0,null,null,null,0,{"$f":"IF(Inventory[[#This Row],[Item SKU/ID]]=\"\",0,SUMPRODUCT((Quantity_Sold_1=Inventory[[#This Row],[Item SKU/ID]])*Net_Profit))","v":0},{"$f":"IFERROR(AVERAGE(Inventory[[#This Row],[Total Net Profit]]/Inventory[[#This Row],[Quantity Sold]]),0)","v":0}]
[null,null,null,null,null,null,null,null,0,0,0,null,null,null,0,{"$f":"IF(Inventory[[#This Row],[Item SKU/ID]]=\"\",0,SUMPRODUCT((Quantity_Sold_1=Inventory[[#This Row],[Item SKU/ID]])*Net_Profit))","v":0},{"$f":"IFERROR(AVERAGE(Inventory[[#This Row],[Total Net Profit]]/Inventory[[#This Row],[Quantity Sold]]),0)","v":0}]
[null,null,null,null,null,null,null,null,0,0,0,null,null,null,0,{"$f":"IF(Inventory[[#This Row],[Item SKU/ID]]=\"\",0,SUMPRODUCT((Quantity_Sold_1=Inventory[[#This Row],[Item SKU/ID]])*Net_Profit))","v":0},{"$f":"IFERROR(AVERAGE(Inventory[[#This Row],[Total Net Profit]]/Inventory[[#This Row],[Quantity Sold]]),0)","v":0}]
[null,null,null,null,null,null,null,null,0,0,0,null,null,null,0,{"$f":"IF(Inventory[[#This Row],[Item SKU/ID]]=\"\",0,SUMPRODUCT((Quantity_Sold_1=Inventory[[#This Row],[Item SKU/ID]])*Net_Profit))","v":0},{"$f":"IFERROR(AVERAGE(Inventory[[#This Row],[Total Net Profit]]/Inventory[[#This Row],[Quantity Sold]]),0)","v":0}]
[null,null,null,null,null,null,null,null,0,0,0,null,null,null,0,{"$f":"IF(Inventory[[#This Row],[Item SKU/ID]]=\"\",0,SUMPRODUCT((Quantity_Sold_1=Inventory[[#This Row],[Item SKU/ID]])*Net_Profit))","v":0},{"$f":"IFERROR(AVERAGE(Inventory[[#This Row],[Total Net Profit]]/Inventory[[#This Row],[Quantity Sold]]),0)","v":0}]
[null,null,null,null,null,null,null,null,0,0,0,null,null,null,0,{"$f":"IF(Inventory[[#This Row],[Item SKU/ID]]=\"\",0,SUMPRODUCT((Quantity_Sold_1=Inventory[[#This Row],[Item SKU/ID]])*Net_Profit))","v":0},{"$f":"IFERROR(AVERAGE(Inventory[[#This Row],[Total Net Profit]]/Inventory[[#This Row],[Quantity Sold]]),0)","v":0}]
[null,null,null,null,null,null,null,null,0,0,0,null,null,null,0,{"$f":"IF(Inventory[[#This Row],[Item SKU/ID]]=\"\",0,SUMPRODUCT((Quantity_Sold_1=Inventory[[#This Row],[Item SKU/ID]])*Net_Profit))","v":0},{"$f":"IFERROR(AVERAGE(Inventory[[#This Row],[Total Net Profit]]/Inventory[[#This Row],[Quantity Sold]]),0)","v":0}]
[null,null,null,null,null,null,null,null,0,0,0,null,null,null,0,{"$f":"IF(Inventory[[#This Row],[Item SKU/ID]]=\"\",0,SUMPRODUCT((Quantity_Sold_1=Inventory[[#This Row],[Item SKU/ID]])*Net_Profit))","v":0},{"$f":"IFERROR(AVERAGE(Inventory[[#This Row],[Total Net Profit]]/Inventory[[#This Row],[Quantity Sold]]),0)","v":0}]
[null,null,null,null,null,null,null,null,0,0,0,null,null,null,0,{"$f":"IF(Inventory[[#This Row],[Item SKU/ID]]=\"\",0,SUMPRODUCT((Quantity_Sold_1=Inventory[[#This Row],[Item SKU/ID]])*Net_Profit))","v":0},{"$f":"IFERROR(AVERAGE(Inventory[[#This Row],[Total Net Profit]]/Inventory[[#This Row],[Quantity Sold]]),0)","v":0}]
[null,null,null,null,null,null,null,null,0,0,0,null,null,null,0,{"$f":"IF(Inventory[[#This Row],[Item SKU/ID]]=\"\",0,SUMPRODUCT((Quantity_Sold_1=Inventory[[#This Row],[Item SKU/ID]])*Net_Profit))","v":0},{"$f":"IFERROR(AVERAGE(Inventory[[#This Row],[Total Net Profit]]/Inventory[[#This Row],[Quantity Sold]]),0)","v":0}]
[null,null,null,null,null,null,null,null,0,0,0,null,null,null,0,{"$f":"IF(Inventory[[#This Row],[Item SKU/ID]]=\"\",0,SUMPRODUCT((Quantity_Sold_1=Inventory[[#This Row],[Item SKU/ID]])*Net_Profit))","v":0},{"$f":"IFERROR(AVERAGE(Inventory[[#This Row],[Total Net Profit]]/Inventory[[#This Row],[Quantity Sold]]),0)","v":0}]
[null,null,null,null,null,null,null,null,0,0,0,null,null,null,0,{"$f":"IF(Inventory[[#This Row],[Item SKU/ID]]=\"\",0,SUMPRODUCT((Quantity_Sold_1=Inventory[[#This Row],[Item SKU/ID]])*Net_Profit))","v":0},{"$f":"IFERROR(AVERAGE(Inventory[[#This Row],[Total Net Profit]]/Inventory[[#This Row],[Quantity Sold]]),0)","v":0}]
[null,null,null,null,null,null,null,null,0,0,0,null,null,null,0,{"$f":"IF(Inventory[[#This Row],[Item SKU/ID]]=\"\",0,SUMPRODUCT((Quantity_Sold_1=Inventory[[#This Row],[Item SKU/ID]])*Net_Profit))","v":0},{"$f":"IFERROR(AVERAGE(Inventory[[#This Row],[Total Net Profit]]/Inventory[[#This Row],[Quantity Sold]]),0)","v":0}]
[null,null,null,null,null,null,null,null,0,0,0,null,null,null,0,{"$f":"IF(Inventory[[#This Row],[Item SKU/ID]]=\"\",0,SUMPRODUCT((Quantity_Sold_1=Inventory[[#This Row],[Item SKU/ID]])*Net_Profit))","v":0},{"$f":"IFERROR(AVERAGE(Inventory[[#This Row],[Total Net Profit]]/Inventory[[#This Row],[Quantity Sold]]),0)","v":0}]
[null,null,null,null,null,null,null,null,0,0,0,null,null,null,0,{"$f":"IF(Inventory[[#This Row],[Item SKU/ID]]=\"\",0,SUMPRODUCT((Quantity_Sold_1=Inventory[[#This Row],[Item SKU/ID]])*Net_Profit))","v":0},{"$f":"IFERROR(AVERAGE(Inventory[[#This Row],[Total Net Profit]]/Inventory[[#This Row],[Quantity Sold]]),0)","v":0}]
[null,null,null,null,null,null,null,null,0,0,0,null,null,null,0,{"$f":"IF(Inventory[[#This Row],[Item SKU/ID]]=\"\",0,SUMPRODUCT((Quantity_Sold_1=Inventory[[#This Row],[Item SKU/ID]])*Net_Profit))","v":0},{"$f":"IFERROR(AVERAGE(Inventory[[#This Row],[Total Net Profit]]/Inventory[[#This Row],[Quantity Sold]]),0)","v":0}]
[null,null,null,null,null,null,null,null,0,0,0,null,null,null,0,{"$f":"IF(Inventory[[#This Row],[Item SKU/ID]]=\"\",0,SUMPRODUCT((Quantity_Sold_1=Inventory[[#This Row],[Item SKU/ID]])*Net_Profit))","v":0},{"$f":"IFERROR(AVERAGE(Inventory[[#This Row],[Total Net Profit]]/Inventory[[#This Row],[Quantity Sold]]),0)","v":0}]
[null,null,null,null,null,null,null,null,0,0,0,null,null,null,0,{"$f":"IF(Inventory[[#This Row],[Item SKU/ID]]=\"\",0,SUMPRODUCT((Quantity_Sold_1=Inventory[[#This Row],[Item SKU/ID]])*Net_Profit))","v":0},{"$f":"IFERROR(AVERAGE(Inventory[[#This Row],[Total Net Profit]]/Inventory[[#This Row],[Quantity Sold]]),0)","v":0}]
[null,null,null,null,null,null,null,null,0,0,0,null,null,null,0,{"$f":"IF(Inventory[[#This Row],[Item SKU/ID]]=\"\",0,SUMPRODUCT((Quantity_Sold_1=Inventory[[#This Row],[Item SKU/ID]])*Net_Profit))","v":0},{"$f":"IFERROR(AVERAGE(Inventory[[#This Row],[Total Net Profit]]/Inventory[[#This Row],[Quantity Sold]]),0)","v":0}]
[null,null,null,null,null,null,null,null,0,0,0,null,null,null,0,{"$f":"IF(Inventory[[#This Row],[Item SKU/ID]]=\"\",0,SUMPRODUCT((Quantity_Sold_1=Inventory[[#This Row],[Item SKU/ID]])*Net_Profit))","v":0},{"$f":"IFERROR(AVERAGE(Inventory[[#This Row],[Total Net Profit]]/Inventory[[#This Row],[Quantity Sold]]),0)","v":0}]
[null,null,null,null,null,null,null,null,0,0,0,null,null,null,0,{"$f":"IF(Inventory[[#This Row],[Item SKU/ID]]=\"\",0,SUMPRODUCT((Quantity_Sold_1=Inventory[[#This Row],[Item SKU/ID]])*Net_Profit))","v":0},{"$f":"IFERROR(AVERAGE(Inventory[[#This Row],[Total Net Profit]]/Inventory[[#This Row],[Quantity Sold]]),0)","v":0}]
[null,null,null,null,null,null,null,null,0,0,0,null,null,null,0,{"$f":"IF(Inventory[[#This Row],[Item SKU/ID]]=\"\",0,SUMPRODUCT((Quantity_Sold_1=Inventory[[#This Row],[Item SKU/ID]])*Net_Profit))","v":0},{"$f":"IFERROR(AVERAGE(Inventory[[#This Row],[Total Net Profit]]/Inventory[[#This Row],[Quantity Sold]]),0)","v":0}]
[null,null,null,null,null,null,null,null,0,0,0,null,null,null,0,{"$f":"IF(Inventory[[#This Row],[Item SKU/ID]]=\"\",0,SUMPRODUCT((Quantity_Sold_1=Inventory[[#This Row],[Item SKU/ID]])*Net_Profit))","v":0},{"$f":"IFERROR(AVERAGE(Inventory[[#This Row],[Total Net Profit]]/Inventory[[#This Row],[Quantity Sold]]),0)","v":0}]
[null,null,null,null,null,null,null,null,0,0,0,null,null,null,0,{"$f":"IF(Inventory[[#This Row],[Item SKU/ID]]=\"\",0,SUMPRODUCT((Quantity_Sold_1=Inventory[[#This Row],[Item SKU/ID]])*Net_Profit))","v":0},{"$f":"IFERROR(AVERAGE(Inventory[[#This Row],[Total Net Profit]]/Inventory[[#This Row],[Quantity Sold]]),0)","v":0}]
[null,null,null,null,null,null,null,null,0,0,0,null,null,null,0,{"$f":"IF(Inventory[[#This Row],[Item SKU/ID]]=\"\",0,SUMPRODUCT((Quantity_Sold_1=Inventory[[#This Row],[Item SKU/ID]])*Net_Profit))","v":0},{"$f":"IFERROR(AVERAGE(Inventory[[#This Row],[Total Net Profit]]/Inventory[[#This Row],[Quantity Sold]]),0)","v":0}]
[null,null,null,null,null,null,null,null,0,0,0,null,null,null,0,{"$f":"IF(Inventory[[#This Row],[Item SKU/ID]]=\"\",0,SUMPRODUCT((Quantity_Sold_1=Inventory[[#This Row],[Item SKU/ID]])*Net_Profit))","v":0},{"$f":"IFERROR(AVERAGE(Inventory[[#This Row],[Total Net Profit]]/Inventory[[#This Row],[Quantity Sold]]),0)","v":0}]
[null,null,null,null,null,null,null,null,0,0,0,null,null,null,0,{"$f":"IF(Inventory[[#This Row],[Item SKU/ID]]=\"\",0,SUMPRODUCT((Quantity_Sold_1=Inventory[[#This Row],[Item SKU/ID]])*Net_Profit))","v":0},{"$f":"IFERROR(AVERAGE(Inventory[[#This Row],[Total Net Profit]]/Inventory[[#This Row],[Quantity Sold]]),0)","v":0}]
[null,null,null,null,null,null,null,null,0,0,0,null,null,null,0,{"$f":"IF(Inventory[[#This Row],[Item SKU/ID]]=\"\",0,SUMPRODUCT((Quantity_Sold_1=Inventory[[#This Row],[Item SKU/ID]])*Net_Profit))","v":0},{"$f":"IFERROR(AVERAGE(Inventory[[#This Row],[Total Net Profit]]/Inventory[[#This Row],[Quantity Sold]]),0)","v":0}]
[null,null,null,null,null,null,null,null,0,0,0,null,null,null,0,{"$f":"IF(Inventory[[#This Row],[Item SKU/ID]]=\"\",0,SUMPRODUCT((Quantity_Sold_1=Inventory[[#This Row],[Item SKU/ID]])*Net_Profit))","v":0},{"$f":"IFERROR(AVERAGE(Inventory[[#This Row],[Total Net Profit]]/Inventory[[#This Row],[Quantity Sold]]),0)","v":0}]
[null,null,null,null,null,null,null,null,0,0,0,null,null,null,0,{"$f":"IF(Inventory[[#This Row],[Item SKU/ID]]=\"\",0,SUMPRODUCT((Quantity_Sold_1=Inventory[[#This Row],[Item SKU/ID]])*Net_Profit))","v":0},{"$f":"IFERROR(AVERAGE(Inventory[[#This Row],[Total Net Profit]]/Inventory[[#This Row],[Quantity Sold]]),0)","v":0}]
[null,null,null,null,null,null,null,null,0,0,0,null,null,null,0,{"$f":"IF(Inventory[[#This Row],[Item SKU/ID]]=\"\",0,SUMPRODUCT((Quantity_Sold_1=Inventory[[#This Row],[Item SKU/ID]])*Net_Profit))","v":0},{"$f":"IFERROR(AVERAGE(Inventory[[#This Row],[Total Net Profit]]/Inventory[[#This Row],[Quantity Sold]]),0)","v":0}]
[null,null,null,null,null,null,null,null,0,0,0,null,null,null,0,{"$f":"IF(Inventory[[#This Row],[Item SKU/ID]]=\"\",0,SUMPRODUCT((Quantity_Sold_1=Inventory[[#This Row],[Item SKU/ID]])*Net_Profit))","v":0},{"$f":"IFERROR(AVERAGE(Inventory[[#This Row],[Total Net Profit]]/Inventory[[#This Row],[Quantity Sold]]),0)","v":0}]
[null,null,null,null,null,null,null,null,0,0,0,null,null,null,0,{"$f":"IF(Inventory[[#This Row],[Item SKU/ID]]=\"\",0,SUMPRODUCT((Quantity_Sold_1=Inventory[[#This Row],[Item SKU/ID]])*Net_Profit))","v":0},{"$f":"IFERROR(AVERAGE(Inventory[[#This Row],[Total Net Profit]]/Inventory[[#This Row],[Quantity Sold]]),0)","v":0}]
[null,null,null,null,null,null,null,null,0,0,0,null,null,null,0,{"$f":"IF(Inventory[[#This Row],[Item SKU/ID]]=\"\",0,SUMPRODUCT((Quantity_Sold_1=Inventory[[#This Row],[Item SKU/ID]])*Net_Profit))","v":0},{"$f":"IFERROR(AVERAGE(Inventory[[#This Row],[Total Net Profit]]/Inventory[[#This Row],[Quantity Sold]]),0)","v":0}]
[null,null,null,null,null,null,null,null,0,0,0,null,null,null,0,{"$f":"IF(Inventory[[#This Row],[Item SKU/ID]]=\"\",0,SUMPRODUCT((Quantity_Sold_1=Inventory[[#This Row],[Item SKU/ID]])*Net_Profit))","v":0},{"$f":"IFERROR(AVERAGE(Inventory[[#This Row],[Total Net Profit]]/Inventory[[#This Row],[Quantity Sold]]),0)","v":0}]
[null,null,null,null,null,null,null,null,0,0,0,null,null,null,0,{"$f":"IF(Inventory[[#This Row],[Item SKU/ID]]=\"\",0,SUMPRODUCT((Quantity_Sold_1=Inventory[[#This Row],[Item SKU/ID]])*Net_Profit))","v":0},{"$f":"IFERROR(AVERAGE(Inventory[[#This Row],[Total Net Profit]]/Inventory[[#This Row],[Quantity Sold]]),0)","v":0}]
[null,null,null,null,null,null,null,null,0,0,0,null,null,null,0,{"$f":"IF(Inventory[[#This Row],[Item SKU/ID]]=\"\",0,SUMPRODUCT((Quantity_Sold_1=Inventory[[#This Row],[Item SKU/ID]])*Net_Profit))","v":0},{"$f":"IFERROR(AVERAGE(Inventory[[#This Row],[Total Net Profit]]/Inventory[[#This Row],[Quantity Sold]]),0)","v":0}]
[null,null,null,null,null,null,null,null,0,0,0,null,null,null,0,{"$f":"IF(Inventory[[#This Row],[Item SKU/ID]]=\"\",0,SUMPRODUCT((Quantity_Sold_1=Inventory[[#This Row],[Item SKU/ID]])*Net_Profit))","v":0},{"$f":"IFERROR(AVERAGE(Inventory[[#This Row],[Total Net Profit]]/Inventory[[#This Row],[Quantity Sold]]),0)","v":0}]
[null,null,null,null,null,null,null,null,0,0,0,null,null,null,0,{"$f":"IF(Inventory[[#This Row],[Item SKU/ID]]=\"\",0,SUMPRODUCT((Quantity_Sold_1=Inventory[[#This Row],[Item SKU/ID]])*Net_Profit))","v":0},{"$f":"IFERROR(AVERAGE(Inventory[[#This Row],[Total Net Profit]]/Inventory[[#This Row],[Quantity Sold]]),0)","v":0}]
[null,null,null,null,null,null,null,null,0,0,0,null,null,null,0,{"$f":"IF(Inventory[[#This Row],[Item SKU/ID]]=\"\",0,SUMPRODUCT((Quantity_Sold_1=Inventory[[#This Row],[Item SKU/ID]])*Net_Profit))","v":0},{"$f":"IFERROR(AVERAGE(Inventory[[#This Row],[Total Net Profit]]/Inventory[[#This Row],[Quantity Sold]]),0)","v":0}]
[null,null,null,null,null,null,null,null,0,0,0,null,null,null,0,{"$f":"IF(Inventory[[#This Row],[Item SKU/ID]]=\"\",0,SUMPRODUCT((Quantity_Sold_1=Inventory[[#This Row],[Item SKU/ID]])*Net_Profit))","v":0},{"$f":"IFERROR(AVERAGE(Inventory[[#This Row],[Total Net Profit]]/Inventory[[#This Row],[Quantity Sold]]),0)","v":0}]
[null,null,null,null,null,null,null,null,0,0,0,null,null,null,0,{"$f":"IF(Inventory[[#This Row],[Item SKU/ID]]=\"\",0,SUMPRODUCT((Quantity_Sold_1=Inventory[[#This Row],[Item SKU/ID]])*Net_Profit))","v":0},{"$f":"IFERROR(AVERAGE(Inventory[[#This Row],[Total Net Profit]]/Inventory[[#This Row],[Quantity Sold]]),0)","v":0}]
[null,null,null,null,null,null,null,null,0,0,0,null,null,null,0,{"$f":"IF(Inventory[[#This Row],[Item SKU/ID]]=\"\",0,SUMPRODUCT((Quantity_Sold_1=Inventory[[#This Row],[Item SKU/ID]])*Net_Profit))","v":0},{"$f":"IFERROR(AVERAGE(Inventory[[#This Row],[Total Net Profit]]/Inventory[[#This Row],[Quantity Sold]]),0)","v":0}]
[null,null,null,null,null,null,null,null,0,0,0,null,null,null,0,{"$f":"IF(Inventory[[#This Row],[Item SKU/ID]]=\"\",0,SUMPRODUCT((Quantity_Sold_1=Inventory[[#This Row],[Item SKU/ID]])*Net_Profit))","v":0},{"$f":"IFERROR(AVERAGE(Inventory[[#This Row],[Total Net Profit]]/Inventory[[#This Row],[Quantity Sold]]),0)","v":0}]
[null,null,null,null,null,null,null,null,{"$f":"K2692*H2692","v":0},{"$f":"IF(F2692=\"\",0,SUMPRODUCT((Quantity_Sold_1=F2692)*Quantity_Sold_2))","v":0},{"$f":"G2692-J2692","v":0},null,null,null,{"$f":"K2692*H2692","v":0},{"$f":"IF(Inventory[[#This Row],[Item SKU/ID]]=\"\",0,SUMPRODUCT((Quantity_Sold_1=Inventory[[#This Row],[Item SKU/ID]])*Net_Profit))","v":0},{"$f":"IFERROR(AVERAGE(Inventory[[#This Row],[Total Net Profit]]/Inventory[[#This Row],[Quantity Sold]]),0)","v":0}]
[null,null,null,null,null,null,null,null,0,0,0,null,null,null,0,{"$f":"IF(Inventory[[#This Row],[Item SKU/ID]]=\"\",0,SUMPRODUCT((Quantity_Sold_1=Inventory[[#This Row],[Item SKU/ID]])*Net_Profit))","v":0},{"$f":"IFERROR(AVERAGE(Inventory[[#This Row],[Total Net Profit]]/Inventory[[#This Row],[Quantity Sold]]),0)","v":0}]
[null,null,null,null,null,null,null,null,0,0,0,null,null,null,0,{"$f":"IF(Inventory[[#This Row],[Item SKU/ID]]=\"\",0,SUMPRODUCT((Quantity_Sold_1=Inventory[[#This Row],[Item SKU/ID]])*Net_Profit))","v":0},{"$f":"IFERROR(AVERAGE(Inventory[[#This Row],[Total Net Profit]]/Inventory[[#This Row],[Quantity Sold]]),0)","v":0}]
[null,null,null,null,null,null,null,null,0,0,0,null,null,null,0,{"$f":"IF(Inventory[[#This Row],[Item SKU/ID]]=\"\",0,SUMPRODUCT((Quantity_Sold_1=Inventory[[#This Row],[Item SKU/ID]])*Net_Profit))","v":0},{"$f":"IFERROR(AVERAGE(Inventory[[#This Row],[Total Net Profit]]/Inventory[[#This Row],[Quantity Sold]]),0)","v":0}]
[null,null,null,null,null,null,null,null,0,0,0,null,null,null,0,{"$f":"IF(Inventory[[#This Row],[Item SKU/ID]]=\"\",0,SUMPRODUCT((Quantity_Sold_1=Inventory[[#This Row],[Item SKU/ID]])*Net_Profit))","v":0},{"$f":"IFERROR(AVERAGE(Inventory[[#This Row],[Total Net Profit]]/Inventory[[#This Row],[Quantity Sold]]),0)","v":0}]
[null,null,null,null,null,null,null,null,0,0,0,null,null,null,0,{"$f":"IF(Inventory[[#This Row],[Item SKU/ID]]=\"\",0,SUMPRODUCT((Quantity_Sold_1=Inventory[[#This Row],[Item SKU/ID]])*Net_Profit))","v":0},{"$f":"IFERROR(AVERAGE(Inventory[[#This Row],[Total Net Profit]]/Inventory[[#This Row],[Quantity Sold]]),0)","v":0}]
[null,null,null,null,null,null,null,null,0,0,0,null,null,null,0,{"$f":"IF(Inventory[[#This Row],[Item SKU/ID]]=\"\",0,SUMPRODUCT((Quantity_Sold_1=Inventory[[#This Row],[Item SKU/ID]])*Net_Profit))","v":0},{"$f":"IFERROR(AVERAGE(Inventory[[#This Row],[Total Net Profit]]/Inventory[[#This Row],[Quantity Sold]]),0)","v":0}]
[null,null,null,null,null,null,null,null,0,0,0,null,null,null,0,{"$f":"IF(Inventory[[#This Row],[Item SKU/ID]]=\"\",0,SUMPRODUCT((Quantity_Sold_1=Inventory[[#This Row],[Item SKU/ID]])*Net_Profit))","v":0},{"$f":"IFERROR(AVERAGE(Inventory[[#This Row],[Total Net Profit]]/Inventory[[#This Row],[Quantity Sold]]),0)","v":0}]
[null,null,null,null,null,null,null,null,0,0,0,null,null,null,0,{"$f":"IF(Inventory[[#This Row],[Item SKU/ID]]=\"\",0,SUMPRODUCT((Quantity_Sold_1=Inventory[[#This Row],[Item SKU/ID]])*Net_Profit))","v":0},{"$f":"IFERROR(AVERAGE(Inventory[[#This Row],[Total Net Profit]]/Inventory[[#This Row],[Quantity Sold]]),0)","v":0}]
[null,null,null,null,null,null,null,null,0,0,0,null,null,null,0,{"$f":"IF(Inventory[[#This Row],[Item SKU/ID]]=\"\",0,SUMPRODUCT((Quantity_Sold_1=Inventory[[#This Row],[Item SKU/ID]])*Net_Profit))","v":0},{"$f":"IFERROR(AVERAGE(Inventory[[#This Row],[Total Net Profit]]/Inventory[[#This Row],[Quantity Sold]]),0)","v":0}]
[null,null,null,null,null,null,null,null,0,0,0,null,null,null,0,{"$f":"IF(Inventory[[#This Row],[Item SKU/ID]]=\"\",0,SUMPRODUCT((Quantity_Sold_1=Inventory[[#This Row],[Item SKU/ID]])*Net_Profit))","v":0},{"$f":"IFERROR(AVERAGE(Inventory[[#This Row],[Total Net Profit]]/Inventory[[#This Row],[Quantity Sold]]),0)","v":0}]
[null,null,null,null,null,null,null,null,0,0,0,null,null,null,0,{"$f":"IF(Inventory[[#This Row],[Item SKU/ID]]=\"\",0,SUMPRODUCT((Quantity_Sold_1=Inventory[[#This Row],[Item SKU/ID]])*Net_Profit))","v":0},{"$f":"IFERROR(AVERAGE(Inventory[[#This Row],[Total Net Profit]]/Inventory[[#This Row],[Quantity Sold]]),0)","v":0}]
[null,null,null,null,null,null,null,null,0,0,0,null,null,null,0,{"$f":"IF(Inventory[[#This Row],[Item SKU/ID]]=\"\",0,SUMPRODUCT((Quantity_Sold_1=Inventory[[#This Row],[Item SKU/ID]])*Net_Profit))","v":0},{"$f":"IFERROR(AVERAGE(Inventory[[#This Row],[Total Net Profit]]/Inventory[[#This Row],[Quantity Sold]]),0)","v":0}]
[null,null,null,null,null,null,null,null,0,0,0,null,null,null,0,{"$f":"IF(Inventory[[#This Row],[Item SKU/ID]]=\"\",0,SUMPRODUCT((Quantity_Sold_1=Inventory[[#This Row],[Item SKU/ID]])*Net_Profit))","v":0},{"$f":"IFERROR(AVERAGE(Inventory[[#This Row],[Total Net Profit]]/Inventory[[#This Row],[Quantity Sold]]),0)","v":0}]
[null,null,null,null,null,null,null,null,0,0,0,null,null,null,0,{"$f":"IF(Inventory[[#This Row],[Item SKU/ID]]=\"\",0,SUMPRODUCT((Quantity_Sold_1=Inventory[[#This Row],[Item SKU/ID]])*Net_Profit))","v":0},{"$f":"IFERROR(AVERAGE(Inventory[[#This Row],[Total Net Profit]]/Inventory[[#This Row],[Quantity Sold]]),0)","v":0}]
[null,null,null,null,null,null,null,null,0,0,0,null,null,null,0,{"$f":"IF(Inventory[[#This Row],[Item SKU/ID]]=\"\",0,SUMPRODUCT((Quantity_Sold_1=Inventory[[#This Row],[Item SKU/ID]])*Net_Profit))","v":0},{"$f":"IFERROR(AVERAGE(Inventory[[#This Row],[Total Net Profit]]/Inventory[[#This Row],[Quantity Sold]]),0)","v":0}]
[null,null,null,null,null,null,null,null,0,0,0,null,null,null,0,{"$f":"IF(Inventory[[#This Row],[Item SKU/ID]]=\"\",0,SUMPRODUCT((Quantity_Sold_1=Inventory[[#This Row],[Item SKU/ID]])*Net_Profit))","v":0},{"$f":"IFERROR(AVERAGE(Inventory[[#This Row],[Total Net Profit]]/Inventory[[#This Row],[Quantity Sold]]),0)","v":0}]
[null,null,null,null,null,null,null,null,0,0,0,null,null,null,0,{"$f":"IF(Inventory[[#This Row],[Item SKU/ID]]=\"\",0,SUMPRODUCT((Quantity_Sold_1=Inventory[[#This Row],[Item SKU/ID]])*Net_Profit))","v":0},{"$f":"IFERROR(AVERAGE(Inventory[[#This Row],[Total Net Profit]]/Inventory[[#This Row],[Quantity Sold]]),0)","v":0}]
[null,null,null,null,null,null,null,null,0,0,0,null,null,null,0,{"$f":"IF(Inventory[[#This Row],[Item SKU/ID]]=\"\",0,SUMPRODUCT((Quantity_Sold_1=Inventory[[#This Row],[Item SKU/ID]])*Net_Profit))","v":0},{"$f":"IFERROR(AVERAGE(Inventory[[#This Row],[Total Net Profit]]/Inventory[[#This Row],[Quantity Sold]]),0)","v":0}]
[null,null,null,null,null,null,null,null,0,0,0,null,null,null,0,{"$f":"IF(Inventory[[#This Row],[Item SKU/ID]]=\"\",0,SUMPRODUCT((Quantity_Sold_1=Inventory[[#This Row],[Item SKU/ID]])*Net_Profit))","v":0},{"$f":"IFERROR(AVERAGE(Inventory[[#This Row],[Total Net Profit]]/Inventory[[#This Row],[Quantity Sold]]),0)","v":0}]
[null,null,null,null,null,null,null,null,0,0,0,null,null,null,0,{"$f":"IF(Inventory[[#This Row],[Item SKU/ID]]=\"\",0,SUMPRODUCT((Quantity_Sold_1=Inventory[[#This Row],[Item SKU/ID]])*Net_Profit))","v":0},{"$f":"IFERROR(AVERAGE(Inventory[[#This Row],[Total Net Profit]]/Inventory[[#This Row],[Quantity Sold]]),0)","v":0}]
[null,null,null,null,null,null,null,null,0,0,0,null,null,null,0,{"$f":"IF(Inventory[[#This Row],[Item SKU/ID]]=\"\",0,SUMPRODUCT((Quantity_Sold_1=Inventory[[#This Row],[Item SKU/ID]])*Net_Profit))","v":0},{"$f":"IFERROR(AVERAGE(Inventory[[#This Row],[Total Net Profit]]/Inventory[[#This Row],[Quantity Sold]]),0)","v":0}]
[null,null,null,null,null,null,null,null,0,0,0,null,null,null,0,{"$f":"IF(Inventory[[#This Row],[Item SKU/ID]]=\"\",0,SUMPRODUCT((Quantity_Sold_1=Inventory[[#This Row],[Item SKU/ID]])*Net_Profit))","v":0},{"$f":"IFERROR(AVERAGE(Inventory[[#This Row],[Total Net Profit]]/Inventory[[#This Row],[Quantity Sold]]),0)","v":0}]
[null,null,null,null,null,null,null,null,0,0,0,null,null,null,0,{"$f":"IF(Inventory[[#This Row],[Item SKU/ID]]=\"\",0,SUMPRODUCT((Quantity_Sold_1=Inventory[[#This Row],[Item SKU/ID]])*Net_Profit))","v":0},{"$f":"IFERROR(AVERAGE(Inventory[[#This Row],[Total Net Profit]]/Inventory[[#This Row],[Quantity Sold]]),0)","v":0}]
[null,null,null,null,null,null,null,null,0,0,0,null,null,null,0,{"$f":"IF(Inventory[[#This Row],[Item SKU/ID]]=\"\",0,SUMPRODUCT((Quantity_Sold_1=Inventory[[#This Row],[Item SKU/ID]])*Net_Profit))","v":0},{"$f":"IFERROR(AVERAGE(Inventory[[#This Row],[Total Net Profit]]/Inventory[[#This Row],[Quantity Sold]]),0)","v":0}]
[null,null,null,null,null,null,null,null,0,0,0,null,null,null,0,{"$f":"IF(Inventory[[#This Row],[Item SKU/ID]]=\"\",0,SUMPRODUCT((Quantity_Sold_1=Inventory[[#This Row],[Item SKU/ID]])*Net_Profit))","v":0},{"$f":"IFERROR(AVERAGE(Inventory[[#This Row],[Total Net Profit]]/Inventory[[#This Row],[Quantity Sold]]),0)","v":0}]
[null,null,null,null,null,null,null,null,0,0,0,null,null,null,0,{"$f":"IF(Inventory[[#This Row],[Item SKU/ID]]=\"\",0,SUMPRODUCT((Quantity_Sold_1=Inventory[[#This Row],[Item SKU/ID]])*Net_Profit))","v":0},{"$f":"IFERROR(AVERAGE(Inventory[[#This Row],[Total Net Profit]]/Inventory[[#This Row],[Quantity Sold]]),0)","v":0}]
[null,null,null,null,null,null,null,null,0,0,0,null,null,null,0,{"$f":"IF(Inventory[[#This Row],[Item SKU/ID]]=\"\",0,SUMPRODUCT((Quantity_Sold_1=Inventory[[#This Row],[Item SKU/ID]])*Net_Profit))","v":0},{"$f":"IFERROR(AVERAGE(Inventory[[#This Row],[Total Net Profit]]/Inventory[[#This Row],[Quantity Sold]]),0)","v":0}]
[null,null,null,null,null,null,null,null,0,0,0,null,null,null,0,{"$f":"IF(Inventory[[#This Row],[Item SKU/ID]]=\"\",0,SUMPRODUCT((Quantity_Sold_1=Inventory[[#This Row],[Item SKU/ID]])*Net_Profit))","v":0},{"$f":"IFERROR(AVERAGE(Inventory[[#This Row],[Total Net Profit]]/Inventory[[#This Row],[Quantity Sold]]),0)","v":0}]
[null,null,null,null,null,null,null,null,0,0,0,null,null,null,0,{"$f":"IF(Inventory[[#This Row],[Item SKU/ID]]=\"\",0,SUMPRODUCT((Quantity_Sold_1=Inventory[[#This Row],[Item SKU/ID]])*Net_Profit))","v":0},{"$f":"IFERROR(AVERAGE(Inventory[[#This Row],[Total Net Profit]]/Inventory[[#This Row],[Quantity Sold]]),0)","v":0}]
[null,null,null,null,null,null,null,null,0,0,0,null,null,null,0,{"$f":"IF(Inventory[[#This Row],[Item SKU/ID]]=\"\",0,SUMPRODUCT((Quantity_Sold_1=Inventory[[#This Row],[Item SKU/ID]])*Net_Profit))","v":0},{"$f":"IFERROR(AVERAGE(Inventory[[#This Row],[Total Net Profit]]/Inventory[[#This Row],[Quantity Sold]]),0)","v":0}]
[null,null,null,null,null,null,null,null,0,0,0,null,null,null,0,{"$f":"IF(Inventory[[#This Row],[Item SKU/ID]]=\"\",0,SUMPRODUCT((Quantity_Sold_1=Inventory[[#This Row],[Item SKU/ID]])*Net_Profit))","v":0},{"$f":"IFERROR(AVERAGE(Inventory[[#This Row],[Total Net Profit]]/Inventory[[#This Row],[Quantity Sold]]),0)","v":0}]
[null,null,null,null,null,null,null,null,0,0,0,null,null,null,0,{"$f":"IF(Inventory[[#This Row],[Item SKU/ID]]=\"\",0,SUMPRODUCT((Quantity_Sold_1=Inventory[[#This Row],[Item SKU/ID]])*Net_Profit))","v":0},{"$f":"IFERROR(AVERAGE(Inventory[[#This Row],[Total Net Profit]]/Inventory[[#This Row],[Quantity Sold]]),0)","v":0}]
[null,null,null,null,null,null,null,null,0,0,0,null,null,null,0,{"$f":"IF(Inventory[[#This Row],[Item SKU/ID]]=\"\",0,SUMPRODUCT((Quantity_Sold_1=Inventory[[#This Row],[Item SKU/ID]])*Net_Profit))","v":0},{"$f":"IFERROR(AVERAGE(Inventory[[#This Row],[Total Net Profit]]/Inventory[[#This Row],[Quantity Sold]]),0)","v":0}]
[null,null,null,null,null,null,null,null,0,0,0,null,null,null,0,{"$f":"IF(Inventory[[#This Row],[Item SKU/ID]]=\"\",0,SUMPRODUCT((Quantity_Sold_1=Inventory[[#This Row],[Item SKU/ID]])*Net_Profit))","v":0},{"$f":"IFERROR(AVERAGE(Inventory[[#This Row],[Total Net Profit]]/Inventory[[#This Row],[Quantity Sold]]),0)","v":0}]
[null,null,null,null,null,null,null,null,0,0,0,null,null,null,0,{"$f":"IF(Inventory[[#This Row],[Item SKU/ID]]=\"\",0,SUMPRODUCT((Quantity_Sold_1=Inventory[[#This Row],[Item SKU/ID]])*Net_Profit))","v":0},{"$f":"IFERROR(AVERAGE(Inventory[[#This Row],[Total Net Profit]]/Inventory[[#This Row],[Quantity Sold]]),0)","v":0}]
[null,null,null,null,null,null,null,null,0,0,0,null,null,null,0,{"$f":"IF(Inventory[[#This Row],[Item SKU/ID]]=\"\",0,SUMPRODUCT((Quantity_Sold_1=Inventory[[#This Row],[Item SKU/ID]])*Net_Profit))","v":0},{"$f":"IFERROR(AVERAGE(Inventory[[#This Row],[Total Net Profit]]/Inventory[[#This Row],[Quantity Sold]]),0)","v":0}]
[null,null,null,null,null,null,null,null,0,0,0,null,null,null,0,{"$f":"IF(Inventory[[#This Row],[Item SKU/ID]]=\"\",0,SUMPRODUCT((Quantity_Sold_1=Inventory[[#This Row],[Item SKU/ID]])*Net_Profit))","v":0},{"$f":"IFERROR(AVERAGE(Inventory[[#This Row],[Total Net Profit]]/Inventory[[#This Row],[Quantity Sold]]),0)","v":0}]
[null,null,null,null,null,null,null,null,0,0,0,null,null,null,0,{"$f":"IF(Inventory[[#This Row],[Item SKU/ID]]=\"\",0,SUMPRODUCT((Quantity_Sold_1=Inventory[[#This Row],[Item SKU/ID]])*Net_Profit))","v":0},{"$f":"IFERROR(AVERAGE(Inventory[[#This Row],[Total Net Profit]]/Inventory[[#This Row],[Quantity Sold]]),0)","v":0}]
[null,null,null,null,null,null,null,null,0,0,0,null,null,null,0,{"$f":"IF(Inventory[[#This Row],[Item SKU/ID]]=\"\",0,SUMPRODUCT((Quantity_Sold_1=Inventory[[#This Row],[Item SKU/ID]])*Net_Profit))","v":0},{"$f":"IFERROR(AVERAGE(Inventory[[#This Row],[Total Net Profit]]/Inventory[[#This Row],[Quantity Sold]]),0)","v":0}]
[null,null,null,null,null,null,null,null,0,0,0,null,null,null,0,{"$f":"IF(Inventory[[#This Row],[Item SKU/ID]]=\"\",0,SUMPRODUCT((Quantity_Sold_1=Inventory[[#This Row],[Item SKU/ID]])*Net_Profit))","v":0},{"$f":"IFERROR(AVERAGE(Inventory[[#This Row],[Total Net Profit]]/Inventory[[#This Row],[Quantity Sold]]),0)","v":0}]
[null,null,null,null,null,null,null,null,0,0,0,null,null,null,0,{"$f":"IF(Inventory[[#This Row],[Item SKU/ID]]=\"\",0,SUMPRODUCT((Quantity_Sold_1=Inventory[[#This Row],[Item SKU/ID]])*Net_Profit))","v":0},{"$f":"IFERROR(AVERAGE(Inventory[[#This Row],[Total Net Profit]]/Inventory[[#This Row],[Quantity Sold]]),0)","v":0}]
[null,null,null,null,null,null,null,null,0,0,0,null,null,null,0,{"$f":"IF(Inventory[[#This Row],[Item SKU/ID]]=\"\",0,SUMPRODUCT((Quantity_Sold_1=Inventory[[#This Row],[Item SKU/ID]])*Net_Profit))","v":0},{"$f":"IFERROR(AVERAGE(Inventory[[#This Row],[Total Net Profit]]/Inventory[[#This Row],[Quantity Sold]]),0)","v":0}]
[null,null,null,null,null,null,null,null,0,0,0,null,null,null,0,{"$f":"IF(Inventory[[#This Row],[Item SKU/ID]]=\"\",0,SUMPRODUCT((Quantity_Sold_1=Inventory[[#This Row],[Item SKU/ID]])*Net_Profit))","v":0},{"$f":"IFERROR(AVERAGE(Inventory[[#This Row],[Total Net Profit]]/Inventory[[#This Row],[Quantity Sold]]),0)","v":0}]
[null,null,null,null,null,null,null,null,0,0,0,null,null,null,0,{"$f":"IF(Inventory[[#This Row],[Item SKU/ID]]=\"\",0,SUMPRODUCT((Quantity_Sold_1=Inventory[[#This Row],[Item SKU/ID]])*Net_Profit))","v":0},{"$f":"IFERROR(AVERAGE(Inventory[[#This Row],[Total Net Profit]]/Inventory[[#This Row],[Quantity Sold]]),0)","v":0}]
[null,null,null,null,null,null,null,null,0,0,0,null,null,null,0,{"$f":"IF(Inventory[[#This Row],[Item SKU/ID]]=\"\",0,SUMPRODUCT((Quantity_Sold_1=Inventory[[#This Row],[Item SKU/ID]])*Net_Profit))","v":0},{"$f":"IFERROR(AVERAGE(Inventory[[#This Row],[Total Net Profit]]/Inventory[[#This Row],[Quantity Sold]]),0)","v":0}]
[null,null,null,null,null,null,null,null,0,0,0,null,null,null,0,{"$f":"IF(Inventory[[#This Row],[Item SKU/ID]]=\"\",0,SUMPRODUCT((Quantity_Sold_1=Inventory[[#This Row],[Item SKU/ID]])*Net_Profit))","v":0},{"$f":"IFERROR(AVERAGE(Inventory[[#This Row],[Total Net Profit]]/Inventory[[#This Row],[Quantity Sold]]),0)","v":0}]
[null,null,null,null,null,null,null,null,0,0,0,null,null,null,0,{"$f":"IF(Inventory[[#This Row],[Item SKU/ID]]=\"\",0,SUMPRODUCT((Quantity_Sold_1=Inventory[[#This Row],[Item SKU/ID]])*Net_Profit))","v":0},{"$f":"IFERROR(AVERAGE(Inventory[[#This Row],[Total Net Profit]]/Inventory[[#This Row],[Quantity Sold]]),0)","v":0}]
[null,null,null,null,null,null,null,null,0,0,0,null,null,null,0,{"$f":"IF(Inventory[[#This Row],[Item SKU/ID]]=\"\",0,SUMPRODUCT((Quantity_Sold_1=Inventory[[#This Row],[Item SKU/ID]])*Net_Profit))","v":0},{"$f":"IFERROR(AVERAGE(Inventory[[#This Row],[Total Net Profit]]/Inventory[[#This Row],[Quantity Sold]]),0)","v":0}]
[null,null,null,null,null,null,null,null,0,0,0,null,null,null,0,{"$f":"IF(Inventory[[#This Row],[Item SKU/ID]]=\"\",0,SUMPRODUCT((Quantity_Sold_1=Inventory[[#This Row],[Item SKU/ID]])*Net_Profit))","v":0},{"$f":"IFERROR(AVERAGE(Inventory[[#This Row],[Total Net Profit]]/Inventory[[#This Row],[Quantity Sold]]),0)","v":0}]
[null,null,null,null,null,null,null,null,0,0,0,null,null,null,0,{"$f":"IF(Inventory[[#This Row],[Item SKU/ID]]=\"\",0,SUMPRODUCT((Quantity_Sold_1=Inventory[[#This Row],[Item SKU/ID]])*Net_Profit))","v":0},{"$f":"IFERROR(AVERAGE(Inventory[[#This Row],[Total Net Profit]]/Inventory[[#This Row],[Quantity Sold]]),0)","v":0}]
[null,null,null,null,null,null,null,null,0,0,0,null,null,null,0,{"$f":"IF(Inventory[[#This Row],[Item SKU/ID]]=\"\",0,SUMPRODUCT((Quantity_Sold_1=Inventory[[#This Row],[Item SKU/ID]])*Net_Profit))","v":0},{"$f":"IFERROR(AVERAGE(Inventory[[#This Row],[Total Net Profit]]/Inventory[[#This Row],[Quantity Sold]]),0)","v":0}]
[null,null,null,null,null,null,null,null,0,0,0,null,null,null,0,{"$f":"IF(Inventory[[#This Row],[Item SKU/ID]]=\"\",0,SUMPRODUCT((Quantity_Sold_1=Inventory[[#This Row],[Item SKU/ID]])*Net_Profit))","v":0},{"$f":"IFERROR(AVERAGE(Inventory[[#This Row],[Total Net Profit]]/Inventory[[#This Row],[Quantity Sold]]),0)","v":0}]
[null,null,null,null,null,null,null,null,0,0,0,null,null,null,0,{"$f":"IF(Inventory[[#This Row],[Item SKU/ID]]=\"\",0,SUMPRODUCT((Quantity_Sold_1=Inventory[[#This Row],[Item SKU/ID]])*Net_Profit))","v":0},{"$f":"IFERROR(AVERAGE(Inventory[[#This Row],[Total Net Profit]]/Inventory[[#This Row],[Quantity Sold]]),0)","v":0}]
[null,null,null,null,null,null,null,null,0,0,0,null,null,null,0,{"$f":"IF(Inventory[[#This Row],[Item SKU/ID]]=\"\",0,SUMPRODUCT((Quantity_Sold_1=Inventory[[#This Row],[Item SKU/ID]])*Net_Profit))","v":0},{"$f":"IFERROR(AVERAGE(Inventory[[#This Row],[Total Net Profit]]/Inventory[[#This Row],[Quantity Sold]]),0)","v":0}]
[null,null,null,null,null,null,null,null,0,0,0,null,null,null,0,{"$f":"IF(Inventory[[#This Row],[Item SKU/ID]]=\"\",0,SUMPRODUCT((Quantity_Sold_1=Inventory[[#This Row],[Item SKU/ID]])*Net_Profit))","v":0},{"$f":"IFERROR(AVERAGE(Inventory[[#This Row],[Total Net Profit]]/Inventory[[#This Row],[Quantity Sold]]),0)","v":0}]
[null,null,null,null,null,null,null,null,0,0,0,null,null,null,0,{"$f":"IF(Inventory[[#This Row],[Item SKU/ID]]=\"\",0,SUMPRODUCT((Quantity_Sold_1=Inventory[[#This Row],[Item SKU/ID]])*Net_Profit))","v":0},{"$f":"IFERROR(AVERAGE(Inventory[[#This Row],[Total Net Profit]]/Inventory[[#This Row],[Quantity Sold]]),0)","v":0}]
[null,null,null,null,null,null,null,null,0,0,0,null,null,null,0,{"$f":"IF(Inventory[[#This Row],[Item SKU/ID]]=\"\",0,SUMPRODUCT((Quantity_Sold_1=Inventory[[#This Row],[Item SKU/ID]])*Net_Profit))","v":0},{"$f":"IFERROR(AVERAGE(Inventory[[#This Row],[Total Net Profit]]/Inventory[[#This Row],[Quantity Sold]]),0)","v":0}]
[null,null,null,null,null,null,null,null,0,0,0,null,null,null,0,{"$f":"IF(Inventory[[#This Row],[Item SKU/ID]]=\"\",0,SUMPRODUCT((Quantity_Sold_1=Inventory[[#This Row],[Item SKU/ID]])*Net_Profit))","v":0},{"$f":"IFERROR(AVERAGE(Inventory[[#This Row],[Total Net Profit]]/Inventory[[#This Row],[Quantity Sold]]),0)","v":0}]
[null,null,null,null,null,null,null,null,0,0,0,null,null,null,0,{"$f":"IF(Inventory[[#This Row],[Item SKU/ID]]=\"\",0,SUMPRODUCT((Quantity_Sold_1=Inventory[[#This Row],[Item SKU/ID]])*Net_Profit))","v":0},{"$f":"IFERROR(AVERAGE(Inventory[[#This Row],[Total Net Profit]]/Inventory[[#This Row],[Quantity Sold]]),0)","v":0}]
[null,null,null,null,null,null,null,null,0,0,0,null,null,null,0,{"$f":"IF(Inventory[[#This Row],[Item SKU/ID]]=\"\",0,SUMPRODUCT((Quantity_Sold_1=Inventory[[#This Row],[Item SKU/ID]])*Net_Profit))","v":0},{"$f":"IFERROR(AVERAGE(Inventory[[#This Row],[Total Net Profit]]/Inventory[[#This Row],[Quantity Sold]]),0)","v":0}]
[null,null,null,null,null,null,null,null,0,0,0,null,null,null,0,{"$f":"IF(Inventory[[#This Row],[Item SKU/ID]]=\"\",0,SUMPRODUCT((Quantity_Sold_1=Inventory[[#This Row],[Item SKU/ID]])*Net_Profit))","v":0},{"$f":"IFERROR(AVERAGE(Inventory[[#This Row],[Total Net Profit]]/Inventory[[#This Row],[Quantity Sold]]),0)","v":0}]
[null,null,null,null,null,null,null,null,0,0,0,null,null,null,0,{"$f":"IF(Inventory[[#This Row],[Item SKU/ID]]=\"\",0,SUMPRODUCT((Quantity_Sold_1=Inventory[[#This Row],[Item SKU/ID]])*Net_Profit))","v":0},{"$f":"IFERROR(AVERAGE(Inventory[[#This Row],[Total Net Profit]]/Inventory[[#This Row],[Quantity Sold]]),0)","v":0}]
[null,null,null,null,null,null,null,null,0,0,0,null,null,null,0,{"$f":"IF(Inventory[[#This Row],[Item SKU/ID]]=\"\",0,SUMPRODUCT((Quantity_Sold_1=Inventory[[#This Row],[Item SKU/ID]])*Net_Profit))","v":0},{"$f":"IFERROR(AVERAGE(Inventory[[#This Row],[Total Net Profit]]/Inventory[[#This Row],[Quantity Sold]]),0)","v":0}]
[null,null,null,null,null,null,null,null,{"$f":"K2756*H2756","v":0},{"$f":"IF(F2756=\"\",0,SUMPRODUCT((Quantity_Sold_1=F2756)*Quantity_Sold_2))","v":0},{"$f":"G2756-J2756","v":0},null,null,null,{"$f":"K2756*H2756","v":0},{"$f":"IF(Inventory[[#This Row],[Item SKU/ID]]=\"\",0,SUMPRODUCT((Quantity_Sold_1=Inventory[[#This Row],[Item SKU/ID]])*Net_Profit))","v":0},{"$f":"IFERROR(AVERAGE(Inventory[[#This Row],[Total Net Profit]]/Inventory[[#This Row],[Quantity Sold]]),0)","v":0}]
[null,null,null,null,null,null,null,null,0,0,0,null,null,null,0,{"$f":"IF(Inventory[[#This Row],[Item SKU/ID]]=\"\",0,SUMPRODUCT((Quantity_Sold_1=Inventory[[#This Row],[Item SKU/ID]])*Net_Profit))","v":0},{"$f":"IFERROR(AVERAGE(Inventory[[#This Row],[Total Net Profit]]/Inventory[[#This Row],[Quantity Sold]]),0)","v":0}]
[null,null,null,null,null,null,null,null,0,0,0,null,null,null,0,{"$f":"IF(Inventory[[#This Row],[Item SKU/ID]]=\"\",0,SUMPRODUCT((Quantity_Sold_1=Inventory[[#This Row],[Item SKU/ID]])*Net_Profit))","v":0},{"$f":"IFERROR(AVERAGE(Inventory[[#This Row],[Total Net Profit]]/Inventory[[#This Row],[Quantity Sold]]),0)","v":0}]
[null,null,null,null,null,null,null,null,0,0,0,null,null,null,0,{"$f":"IF(Inventory[[#This Row],[Item SKU/ID]]=\"\",0,SUMPRODUCT((Quantity_Sold_1=Inventory[[#This Row],[Item SKU/ID]])*Net_Profit))","v":0},{"$f":"IFERROR(AVERAGE(Inventory[[#This Row],[Total Net Profit]]/Inventory[[#This Row],[Quantity Sold]]),0)","v":0}]
[null,null,null,null,null,null,null,null,0,0,0,null,null,null,0,{"$f":"IF(Inventory[[#This Row],[Item SKU/ID]]=\"\",0,SUMPRODUCT((Quantity_Sold_1=Inventory[[#This Row],[Item SKU/ID]])*Net_Profit))","v":0},{"$f":"IFERROR(AVERAGE(Inventory[[#This Row],[Total Net Profit]]/Inventory[[#This Row],[Quantity Sold]]),0)","v":0}]
[null,null,null,null,null,null,null,null,0,0,0,null,null,null,0,{"$f":"IF(Inventory[[#This Row],[Item SKU/ID]]=\"\",0,SUMPRODUCT((Quantity_Sold_1=Inventory[[#This Row],[Item SKU/ID]])*Net_Profit))","v":0},{"$f":"IFERROR(AVERAGE(Inventory[[#This Row],[Total Net Profit]]/Inventory[[#This Row],[Quantity Sold]]),0)","v":0}]
[null,null,null,null,null,null,null,null,0,0,0,null,null,null,0,{"$f":"IF(Inventory[[#This Row],[Item SKU/ID]]=\"\",0,SUMPRODUCT((Quantity_Sold_1=Inventory[[#This Row],[Item SKU/ID]])*Net_Profit))","v":0},{"$f":"IFERROR(AVERAGE(Inventory[[#This Row],[Total Net Profit]]/Inventory[[#This Row],[Quantity Sold]]),0)","v":0}]
[null,null,null,null,null,null,null,null,0,0,0,null,null,null,0,{"$f":"IF(Inventory[[#This Row],[Item SKU/ID]]=\"\",0,SUMPRODUCT((Quantity_Sold_1=Inventory[[#This Row],[Item SKU/ID]])*Net_Profit))","v":0},{"$f":"IFERROR(AVERAGE(Inventory[[#This Row],[Total Net Profit]]/Inventory[[#This Row],[Quantity Sold]]),0)","v":0}]
[null,null,null,null,null,null,null,null,0,0,0,null,null,null,0,{"$f":"IF(Inventory[[#This Row],[Item SKU/ID]]=\"\",0,SUMPRODUCT((Quantity_Sold_1=Inventory[[#This Row],[Item SKU/ID]])*Net_Profit))","v":0},{"$f":"IFERROR(AVERAGE(Inventory[[#This Row],[Total Net Profit]]/Inventory[[#This Row],[Quantity Sold]]),0)","v":0}]
[null,null,null,null,null,null,null,null,0,0,0,null,null,null,0,{"$f":"IF(Inventory[[#This Row],[Item SKU/ID]]=\"\",0,SUMPRODUCT((Quantity_Sold_1=Inventory[[#This Row],[Item SKU/ID]])*Net_Profit))","v":0},{"$f":"IFERROR(AVERAGE(Inventory[[#This Row],[Total Net Profit]]/Inventory[[#This Row],[Quantity Sold]]),0)","v":0}]
[null,null,null,null,null,null,null,null,0,0,0,null,null,null,0,{"$f":"IF(Inventory[[#This Row],[Item SKU/ID]]=\"\",0,SUMPRODUCT((Quantity_Sold_1=Inventory[[#This Row],[Item SKU/ID]])*Net_Profit))","v":0},{"$f":"IFERROR(AVERAGE(Inventory[[#This Row],[Total Net Profit]]/Inventory[[#This Row],[Quantity Sold]]),0)","v":0}]
[null,null,null,null,null,null,null,null,0,0,0,null,null,null,0,{"$f":"IF(Inventory[[#This Row],[Item SKU/ID]]=\"\",0,SUMPRODUCT((Quantity_Sold_1=Inventory[[#This Row],[Item SKU/ID]])*Net_Profit))","v":0},{"$f":"IFERROR(AVERAGE(Inventory[[#This Row],[Total Net Profit]]/Inventory[[#This Row],[Quantity Sold]]),0)","v":0}]
[null,null,null,null,null,null,null,null,0,0,0,null,null,null,0,{"$f":"IF(Inventory[[#This Row],[Item SKU/ID]]=\"\",0,SUMPRODUCT((Quantity_Sold_1=Inventory[[#This Row],[Item SKU/ID]])*Net_Profit))","v":0},{"$f":"IFERROR(AVERAGE(Inventory[[#This Row],[Total Net Profit]]/Inventory[[#This Row],[Quantity Sold]]),0)","v":0}]
[null,null,null,null,null,null,null,null,0,0,0,null,null,null,0,{"$f":"IF(Inventory[[#This Row],[Item SKU/ID]]=\"\",0,SUMPRODUCT((Quantity_Sold_1=Inventory[[#This Row],[Item SKU/ID]])*Net_Profit))","v":0},{"$f":"IFERROR(AVERAGE(Inventory[[#This Row],[Total Net Profit]]/Inventory[[#This Row],[Quantity Sold]]),0)","v":0}]
[null,null,null,null,null,null,null,null,0,0,0,null,null,null,0,{"$f":"IF(Inventory[[#This Row],[Item SKU/ID]]=\"\",0,SUMPRODUCT((Quantity_Sold_1=Inventory[[#This Row],[Item SKU/ID]])*Net_Profit))","v":0},{"$f":"IFERROR(AVERAGE(Inventory[[#This Row],[Total Net Profit]]/Inventory[[#This Row],[Quantity Sold]]),0)","v":0}]
[null,null,null,null,null,null,null,null,0,0,0,null,null,null,0,{"$f":"IF(Inventory[[#This Row],[Item SKU/ID]]=\"\",0,SUMPRODUCT((Quantity_Sold_1=Inventory[[#This Row],[Item SKU/ID]])*Net_Profit))","v":0},{"$f":"IFERROR(AVERAGE(Inventory[[#This Row],[Total Net Profit]]/Inventory[[#This Row],[Quantity Sold]]),0)","v":0}]
[null,null,null,null,null,null,null,null,0,0,0,null,null,null,0,{"$f":"IF(Inventory[[#This Row],[Item SKU/ID]]=\"\",0,SUMPRODUCT((Quantity_Sold_1=Inventory[[#This Row],[Item SKU/ID]])*Net_Profit))","v":0},{"$f":"IFERROR(AVERAGE(Inventory[[#This Row],[Total Net Profit]]/Inventory[[#This Row],[Quantity Sold]]),0)","v":0}]
[null,null,null,null,null,null,null,null,0,0,0,null,null,null,0,{"$f":"IF(Inventory[[#This Row],[Item SKU/ID]]=\"\",0,SUMPRODUCT((Quantity_Sold_1=Inventory[[#This Row],[Item SKU/ID]])*Net_Profit))","v":0},{"$f":"IFERROR(AVERAGE(Inventory[[#This Row],[Total Net Profit]]/Inventory[[#This Row],[Quantity Sold]]),0)","v":0}]
[null,null,null,null,null,null,null,null,0,0,0,null,null,null,0,{"$f":"IF(Inventory[[#This Row],[Item SKU/ID]]=\"\",0,SUMPRODUCT((Quantity_Sold_1=Inventory[[#This Row],[Item SKU/ID]])*Net_Profit))","v":0},{"$f":"IFERROR(AVERAGE(Inventory[[#This Row],[Total Net Profit]]/Inventory[[#This Row],[Quantity Sold]]),0)","v":0}]
[null,null,null,null,null,null,null,null,0,0,0,null,null,null,0,{"$f":"IF(Inventory[[#This Row],[Item SKU/ID]]=\"\",0,SUMPRODUCT((Quantity_Sold_1=Inventory[[#This Row],[Item SKU/ID]])*Net_Profit))","v":0},{"$f":"IFERROR(AVERAGE(Inventory[[#This Row],[Total Net Profit]]/Inventory[[#This Row],[Quantity Sold]]),0)","v":0}]
[null,null,null,null,null,null,null,null,0,0,0,null,null,null,0,{"$f":"IF(Inventory[[#This Row],[Item SKU/ID]]=\"\",0,SUMPRODUCT((Quantity_Sold_1=Inventory[[#This Row],[Item SKU/ID]])*Net_Profit))","v":0},{"$f":"IFERROR(AVERAGE(Inventory[[#This Row],[Total Net Profit]]/Inventory[[#This Row],[Quantity Sold]]),0)","v":0}]
[null,null,null,null,null,null,null,null,0,0,0,null,null,null,0,{"$f":"IF(Inventory[[#This Row],[Item SKU/ID]]=\"\",0,SUMPRODUCT((Quantity_Sold_1=Inventory[[#This Row],[Item SKU/ID]])*Net_Profit))","v":0},{"$f":"IFERROR(AVERAGE(Inventory[[#This Row],[Total Net Profit]]/Inventory[[#This Row],[Quantity Sold]]),0)","v":0}]
[null,null,null,null,null,null,null,null,0,0,0,null,null,null,0,{"$f":"IF(Inventory[[#This Row],[Item SKU/ID]]=\"\",0,SUMPRODUCT((Quantity_Sold_1=Inventory[[#This Row],[Item SKU/ID]])*Net_Profit))","v":0},{"$f":"IFERROR(AVERAGE(Inventory[[#This Row],[Total Net Profit]]/Inventory[[#This Row],[Quantity Sold]]),0)","v":0}]
[null,null,null,null,null,null,null,null,0,0,0,null,null,null,0,{"$f":"IF(Inventory[[#This Row],[Item SKU/ID]]=\"\",0,SUMPRODUCT((Quantity_Sold_1=Inventory[[#This Row],[Item SKU/ID]])*Net_Profit))","v":0},{"$f":"IFERROR(AVERAGE(Inventory[[#This Row],[Total Net Profit]]/Inventory[[#This Row],[Quantity Sold]]),0)","v":0}]
[null,null,null,null,null,null,null,null,0,0,0,null,null,null,0,{"$f":"IF(Inventory[[#This Row],[Item SKU/ID]]=\"\",0,SUMPRODUCT((Quantity_Sold_1=Inventory[[#This Row],[Item SKU/ID]])*Net_Profit))","v":0},{"$f":"IFERROR(AVERAGE(Inventory[[#This Row],[Total Net Profit]]/Inventory[[#This Row],[Quantity Sold]]),0)","v":0}]
[null,null,null,null,null,null,null,null,0,0,0,null,null,null,0,{"$f":"IF(Inventory[[#This Row],[Item SKU/ID]]=\"\",0,SUMPRODUCT((Quantity_Sold_1=Inventory[[#This Row],[Item SKU/ID]])*Net_Profit))","v":0},{"$f":"IFERROR(AVERAGE(Inventory[[#This Row],[Total Net Profit]]/Inventory[[#This Row],[Quantity Sold]]),0)","v":0}]
[null,null,null,null,null,null,null,null,0,0,0,null,null,null,0,{"$f":"IF(Inventory[[#This Row],[Item SKU/ID]]=\"\",0,SUMPRODUCT((Quantity_Sold_1=Inventory[[#This Row],[Item SKU/ID]])*Net_Profit))","v":0},{"$f":"IFERROR(AVERAGE(Inventory[[#This Row],[Total Net Profit]]/Inventory[[#This Row],[Quantity Sold]]),0)","v":0}]
[null,null,null,null,null,null,null,null,0,0,0,null,null,null,0,{"$f":"IF(Inventory[[#This Row],[Item SKU/ID]]=\"\",0,SUMPRODUCT((Quantity_Sold_1=Inventory[[#This Row],[Item SKU/ID]])*Net_Profit))","v":0},{"$f":"IFERROR(AVERAGE(Inventory[[#This Row],[Total Net Profit]]/Inventory[[#This Row],[Quantity Sold]]),0)","v":0}]
[null,null,null,null,null,null,null,null,0,0,0,null,null,null,0,{"$f":"IF(Inventory[[#This Row],[Item SKU/ID]]=\"\",0,SUMPRODUCT((Quantity_Sold_1=Inventory[[#This Row],[Item SKU/ID]])*Net_Profit))","v":0},{"$f":"IFERROR(AVERAGE(Inventory[[#This Row],[Total Net Profit]]/Inventory[[#This Row],[Quantity Sold]]),0)","v":0}]
[null,null,null,null,null,null,null,null,0,0,0,null,null,null,0,{"$f":"IF(Inventory[[#This Row],[Item SKU/ID]]=\"\",0,SUMPRODUCT((Quantity_Sold_1=Inventory[[#This Row],[Item SKU/ID]])*Net_Profit))","v":0},{"$f":"IFERROR(AVERAGE(Inventory[[#This Row],[Total Net Profit]]/Inventory[[#This Row],[Quantity Sold]]),0)","v":0}]
[null,null,null,null,null,null,null,null,0,0,0,null,null,null,0,{"$f":"IF(Inventory[[#This Row],[Item SKU/ID]]=\"\",0,SUMPRODUCT((Quantity_Sold_1=Inventory[[#This Row],[Item SKU/ID]])*Net_Profit))","v":0},{"$f":"IFERROR(AVERAGE(Inventory[[#This Row],[Total Net Profit]]/Inventory[[#This Row],[Quantity Sold]]),0)","v":0}]
[null,null,null,null,null,null,null,null,0,0,0,null,null,null,0,{"$f":"IF(Inventory[[#This Row],[Item SKU/ID]]=\"\",0,SUMPRODUCT((Quantity_Sold_1=Inventory[[#This Row],[Item SKU/ID]])*Net_Profit))","v":0},{"$f":"IFERROR(AVERAGE(Inventory[[#This Row],[Total Net Profit]]/Inventory[[#This Row],[Quantity Sold]]),0)","v":0}]
[null,null,null,null,null,null,null,null,0,0,0,null,null,null,0,{"$f":"IF(Inventory[[#This Row],[Item SKU/ID]]=\"\",0,SUMPRODUCT((Quantity_Sold_1=Inventory[[#This Row],[Item SKU/ID]])*Net_Profit))","v":0},{"$f":"IFERROR(AVERAGE(Inventory[[#This Row],[Total Net Profit]]/Inventory[[#This Row],[Quantity Sold]]),0)","v":0}]
[null,null,null,null,null,null,null,null,0,0,0,null,null,null,0,{"$f":"IF(Inventory[[#This Row],[Item SKU/ID]]=\"\",0,SUMPRODUCT((Quantity_Sold_1=Inventory[[#This Row],[Item SKU/ID]])*Net_Profit))","v":0},{"$f":"IFERROR(AVERAGE(Inventory[[#This Row],[Total Net Profit]]/Inventory[[#This Row],[Quantity Sold]]),0)","v":0}]
[null,null,null,null,null,null,null,null,0,0,0,null,null,null,0,{"$f":"IF(Inventory[[#This Row],[Item SKU/ID]]=\"\",0,SUMPRODUCT((Quantity_Sold_1=Inventory[[#This Row],[Item SKU/ID]])*Net_Profit))","v":0},{"$f":"IFERROR(AVERAGE(Inventory[[#This Row],[Total Net Profit]]/Inventory[[#This Row],[Quantity Sold]]),0)","v":0}]
[null,null,null,null,null,null,null,null,0,0,0,null,null,null,0,{"$f":"IF(Inventory[[#This Row],[Item SKU/ID]]=\"\",0,SUMPRODUCT((Quantity_Sold_1=Inventory[[#This Row],[Item SKU/ID]])*Net_Profit))","v":0},{"$f":"IFERROR(AVERAGE(Inventory[[#This Row],[Total Net Profit]]/Inventory[[#This Row],[Quantity Sold]]),0)","v":0}]
[null,null,null,null,null,null,null,null,0,0,0,null,null,null,0,{"$f":"IF(Inventory[[#This Row],[Item SKU/ID]]=\"\",0,SUMPRODUCT((Quantity_Sold_1=Inventory[[#This Row],[Item SKU/ID]])*Net_Profit))","v":0},{"$f":"IFERROR(AVERAGE(Inventory[[#This Row],[Total Net Profit]]/Inventory[[#This Row],[Quantity Sold]]),0)","v":0}]
[null,null,null,null,null,null,null,null,0,0,0,null,null,null,0,{"$f":"IF(Inventory[[#This Row],[Item SKU/ID]]=\"\",0,SUMPRODUCT((Quantity_Sold_1=Inventory[[#This Row],[Item SKU/ID]])*Net_Profit))","v":0},{"$f":"IFERROR(AVERAGE(Inventory[[#This Row],[Total Net Profit]]/Inventory[[#This Row],[Quantity Sold]]),0)","v":0}]
[null,null,null,null,null,null,null,null,0,0,0,null,null,null,0,{"$f":"IF(Inventory[[#This Row],[Item SKU/ID]]=\"\",0,SUMPRODUCT((Quantity_Sold_1=Inventory[[#This Row],[Item SKU/ID]])*Net_Profit))","v":0},{"$f":"IFERROR(AVERAGE(Inventory[[#This Row],[Total Net Profit]]/Inventory[[#This Row],[Quantity Sold]]),0)","v":0}]
[null,null,null,null,null,null,null,null,0,0,0,null,null,null,0,{"$f":"IF(Inventory[[#This Row],[Item SKU/ID]]=\"\",0,SUMPRODUCT((Quantity_Sold_1=Inventory[[#This Row],[Item SKU/ID]])*Net_Profit))","v":0},{"$f":"IFERROR(AVERAGE(Inventory[[#This Row],[Total Net Profit]]/Inventory[[#This Row],[Quantity Sold]]),0)","v":0}]
[null,null,null,null,null,null,null,null,0,0,0,null,null,null,0,{"$f":"IF(Inventory[[#This Row],[Item SKU/ID]]=\"\",0,SUMPRODUCT((Quantity_Sold_1=Inventory[[#This Row],[Item SKU/ID]])*Net_Profit))","v":0},{"$f":"IFERROR(AVERAGE(Inventory[[#This Row],[Total Net Profit]]/Inventory[[#This Row],[Quantity Sold]]),0)","v":0}]
[null,null,null,null,null,null,null,null,0,0,0,null,null,null,0,{"$f":"IF(Inventory[[#This Row],[Item SKU/ID]]=\"\",0,SUMPRODUCT((Quantity_Sold_1=Inventory[[#This Row],[Item SKU/ID]])*Net_Profit))","v":0},{"$f":"IFERROR(AVERAGE(Inventory[[#This Row],[Total Net Profit]]/Inventory[[#This Row],[Quantity Sold]]),0)","v":0}]
[null,null,null,null,null,null,null,null,0,0,0,null,null,null,0,{"$f":"IF(Inventory[[#This Row],[Item SKU/ID]]=\"\",0,SUMPRODUCT((Quantity_Sold_1=Inventory[[#This Row],[Item SKU/ID]])*Net_Profit))","v":0},{"$f":"IFERROR(AVERAGE(Inventory[[#This Row],[Total Net Profit]]/Inventory[[#This Row],[Quantity Sold]]),0)","v":0}]
[null,null,null,null,null,null,null,null,0,0,0,null,null,null,0,{"$f":"IF(Inventory[[#This Row],[Item SKU/ID]]=\"\",0,SUMPRODUCT((Quantity_Sold_1=Inventory[[#This Row],[Item SKU/ID]])*Net_Profit))","v":0},{"$f":"IFERROR(AVERAGE(Inventory[[#This Row],[Total Net Profit]]/Inventory[[#This Row],[Quantity Sold]]),0)","v":0}]
[null,null,null,null,null,null,null,null,0,0,0,null,null,null,0,{"$f":"IF(Inventory[[#This Row],[Item SKU/ID]]=\"\",0,SUMPRODUCT((Quantity_Sold_1=Inventory[[#This Row],[Item SKU/ID]])*Net_Profit))","v":0},{"$f":"IFERROR(AVERAGE(Inventory[[#This Row],[Total Net Profit]]/Inventory[[#This Row],[Quantity Sold]]),0)","v":0}]
[null,null,null,null,null,null,null,null,0,0,0,null,null,null,0,{"$f":"IF(Inventory[[#This Row],[Item SKU/ID]]=\"\",0,SUMPRODUCT((Quantity_Sold_1=Inventory[[#This Row],[Item SKU/ID]])*Net_Profit))","v":0},{"$f":"IFERROR(AVERAGE(Inventory[[#This Row],[Total Net Profit]]/Inventory[[#This Row],[Quantity Sold]]),0)","v":0}]
[null,null,null,null,null,null,null,null,0,0,0,null,null,null,0,{"$f":"IF(Inventory[[#This Row],[Item SKU/ID]]=\"\",0,SUMPRODUCT((Quantity_Sold_1=Inventory[[#This Row],[Item SKU/ID]])*Net_Profit))","v":0},{"$f":"IFERROR(AVERAGE(Inventory[[#This Row],[Total Net Profit]]/Inventory[[#This Row],[Quantity Sold]]),0)","v":0}]
[null,null,null,null,null,null,null,null,0,0,0,null,null,null,0,{"$f":"IF(Inventory[[#This Row],[Item SKU/ID]]=\"\",0,SUMPRODUCT((Quantity_Sold_1=Inventory[[#This Row],[Item SKU/ID]])*Net_Profit))","v":0},{"$f":"IFERROR(AVERAGE(Inventory[[#This Row],[Total Net Profit]]/Inventory[[#This Row],[Quantity Sold]]),0)","v":0}]
[null,null,null,null,null,null,null,null,0,0,0,null,null,null,0,{"$f":"IF(Inventory[[#This Row],[Item SKU/ID]]=\"\",0,SUMPRODUCT((Quantity_Sold_1=Inventory[[#This Row],[Item SKU/ID]])*Net_Profit))","v":0},{"$f":"IFERROR(AVERAGE(Inventory[[#This Row],[Total Net Profit]]/Inventory[[#This Row],[Quantity Sold]]),0)","v":0}]
[null,null,null,null,null,null,null,null,0,0,0,null,null,null,0,{"$f":"IF(Inventory[[#This Row],[Item SKU/ID]]=\"\",0,SUMPRODUCT((Quantity_Sold_1=Inventory[[#This Row],[Item SKU/ID]])*Net_Profit))","v":0},{"$f":"IFERROR(AVERAGE(Inventory[[#This Row],[Total Net Profit]]/Inventory[[#This Row],[Quantity Sold]]),0)","v":0}]
[null,null,null,null,null,null,null,null,0,0,0,null,null,null,0,{"$f":"IF(Inventory[[#This Row],[Item SKU/ID]]=\"\",0,SUMPRODUCT((Quantity_Sold_1=Inventory[[#This Row],[Item SKU/ID]])*Net_Profit))","v":0},{"$f":"IFERROR(AVERAGE(Inventory[[#This Row],[Total Net Profit]]/Inventory[[#This Row],[Quantity Sold]]),0)","v":0}]
[null,null,null,null,null,null,null,null,0,0,0,null,null,null,0,{"$f":"IF(Inventory[[#This Row],[Item SKU/ID]]=\"\",0,SUMPRODUCT((Quantity_Sold_1=Inventory[[#This Row],[Item SKU/ID]])*Net_Profit))","v":0},{"$f":"IFERROR(AVERAGE(Inventory[[#This Row],[Total Net Profit]]/Inventory[[#This Row],[Quantity Sold]]),0)","v":0}]
[null,null,null,null,null,null,null,null,0,0,0,null,null,null,0,{"$f":"IF(Inventory[[#This Row],[Item SKU/ID]]=\"\",0,SUMPRODUCT((Quantity_Sold_1=Inventory[[#This Row],[Item SKU/ID]])*Net_Profit))","v":0},{"$f":"IFERROR(AVERAGE(Inventory[[#This Row],[Total Net Profit]]/Inventory[[#This Row],[Quantity Sold]]),0)","v":0}]
[null,null,null,null,null,null,null,null,0,0,0,null,null,null,0,{"$f":"IF(Inventory[[#This Row],[Item SKU/ID]]=\"\",0,SUMPRODUCT((Quantity_Sold_1=Inventory[[#This Row],[Item SKU/ID]])*Net_Profit))","v":0},{"$f":"IFERROR(AVERAGE(Inventory[[#This Row],[Total Net Profit]]/Inventory[[#This Row],[Quantity Sold]]),0)","v":0}]
[null,null,null,null,null,null,null,null,0,0,0,null,null,null,0,{"$f":"IF(Inventory[[#This Row],[Item SKU/ID]]=\"\",0,SUMPRODUCT((Quantity_Sold_1=Inventory[[#This Row],[Item SKU/ID]])*Net_Profit))","v":0},{"$f":"IFERROR(AVERAGE(Inventory[[#This Row],[Total Net Profit]]/Inventory[[#This Row],[Quantity Sold]]),0)","v":0}]
[null,null,null,null,null,null,null,null,0,0,0,null,null,null,0,{"$f":"IF(Inventory[[#This Row],[Item SKU/ID]]=\"\",0,SUMPRODUCT((Quantity_Sold_1=Inventory[[#This Row],[Item SKU/ID]])*Net_Profit))","v":0},{"$f":"IFERROR(AVERAGE(Inventory[[#This Row],[Total Net Profit]]/Inventory[[#This Row],[Quantity Sold]]),0)","v":0}]
[null,null,null,null,null,null,null,null,0,0,0,null,null,null,0,{"$f":"IF(Inventory[[#This Row],[Item SKU/ID]]=\"\",0,SUMPRODUCT((Quantity_Sold_1=Inventory[[#This Row],[Item SKU/ID]])*Net_Profit))","v":0},{"$f":"IFERROR(AVERAGE(Inventory[[#This Row],[Total Net Profit]]/Inventory[[#This Row],[Quantity Sold]]),0)","v":0}]
[null,null,null,null,null,null,null,null,0,0,0,null,null,null,0,{"$f":"IF(Inventory[[#This Row],[Item SKU/ID]]=\"\",0,SUMPRODUCT((Quantity_Sold_1=Inventory[[#This Row],[Item SKU/ID]])*Net_Profit))","v":0},{"$f":"IFERROR(AVERAGE(Inventory[[#This Row],[Total Net Profit]]/Inventory[[#This Row],[Quantity Sold]]),0)","v":0}]
[null,null,null,null,null,null,null,null,0,0,0,null,null,null,0,{"$f":"IF(Inventory[[#This Row],[Item SKU/ID]]=\"\",0,SUMPRODUCT((Quantity_Sold_1=Inventory[[#This Row],[Item SKU/ID]])*Net_Profit))","v":0},{"$f":"IFERROR(AVERAGE(Inventory[[#This Row],[Total Net Profit]]/Inventory[[#This Row],[Quantity Sold]]),0)","v":0}]
[null,null,null,null,null,null,null,null,0,0,0,null,null,null,0,{"$f":"IF(Inventory[[#This Row],[Item SKU/ID]]=\"\",0,SUMPRODUCT((Quantity_Sold_1=Inventory[[#This Row],[Item SKU/ID]])*Net_Profit))","v":0},{"$f":"IFERROR(AVERAGE(Inventory[[#This Row],[Total Net Profit]]/Inventory[[#This Row],[Quantity Sold]]),0)","v":0}]
[null,null,null,null,null,null,null,null,0,0,0,null,null,null,0,{"$f":"IF(Inventory[[#This Row],[Item SKU/ID]]=\"\",0,SUMPRODUCT((Quantity_Sold_1=Inventory[[#This Row],[Item SKU/ID]])*Net_Profit))","v":0},{"$f":"IFERROR(AVERAGE(Inventory[[#This Row],[Total Net Profit]]/Inventory[[#This Row],[Quantity Sold]]),0)","v":0}]
[null,null,null,null,null,null,null,null,0,0,0,null,null,null,0,{"$f":"IF(Inventory[[#This Row],[Item SKU/ID]]=\"\",0,SUMPRODUCT((Quantity_Sold_1=Inventory[[#This Row],[Item SKU/ID]])*Net_Profit))","v":0},{"$f":"IFERROR(AVERAGE(Inventory[[#This Row],[Total Net Profit]]/Inventory[[#This Row],[Quantity Sold]]),0)","v":0}]
[null,null,null,null,null,null,null,null,0,0,0,null,null,null,0,{"$f":"IF(Inventory[[#This Row],[Item SKU/ID]]=\"\",0,SUMPRODUCT((Quantity_Sold_1=Inventory[[#This Row],[Item SKU/ID]])*Net_Profit))","v":0},{"$f":"IFERROR(AVERAGE(Inventory[[#This Row],[Total Net Profit]]/Inventory[[#This Row],[Quantity Sold]]),0)","v":0}]
[null,null,null,null,null,null,null,null,0,0,0,null,null,null,0,{"$f":"IF(Inventory[[#This Row],[Item SKU/ID]]=\"\",0,SUMPRODUCT((Quantity_Sold_1=Inventory[[#This Row],[Item SKU/ID]])*Net_Profit))","v":0},{"$f":"IFERROR(AVERAGE(Inventory[[#This Row],[Total Net Profit]]/Inventory[[#This Row],[Quantity Sold]]),0)","v":0}]
[null,null,null,null,null,null,null,null,{"$f":"K2820*H2820","v":0},{"$f":"IF(F2820=\"\",0,SUMPRODUCT((Quantity_Sold_1=F2820)*Quantity_Sold_2))","v":0},{"$f":"G2820-J2820","v":0},null,null,null,{"$f":"K2820*H2820","v":0},{"$f":"IF(Inventory[[#This Row],[Item SKU/ID]]=\"\",0,SUMPRODUCT((Quantity_Sold_1=Inventory[[#This Row],[Item SKU/ID]])*Net_Profit))","v":0},{"$f":"IFERROR(AVERAGE(Inventory[[#This Row],[Total Net Profit]]/Inventory[[#This Row],[Quantity Sold]]),0)","v":0}]
[null,null,null,null,null,null,null,null,0,0,0,null,null,null,0,{"$f":"IF(Inventory[[#This Row],[Item SKU/ID]]=\"\",0,SUMPRODUCT((Quantity_Sold_1=Inventory[[#This Row],[Item SKU/ID]])*Net_Profit))","v":0},{"$f":"IFERROR(AVERAGE(Inventory[[#This Row],[Total Net Profit]]/Inventory[[#This Row],[Quantity Sold]]),0)","v":0}]
[null,null,null,null,null,null,null,null,0,0,0,null,null,null,0,{"$f":"IF(Inventory[[#This Row],[Item SKU/ID]]=\"\",0,SUMPRODUCT((Quantity_Sold_1=Inventory[[#This Row],[Item SKU/ID]])*Net_Profit))","v":0},{"$f":"IFERROR(AVERAGE(Inventory[[#This Row],[Total Net Profit]]/Inventory[[#This Row],[Quantity Sold]]),0)","v":0}]
[null,null,null,null,null,null,null,null,0,0,0,null,null,null,0,{"$f":"IF(Inventory[[#This Row],[Item SKU/ID]]=\"\",0,SUMPRODUCT((Quantity_Sold_1=Inventory[[#This Row],[Item SKU/ID]])*Net_Profit))","v":0},{"$f":"IFERROR(AVERAGE(Inventory[[#This Row],[Total Net Profit]]/Inventory[[#This Row],[Quantity Sold]]),0)","v":0}]
[null,null,null,null,null,null,null,null,0,0,0,null,null,null,0,{"$f":"IF(Inventory[[#This Row],[Item SKU/ID]]=\"\",0,SUMPRODUCT((Quantity_Sold_1=Inventory[[#This Row],[Item SKU/ID]])*Net_Profit))","v":0},{"$f":"IFERROR(AVERAGE(Inventory[[#This Row],[Total Net Profit]]/Inventory[[#This Row],[Quantity Sold]]),0)","v":0}]
[null,null,null,null,null,null,null,null,0,0,0,null,null,null,0,{"$f":"IF(Inventory[[#This Row],[Item SKU/ID]]=\"\",0,SUMPRODUCT((Quantity_Sold_1=Inventory[[#This Row],[Item SKU/ID]])*Net_Profit))","v":0},{"$f":"IFERROR(AVERAGE(Inventory[[#This Row],[Total Net Profit]]/Inventory[[#This Row],[Quantity Sold]]),0)","v":0}]
[null,null,null,null,null,null,null,null,0,0,0,null,null,null,0,{"$f":"IF(Inventory[[#This Row],[Item SKU/ID]]=\"\",0,SUMPRODUCT((Quantity_Sold_1=Inventory[[#This Row],[Item SKU/ID]])*Net_Profit))","v":0},{"$f":"IFERROR(AVERAGE(Inventory[[#This Row],[Total Net Profit]]/Inventory[[#This Row],[Quantity Sold]]),0)","v":0}]
[null,null,null,null,null,null,null,null,0,0,0,null,null,null,0,{"$f":"IF(Inventory[[#This Row],[Item SKU/ID]]=\"\",0,SUMPRODUCT((Quantity_Sold_1=Inventory[[#This Row],[Item SKU/ID]])*Net_Profit))","v":0},{"$f":"IFERROR(AVERAGE(Inventory[[#This Row],[Total Net Profit]]/Inventory[[#This Row],[Quantity Sold]]),0)","v":0}]
[null,null,null,null,null,null,null,null,0,0,0,null,null,null,0,{"$f":"IF(Inventory[[#This Row],[Item SKU/ID]]=\"\",0,SUMPRODUCT((Quantity_Sold_1=Inventory[[#This Row],[Item SKU/ID]])*Net_Profit))","v":0},{"$f":"IFERROR(AVERAGE(Inventory[[#This Row],[Total Net Profit]]/Inventory[[#This Row],[Quantity Sold]]),0)","v":0}]
[null,null,null,null,null,null,null,null,0,0,0,null,null,null,0,{"$f":"IF(Inventory[[#This Row],[Item SKU/ID]]=\"\",0,SUMPRODUCT((Quantity_Sold_1=Inventory[[#This Row],[Item SKU/ID]])*Net_Profit))","v":0},{"$f":"IFERROR(AVERAGE(Inventory[[#This Row],[Total Net Profit]]/Inventory[[#This Row],[Quantity Sold]]),0)","v":0}]
[null,null,null,null,null,null,null,null,0,0,0,null,null,null,0,{"$f":"IF(Inventory[[#This Row],[Item SKU/ID]]=\"\",0,SUMPRODUCT((Quantity_Sold_1=Inventory[[#This Row],[Item SKU/ID]])*Net_Profit))","v":0},{"$f":"IFERROR(AVERAGE(Inventory[[#This Row],[Total Net Profit]]/Inventory[[#This Row],[Quantity Sold]]),0)","v":0}]
[null,null,null,null,null,null,null,null,0,0,0,null,null,null,0,{"$f":"IF(Inventory[[#This Row],[Item SKU/ID]]=\"\",0,SUMPRODUCT((Quantity_Sold_1=Inventory[[#This Row],[Item SKU/ID]])*Net_Profit))","v":0},{"$f":"IFERROR(AVERAGE(Inventory[[#This Row],[Total Net Profit]]/Inventory[[#This Row],[Quantity Sold]]),0)","v":0}]
[null,null,null,null,null,null,null,null,0,0,0,null,null,null,0,{"$f":"IF(Inventory[[#This Row],[Item SKU/ID]]=\"\",0,SUMPRODUCT((Quantity_Sold_1=Inventory[[#This Row],[Item SKU/ID]])*Net_Profit))","v":0},{"$f":"IFERROR(AVERAGE(Inventory[[#This Row],[Total Net Profit]]/Inventory[[#This Row],[Quantity Sold]]),0)","v":0}]
[null,null,null,null,null,null,null,null,0,0,0,null,null,null,0,{"$f":"IF(Inventory[[#This Row],[Item SKU/ID]]=\"\",0,SUMPRODUCT((Quantity_Sold_1=Inventory[[#This Row],[Item SKU/ID]])*Net_Profit))","v":0},{"$f":"IFERROR(AVERAGE(Inventory[[#This Row],[Total Net Profit]]/Inventory[[#This Row],[Quantity Sold]]),0)","v":0}]
[null,null,null,null,null,null,null,null,0,0,0,null,null,null,0,{"$f":"IF(Inventory[[#This Row],[Item SKU/ID]]=\"\",0,SUMPRODUCT((Quantity_Sold_1=Inventory[[#This Row],[Item SKU/ID]])*Net_Profit))","v":0},{"$f":"IFERROR(AVERAGE(Inventory[[#This Row],[Total Net Profit]]/Inventory[[#This Row],[Quantity Sold]]),0)","v":0}]
[null,null,null,null,null,null,null,null,0,0,0,null,null,null,0,{"$f":"IF(Inventory[[#This Row],[Item SKU/ID]]=\"\",0,SUMPRODUCT((Quantity_Sold_1=Inventory[[#This Row],[Item SKU/ID]])*Net_Profit))","v":0},{"$f":"IFERROR(AVERAGE(Inventory[[#This Row],[Total Net Profit]]/Inventory[[#This Row],[Quantity Sold]]),0)","v":0}]
[null,null,null,null,null,null,null,null,0,0,0,null,null,null,0,{"$f":"IF(Inventory[[#This Row],[Item SKU/ID]]=\"\",0,SUMPRODUCT((Quantity_Sold_1=Inventory[[#This Row],[Item SKU/ID]])*Net_Profit))","v":0},{"$f":"IFERROR(AVERAGE(Inventory[[#This Row],[Total Net Profit]]/Inventory[[#This Row],[Quantity Sold]]),0)","v":0}]
[null,null,null,null,null,null,null,null,0,0,0,null,null,null,0,{"$f":"IF(Inventory[[#This Row],[Item SKU/ID]]=\"\",0,SUMPRODUCT((Quantity_Sold_1=Inventory[[#This Row],[Item SKU/ID]])*Net_Profit))","v":0},{"$f":"IFERROR(AVERAGE(Inventory[[#This Row],[Total Net Profit]]/Inventory[[#This Row],[Quantity Sold]]),0)","v":0}]
[null,null,null,null,null,null,null,null,0,0,0,null,null,null,0,{"$f":"IF(Inventory[[#This Row],[Item SKU/ID]]=\"\",0,SUMPRODUCT((Quantity_Sold_1=Inventory[[#This Row],[Item SKU/ID]])*Net_Profit))","v":0},{"$f":"IFERROR(AVERAGE(Inventory[[#This Row],[Total Net Profit]]/Inventory[[#This Row],[Quantity Sold]]),0)","v":0}]
[null,null,null,null,null,null,null,null,0,0,0,null,null,null,0,{"$f":"IF(Inventory[[#This Row],[Item SKU/ID]]=\"\",0,SUMPRODUCT((Quantity_Sold_1=Inventory[[#This Row],[Item SKU/ID]])*Net_Profit))","v":0},{"$f":"IFERROR(AVERAGE(Inventory[[#This Row],[Total Net Profit]]/Inventory[[#This Row],[Quantity Sold]]),0)","v":0}]
[null,null,null,null,null,null,null,null,0,0,0,null,null,null,0,{"$f":"IF(Inventory[[#This Row],[Item SKU/ID]]=\"\",0,SUMPRODUCT((Quantity_Sold_1=Inventory[[#This Row],[Item SKU/ID]])*Net_Profit))","v":0},{"$f":"IFERROR(AVERAGE(Inventory[[#This Row],[Total Net Profit]]/Inventory[[#This Row],[Quantity Sold]]),0)","v":0}]
[null,null,null,null,null,null,null,null,0,0,0,null,null,null,0,{"$f":"IF(Inventory[[#This Row],[Item SKU/ID]]=\"\",0,SUMPRODUCT((Quantity_Sold_1=Inventory[[#This Row],[Item SKU/ID]])*Net_Profit))","v":0},{"$f":"IFERROR(AVERAGE(Inventory[[#This Row],[Total Net Profit]]/Inventory[[#This Row],[Quantity Sold]]),0)","v":0}]
[null,null,null,null,null,null,null,null,0,0,0,null,null,null,0,{"$f":"IF(Inventory[[#This Row],[Item SKU/ID]]=\"\",0,SUMPRODUCT((Quantity_Sold_1=Inventory[[#This Row],[Item SKU/ID]])*Net_Profit))","v":0},{"$f":"IFERROR(AVERAGE(Inventory[[#This Row],[Total Net Profit]]/Inventory[[#This Row],[Quantity Sold]]),0)","v":0}]
[null,null,null,null,null,null,null,null,0,0,0,null,null,null,0,{"$f":"IF(Inventory[[#This Row],[Item SKU/ID]]=\"\",0,SUMPRODUCT((Quantity_Sold_1=Inventory[[#This Row],[Item SKU/ID]])*Net_Profit))","v":0},{"$f":"IFERROR(AVERAGE(Inventory[[#This Row],[Total Net Profit]]/Inventory[[#This Row],[Quantity Sold]]),0)","v":0}]
[null,null,null,null,null,null,null,null,0,0,0,null,null,null,0,{"$f":"IF(Inventory[[#This Row],[Item SKU/ID]]=\"\",0,SUMPRODUCT((Quantity_Sold_1=Inventory[[#This Row],[Item SKU/ID]])*Net_Profit))","v":0},{"$f":"IFERROR(AVERAGE(Inventory[[#This Row],[Total Net Profit]]/Inventory[[#This Row],[Quantity Sold]]),0)","v":0}]
[null,null,null,null,null,null,null,null,0,0,0,null,null,null,0,{"$f":"IF(Inventory[[#This Row],[Item SKU/ID]]=\"\",0,SUMPRODUCT((Quantity_Sold_1=Inventory[[#This Row],[Item SKU/ID]])*Net_Profit))","v":0},{"$f":"IFERROR(AVERAGE(Inventory[[#This Row],[Total Net Profit]]/Inventory[[#This Row],[Quantity Sold]]),0)","v":0}]
[null,null,null,null,null,null,null,null,0,0,0,null,null,null,0,{"$f":"IF(Inventory[[#This Row],[Item SKU/ID]]=\"\",0,SUMPRODUCT((Quantity_Sold_1=Inventory[[#This Row],[Item SKU/ID]])*Net_Profit))","v":0},{"$f":"IFERROR(AVERAGE(Inventory[[#This Row],[Total Net Profit]]/Inventory[[#This Row],[Quantity Sold]]),0)","v":0}]
[null,null,null,null,null,null,null,null,0,0,0,null,null,null,0,{"$f":"IF(Inventory[[#This Row],[Item SKU/ID]]=\"\",0,SUMPRODUCT((Quantity_Sold_1=Inventory[[#This Row],[Item SKU/ID]])*Net_Profit))","v":0},{"$f":"IFERROR(AVERAGE(Inventory[[#This Row],[Total Net Profit]]/Inventory[[#This Row],[Quantity Sold]]),0)","v":0}]
[null,null,null,null,null,null,null,null,0,0,0,null,null,null,0,{"$f":"IF(Inventory[[#This Row],[Item SKU/ID]]=\"\",0,SUMPRODUCT((Quantity_Sold_1=Inventory[[#This Row],[Item SKU/ID]])*Net_Profit))","v":0},{"$f":"IFERROR(AVERAGE(Inventory[[#This Row],[Total Net Profit]]/Inventory[[#This Row],[Quantity Sold]]),0)","v":0}]
[null,null,null,null,null,null,null,null,0,0,0,null,null,null,0,{"$f":"IF(Inventory[[#This Row],[Item SKU/ID]]=\"\",0,SUMPRODUCT((Quantity_Sold_1=Inventory[[#This Row],[Item SKU/ID]])*Net_Profit))","v":0},{"$f":"IFERROR(AVERAGE(Inventory[[#This Row],[Total Net Profit]]/Inventory[[#This Row],[Quantity Sold]]),0)","v":0}]
[null,null,null,null,null,null,null,null,0,0,0,null,null,null,0,{"$f":"IF(Inventory[[#This Row],[Item SKU/ID]]=\"\",0,SUMPRODUCT((Quantity_Sold_1=Inventory[[#This Row],[Item SKU/ID]])*Net_Profit))","v":0},{"$f":"IFERROR(AVERAGE(Inventory[[#This Row],[Total Net Profit]]/Inventory[[#This Row],[Quantity Sold]]),0)","v":0}]
[null,null,null,null,null,null,null,null,0,0,0,null,null,null,0,{"$f":"IF(Inventory[[#This Row],[Item SKU/ID]]=\"\",0,SUMPRODUCT((Quantity_Sold_1=Inventory[[#This Row],[Item SKU/ID]])*Net_Profit))","v":0},{"$f":"IFERROR(AVERAGE(Inventory[[#This Row],[Total Net Profit]]/Inventory[[#This Row],[Quantity Sold]]),0)","v":0}]
[null,null,null,null,null,null,null,null,0,0,0,null,null,null,0,{"$f":"IF(Inventory[[#This Row],[Item SKU/ID]]=\"\",0,SUMPRODUCT((Quantity_Sold_1=Inventory[[#This Row],[Item SKU/ID]])*Net_Profit))","v":0},{"$f":"IFERROR(AVERAGE(Inventory[[#This Row],[Total Net Profit]]/Inventory[[#This Row],[Quantity Sold]]),0)","v":0}]
[null,null,null,null,null,null,null,null,0,0,0,null,null,null,0,{"$f":"IF(Inventory[[#This Row],[Item SKU/ID]]=\"\",0,SUMPRODUCT((Quantity_Sold_1=Inventory[[#This Row],[Item SKU/ID]])*Net_Profit))","v":0},{"$f":"IFERROR(AVERAGE(Inventory[[#This Row],[Total Net Profit]]/Inventory[[#This Row],[Quantity Sold]]),0)","v":0}]
[null,null,null,null,null,null,null,null,0,0,0,null,null,null,0,{"$f":"IF(Inventory[[#This Row],[Item SKU/ID]]=\"\",0,SUMPRODUCT((Quantity_Sold_1=Inventory[[#This Row],[Item SKU/ID]])*Net_Profit))","v":0},{"$f":"IFERROR(AVERAGE(Inventory[[#This Row],[Total Net Profit]]/Inventory[[#This Row],[Quantity Sold]]),0)","v":0}]
[null,null,null,null,null,null,null,null,0,0,0,null,null,null,0,{"$f":"IF(Inventory[[#This Row],[Item SKU/ID]]=\"\",0,SUMPRODUCT((Quantity_Sold_1=Inventory[[#This Row],[Item SKU/ID]])*Net_Profit))","v":0},{"$f":"IFERROR(AVERAGE(Inventory[[#This Row],[Total Net Profit]]/Inventory[[#This Row],[Quantity Sold]]),0)","v":0}]
[null,null,null,null,null,null,null,null,0,0,0,null,null,null,0,{"$f":"IF(Inventory[[#This Row],[Item SKU/ID]]=\"\",0,SUMPRODUCT((Quantity_Sold_1=Inventory[[#This Row],[Item SKU/ID]])*Net_Profit))","v":0},{"$f":"IFERROR(AVERAGE(Inventory[[#This Row],[Total Net Profit]]/Inventory[[#This Row],[Quantity Sold]]),0)","v":0}]
[null,null,null,null,null,null,null,null,0,0,0,null,null,null,0,{"$f":"IF(Inventory[[#This Row],[Item SKU/ID]]=\"\",0,SUMPRODUCT((Quantity_Sold_1=Inventory[[#This Row],[Item SKU/ID]])*Net_Profit))","v":0},{"$f":"IFERROR(AVERAGE(Inventory[[#This Row],[Total Net Profit]]/Inventory[[#This Row],[Quantity Sold]]),0)","v":0}]
[null,null,null,null,null,null,null,null,0,0,0,null,null,null,0,{"$f":"IF(Inventory[[#This Row],[Item SKU/ID]]=\"\",0,SUMPRODUCT((Quantity_Sold_1=Inventory[[#This Row],[Item SKU/ID]])*Net_Profit))","v":0},{"$f":"IFERROR(AVERAGE(Inventory[[#This Row],[Total Net Profit]]/Inventory[[#This Row],[Quantity Sold]]),0)","v":0}]
[null,null,null,null,null,null,null,null,0,0,0,null,null,null,0,{"$f":"IF(Inventory[[#This Row],[Item SKU/ID]]=\"\",0,SUMPRODUCT((Quantity_Sold_1=Inventory[[#This Row],[Item SKU/ID]])*Net_Profit))","v":0},{"$f":"IFERROR(AVERAGE(Inventory[[#This Row],[Total Net Profit]]/Inventory[[#This Row],[Quantity Sold]]),0)","v":0}]
[null,null,null,null,null,null,null,null,0,0,0,null,null,null,0,{"$f":"IF(Inventory[[#This Row],[Item SKU/ID]]=\"\",0,SUMPRODUCT((Quantity_Sold_1=Inventory[[#This Row],[Item SKU/ID]])*Net_Profit))","v":0},{"$f":"IFERROR(AVERAGE(Inventory[[#This Row],[Total Net Profit]]/Inventory[[#This Row],[Quantity Sold]]),0)","v":0}]
[null,null,null,null,null,null,null,null,0,0,0,null,null,null,0,{"$f":"IF(Inventory[[#This Row],[Item SKU/ID]]=\"\",0,SUMPRODUCT((Quantity_Sold_1=Inventory[[#This Row],[Item SKU/ID]])*Net_Profit))","v":0},{"$f":"IFERROR(AVERAGE(Inventory[[#This Row],[Total Net Profit]]/Inventory[[#This Row],[Quantity Sold]]),0)","v":0}]
[null,null,null,null,null,null,null,null,0,0,0,null,null,null,0,{"$f":"IF(Inventory[[#This Row],[Item SKU/ID]]=\"\",0,SUMPRODUCT((Quantity_Sold_1=Inventory[[#This Row],[Item SKU/ID]])*Net_Profit))","v":0},{"$f":"IFERROR(AVERAGE(Inventory[[#This Row],[Total Net Profit]]/Inventory[[#This Row],[Quantity Sold]]),0)","v":0}]
[null,null,null,null,null,null,null,null,0,0,0,null,null,null,0,{"$f":"IF(Inventory[[#This Row],[Item SKU/ID]]=\"\",0,SUMPRODUCT((Quantity_Sold_1=Inventory[[#This Row],[Item SKU/ID]])*Net_Profit))","v":0},{"$f":"IFERROR(AVERAGE(Inventory[[#This Row],[Total Net Profit]]/Inventory[[#This Row],[Quantity Sold]]),0)","v":0}]
[null,null,null,null,null,null,null,null,0,0,0,null,null,null,0,{"$f":"IF(Inventory[[#This Row],[Item SKU/ID]]=\"\",0,SUMPRODUCT((Quantity_Sold_1=Inventory[[#This Row],[Item SKU/ID]])*Net_Profit))","v":0},{"$f":"IFERROR(AVERAGE(Inventory[[#This Row],[Total Net Profit]]/Inventory[[#This Row],[Quantity Sold]]),0)","v":0}]
[null,null,null,null,null,null,null,null,0,0,0,null,null,null,0,{"$f":"IF(Inventory[[#This Row],[Item SKU/ID]]=\"\",0,SUMPRODUCT((Quantity_Sold_1=Inventory[[#This Row],[Item SKU/ID]])*Net_Profit))","v":0},{"$f":"IFERROR(AVERAGE(Inventory[[#This Row],[Total Net Profit]]/Inventory[[#This Row],[Quantity Sold]]),0)","v":0}]
[null,null,null,null,null,null,null,null,0,0,0,null,null,null,0,{"$f":"IF(Inventory[[#This Row],[Item SKU/ID]]=\"\",0,SUMPRODUCT((Quantity_Sold_1=Inventory[[#This Row],[Item SKU/ID]])*Net_Profit))","v":0},{"$f":"IFERROR(AVERAGE(Inventory[[#This Row],[Total Net Profit]]/Inventory[[#This Row],[Quantity Sold]]),0)","v":0}]
[null,null,null,null,null,null,null,null,0,0,0,null,null,null,0,{"$f":"IF(Inventory[[#This Row],[Item SKU/ID]]=\"\",0,SUMPRODUCT((Quantity_Sold_1=Inventory[[#This Row],[Item SKU/ID]])*Net_Profit))","v":0},{"$f":"IFERROR(AVERAGE(Inventory[[#This Row],[Total Net Profit]]/Inventory[[#This Row],[Quantity Sold]]),0)","v":0}]
[null,null,null,null,null,null,null,null,0,0,0,null,null,null,0,{"$f":"IF(Inventory[[#This Row],[Item SKU/ID]]=\"\",0,SUMPRODUCT((Quantity_Sold_1=Inventory[[#This Row],[Item SKU/ID]])*Net_Profit))","v":0},{"$f":"IFERROR(AVERAGE(Inventory[[#This Row],[Total Net Profit]]/Inventory[[#This Row],[Quantity Sold]]),0)","v":0}]
[null,null,null,null,null,null,null,null,0,0,0,null,null,null,0,{"$f":"IF(Inventory[[#This Row],[Item SKU/ID]]=\"\",0,SUMPRODUCT((Quantity_Sold_1=Inventory[[#This Row],[Item SKU/ID]])*Net_Profit))","v":0},{"$f":"IFERROR(AVERAGE(Inventory[[#This Row],[Total Net Profit]]/Inventory[[#This Row],[Quantity Sold]]),0)","v":0}]
[null,null,null,null,null,null,null,null,0,0,0,null,null,null,0,{"$f":"IF(Inventory[[#This Row],[Item SKU/ID]]=\"\",0,SUMPRODUCT((Quantity_Sold_1=Inventory[[#This Row],[Item SKU/ID]])*Net_Profit))","v":0},{"$f":"IFERROR(AVERAGE(Inventory[[#This Row],[Total Net Profit]]/Inventory[[#This Row],[Quantity Sold]]),0)","v":0}]
[null,null,null,null,null,null,null,null,0,0,0,null,null,null,0,{"$f":"IF(Inventory[[#This Row],[Item SKU/ID]]=\"\",0,SUMPRODUCT((Quantity_Sold_1=Inventory[[#This Row],[Item SKU/ID]])*Net_Profit))","v":0},{"$f":"IFERROR(AVERAGE(Inventory[[#This Row],[Total Net Profit]]/Inventory[[#This Row],[Quantity Sold]]),0)","v":0}]
[null,null,null,null,null,null,null,null,0,0,0,null,null,null,0,{"$f":"IF(Inventory[[#This Row],[Item SKU/ID]]=\"\",0,SUMPRODUCT((Quantity_Sold_1=Inventory[[#This Row],[Item SKU/ID]])*Net_Profit))","v":0},{"$f":"IFERROR(AVERAGE(Inventory[[#This Row],[Total Net Profit]]/Inventory[[#This Row],[Quantity Sold]]),0)","v":0}]
[null,null,null,null,null,null,null,null,0,0,0,null,null,null,0,{"$f":"IF(Inventory[[#This Row],[Item SKU/ID]]=\"\",0,SUMPRODUCT((Quantity_Sold_1=Inventory[[#This Row],[Item SKU/ID]])*Net_Profit))","v":0},{"$f":"IFERROR(AVERAGE(Inventory[[#This Row],[Total Net Profit]]/Inventory[[#This Row],[Quantity Sold]]),0)","v":0}]
[null,null,null,null,null,null,null,null,0,0,0,null,null,null,0,{"$f":"IF(Inventory[[#This Row],[Item SKU/ID]]=\"\",0,SUMPRODUCT((Quantity_Sold_1=Inventory[[#This Row],[Item SKU/ID]])*Net_Profit))","v":0},{"$f":"IFERROR(AVERAGE(Inventory[[#This Row],[Total Net Profit]]/Inventory[[#This Row],[Quantity Sold]]),0)","v":0}]
[null,null,null,null,null,null,null,null,0,0,0,null,null,null,0,{"$f":"IF(Inventory[[#This Row],[Item SKU/ID]]=\"\",0,SUMPRODUCT((Quantity_Sold_1=Inventory[[#This Row],[Item SKU/ID]])*Net_Profit))","v":0},{"$f":"IFERROR(AVERAGE(Inventory[[#This Row],[Total Net Profit]]/Inventory[[#This Row],[Quantity Sold]]),0)","v":0}]
[null,null,null,null,null,null,null,null,0,0,0,null,null,null,0,{"$f":"IF(Inventory[[#This Row],[Item SKU/ID]]=\"\",0,SUMPRODUCT((Quantity_Sold_1=Inventory[[#This Row],[Item SKU/ID]])*Net_Profit))","v":0},{"$f":"IFERROR(AVERAGE(Inventory[[#This Row],[Total Net Profit]]/Inventory[[#This Row],[Quantity Sold]]),0)","v":0}]
[null,null,null,null,null,null,null,null,0,0,0,null,null,null,0,{"$f":"IF(Inventory[[#This Row],[Item SKU/ID]]=\"\",0,SUMPRODUCT((Quantity_Sold_1=Inventory[[#This Row],[Item SKU/ID]])*Net_Profit))","v":0},{"$f":"IFERROR(AVERAGE(Inventory[[#This Row],[Total Net Profit]]/Inventory[[#This Row],[Quantity Sold]]),0)","v":0}]
[null,null,null,null,null,null,null,null,0,0,0,null,null,null,0,{"$f":"IF(Inventory[[#This Row],[Item SKU/ID]]=\"\",0,SUMPRODUCT((Quantity_Sold_1=Inventory[[#This Row],[Item SKU/ID]])*Net_Profit))","v":0},{"$f":"IFERROR(AVERAGE(Inventory[[#This Row],[Total Net Profit]]/Inventory[[#This Row],[Quantity Sold]]),0)","v":0}]
[null,null,null,null,null,null,null,null,0,0,0,null,null,null,0,{"$f":"IF(Inventory[[#This Row],[Item SKU/ID]]=\"\",0,SUMPRODUCT((Quantity_Sold_1=Inventory[[#This Row],[Item SKU/ID]])*Net_Profit))","v":0},{"$f":"IFERROR(AVERAGE(Inventory[[#This Row],[Total Net Profit]]/Inventory[[#This Row],[Quantity Sold]]),0)","v":0}]
[null,null,null,null,null,null,null,null,0,0,0,null,null,null,0,{"$f":"IF(Inventory[[#This Row],[Item SKU/ID]]=\"\",0,SUMPRODUCT((Quantity_Sold_1=Inventory[[#This Row],[Item SKU/ID]])*Net_Profit))","v":0},{"$f":"IFERROR(AVERAGE(Inventory[[#This Row],[Total Net Profit]]/Inventory[[#This Row],[Quantity Sold]]),0)","v":0}]
[null,null,null,null,null,null,null,null,0,0,0,null,null,null,0,{"$f":"IF(Inventory[[#This Row],[Item SKU/ID]]=\"\",0,SUMPRODUCT((Quantity_Sold_1=Inventory[[#This Row],[Item SKU/ID]])*Net_Profit))","v":0},{"$f":"IFERROR(AVERAGE(Inventory[[#This Row],[Total Net Profit]]/Inventory[[#This Row],[Quantity Sold]]),0)","v":0}]
[null,null,null,null,null,null,null,null,0,0,0,null,null,null,0,{"$f":"IF(Inventory[[#This Row],[Item SKU/ID]]=\"\",0,SUMPRODUCT((Quantity_Sold_1=Inventory[[#This Row],[Item SKU/ID]])*Net_Profit))","v":0},{"$f":"IFERROR(AVERAGE(Inventory[[#This Row],[Total Net Profit]]/Inventory[[#This Row],[Quantity Sold]]),0)","v":0}]
[null,null,null,null,null,null,null,null,0,0,0,null,null,null,0,{"$f":"IF(Inventory[[#This Row],[Item SKU/ID]]=\"\",0,SUMPRODUCT((Quantity_Sold_1=Inventory[[#This Row],[Item SKU/ID]])*Net_Profit))","v":0},{"$f":"IFERROR(AVERAGE(Inventory[[#This Row],[Total Net Profit]]/Inventory[[#This Row],[Quantity Sold]]),0)","v":0}]
[null,null,null,null,null,null,null,null,{"$f":"K2884*H2884","v":0},{"$f":"IF(F2884=\"\",0,SUMPRODUCT((Quantity_Sold_1=F2884)*Quantity_Sold_2))","v":0},{"$f":"G2884-J2884","v":0},null,null,null,{"$f":"K2884*H2884","v":0},{"$f":"IF(Inventory[[#This Row],[Item SKU/ID]]=\"\",0,SUMPRODUCT((Quantity_Sold_1=Inventory[[#This Row],[Item SKU/ID]])*Net_Profit))","v":0},{"$f":"IFERROR(AVERAGE(Inventory[[#This Row],[Total Net Profit]]/Inventory[[#This Row],[Quantity Sold]]),0)","v":0}]
[null,null,null,null,null,null,null,null,0,0,0,null,null,null,0,{"$f":"IF(Inventory[[#This Row],[Item SKU/ID]]=\"\",0,SUMPRODUCT((Quantity_Sold_1=Inventory[[#This Row],[Item SKU/ID]])*Net_Profit))","v":0},{"$f":"IFERROR(AVERAGE(Inventory[[#This Row],[Total Net Profit]]/Inventory[[#This Row],[Quantity Sold]]),0)","v":0}]
[null,null,null,null,null,null,null,null,0,0,0,null,null,null,0,{"$f":"IF(Inventory[[#This Row],[Item SKU/ID]]=\"\",0,SUMPRODUCT((Quantity_Sold_1=Inventory[[#This Row],[Item SKU/ID]])*Net_Profit))","v":0},{"$f":"IFERROR(AVERAGE(Inventory[[#This Row],[Total Net Profit]]/Inventory[[#This Row],[Quantity Sold]]),0)","v":0}]
[null,null,null,null,null,null,null,null,0,0,0,null,null,null,0,{"$f":"IF(Inventory[[#This Row],[Item SKU/ID]]=\"\",0,SUMPRODUCT((Quantity_Sold_1=Inventory[[#This Row],[Item SKU/ID]])*Net_Profit))","v":0},{"$f":"IFERROR(AVERAGE(Inventory[[#This Row],[Total Net Profit]]/Inventory[[#This Row],[Quantity Sold]]),0)","v":0}]
[null,null,null,null,null,null,null,null,0,0,0,null,null,null,0,{"$f":"IF(Inventory[[#This Row],[Item SKU/ID]]=\"\",0,SUMPRODUCT((Quantity_Sold_1=Inventory[[#This Row],[Item SKU/ID]])*Net_Profit))","v":0},{"$f":"IFERROR(AVERAGE(Inventory[[#This Row],[Total Net Profit]]/Inventory[[#This Row],[Quantity Sold]]),0)","v":0}]
[null,null,null,null,null,null,null,null,0,0,0,null,null,null,0,{"$f":"IF(Inventory[[#This Row],[Item SKU/ID]]=\"\",0,SUMPRODUCT((Quantity_Sold_1=Inventory[[#This Row],[Item SKU/ID]])*Net_Profit))","v":0},{"$f":"IFERROR(AVERAGE(Inventory[[#This Row],[Total Net Profit]]/Inventory[[#This Row],[Quantity Sold]]),0)","v":0}]
[null,null,null,null,null,null,null,null,0,0,0,null,null,null,0,{"$f":"IF(Inventory[[#This Row],[Item SKU/ID]]=\"\",0,SUMPRODUCT((Quantity_Sold_1=Inventory[[#This Row],[Item SKU/ID]])*Net_Profit))","v":0},{"$f":"IFERROR(AVERAGE(Inventory[[#This Row],[Total Net Profit]]/Inventory[[#This Row],[Quantity Sold]]),0)","v":0}]
[null,null,null,null,null,null,null,null,0,0,0,null,null,null,0,{"$f":"IF(Inventory[[#This Row],[Item SKU/ID]]=\"\",0,SUMPRODUCT((Quantity_Sold_1=Inventory[[#This Row],[Item SKU/ID]])*Net_Profit))","v":0},{"$f":"IFERROR(AVERAGE(Inventory[[#This Row],[Total Net Profit]]/Inventory[[#This Row],[Quantity Sold]]),0)","v":0}]
[null,null,null,null,null,null,null,null,0,0,0,null,null,null,0,{"$f":"IF(Inventory[[#This Row],[Item SKU/ID]]=\"\",0,SUMPRODUCT((Quantity_Sold_1=Inventory[[#This Row],[Item SKU/ID]])*Net_Profit))","v":0},{"$f":"IFERROR(AVERAGE(Inventory[[#This Row],[Total Net Profit]]/Inventory[[#This Row],[Quantity Sold]]),0)","v":0}]
[null,null,null,null,null,null,null,null,0,0,0,null,null,null,0,{"$f":"IF(Inventory[[#This Row],[Item SKU/ID]]=\"\",0,SUMPRODUCT((Quantity_Sold_1=Inventory[[#This Row],[Item SKU/ID]])*Net_Profit))","v":0},{"$f":"IFERROR(AVERAGE(Inventory[[#This Row],[Total Net Profit]]/Inventory[[#This Row],[Quantity Sold]]),0)","v":0}]
[null,null,null,null,null,null,null,null,0,0,0,null,null,null,0,{"$f":"IF(Inventory[[#This Row],[Item SKU/ID]]=\"\",0,SUMPRODUCT((Quantity_Sold_1=Inventory[[#This Row],[Item SKU/ID]])*Net_Profit))","v":0},{"$f":"IFERROR(AVERAGE(Inventory[[#This Row],[Total Net Profit]]/Inventory[[#This Row],[Quantity Sold]]),0)","v":0}]
[null,null,null,null,null,null,null,null,0,0,0,null,null,null,0,{"$f":"IF(Inventory[[#This Row],[Item SKU/ID]]=\"\",0,SUMPRODUCT((Quantity_Sold_1=Inventory[[#This Row],[Item SKU/ID]])*Net_Profit))","v":0},{"$f":"IFERROR(AVERAGE(Inventory[[#This Row],[Total Net Profit]]/Inventory[[#This Row],[Quantity Sold]]),0)","v":0}]
[null,null,null,null,null,null,null,null,0,0,0,null,null,null,0,{"$f":"IF(Inventory[[#This Row],[Item SKU/ID]]=\"\",0,SUMPRODUCT((Quantity_Sold_1=Inventory[[#This Row],[Item SKU/ID]])*Net_Profit))","v":0},{"$f":"IFERROR(AVERAGE(Inventory[[#This Row],[Total Net Profit]]/Inventory[[#This Row],[Quantity Sold]]),0)","v":0}]
[null,null,null,null,null,null,null,null,0,0,0,null,null,null,0,{"$f":"IF(Inventory[[#This Row],[Item SKU/ID]]=\"\",0,SUMPRODUCT((Quantity_Sold_1=Inventory[[#This Row],[Item SKU/ID]])*Net_Profit))","v":0},{"$f":"IFERROR(AVERAGE(Inventory[[#This Row],[Total Net Profit]]/Inventory[[#This Row],[Quantity Sold]]),0)","v":0}]
[null,null,null,null,null,null,null,null,0,0,0,null,null,null,0,{"$f":"IF(Inventory[[#This Row],[Item SKU/ID]]=\"\",0,SUMPRODUCT((Quantity_Sold_1=Inventory[[#This Row],[Item SKU/ID]])*Net_Profit))","v":0},{"$f":"IFERROR(AVERAGE(Inventory[[#This Row],[Total Net Profit]]/Inventory[[#This Row],[Quantity Sold]]),0)","v":0}]
[null,null,null,null,null,null,null,null,0,0,0,null,null,null,0,{"$f":"IF(Inventory[[#This Row],[Item SKU/ID]]=\"\",0,SUMPRODUCT((Quantity_Sold_1=Inventory[[#This Row],[Item SKU/ID]])*Net_Profit))","v":0},{"$f":"IFERROR(AVERAGE(Inventory[[#This Row],[Total Net Profit]]/Inventory[[#This Row],[Quantity Sold]]),0)","v":0}]
[null,null,null,null,null,null,null,null,0,0,0,null,null,null,0,{"$f":"IF(Inventory[[#This Row],[Item SKU/ID]]=\"\",0,SUMPRODUCT((Quantity_Sold_1=Inventory[[#This Row],[Item SKU/ID]])*Net_Profit))","v":0},{"$f":"IFERROR(AVERAGE(Inventory[[#This Row],[Total Net Profit]]/Inventory[[#This Row],[Quantity Sold]]),0)","v":0}]
[null,null,null,null,null,null,null,null,0,0,0,null,null,null,0,{"$f":"IF(Inventory[[#This Row],[Item SKU/ID]]=\"\",0,SUMPRODUCT((Quantity_Sold_1=Inventory[[#This Row],[Item SKU/ID]])*Net_Profit))","v":0},{"$f":"IFERROR(AVERAGE(Inventory[[#This Row],[Total Net Profit]]/Inventory[[#This Row],[Quantity Sold]]),0)","v":0}]
[null,null,null,null,null,null,null,null,0,0,0,null,null,null,0,{"$f":"IF(Inventory[[#This Row],[Item SKU/ID]]=\"\",0,SUMPRODUCT((Quantity_Sold_1=Inventory[[#This Row],[Item SKU/ID]])*Net_Profit))","v":0},{"$f":"IFERROR(AVERAGE(Inventory[[#This Row],[Total Net Profit]]/Inventory[[#This Row],[Quantity Sold]]),0)","v":0}]
[null,null,null,null,null,null,null,null,0,0,0,null,null,null,0,{"$f":"IF(Inventory[[#This Row],[Item SKU/ID]]=\"\",0,SUMPRODUCT((Quantity_Sold_1=Inventory[[#This Row],[Item SKU/ID]])*Net_Profit))","v":0},{"$f":"IFERROR(AVERAGE(Inventory[[#This Row],[Total Net Profit]]/Inventory[[#This Row],[Quantity Sold]]),0)","v":0}]
[null,null,null,null,null,null,null,null,0,0,0,null,null,null,0,{"$f":"IF(Inventory[[#This Row],[Item SKU/ID]]=\"\",0,SUMPRODUCT((Quantity_Sold_1=Inventory[[#This Row],[Item SKU/ID]])*Net_Profit))","v":0},{"$f":"IFERROR(AVERAGE(Inventory[[#This Row],[Total Net Profit]]/Inventory[[#This Row],[Quantity Sold]]),0)","v":0}]
[null,null,null,null,null,null,null,null,0,0,0,null,null,null,0,{"$f":"IF(Inventory[[#This Row],[Item SKU/ID]]=\"\",0,SUMPRODUCT((Quantity_Sold_1=Inventory[[#This Row],[Item SKU/ID]])*Net_Profit))","v":0},{"$f":"IFERROR(AVERAGE(Inventory[[#This Row],[Total Net Profit]]/Inventory[[#This Row],[Quantity Sold]]),0)","v":0}]
[null,null,null,null,null,null,null,null,0,0,0,null,null,null,0,{"$f":"IF(Inventory[[#This Row],[Item SKU/ID]]=\"\",0,SUMPRODUCT((Quantity_Sold_1=Inventory[[#This Row],[Item SKU/ID]])*Net_Profit))","v":0},{"$f":"IFERROR(AVERAGE(Inventory[[#This Row],[Total Net Profit]]/Inventory[[#This Row],[Quantity Sold]]),0)","v":0}]
[null,null,null,null,null,null,null,null,0,0,0,null,null,null,0,{"$f":"IF(Inventory[[#This Row],[Item SKU/ID]]=\"\",0,SUMPRODUCT((Quantity_Sold_1=Inventory[[#This Row],[Item SKU/ID]])*Net_Profit))","v":0},{"$f":"IFERROR(AVERAGE(Inventory[[#This Row],[Total Net Profit]]/Inventory[[#This Row],[Quantity Sold]]),0)","v":0}]
[null,null,null,null,null,null,null,null,0,0,0,null,null,null,0,{"$f":"IF(Inventory[[#This Row],[Item SKU/ID]]=\"\",0,SUMPRODUCT((Quantity_Sold_1=Inventory[[#This Row],[Item SKU/ID]])*Net_Profit))","v":0},{"$f":"IFERROR(AVERAGE(Inventory[[#This Row],[Total Net Profit]]/Inventory[[#This Row],[Quantity Sold]]),0)","v":0}]
[null,null,null,null,null,null,null,null,0,0,0,null,null,null,0,{"$f":"IF(Inventory[[#This Row],[Item SKU/ID]]=\"\",0,SUMPRODUCT((Quantity_Sold_1=Inventory[[#This Row],[Item SKU/ID]])*Net_Profit))","v":0},{"$f":"IFERROR(AVERAGE(Inventory[[#This Row],[Total Net Profit]]/Inventory[[#This Row],[Quantity Sold]]),0)","v":0}]
[null,null,null,null,null,null,null,null,0,0,0,null,null,null,0,{"$f":"IF(Inventory[[#This Row],[Item SKU/ID]]=\"\",0,SUMPRODUCT((Quantity_Sold_1=Inventory[[#This Row],[Item SKU/ID]])*Net_Profit))","v":0},{"$f":"IFERROR(AVERAGE(Inventory[[#This Row],[Total Net Profit]]/Inventory[[#This Row],[Quantity Sold]]),0)","v":0}]
[null,null,null,null,null,null,null,null,0,0,0,null,null,null,0,{"$f":"IF(Inventory[[#This Row],[Item SKU/ID]]=\"\",0,SUMPRODUCT((Quantity_Sold_1=Inventory[[#This Row],[Item SKU/ID]])*Net_Profit))","v":0},{"$f":"IFERROR(AVERAGE(Inventory[[#This Row],[Total Net Profit]]/Inventory[[#This Row],[Quantity Sold]]),0)","v":0}]
[null,null,null,null,null,null,null,null,0,0,0,null,null,null,0,{"$f":"IF(Inventory[[#This Row],[Item SKU/ID]]=\"\",0,SUMPRODUCT((Quantity_Sold_1=Inventory[[#This Row],[Item SKU/ID]])*Net_Profit))","v":0},{"$f":"IFERROR(AVERAGE(Inventory[[#This Row],[Total Net Profit]]/Inventory[[#This Row],[Quantity Sold]]),0)","v":0}]
[null,null,null,null,null,null,null,null,0,0,0,null,null,null,0,{"$f":"IF(Inventory[[#This Row],[Item SKU/ID]]=\"\",0,SUMPRODUCT((Quantity_Sold_1=Inventory[[#This Row],[Item SKU/ID]])*Net_Profit))","v":0},{"$f":"IFERROR(AVERAGE(Inventory[[#This Row],[Total Net Profit]]/Inventory[[#This Row],[Quantity Sold]]),0)","v":0}]
[null,null,null,null,null,null,null,null,0,0,0,null,null,null,0,{"$f":"IF(Inventory[[#This Row],[Item SKU/ID]]=\"\",0,SUMPRODUCT((Quantity_Sold_1=Inventory[[#This Row],[Item SKU/ID]])*Net_Profit))","v":0},{"$f":"IFERROR(AVERAGE(Inventory[[#This Row],[Total Net Profit]]/Inventory[[#This Row],[Quantity Sold]]),0)","v":0}]
[null,null,null,null,null,null,null,null,0,0,0,null,null,null,0,{"$f":"IF(Inventory[[#This Row],[Item SKU/ID]]=\"\",0,SUMPRODUCT((Quantity_Sold_1=Inventory[[#This Row],[Item SKU/ID]])*Net_Profit))","v":0},{"$f":"IFERROR(AVERAGE(Inventory[[#This Row],[Total Net Profit]]/Inventory[[#This Row],[Quantity Sold]]),0)","v":0}]
[null,null,null,null,null,null,null,null,0,0,0,null,null,null,0,{"$f":"IF(Inventory[[#This Row],[Item SKU/ID]]=\"\",0,SUMPRODUCT((Quantity_Sold_1=Inventory[[#This Row],[Item SKU/ID]])*Net_Profit))","v":0},{"$f":"IFERROR(AVERAGE(Inventory[[#This Row],[Total Net Profit]]/Inventory[[#This Row],[Quantity Sold]]),0)","v":0}]
[null,null,null,null,null,null,null,null,0,0,0,null,null,null,0,{"$f":"IF(Inventory[[#This Row],[Item SKU/ID]]=\"\",0,SUMPRODUCT((Quantity_Sold_1=Inventory[[#This Row],[Item SKU/ID]])*Net_Profit))","v":0},{"$f":"IFERROR(AVERAGE(Inventory[[#This Row],[Total Net Profit]]/Inventory[[#This Row],[Quantity Sold]]),0)","v":0}]
[null,null,null,null,null,null,null,null,0,0,0,null,null,null,0,{"$f":"IF(Inventory[[#This Row],[Item SKU/ID]]=\"\",0,SUMPRODUCT((Quantity_Sold_1=Inventory[[#This Row],[Item SKU/ID]])*Net_Profit))","v":0},{"$f":"IFERROR(AVERAGE(Inventory[[#This Row],[Total Net Profit]]/Inventory[[#This Row],[Quantity Sold]]),0)","v":0}]
[null,null,null,null,null,null,null,null,0,0,0,null,null,null,0,{"$f":"IF(Inventory[[#This Row],[Item SKU/ID]]=\"\",0,SUMPRODUCT((Quantity_Sold_1=Inventory[[#This Row],[Item SKU/ID]])*Net_Profit))","v":0},{"$f":"IFERROR(AVERAGE(Inventory[[#This Row],[Total Net Profit]]/Inventory[[#This Row],[Quantity Sold]]),0)","v":0}]
[null,null,null,null,null,null,null,null,0,0,0,null,null,null,0,{"$f":"IF(Inventory[[#This Row],[Item SKU/ID]]=\"\",0,SUMPRODUCT((Quantity_Sold_1=Inventory[[#This Row],[Item SKU/ID]])*Net_Profit))","v":0},{"$f":"IFERROR(AVERAGE(Inventory[[#This Row],[Total Net Profit]]/Inventory[[#This Row],[Quantity Sold]]),0)","v":0}]
[null,null,null,null,null,null,null,null,0,0,0,null,null,null,0,{"$f":"IF(Inventory[[#This Row],[Item SKU/ID]]=\"\",0,SUMPRODUCT((Quantity_Sold_1=Inventory[[#This Row],[Item SKU/ID]])*Net_Profit))","v":0},{"$f":"IFERROR(AVERAGE(Inventory[[#This Row],[Total Net Profit]]/Inventory[[#This Row],[Quantity Sold]]),0)","v":0}]
[null,null,null,null,null,null,null,null,0,0,0,null,null,null,0,{"$f":"IF(Inventory[[#This Row],[Item SKU/ID]]=\"\",0,SUMPRODUCT((Quantity_Sold_1=Inventory[[#This Row],[Item SKU/ID]])*Net_Profit))","v":0},{"$f":"IFERROR(AVERAGE(Inventory[[#This Row],[Total Net Profit]]/Inventory[[#This Row],[Quantity Sold]]),0)","v":0}]
[null,null,null,null,null,null,null,null,0,0,0,null,null,null,0,{"$f":"IF(Inventory[[#This Row],[Item SKU/ID]]=\"\",0,SUMPRODUCT((Quantity_Sold_1=Inventory[[#This Row],[Item SKU/ID]])*Net_Profit))","v":0},{"$f":"IFERROR(AVERAGE(Inventory[[#This Row],[Total Net Profit]]/Inventory[[#This Row],[Quantity Sold]]),0)","v":0}]
[null,null,null,null,null,null,null,null,0,0,0,null,null,null,0,{"$f":"IF(Inventory[[#This Row],[Item SKU/ID]]=\"\",0,SUMPRODUCT((Quantity_Sold_1=Inventory[[#This Row],[Item SKU/ID]])*Net_Profit))","v":0},{"$f":"IFERROR(AVERAGE(Inventory[[#This Row],[Total Net Profit]]/Inventory[[#This Row],[Quantity Sold]]),0)","v":0}]
[null,null,null,null,null,null,null,null,0,0,0,null,null,null,0,{"$f":"IF(Inventory[[#This Row],[Item SKU/ID]]=\"\",0,SUMPRODUCT((Quantity_Sold_1=Inventory[[#This Row],[Item SKU/ID]])*Net_Profit))","v":0},{"$f":"IFERROR(AVERAGE(Inventory[[#This Row],[Total Net Profit]]/Inventory[[#This Row],[Quantity Sold]]),0)","v":0}]
[null,null,null,null,null,null,null,null,0,0,0,null,null,null,0,{"$f":"IF(Inventory[[#This Row],[Item SKU/ID]]=\"\",0,SUMPRODUCT((Quantity_Sold_1=Inventory[[#This Row],[Item SKU/ID]])*Net_Profit))","v":0},{"$f":"IFERROR(AVERAGE(Inventory[[#This Row],[Total Net Profit]]/Inventory[[#This Row],[Quantity Sold]]),0)","v":0}]
[null,null,null,null,null,null,null,null,0,0,0,null,null,null,0,{"$f":"IF(Inventory[[#This Row],[Item SKU/ID]]=\"\",0,SUMPRODUCT((Quantity_Sold_1=Inventory[[#This Row],[Item SKU/ID]])*Net_Profit))","v":0},{"$f":"IFERROR(AVERAGE(Inventory[[#This Row],[Total Net Profit]]/Inventory[[#This Row],[Quantity Sold]]),0)","v":0}]
[null,null,null,null,null,null,null,null,0,0,0,null,null,null,0,{"$f":"IF(Inventory[[#This Row],[Item SKU/ID]]=\"\",0,SUMPRODUCT((Quantity_Sold_1=Inventory[[#This Row],[Item SKU/ID]])*Net_Profit))","v":0},{"$f":"IFERROR(AVERAGE(Inventory[[#This Row],[Total Net Profit]]/Inventory[[#This Row],[Quantity Sold]]),0)","v":0}]
[null,null,null,null,null,null,null,null,0,0,0,null,null,null,0,{"$f":"IF(Inventory[[#This Row],[Item SKU/ID]]=\"\",0,SUMPRODUCT((Quantity_Sold_1=Inventory[[#This Row],[Item SKU/ID]])*Net_Profit))","v":0},{"$f":"IFERROR(AVERAGE(Inventory[[#This Row],[Total Net Profit]]/Inventory[[#This Row],[Quantity Sold]]),0)","v":0}]
[null,null,null,null,null,null,null,null,0,0,0,null,null,null,0,{"$f":"IF(Inventory[[#This Row],[Item SKU/ID]]=\"\",0,SUMPRODUCT((Quantity_Sold_1=Inventory[[#This Row],[Item SKU/ID]])*Net_Profit))","v":0},{"$f":"IFERROR(AVERAGE(Inventory[[#This Row],[Total Net Profit]]/Inventory[[#This Row],[Quantity Sold]]),0)","v":0}]
[null,null,null,null,null,null,null,null,0,0,0,null,null,null,0,{"$f":"IF(Inventory[[#This Row],[Item SKU/ID]]=\"\",0,SUMPRODUCT((Quantity_Sold_1=Inventory[[#This Row],[Item SKU/ID]])*Net_Profit))","v":0},{"$f":"IFERROR(AVERAGE(Inventory[[#This Row],[Total Net Profit]]/Inventory[[#This Row],[Quantity Sold]]),0)","v":0}]
[null,null,null,null,null,null,null,null,0,0,0,null,null,null,0,{"$f":"IF(Inventory[[#This Row],[Item SKU/ID]]=\"\",0,SUMPRODUCT((Quantity_Sold_1=Inventory[[#This Row],[Item SKU/ID]])*Net_Profit))","v":0},{"$f":"IFERROR(AVERAGE(Inventory[[#This Row],[Total Net Profit]]/Inventory[[#This Row],[Quantity Sold]]),0)","v":0}]
[null,null,null,null,null,null,null,null,0,0,0,null,null,null,0,{"$f":"IF(Inventory[[#This Row],[Item SKU/ID]]=\"\",0,SUMPRODUCT((Quantity_Sold_1=Inventory[[#This Row],[Item SKU/ID]])*Net_Profit))","v":0},{"$f":"IFERROR(AVERAGE(Inventory[[#This Row],[Total Net Profit]]/Inventory[[#This Row],[Quantity Sold]]),0)","v":0}]
[null,null,null,null,null,null,null,null,0,0,0,null,null,null,0,{"$f":"IF(Inventory[[#This Row],[Item SKU/ID]]=\"\",0,SUMPRODUCT((Quantity_Sold_1=Inventory[[#This Row],[Item SKU/ID]])*Net_Profit))","v":0},{"$f":"IFERROR(AVERAGE(Inventory[[#This Row],[Total Net Profit]]/Inventory[[#This Row],[Quantity Sold]]),0)","v":0}]
[null,null,null,null,null,null,null,null,0,0,0,null,null,null,0,{"$f":"IF(Inventory[[#This Row],[Item SKU/ID]]=\"\",0,SUMPRODUCT((Quantity_Sold_1=Inventory[[#This Row],[Item SKU/ID]])*Net_Profit))","v":0},{"$f":"IFERROR(AVERAGE(Inventory[[#This Row],[Total Net Profit]]/Inventory[[#This Row],[Quantity Sold]]),0)","v":0}]
[null,null,null,null,null,null,null,null,0,0,0,null,null,null,0,{"$f":"IF(Inventory[[#This Row],[Item SKU/ID]]=\"\",0,SUMPRODUCT((Quantity_Sold_1=Inventory[[#This Row],[Item SKU/ID]])*Net_Profit))","v":0},{"$f":"IFERROR(AVERAGE(Inventory[[#This Row],[Total Net Profit]]/Inventory[[#This Row],[Quantity Sold]]),0)","v":0}]
[null,null,null,null,null,null,null,null,0,0,0,null,null,null,0,{"$f":"IF(Inventory[[#This Row],[Item SKU/ID]]=\"\",0,SUMPRODUCT((Quantity_Sold_1=Inventory[[#This Row],[Item SKU/ID]])*Net_Profit))","v":0},{"$f":"IFERROR(AVERAGE(Inventory[[#This Row],[Total Net Profit]]/Inventory[[#This Row],[Quantity Sold]]),0)","v":0}]
[null,null,null,null,null,null,null,null,0,0,0,null,null,null,0,{"$f":"IF(Inventory[[#This Row],[Item SKU/ID]]=\"\",0,SUMPRODUCT((Quantity_Sold_1=Inventory[[#This Row],[Item SKU/ID]])*Net_Profit))","v":0},{"$f":"IFERROR(AVERAGE(Inventory[[#This Row],[Total Net Profit]]/Inventory[[#This Row],[Quantity Sold]]),0)","v":0}]
[null,null,null,null,null,null,null,null,0,0,0,null,null,null,0,{"$f":"IF(Inventory[[#This Row],[Item SKU/ID]]=\"\",0,SUMPRODUCT((Quantity_Sold_1=Inventory[[#This Row],[Item SKU/ID]])*Net_Profit))","v":0},{"$f":"IFERROR(AVERAGE(Inventory[[#This Row],[Total Net Profit]]/Inventory[[#This Row],[Quantity Sold]]),0)","v":0}]
[null,null,null,null,null,null,null,null,0,0,0,null,null,null,0,{"$f":"IF(Inventory[[#This Row],[Item SKU/ID]]=\"\",0,SUMPRODUCT((Quantity_Sold_1=Inventory[[#This Row],[Item SKU/ID]])*Net_Profit))","v":0},{"$f":"IFERROR(AVERAGE(Inventory[[#This Row],[Total Net Profit]]/Inventory[[#This Row],[Quantity Sold]]),0)","v":0}]
[null,null,null,null,null,null,null,null,0,0,0,null,null,null,0,{"$f":"IF(Inventory[[#This Row],[Item SKU/ID]]=\"\",0,SUMPRODUCT((Quantity_Sold_1=Inventory[[#This Row],[Item SKU/ID]])*Net_Profit))","v":0},{"$f":"IFERROR(AVERAGE(Inventory[[#This Row],[Total Net Profit]]/Inventory[[#This Row],[Quantity Sold]]),0)","v":0}]
[null,null,null,null,null,null,null,null,0,0,0,null,null,null,0,{"$f":"IF(Inventory[[#This Row],[Item SKU/ID]]=\"\",0,SUMPRODUCT((Quantity_Sold_1=Inventory[[#This Row],[Item SKU/ID]])*Net_Profit))","v":0},{"$f":"IFERROR(AVERAGE(Inventory[[#This Row],[Total Net Profit]]/Inventory[[#This Row],[Quantity Sold]]),0)","v":0}]
[null,null,null,null,null,null,null,null,0,0,0,null,null,null,0,{"$f":"IF(Inventory[[#This Row],[Item SKU/ID]]=\"\",0,SUMPRODUCT((Quantity_Sold_1=Inventory[[#This Row],[Item SKU/ID]])*Net_Profit))","v":0},{"$f":"IFERROR(AVERAGE(Inventory[[#This Row],[Total Net Profit]]/Inventory[[#This Row],[Quantity Sold]]),0)","v":0}]
[null,null,null,null,null,null,null,null,0,0,0,null,null,null,0,{"$f":"IF(Inventory[[#This Row],[Item SKU/ID]]=\"\",0,SUMPRODUCT((Quantity_Sold_1=Inventory[[#This Row],[Item SKU/ID]])*Net_Profit))","v":0},{"$f":"IFERROR(AVERAGE(Inventory[[#This Row],[Total Net Profit]]/Inventory[[#This Row],[Quantity Sold]]),0)","v":0}]
[null,null,null,null,null,null,null,null,0,0,0,null,null,null,0,{"$f":"IF(Inventory[[#This Row],[Item SKU/ID]]=\"\",0,SUMPRODUCT((Quantity_Sold_1=Inventory[[#This Row],[Item SKU/ID]])*Net_Profit))","v":0},{"$f":"IFERROR(AVERAGE(Inventory[[#This Row],[Total Net Profit]]/Inventory[[#This Row],[Quantity Sold]]),0)","v":0}]
[null,null,null,null,null,null,null,null,0,0,0,null,null,null,0,{"$f":"IF(Inventory[[#This Row],[Item SKU/ID]]=\"\",0,SUMPRODUCT((Quantity_Sold_1=Inventory[[#This Row],[Item SKU/ID]])*Net_Profit))","v":0},{"$f":"IFERROR(AVERAGE(Inventory[[#This Row],[Total Net Profit]]/Inventory[[#This Row],[Quantity Sold]]),0)","v":0}]
[null,null,null,null,null,null,null,null,0,0,0,null,null,null,0,{"$f":"IF(Inventory[[#This Row],[Item SKU/ID]]=\"\",0,SUMPRODUCT((Quantity_Sold_1=Inventory[[#This Row],[Item SKU/ID]])*Net_Profit))","v":0},{"$f":"IFERROR(AVERAGE(Inventory[[#This Row],[Total Net Profit]]/Inventory[[#This Row],[Quantity Sold]]),0)","v":0}]
[null,null,null,null,null,null,null,null,{"$f":"K2948*H2948","v":0},{"$f":"IF(F2948=\"\",0,SUMPRODUCT((Quantity_Sold_1=F2948)*Quantity_Sold_2))","v":0},{"$f":"G2948-J2948","v":0},null,null,null,{"$f":"K2948*H2948","v":0},{"$f":"IF(Inventory[[#This Row],[Item SKU/ID]]=\"\",0,SUMPRODUCT((Quantity_Sold_1=Inventory[[#This Row],[Item SKU/ID]])*Net_Profit))","v":0},{"$f":"IFERROR(AVERAGE(Inventory[[#This Row],[Total Net Profit]]/Inventory[[#This Row],[Quantity Sold]]),0)","v":0}]
[null,null,null,null,null,null,null,null,0,0,0,null,null,null,0,{"$f":"IF(Inventory[[#This Row],[Item SKU/ID]]=\"\",0,SUMPRODUCT((Quantity_Sold_1=Inventory[[#This Row],[Item SKU/ID]])*Net_Profit))","v":0},{"$f":"IFERROR(AVERAGE(Inventory[[#This Row],[Total Net Profit]]/Inventory[[#This Row],[Quantity Sold]]),0)","v":0}]
[null,null,null,null,null,null,null,null,0,0,0,null,null,null,0,{"$f":"IF(Inventory[[#This Row],[Item SKU/ID]]=\"\",0,SUMPRODUCT((Quantity_Sold_1=Inventory[[#This Row],[Item SKU/ID]])*Net_Profit))","v":0},{"$f":"IFERROR(AVERAGE(Inventory[[#This Row],[Total Net Profit]]/Inventory[[#This Row],[Quantity Sold]]),0)","v":0}]
[null,null,null,null,null,null,null,null,0,0,0,null,null,null,0,{"$f":"IF(Inventory[[#This Row],[Item SKU/ID]]=\"\",0,SUMPRODUCT((Quantity_Sold_1=Inventory[[#This Row],[Item SKU/ID]])*Net_Profit))","v":0},{"$f":"IFERROR(AVERAGE(Inventory[[#This Row],[Total Net Profit]]/Inventory[[#This Row],[Quantity Sold]]),0)","v":0}]
[null,null,null,null,null,null,null,null,0,0,0,null,null,null,0,{"$f":"IF(Inventory[[#This Row],[Item SKU/ID]]=\"\",0,SUMPRODUCT((Quantity_Sold_1=Inventory[[#This Row],[Item SKU/ID]])*Net_Profit))","v":0},{"$f":"IFERROR(AVERAGE(Inventory[[#This Row],[Total Net Profit]]/Inventory[[#This Row],[Quantity Sold]]),0)","v":0}]
[null,null,null,null,null,null,null,null,0,0,0,null,null,null,0,{"$f":"IF(Inventory[[#This Row],[Item SKU/ID]]=\"\",0,SUMPRODUCT((Quantity_Sold_1=Inventory[[#This Row],[Item SKU/ID]])*Net_Profit))","v":0},{"$f":"IFERROR(AVERAGE(Inventory[[#This Row],[Total Net Profit]]/Inventory[[#This Row],[Quantity Sold]]),0)","v":0}]
[null,null,null,null,null,null,null,null,0,0,0,null,null,null,0,{"$f":"IF(Inventory[[#This Row],[Item SKU/ID]]=\"\",0,SUMPRODUCT((Quantity_Sold_1=Inventory[[#This Row],[Item SKU/ID]])*Net_Profit))","v":0},{"$f":"IFERROR(AVERAGE(Inventory[[#This Row],[Total Net Profit]]/Inventory[[#This Row],[Quantity Sold]]),0)","v":0}]
[null,null,null,null,null,null,null,null,0,0,0,null,null,null,0,{"$f":"IF(Inventory[[#This Row],[Item SKU/ID]]=\"\",0,SUMPRODUCT((Quantity_Sold_1=Inventory[[#This Row],[Item SKU/ID]])*Net_Profit))","v":0},{"$f":"IFERROR(AVERAGE(Inventory[[#This Row],[Total Net Profit]]/Inventory[[#This Row],[Quantity Sold]]),0)","v":0}]
[null,null,null,null,null,null,null,null,0,0,0,null,null,null,0,{"$f":"IF(Inventory[[#This Row],[Item SKU/ID]]=\"\",0,SUMPRODUCT((Quantity_Sold_1=Inventory[[#This Row],[Item SKU/ID]])*Net_Profit))","v":0},{"$f":"IFERROR(AVERAGE(Inventory[[#This Row],[Total Net Profit]]/Inventory[[#This Row],[Quantity Sold]]),0)","v":0}]
[null,null,null,null,null,null,null,null,0,0,0,null,null,null,0,{"$f":"IF(Inventory[[#This Row],[Item SKU/ID]]=\"\",0,SUMPRODUCT((Quantity_Sold_1=Inventory[[#This Row],[Item SKU/ID]])*Net_Profit))","v":0},{"$f":"IFERROR(AVERAGE(Inventory[[#This Row],[Total Net Profit]]/Inventory[[#This Row],[Quantity Sold]]),0)","v":0}]
[null,null,null,null,null,null,null,null,0,0,0,null,null,null,0,{"$f":"IF(Inventory[[#This Row],[Item SKU/ID]]=\"\",0,SUMPRODUCT((Quantity_Sold_1=Inventory[[#This Row],[Item SKU/ID]])*Net_Profit))","v":0},{"$f":"IFERROR(AVERAGE(Inventory[[#This Row],[Total Net Profit]]/Inventory[[#This Row],[Quantity Sold]]),0)","v":0}]
[null,null,null,null,null,null,null,null,0,0,0,null,null,null,0,{"$f":"IF(Inventory[[#This Row],[Item SKU/ID]]=\"\",0,SUMPRODUCT((Quantity_Sold_1=Inventory[[#This Row],[Item SKU/ID]])*Net_Profit))","v":0},{"$f":"IFERROR(AVERAGE(Inventory[[#This Row],[Total Net Profit]]/Inventory[[#This Row],[Quantity Sold]]),0)","v":0}]
[null,null,null,null,null,null,null,null,0,0,0,null,null,null,0,{"$f":"IF(Inventory[[#This Row],[Item SKU/ID]]=\"\",0,SUMPRODUCT((Quantity_Sold_1=Inventory[[#This Row],[Item SKU/ID]])*Net_Profit))","v":0},{"$f":"IFERROR(AVERAGE(Inventory[[#This Row],[Total Net Profit]]/Inventory[[#This Row],[Quantity Sold]]),0)","v":0}]
[null,null,null,null,null,null,null,null,0,0,0,null,null,null,0,{"$f":"IF(Inventory[[#This Row],[Item SKU/ID]]=\"\",0,SUMPRODUCT((Quantity_Sold_1=Inventory[[#This Row],[Item SKU/ID]])*Net_Profit))","v":0},{"$f":"IFERROR(AVERAGE(Inventory[[#This Row],[Total Net Profit]]/Inventory[[#This Row],[Quantity Sold]]),0)","v":0}]
[null,null,null,null,null,null,null,null,0,0,0,null,null,null,0,{"$f":"IF(Inventory[[#This Row],[Item SKU/ID]]=\"\",0,SUMPRODUCT((Quantity_Sold_1=Inventory[[#This Row],[Item SKU/ID]])*Net_Profit))","v":0},{"$f":"IFERROR(AVERAGE(Inventory[[#This Row],[Total Net Profit]]/Inventory[[#This Row],[Quantity Sold]]),0)","v":0}]
[null,null,null,null,null,null,null,null,0,0,0,null,null,null,0,{"$f":"IF(Inventory[[#This Row],[Item SKU/ID]]=\"\",0,SUMPRODUCT((Quantity_Sold_1=Inventory[[#This Row],[Item SKU/ID]])*Net_Profit))","v":0},{"$f":"IFERROR(AVERAGE(Inventory[[#This Row],[Total Net Profit]]/Inventory[[#This Row],[Quantity Sold]]),0)","v":0}]
[null,null,null,null,null,null,null,null,0,0,0,null,null,null,0,{"$f":"IF(Inventory[[#This Row],[Item SKU/ID]]=\"\",0,SUMPRODUCT((Quantity_Sold_1=Inventory[[#This Row],[Item SKU/ID]])*Net_Profit))","v":0},{"$f":"IFERROR(AVERAGE(Inventory[[#This Row],[Total Net Profit]]/Inventory[[#This Row],[Quantity Sold]]),0)","v":0}]
[null,null,null,null,null,null,null,null,0,0,0,null,null,null,0,{"$f":"IF(Inventory[[#This Row],[Item SKU/ID]]=\"\",0,SUMPRODUCT((Quantity_Sold_1=Inventory[[#This Row],[Item SKU/ID]])*Net_Profit))","v":0},{"$f":"IFERROR(AVERAGE(Inventory[[#This Row],[Total Net Profit]]/Inventory[[#This Row],[Quantity Sold]]),0)","v":0}]
[null,null,null,null,null,null,null,null,0,0,0,null,null,null,0,{"$f":"IF(Inventory[[#This Row],[Item SKU/ID]]=\"\",0,SUMPRODUCT((Quantity_Sold_1=Inventory[[#This Row],[Item SKU/ID]])*Net_Profit))","v":0},{"$f":"IFERROR(AVERAGE(Inventory[[#This Row],[Total Net Profit]]/Inventory[[#This Row],[Quantity Sold]]),0)","v":0}]
[null,null,null,null,null,null,null,null,0,0,0,null,null,null,0,{"$f":"IF(Inventory[[#This Row],[Item SKU/ID]]=\"\",0,SUMPRODUCT((Quantity_Sold_1=Inventory[[#This Row],[Item SKU/ID]])*Net_Profit))","v":0},{"$f":"IFERROR(AVERAGE(Inventory[[#This Row],[Total Net Profit]]/Inventory[[#This Row],[Quantity Sold]]),0)","v":0}]
[null,null,null,null,null,null,null,null,0,0,0,null,null,null,0,{"$f":"IF(Inventory[[#This Row],[Item SKU/ID]]=\"\",0,SUMPRODUCT((Quantity_Sold_1=Inventory[[#This Row],[Item SKU/ID]])*Net_Profit))","v":0},{"$f":"IFERROR(AVERAGE(Inventory[[#This Row],[Total Net Profit]]/Inventory[[#This Row],[Quantity Sold]]),0)","v":0}]
[null,null,null,null,null,null,null,null,0,0,0,null,null,null,0,{"$f":"IF(Inventory[[#This Row],[Item SKU/ID]]=\"\",0,SUMPRODUCT((Quantity_Sold_1=Inventory[[#This Row],[Item SKU/ID]])*Net_Profit))","v":0},{"$f":"IFERROR(AVERAGE(Inventory[[#This Row],[Total Net Profit]]/Inventory[[#This Row],[Quantity Sold]]),0)","v":0}]
[null,null,null,null,null,null,null,null,0,0,0,null,null,null,0,{"$f":"IF(Inventory[[#This Row],[Item SKU/ID]]=\"\",0,SUMPRODUCT((Quantity_Sold_1=Inventory[[#This Row],[Item SKU/ID]])*Net_Profit))","v":0},{"$f":"IFERROR(AVERAGE(Inventory[[#This Row],[Total Net Profit]]/Inventory[[#This Row],[Quantity Sold]]),0)","v":0}]
[null,null,null,null,null,null,null,null,0,0,0,null,null,null,0,{"$f":"IF(Inventory[[#This Row],[Item SKU/ID]]=\"\",0,SUMPRODUCT((Quantity_Sold_1=Inventory[[#This Row],[Item SKU/ID]])*Net_Profit))","v":0},{"$f":"IFERROR(AVERAGE(Inventory[[#This Row],[Total Net Profit]]/Inventory[[#This Row],[Quantity Sold]]),0)","v":0}]
[null,null,null,null,null,null,null,null,0,0,0,null,null,null,0,{"$f":"IF(Inventory[[#This Row],[Item SKU/ID]]=\"\",0,SUMPRODUCT((Quantity_Sold_1=Inventory[[#This Row],[Item SKU/ID]])*Net_Profit))","v":0},{"$f":"IFERROR(AVERAGE(Inventory[[#This Row],[Total Net Profit]]/Inventory[[#This Row],[Quantity Sold]]),0)","v":0}]
[null,null,null,null,null,null,null,null,0,0,0,null,null,null,0,{"$f":"IF(Inventory[[#This Row],[Item SKU/ID]]=\"\",0,SUMPRODUCT((Quantity_Sold_1=Inventory[[#This Row],[Item SKU/ID]])*Net_Profit))","v":0},{"$f":"IFERROR(AVERAGE(Inventory[[#This Row],[Total Net Profit]]/Inventory[[#This Row],[Quantity Sold]]),0)","v":0}]
[null,null,null,null,null,null,null,null,0,0,0,null,null,null,0,{"$f":"IF(Inventory[[#This Row],[Item SKU/ID]]=\"\",0,SUMPRODUCT((Quantity_Sold_1=Inventory[[#This Row],[Item SKU/ID]])*Net_Profit))","v":0},{"$f":"IFERROR(AVERAGE(Inventory[[#This Row],[Total Net Profit]]/Inventory[[#This Row],[Quantity Sold]]),0)","v":0}]
[null,null,null,null,null,null,null,null,0,0,0,null,null,null,0,{"$f":"IF(Inventory[[#This Row],[Item SKU/ID]]=\"\",0,SUMPRODUCT((Quantity_Sold_1=Inventory[[#This Row],[Item SKU/ID]])*Net_Profit))","v":0},{"$f":"IFERROR(AVERAGE(Inventory[[#This Row],[Total Net Profit]]/Inventory[[#This Row],[Quantity Sold]]),0)","v":0}]
[null,null,null,null,null,null,null,null,0,0,0,null,null,null,0,{"$f":"IF(Inventory[[#This Row],[Item SKU/ID]]=\"\",0,SUMPRODUCT((Quantity_Sold_1=Inventory[[#This Row],[Item SKU/ID]])*Net_Profit))","v":0},{"$f":"IFERROR(AVERAGE(Inventory[[#This Row],[Total Net Profit]]/Inventory[[#This Row],[Quantity Sold]]),0)","v":0}]
[null,null,null,null,null,null,null,null,0,0,0,null,null,null,0,{"$f":"IF(Inventory[[#This Row],[Item SKU/ID]]=\"\",0,SUMPRODUCT((Quantity_Sold_1=Inventory[[#This Row],[Item SKU/ID]])*Net_Profit))","v":0},{"$f":"IFERROR(AVERAGE(Inventory[[#This Row],[Total Net Profit]]/Inventory[[#This Row],[Quantity Sold]]),0)","v":0}]
[null,null,null,null,null,null,null,null,0,0,0,null,null,null,0,{"$f":"IF(Inventory[[#This Row],[Item SKU/ID]]=\"\",0,SUMPRODUCT((Quantity_Sold_1=Inventory[[#This Row],[Item SKU/ID]])*Net_Profit))","v":0},{"$f":"IFERROR(AVERAGE(Inventory[[#This Row],[Total Net Profit]]/Inventory[[#This Row],[Quantity Sold]]),0)","v":0}]
[null,null,null,null,null,null,null,null,0,0,0,null,null,null,0,{"$f":"IF(Inventory[[#This Row],[Item SKU/ID]]=\"\",0,SUMPRODUCT((Quantity_Sold_1=Inventory[[#This Row],[Item SKU/ID]])*Net_Profit))","v":0},{"$f":"IFERROR(AVERAGE(Inventory[[#This Row],[Total Net Profit]]/Inventory[[#This Row],[Quantity Sold]]),0)","v":0}]
[null,null,null,null,null,null,null,null,0,0,0,null,null,null,0,{"$f":"IF(Inventory[[#This Row],[Item SKU/ID]]=\"\",0,SUMPRODUCT((Quantity_Sold_1=Inventory[[#This Row],[Item SKU/ID]])*Net_Profit))","v":0},{"$f":"IFERROR(AVERAGE(Inventory[[#This Row],[Total Net Profit]]/Inventory[[#This Row],[Quantity Sold]]),0)","v":0}]
[null,null,null,null,null,null,null,null,0,0,0,null,null,null,0,{"$f":"IF(Inventory[[#This Row],[Item SKU/ID]]=\"\",0,SUMPRODUCT((Quantity_Sold_1=Inventory[[#This Row],[Item SKU/ID]])*Net_Profit))","v":0},{"$f":"IFERROR(AVERAGE(Inventory[[#This Row],[Total Net Profit]]/Inventory[[#This Row],[Quantity Sold]]),0)","v":0}]
[null,null,null,null,null,null,null,null,0,0,0,null,null,null,0,{"$f":"IF(Inventory[[#This Row],[Item SKU/ID]]=\"\",0,SUMPRODUCT((Quantity_Sold_1=Inventory[[#This Row],[Item SKU/ID]])*Net_Profit))","v":0},{"$f":"IFERROR(AVERAGE(Inventory[[#This Row],[Total Net Profit]]/Inventory[[#This Row],[Quantity Sold]]),0)","v":0}]
[null,null,null,null,null,null,null,null,0,0,0,null,null,null,0,{"$f":"IF(Inventory[[#This Row],[Item SKU/ID]]=\"\",0,SUMPRODUCT((Quantity_Sold_1=Inventory[[#This Row],[Item SKU/ID]])*Net_Profit))","v":0},{"$f":"IFERROR(AVERAGE(Inventory[[#This Row],[Total Net Profit]]/Inventory[[#This Row],[Quantity Sold]]),0)","v":0}]
[null,null,null,null,null,null,null,null,0,0,0,null,null,null,0,{"$f":"IF(Inventory[[#This Row],[Item SKU/ID]]=\"\",0,SUMPRODUCT((Quantity_Sold_1=Inventory[[#This Row],[Item SKU/ID]])*Net_Profit))","v":0},{"$f":"IFERROR(AVERAGE(Inventory[[#This Row],[Total Net Profit]]/Inventory[[#This Row],[Quantity Sold]]),0)","v":0}]
[null,null,null,null,null,null,null,null,0,0,0,null,null,null,0,{"$f":"IF(Inventory[[#This Row],[Item SKU/ID]]=\"\",0,SUMPRODUCT((Quantity_Sold_1=Inventory[[#This Row],[Item SKU/ID]])*Net_Profit))","v":0},{"$f":"IFERROR(AVERAGE(Inventory[[#This Row],[Total Net Profit]]/Inventory[[#This Row],[Quantity Sold]]),0)","v":0}]
[null,null,null,null,null,null,null,null,0,0,0,null,null,null,0,{"$f":"IF(Inventory[[#This Row],[Item SKU/ID]]=\"\",0,SUMPRODUCT((Quantity_Sold_1=Inventory[[#This Row],[Item SKU/ID]])*Net_Profit))","v":0},{"$f":"IFERROR(AVERAGE(Inventory[[#This Row],[Total Net Profit]]/Inventory[[#This Row],[Quantity Sold]]),0)","v":0}]
[null,null,null,null,null,null,null,null,0,0,0,null,null,null,0,{"$f":"IF(Inventory[[#This Row],[Item SKU/ID]]=\"\",0,SUMPRODUCT((Quantity_Sold_1=Inventory[[#This Row],[Item SKU/ID]])*Net_Profit))","v":0},{"$f":"IFERROR(AVERAGE(Inventory[[#This Row],[Total Net Profit]]/Inventory[[#This Row],[Quantity Sold]]),0)","v":0}]
[null,null,null,null,null,null,null,null,0,0,0,null,null,null,0,{"$f":"IF(Inventory[[#This Row],[Item SKU/ID]]=\"\",0,SUMPRODUCT((Quantity_Sold_1=Inventory[[#This Row],[Item SKU/ID]])*Net_Profit))","v":0},{"$f":"IFERROR(AVERAGE(Inventory[[#This Row],[Total Net Profit]]/Inventory[[#This Row],[Quantity Sold]]),0)","v":0}]
[null,null,null,null,null,null,null,null,0,0,0,null,null,null,0,{"$f":"IF(Inventory[[#This Row],[Item SKU/ID]]=\"\",0,SUMPRODUCT((Quantity_Sold_1=Inventory[[#This Row],[Item SKU/ID]])*Net_Profit))","v":0},{"$f":"IFERROR(AVERAGE(Inventory[[#This Row],[Total Net Profit]]/Inventory[[#This Row],[Quantity Sold]]),0)","v":0}]
[null,null,null,null,null,null,null,null,0,0,0,null,null,null,0,{"$f":"IF(Inventory[[#This Row],[Item SKU/ID]]=\"\",0,SUMPRODUCT((Quantity_Sold_1=Inventory[[#This Row],[Item SKU/ID]])*Net_Profit))","v":0},{"$f":"IFERROR(AVERAGE(Inventory[[#This Row],[Total Net Profit]]/Inventory[[#This Row],[Quantity Sold]]),0)","v":0}]
[null,null,null,null,null,null,null,null,0,0,0,null,null,null,0,{"$f":"IF(Inventory[[#This Row],[Item SKU/ID]]=\"\",0,SUMPRODUCT((Quantity_Sold_1=Inventory[[#This Row],[Item SKU/ID]])*Net_Profit))","v":0},{"$f":"IFERROR(AVERAGE(Inventory[[#This Row],[Total Net Profit]]/Inventory[[#This Row],[Quantity Sold]]),0)","v":0}]
[null,null,null,null,null,null,null,null,0,0,0,null,null,null,0,{"$f":"IF(Inventory[[#This Row],[Item SKU/ID]]=\"\",0,SUMPRODUCT((Quantity_Sold_1=Inventory[[#This Row],[Item SKU/ID]])*Net_Profit))","v":0},{"$f":"IFERROR(AVERAGE(Inventory[[#This Row],[Total Net Profit]]/Inventory[[#This Row],[Quantity Sold]]),0)","v":0}]
[null,null,null,null,null,null,null,null,0,0,0,null,null,null,0,{"$f":"IF(Inventory[[#This Row],[Item SKU/ID]]=\"\",0,SUMPRODUCT((Quantity_Sold_1=Inventory[[#This Row],[Item SKU/ID]])*Net_Profit))","v":0},{"$f":"IFERROR(AVERAGE(Inventory[[#This Row],[Total Net Profit]]/Inventory[[#This Row],[Quantity Sold]]),0)","v":0}]
[null,null,null,null,null,null,null,null,0,0,0,null,null,null,0,{"$f":"IF(Inventory[[#This Row],[Item SKU/ID]]=\"\",0,SUMPRODUCT((Quantity_Sold_1=Inventory[[#This Row],[Item SKU/ID]])*Net_Profit))","v":0},{"$f":"IFERROR(AVERAGE(Inventory[[#This Row],[Total Net Profit]]/Inventory[[#This Row],[Quantity Sold]]),0)","v":0}]
[null,null,null,null,null,null,null,null,0,0,0,null,null,null,0,{"$f":"IF(Inventory[[#This Row],[Item SKU/ID]]=\"\",0,SUMPRODUCT((Quantity_Sold_1=Inventory[[#This Row],[Item SKU/ID]])*Net_Profit))","v":0},{"$f":"IFERROR(AVERAGE(Inventory[[#This Row],[Total Net Profit]]/Inventory[[#This Row],[Quantity Sold]]),0)","v":0}]
[null,null,null,null,null,null,null,null,0,0,0,null,null,null,0,{"$f":"IF(Inventory[[#This Row],[Item SKU/ID]]=\"\",0,SUMPRODUCT((Quantity_Sold_1=Inventory[[#This Row],[Item SKU/ID]])*Net_Profit))","v":0},{"$f":"IFERROR(AVERAGE(Inventory[[#This Row],[Total Net Profit]]/Inventory[[#This Row],[Quantity Sold]]),0)","v":0}]
[null,null,null,null,null,null,null,null,0,0,0,null,null,null,0,{"$f":"IF(Inventory[[#This Row],[Item SKU/ID]]=\"\",0,SUMPRODUCT((Quantity_Sold_1=Inventory[[#This Row],[Item SKU/ID]])*Net_Profit))","v":0},{"$f":"IFERROR(AVERAGE(Inventory[[#This Row],[Total Net Profit]]/Inventory[[#This Row],[Quantity Sold]]),0)","v":0}]
[null,null,null,null,null,null,null,null,0,0,0,null,null,null,0,{"$f":"IF(Inventory[[#This Row],[Item SKU/ID]]=\"\",0,SUMPRODUCT((Quantity_Sold_1=Inventory[[#This Row],[Item SKU/ID]])*Net_Profit))","v":0},{"$f":"IFERROR(AVERAGE(Inventory[[#This Row],[Total Net Profit]]/Inventory[[#This Row],[Quantity Sold]]),0)","v":0}]
[null,null,null,null,null,null,null,null,0,0,0,null,null,null,0,{"$f":"IF(Inventory[[#This Row],[Item SKU/ID]]=\"\",0,SUMPRODUCT((Quantity_Sold_1=Inventory[[#This Row],[Item SKU/ID]])*Net_Profit))","v":0},{"$f":"IFERROR(AVERAGE(Inventory[[#This Row],[Total Net Profit]]/Inventory[[#This Row],[Quantity Sold]]),0)","v":0}]
[null,null,null,null,null,null,null,null,0,0,0,null,null,null,0,{"$f":"IF(Inventory[[#This Row],[Item SKU/ID]]=\"\",0,SUMPRODUCT((Quantity_Sold_1=Inventory[[#This Row],[Item SKU/ID]])*Net_Profit))","v":0},{"$f":"IFERROR(AVERAGE(Inventory[[#This Row],[Total Net Profit]]/Inventory[[#This Row],[Quantity Sold]]),0)","v":0}]
[null,null,null,null,null,null,null,null,0,0,0,null,null,null,0,{"$f":"IF(Inventory[[#This Row],[Item SKU/ID]]=\"\",0,SUMPRODUCT((Quantity_Sold_1=Inventory[[#This Row],[Item SKU/ID]])*Net_Profit))","v":0},{"$f":"IFERROR(AVERAGE(Inventory[[#This Row],[Total Net Profit]]/Inventory[[#This Row],[Quantity Sold]]),0)","v":0}]
[null,null,null,null,null,null,null,null,0,0,0,null,null,null,0,{"$f":"IF(Inventory[[#This Row],[Item SKU/ID]]=\"\",0,SUMPRODUCT((Quantity_Sold_1=Inventory[[#This Row],[Item SKU/ID]])*Net_Profit))","v":0},{"$f":"IFERROR(AVERAGE(Inventory[[#This Row],[Total Net Profit]]/Inventory[[#This Row],[Quantity Sold]]),0)","v":0}]
[null,null,null,null,null,null,null,null,0,0,0,null,null,null,0,{"$f":"IF(Inventory[[#This Row],[Item SKU/ID]]=\"\",0,SUMPRODUCT((Quantity_Sold_1=Inventory[[#This Row],[Item SKU/ID]])*Net_Profit))","v":0},{"$f":"IFERROR(AVERAGE(Inventory[[#This Row],[Total Net Profit]]/Inventory[[#This Row],[Quantity Sold]]),0)","v":0}]
[null,null,null,null,null,null,null,null,0,0,0,null,null,null,0,{"$f":"IF(Inventory[[#This Row],[Item SKU/ID]]=\"\",0,SUMPRODUCT((Quantity_Sold_1=Inventory[[#This Row],[Item SKU/ID]])*Net_Profit))","v":0},{"$f":"IFERROR(AVERAGE(Inventory[[#This Row],[Total Net Profit]]/Inventory[[#This Row],[Quantity Sold]]),0)","v":0}]
[null,null,null,null,null,null,null,null,0,0,0,null,null,null,0,{"$f":"IF(Inventory[[#This Row],[Item SKU/ID]]=\"\",0,SUMPRODUCT((Quantity_Sold_1=Inventory[[#This Row],[Item SKU/ID]])*Net_Profit))","v":0},{"$f":"IFERROR(AVERAGE(Inventory[[#This Row],[Total Net Profit]]/Inventory[[#This Row],[Quantity Sold]]),0)","v":0}]
[null,null,null,null,null,null,null,null,0,0,0,null,null,null,0,{"$f":"IF(Inventory[[#This Row],[Item SKU/ID]]=\"\",0,SUMPRODUCT((Quantity_Sold_1=Inventory[[#This Row],[Item SKU/ID]])*Net_Profit))","v":0},{"$f":"IFERROR(AVERAGE(Inventory[[#This Row],[Total Net Profit]]/Inventory[[#This Row],[Quantity Sold]]),0)","v":0}]
[null,null,null,null,null,null,null,null,0,0,0,null,null,null,0,{"$f":"IF(Inventory[[#This Row],[Item SKU/ID]]=\"\",0,SUMPRODUCT((Quantity_Sold_1=Inventory[[#This Row],[Item SKU/ID]])*Net_Profit))","v":0},{"$f":"IFERROR(AVERAGE(Inventory[[#This Row],[Total Net Profit]]/Inventory[[#This Row],[Quantity Sold]]),0)","v":0}]
[null,null,null,null,null,null,null,null,0,0,0,null,null,null,0,{"$f":"IF(Inventory[[#This Row],[Item SKU/ID]]=\"\",0,SUMPRODUCT((Quantity_Sold_1=Inventory[[#This Row],[Item SKU/ID]])*Net_Profit))","v":0},{"$f":"IFERROR(AVERAGE(Inventory[[#This Row],[Total Net Profit]]/Inventory[[#This Row],[Quantity Sold]]),0)","v":0}]
[null,null,null,null,null,null,null,null,0,0,0,null,null,null,0,{"$f":"IF(Inventory[[#This Row],[Item SKU/ID]]=\"\",0,SUMPRODUCT((Quantity_Sold_1=Inventory[[#This Row],[Item SKU/ID]])*Net_Profit))","v":0},{"$f":"IFERROR(AVERAGE(Inventory[[#This Row],[Total Net Profit]]/Inventory[[#This Row],[Quantity Sold]]),0)","v":0}]
[null,null,null,null,null,null,null,null,0,0,0,null,null,null,0,{"$f":"IF(Inventory[[#This Row],[Item SKU/ID]]=\"\",0,SUMPRODUCT((Quantity_Sold_1=Inventory[[#This Row],[Item SKU/ID]])*Net_Profit))","v":0},{"$f":"IFERROR(AVERAGE(Inventory[[#This Row],[Total Net Profit]]/Inventory[[#This Row],[Quantity Sold]]),0)","v":0}]
[null,null,null,null,null,null,null,null,0,0,0,null,null,null,0,{"$f":"IF(Inventory[[#This Row],[Item SKU/ID]]=\"\",0,SUMPRODUCT((Quantity_Sold_1=Inventory[[#This Row],[Item SKU/ID]])*Net_Profit))","v":0},{"$f":"IFERROR(AVERAGE(Inventory[[#This Row],[Total Net Profit]]/Inventory[[#This Row],[Quantity Sold]]),0)","v":0}]
[null,null,null,null,null,null,null,null,{"$f":"K3012*H3012","v":0},{"$f":"IF(F3012=\"\",0,SUMPRODUCT((Quantity_Sold_1=F3012)*Quantity_Sold_2))","v":0},{"$f":"G3012-J3012","v":0},null,null,null,{"$f":"K3012*H3012","v":0},{"$f":"IF(Inventory[[#This Row],[Item SKU/ID]]=\"\",0,SUMPRODUCT((Quantity_Sold_1=Inventory[[#This Row],[Item SKU/ID]])*Net_Profit))","v":0},{"$f":"IFERROR(AVERAGE(Inventory[[#This Row],[Total Net Profit]]/Inventory[[#This Row],[Quantity Sold]]),0)","v":0}]
[null,null,null,null,null,null,null,null,0,0,0,null,null,null,0,{"$f":"IF(Inventory[[#This Row],[Item SKU/ID]]=\"\",0,SUMPRODUCT((Quantity_Sold_1=Inventory[[#This Row],[Item SKU/ID]])*Net_Profit))","v":0},{"$f":"IFERROR(AVERAGE(Inventory[[#This Row],[Total Net Profit]]/Inventory[[#This Row],[Quantity Sold]]),0)","v":0}]
[null,null,null,null,null,null,null,null,0,0,0,null,null,null,0,{"$f":"IF(Inventory[[#This Row],[Item SKU/ID]]=\"\",0,SUMPRODUCT((Quantity_Sold_1=Inventory[[#This Row],[Item SKU/ID]])*Net_Profit))","v":0},{"$f":"IFERROR(AVERAGE(Inventory[[#This Row],[Total Net Profit]]/Inventory[[#This Row],[Quantity Sold]]),0)","v":0}]
[null,null,null,null,null,null,null,null,0,0,0,null,null,null,0,{"$f":"IF(Inventory[[#This Row],[Item SKU/ID]]=\"\",0,SUMPRODUCT((Quantity_Sold_1=Inventory[[#This Row],[Item SKU/ID]])*Net_Profit))","v":0},{"$f":"IFERROR(AVERAGE(Inventory[[#This Row],[Total Net Profit]]/Inventory[[#This Row],[Quantity Sold]]),0)","v":0}]
[null,null,null,null,null,null,null,null,0,0,0,null,null,null,0,{"$f":"IF(Inventory[[#This Row],[Item SKU/ID]]=\"\",0,SUMPRODUCT((Quantity_Sold_1=Inventory[[#This Row],[Item SKU/ID]])*Net_Profit))","v":0},{"$f":"IFERROR(AVERAGE(Inventory[[#This Row],[Total Net Profit]]/Inventory[[#This Row],[Quantity Sold]]),0)","v":0}]
[null,null,null,null,null,null,null,null,0,0,0,null,null,null,0,{"$f":"IF(Inventory[[#This Row],[Item SKU/ID]]=\"\",0,SUMPRODUCT((Quantity_Sold_1=Inventory[[#This Row],[Item SKU/ID]])*Net_Profit))","v":0},{"$f":"IFERROR(AVERAGE(Inventory[[#This Row],[Total Net Profit]]/Inventory[[#This Row],[Quantity Sold]]),0)","v":0}]
[null,null,null,null,null,null,null,null,0,0,0,null,null,null,0,{"$f":"IF(Inventory[[#This Row],[Item SKU/ID]]=\"\",0,SUMPRODUCT((Quantity_Sold_1=Inventory[[#This Row],[Item SKU/ID]])*Net_Profit))","v":0},{"$f":"IFERROR(AVERAGE(Inventory[[#This Row],[Total Net Profit]]/Inventory[[#This Row],[Quantity Sold]]),0)","v":0}]
[null,null,null,null,null,null,null,null,0,0,0,null,null,null,0,{"$f":"IF(Inventory[[#This Row],[Item SKU/ID]]=\"\",0,SUMPRODUCT((Quantity_Sold_1=Inventory[[#This Row],[Item SKU/ID]])*Net_Profit))","v":0},{"$f":"IFERROR(AVERAGE(Inventory[[#This Row],[Total Net Profit]]/Inventory[[#This Row],[Quantity Sold]]),0)","v":0}]
[null,null,null,null,null,null,null,null,0,0,0,null,null,null,0,{"$f":"IF(Inventory[[#This Row],[Item SKU/ID]]=\"\",0,SUMPRODUCT((Quantity_Sold_1=Inventory[[#This Row],[Item SKU/ID]])*Net_Profit))","v":0},{"$f":"IFERROR(AVERAGE(Inventory[[#This Row],[Total Net Profit]]/Inventory[[#This Row],[Quantity Sold]]),0)","v":0}]
[null,null,null,null,null,null,null,null,0,0,0,null,null,null,0,{"$f":"IF(Inventory[[#This Row],[Item SKU/ID]]=\"\",0,SUMPRODUCT((Quantity_Sold_1=Inventory[[#This Row],[Item SKU/ID]])*Net_Profit))","v":0},{"$f":"IFERROR(AVERAGE(Inventory[[#This Row],[Total Net Profit]]/Inventory[[#This Row],[Quantity Sold]]),0)","v":0}]
[null,null,null,null,null,null,null,null,0,0,0,null,null,null,0,{"$f":"IF(Inventory[[#This Row],[Item SKU/ID]]=\"\",0,SUMPRODUCT((Quantity_Sold_1=Inventory[[#This Row],[Item SKU/ID]])*Net_Profit))","v":0},{"$f":"IFERROR(AVERAGE(Inventory[[#This Row],[Total Net Profit]]/Inventory[[#This Row],[Quantity Sold]]),0)","v":0}]
[null,null,null,null,null,null,null,null,0,0,0,null,null,null,0,{"$f":"IF(Inventory[[#This Row],[Item SKU/ID]]=\"\",0,SUMPRODUCT((Quantity_Sold_1=Inventory[[#This Row],[Item SKU/ID]])*Net_Profit))","v":0},{"$f":"IFERROR(AVERAGE(Inventory[[#This Row],[Total Net Profit]]/Inventory[[#This Row],[Quantity Sold]]),0)","v":0}]
[null,null,null,null,null,null,null,null,0,0,0,null,null,null,0,{"$f":"IF(Inventory[[#This Row],[Item SKU/ID]]=\"\",0,SUMPRODUCT((Quantity_Sold_1=Inventory[[#This Row],[Item SKU/ID]])*Net_Profit))","v":0},{"$f":"IFERROR(AVERAGE(Inventory[[#This Row],[Total Net Profit]]/Inventory[[#This Row],[Quantity Sold]]),0)","v":0}]
[null,null,null,null,null,null,null,null,0,0,0,null,null,null,0,{"$f":"IF(Inventory[[#This Row],[Item SKU/ID]]=\"\",0,SUMPRODUCT((Quantity_Sold_1=Inventory[[#This Row],[Item SKU/ID]])*Net_Profit))","v":0},{"$f":"IFERROR(AVERAGE(Inventory[[#This Row],[Total Net Profit]]/Inventory[[#This Row],[Quantity Sold]]),0)","v":0}]
[null,null,null,null,null,null,null,null,0,0,0,null,null,null,0,{"$f":"IF(Inventory[[#This Row],[Item SKU/ID]]=\"\",0,SUMPRODUCT((Quantity_Sold_1=Inventory[[#This Row],[Item SKU/ID]])*Net_Profit))","v":0},{"$f":"IFERROR(AVERAGE(Inventory[[#This Row],[Total Net Profit]]/Inventory[[#This Row],[Quantity Sold]]),0)","v":0}]
[null,null,null,null,null,null,null,null,0,0,0,null,null,null,0,{"$f":"IF(Inventory[[#This Row],[Item SKU/ID]]=\"\",0,SUMPRODUCT((Quantity_Sold_1=Inventory[[#This Row],[Item SKU/ID]])*Net_Profit))","v":0},{"$f":"IFERROR(AVERAGE(Inventory[[#This Row],[Total Net Profit]]/Inventory[[#This Row],[Quantity Sold]]),0)","v":0}]
[null,null,null,null,null,null,null,null,0,0,0,null,null,null,0,{"$f":"IF(Inventory[[#This Row],[Item SKU/ID]]=\"\",0,SUMPRODUCT((Quantity_Sold_1=Inventory[[#This Row],[Item SKU/ID]])*Net_Profit))","v":0},{"$f":"IFERROR(AVERAGE(Inventory[[#This Row],[Total Net Profit]]/Inventory[[#This Row],[Quantity Sold]]),0)","v":0}]
[null,null,null,null,null,null,null,null,0,0,0,null,null,null,0,{"$f":"IF(Inventory[[#This Row],[Item SKU/ID]]=\"\",0,SUMPRODUCT((Quantity_Sold_1=Inventory[[#This Row],[Item SKU/ID]])*Net_Profit))","v":0},{"$f":"IFERROR(AVERAGE(Inventory[[#This Row],[Total Net Profit]]/Inventory[[#This Row],[Quantity Sold]]),0)","v":0}]
[null,null,null,null,null,null,null,null,0,0,0,null,null,null,0,{"$f":"IF(Inventory[[#This Row],[Item SKU/ID]]=\"\",0,SUMPRODUCT((Quantity_Sold_1=Inventory[[#This Row],[Item SKU/ID]])*Net_Profit))","v":0},{"$f":"IFERROR(AVERAGE(Inventory[[#This Row],[Total Net Profit]]/Inventory[[#This Row],[Quantity Sold]]),0)","v":0}]
[null,null,null,null,null,null,null,null,0,0,0,null,null,null,0,{"$f":"IF(Inventory[[#This Row],[Item SKU/ID]]=\"\",0,SUMPRODUCT((Quantity_Sold_1=Inventory[[#This Row],[Item SKU/ID]])*Net_Profit))","v":0},{"$f":"IFERROR(AVERAGE(Inventory[[#This Row],[Total Net Profit]]/Inventory[[#This Row],[Quantity Sold]]),0)","v":0}]
[null,null,null,null,null,null,null,null,0,0,0,null,null,null,0,{"$f":"IF(Inventory[[#This Row],[Item SKU/ID]]=\"\",0,SUMPRODUCT((Quantity_Sold_1=Inventory[[#This Row],[Item SKU/ID]])*Net_Profit))","v":0},{"$f":"IFERROR(AVERAGE(Inventory[[#This Row],[Total Net Profit]]/Inventory[[#This Row],[Quantity Sold]]),0)","v":0}]
[null,null,null,null,null,null,null,null,0,0,0,null,null,null,0,{"$f":"IF(Inventory[[#This Row],[Item SKU/ID]]=\"\",0,SUMPRODUCT((Quantity_Sold_1=Inventory[[#This Row],[Item SKU/ID]])*Net_Profit))","v":0},{"$f":"IFERROR(AVERAGE(Inventory[[#This Row],[Total Net Profit]]/Inventory[[#This Row],[Quantity Sold]]),0)","v":0}]
[null,null,null,null,null,null,null,null,0,0,0,null,null,null,0,{"$f":"IF(Inventory[[#This Row],[Item SKU/ID]]=\"\",0,SUMPRODUCT((Quantity_Sold_1=Inventory[[#This Row],[Item SKU/ID]])*Net_Profit))","v":0},{"$f":"IFERROR(AVERAGE(Inventory[[#This Row],[Total Net Profit]]/Inventory[[#This Row],[Quantity Sold]]),0)","v":0}]
[null,null,null,null,null,null,null,null,0,0,0,null,null,null,0,{"$f":"IF(Inventory[[#This Row],[Item SKU/ID]]=\"\",0,SUMPRODUCT((Quantity_Sold_1=Inventory[[#This Row],[Item SKU/ID]])*Net_Profit))","v":0},{"$f":"IFERROR(AVERAGE(Inventory[[#This Row],[Total Net Profit]]/Inventory[[#This Row],[Quantity Sold]]),0)","v":0}]
[null,null,null,null,null,null,null,null,0,0,0,null,null,null,0,{"$f":"IF(Inventory[[#This Row],[Item SKU/ID]]=\"\",0,SUMPRODUCT((Quantity_Sold_1=Inventory[[#This Row],[Item SKU/ID]])*Net_Profit))","v":0},{"$f":"IFERROR(AVERAGE(Inventory[[#This Row],[Total Net Profit]]/Inventory[[#This Row],[Quantity Sold]]),0)","v":0}]
[null,null,null,null,null,null,null,null,0,0,0,null,null,null,0,{"$f":"IF(Inventory[[#This Row],[Item SKU/ID]]=\"\",0,SUMPRODUCT((Quantity_Sold_1=Inventory[[#This Row],[Item SKU/ID]])*Net_Profit))","v":0},{"$f":"IFERROR(AVERAGE(Inventory[[#This Row],[Total Net Profit]]/Inventory[[#This Row],[Quantity Sold]]),0)","v":0}]
[null,null,null,null,null,null,null,null,0,0,0,null,null,null,0,{"$f":"IF(Inventory[[#This Row],[Item SKU/ID]]=\"\",0,SUMPRODUCT((Quantity_Sold_1=Inventory[[#This Row],[Item SKU/ID]])*Net_Profit))","v":0},{"$f":"IFERROR(AVERAGE(Inventory[[#This Row],[Total Net Profit]]/Inventory[[#This Row],[Quantity Sold]]),0)","v":0}]
[null,null,null,null,null,null,null,null,0,0,0,null,null,null,0,{"$f":"IF(Inventory[[#This Row],[Item SKU/ID]]=\"\",0,SUMPRODUCT((Quantity_Sold_1=Inventory[[#This Row],[Item SKU/ID]])*Net_Profit))","v":0},{"$f":"IFERROR(AVERAGE(Inventory[[#This Row],[Total Net Profit]]/Inventory[[#This Row],[Quantity Sold]]),0)","v":0}]
[null,null,null,null,null,null,null,null,0,0,0,null,null,null,0,{"$f":"IF(Inventory[[#This Row],[Item SKU/ID]]=\"\",0,SUMPRODUCT((Quantity_Sold_1=Inventory[[#This Row],[Item SKU/ID]])*Net_Profit))","v":0},{"$f":"IFERROR(AVERAGE(Inventory[[#This Row],[Total Net Profit]]/Inventory[[#This Row],[Quantity Sold]]),0)","v":0}]
[null,null,null,null,null,null,null,null,0,0,0,null,null,null,0,{"$f":"IF(Inventory[[#This Row],[Item SKU/ID]]=\"\",0,SUMPRODUCT((Quantity_Sold_1=Inventory[[#This Row],[Item SKU/ID]])*Net_Profit))","v":0},{"$f":"IFERROR(AVERAGE(Inventory[[#This Row],[Total Net Profit]]/Inventory[[#This Row],[Quantity Sold]]),0)","v":0}]
[null,null,null,null,null,null,null,null,0,0,0,null,null,null,0,{"$f":"IF(Inventory[[#This Row],[Item SKU/ID]]=\"\",0,SUMPRODUCT((Quantity_Sold_1=Inventory[[#This Row],[Item SKU/ID]])*Net_Profit))","v":0},{"$f":"IFERROR(AVERAGE(Inventory[[#This Row],[Total Net Profit]]/Inventory[[#This Row],[Quantity Sold]]),0)","v":0}]
[null,null,null,null,null,null,null,null,0,0,0,null,null,null,0,{"$f":"IF(Inventory[[#This Row],[Item SKU/ID]]=\"\",0,SUMPRODUCT((Quantity_Sold_1=Inventory[[#This Row],[Item SKU/ID]])*Net_Profit))","v":0},{"$f":"IFERROR(AVERAGE(Inventory[[#This Row],[Total Net Profit]]/Inventory[[#This Row],[Quantity Sold]]),0)","v":0}]
[null,null,null,null,null,null,null,null,0,0,0,null,null,null,0,{"$f":"IF(Inventory[[#This Row],[Item SKU/ID]]=\"\",0,SUMPRODUCT((Quantity_Sold_1=Inventory[[#This Row],[Item SKU/ID]])*Net_Profit))","v":0},{"$f":"IFERROR(AVERAGE(Inventory[[#This Row],[Total Net Profit]]/Inventory[[#This Row],[Quantity Sold]]),0)","v":0}]
[null,null,null,null,null,null,null,null,0,0,0,null,null,null,0,{"$f":"IF(Inventory[[#This Row],[Item SKU/ID]]=\"\",0,SUMPRODUCT((Quantity_Sold_1=Inventory[[#This Row],[Item SKU/ID]])*Net_Profit))","v":0},{"$f":"IFERROR(AVERAGE(Inventory[[#This Row],[Total Net Profit]]/Inventory[[#This Row],[Quantity Sold]]),0)","v":0}]
[null,null,null,null,null,null,null,null,0,0,0,null,null,null,0,{"$f":"IF(Inventory[[#This Row],[Item SKU/ID]]=\"\",0,SUMPRODUCT((Quantity_Sold_1=Inventory[[#This Row],[Item SKU/ID]])*Net_Profit))","v":0},{"$f":"IFERROR(AVERAGE(Inventory[[#This Row],[Total Net Profit]]/Inventory[[#This Row],[Quantity Sold]]),0)","v":0}]
[null,null,null,null,null,null,null,null,0,0,0,null,null,null,0,{"$f":"IF(Inventory[[#This Row],[Item SKU/ID]]=\"\",0,SUMPRODUCT((Quantity_Sold_1=Inventory[[#This Row],[Item SKU/ID]])*Net_Profit))","v":0},{"$f":"IFERROR(AVERAGE(Inventory[[#This Row],[Total Net Profit]]/Inventory[[#This Row],[Quantity Sold]]),0)","v":0}]
[null,null,null,null,null,null,null,null,0,0,0,null,null,null,0,{"$f":"IF(Inventory[[#This Row],[Item SKU/ID]]=\"\",0,SUMPRODUCT((Quantity_Sold_1=Inventory[[#This Row],[Item SKU/ID]])*Net_Profit))","v":0},{"$f":"IFERROR(AVERAGE(Inventory[[#This Row],[Total Net Profit]]/Inventory[[#This Row],[Quantity Sold]]),0)","v":0}]
[null,null,null,null,null,null,null,null,0,0,0,null,null,null,0,{"$f":"IF(Inventory[[#This Row],[Item SKU/ID]]=\"\",0,SUMPRODUCT((Quantity_Sold_1=Inventory[[#This Row],[Item SKU/ID]])*Net_Profit))","v":0},{"$f":"IFERROR(AVERAGE(Inventory[[#This Row],[Total Net Profit]]/Inventory[[#This Row],[Quantity Sold]]),0)","v":0}]
[null,null,null,null,null,null,null,null,0,0,0,null,null,null,0,{"$f":"IF(Inventory[[#This Row],[Item SKU/ID]]=\"\",0,SUMPRODUCT((Quantity_Sold_1=Inventory[[#This Row],[Item SKU/ID]])*Net_Profit))","v":0},{"$f":"IFERROR(AVERAGE(Inventory[[#This Row],[Total Net Profit]]/Inventory[[#This Row],[Quantity Sold]]),0)","v":0}]
[null,null,null,null,null,null,null,null,0,0,0,null,null,null,0,{"$f":"IF(Inventory[[#This Row],[Item SKU/ID]]=\"\",0,SUMPRODUCT((Quantity_Sold_1=Inventory[[#This Row],[Item SKU/ID]])*Net_Profit))","v":0},{"$f":"IFERROR(AVERAGE(Inventory[[#This Row],[Total Net Profit]]/Inventory[[#This Row],[Quantity Sold]]),0)","v":0}]
[null,null,null,null,null,null,null,null,0,0,0,null,null,null,0,{"$f":"IF(Inventory[[#This Row],[Item SKU/ID]]=\"\",0,SUMPRODUCT((Quantity_Sold_1=Inventory[[#This Row],[Item SKU/ID]])*Net_Profit))","v":0},{"$f":"IFERROR(AVERAGE(Inventory[[#This Row],[Total Net Profit]]/Inventory[[#This Row],[Quantity Sold]]),0)","v":0}]
[null,null,null,null,null,null,null,null,0,0,0,null,null,null,0,{"$f":"IF(Inventory[[#This Row],[Item SKU/ID]]=\"\",0,SUMPRODUCT((Quantity_Sold_1=Inventory[[#This Row],[Item SKU/ID]])*Net_Profit))","v":0},{"$f":"IFERROR(AVERAGE(Inventory[[#This Row],[Total Net Profit]]/Inventory[[#This Row],[Quantity Sold]]),0)","v":0}]
[null,null,null,null,null,null,null,null,0,0,0,null,null,null,0,{"$f":"IF(Inventory[[#This Row],[Item SKU/ID]]=\"\",0,SUMPRODUCT((Quantity_Sold_1=Inventory[[#This Row],[Item SKU/ID]])*Net_Profit))","v":0},{"$f":"IFERROR(AVERAGE(Inventory[[#This Row],[Total Net Profit]]/Inventory[[#This Row],[Quantity Sold]]),0)","v":0}]
[null,null,null,null,null,null,null,null,0,0,0,null,null,null,0,{"$f":"IF(Inventory[[#This Row],[Item SKU/ID]]=\"\",0,SUMPRODUCT((Quantity_Sold_1=Inventory[[#This Row],[Item SKU/ID]])*Net_Profit))","v":0},{"$f":"IFERROR(AVERAGE(Inventory[[#This Row],[Total Net Profit]]/Inventory[[#This Row],[Quantity Sold]]),0)","v":0}]
[null,null,null,null,null,null,null,null,0,0,0,null,null,null,0,{"$f":"IF(Inventory[[#This Row],[Item SKU/ID]]=\"\",0,SUMPRODUCT((Quantity_Sold_1=Inventory[[#This Row],[Item SKU/ID]])*Net_Profit))","v":0},{"$f":"IFERROR(AVERAGE(Inventory[[#This Row],[Total Net Profit]]/Inventory[[#This Row],[Quantity Sold]]),0)","v":0}]
[null,null,null,null,null,null,null,null,0,0,0,null,null,null,0,{"$f":"IF(Inventory[[#This Row],[Item SKU/ID]]=\"\",0,SUMPRODUCT((Quantity_Sold_1=Inventory[[#This Row],[Item SKU/ID]])*Net_Profit))","v":0},{"$f":"IFERROR(AVERAGE(Inventory[[#This Row],[Total Net Profit]]/Inventory[[#This Row],[Quantity Sold]]),0)","v":0}]
[null,null,null,null,null,null,null,null,0,0,0,null,null,null,0,{"$f":"IF(Inventory[[#This Row],[Item SKU/ID]]=\"\",0,SUMPRODUCT((Quantity_Sold_1=Inventory[[#This Row],[Item SKU/ID]])*Net_Profit))","v":0},{"$f":"IFERROR(AVERAGE(Inventory[[#This Row],[Total Net Profit]]/Inventory[[#This Row],[Quantity Sold]]),0)","v":0}]
[null,null,null,null,null,null,null,null,0,0,0,null,null,null,0,{"$f":"IF(Inventory[[#This Row],[Item SKU/ID]]=\"\",0,SUMPRODUCT((Quantity_Sold_1=Inventory[[#This Row],[Item SKU/ID]])*Net_Profit))","v":0},{"$f":"IFERROR(AVERAGE(Inventory[[#This Row],[Total Net Profit]]/Inventory[[#This Row],[Quantity Sold]]),0)","v":0}]
[null,null,null,null,null,null,null,null,0,0,0,null,null,null,0,{"$f":"IF(Inventory[[#This Row],[Item SKU/ID]]=\"\",0,SUMPRODUCT((Quantity_Sold_1=Inventory[[#This Row],[Item SKU/ID]])*Net_Profit))","v":0},{"$f":"IFERROR(AVERAGE(Inventory[[#This Row],[Total Net Profit]]/Inventory[[#This Row],[Quantity Sold]]),0)","v":0}]
[null,null,null,null,null,null,null,null,0,0,0,null,null,null,0,{"$f":"IF(Inventory[[#This Row],[Item SKU/ID]]=\"\",0,SUMPRODUCT((Quantity_Sold_1=Inventory[[#This Row],[Item SKU/ID]])*Net_Profit))","v":0},{"$f":"IFERROR(AVERAGE(Inventory[[#This Row],[Total Net Profit]]/Inventory[[#This Row],[Quantity Sold]]),0)","v":0}]
[null,null,null,null,null,null,null,null,0,0,0,null,null,null,0,{"$f":"IF(Inventory[[#This Row],[Item SKU/ID]]=\"\",0,SUMPRODUCT((Quantity_Sold_1=Inventory[[#This Row],[Item SKU/ID]])*Net_Profit))","v":0},{"$f":"IFERROR(AVERAGE(Inventory[[#This Row],[Total Net Profit]]/Inventory[[#This Row],[Quantity Sold]]),0)","v":0}]
[null,null,null,null,null,null,null,null,0,0,0,null,null,null,0,{"$f":"IF(Inventory[[#This Row],[Item SKU/ID]]=\"\",0,SUMPRODUCT((Quantity_Sold_1=Inventory[[#This Row],[Item SKU/ID]])*Net_Profit))","v":0},{"$f":"IFERROR(AVERAGE(Inventory[[#This Row],[Total Net Profit]]/Inventory[[#This Row],[Quantity Sold]]),0)","v":0}]
[null,null,null,null,null,null,null,null,0,0,0,null,null,null,0,{"$f":"IF(Inventory[[#This Row],[Item SKU/ID]]=\"\",0,SUMPRODUCT((Quantity_Sold_1=Inventory[[#This Row],[Item SKU/ID]])*Net_Profit))","v":0},{"$f":"IFERROR(AVERAGE(Inventory[[#This Row],[Total Net Profit]]/Inventory[[#This Row],[Quantity Sold]]),0)","v":0}]
[null,null,null,null,null,null,null,null,0,0,0,null,null,null,0,{"$f":"IF(Inventory[[#This Row],[Item SKU/ID]]=\"\",0,SUMPRODUCT((Quantity_Sold_1=Inventory[[#This Row],[Item SKU/ID]])*Net_Profit))","v":0},{"$f":"IFERROR(AVERAGE(Inventory[[#This Row],[Total Net Profit]]/Inventory[[#This Row],[Quantity Sold]]),0)","v":0}]
[null,null,null,null,null,null,null,null,0,0,0,null,null,null,0,{"$f":"IF(Inventory[[#This Row],[Item SKU/ID]]=\"\",0,SUMPRODUCT((Quantity_Sold_1=Inventory[[#This Row],[Item SKU/ID]])*Net_Profit))","v":0},{"$f":"IFERROR(AVERAGE(Inventory[[#This Row],[Total Net Profit]]/Inventory[[#This Row],[Quantity Sold]]),0)","v":0}]
[null,null,null,null,null,null,null,null,0,0,0,null,null,null,0,{"$f":"IF(Inventory[[#This Row],[Item SKU/ID]]=\"\",0,SUMPRODUCT((Quantity_Sold_1=Inventory[[#This Row],[Item SKU/ID]])*Net_Profit))","v":0},{"$f":"IFERROR(AVERAGE(Inventory[[#This Row],[Total Net Profit]]/Inventory[[#This Row],[Quantity Sold]]),0)","v":0}]
[null,null,null,null,null,null,null,null,0,0,0,null,null,null,0,{"$f":"IF(Inventory[[#This Row],[Item SKU/ID]]=\"\",0,SUMPRODUCT((Quantity_Sold_1=Inventory[[#This Row],[Item SKU/ID]])*Net_Profit))","v":0},{"$f":"IFERROR(AVERAGE(Inventory[[#This Row],[Total Net Profit]]/Inventory[[#This Row],[Quantity Sold]]),0)","v":0}]
[null,null,null,null,null,null,null,null,0,0,0,null,null,null,0,{"$f":"IF(Inventory[[#This Row],[Item SKU/ID]]=\"\",0,SUMPRODUCT((Quantity_Sold_1=Inventory[[#This Row],[Item SKU/ID]])*Net_Profit))","v":0},{"$f":"IFERROR(AVERAGE(Inventory[[#This Row],[Total Net Profit]]/Inventory[[#This Row],[Quantity Sold]]),0)","v":0}]
[null,null,null,null,null,null,null,null,0,0,0,null,null,null,0,{"$f":"IF(Inventory[[#This Row],[Item SKU/ID]]=\"\",0,SUMPRODUCT((Quantity_Sold_1=Inventory[[#This Row],[Item SKU/ID]])*Net_Profit))","v":0},{"$f":"IFERROR(AVERAGE(Inventory[[#This Row],[Total Net Profit]]/Inventory[[#This Row],[Quantity Sold]]),0)","v":0}]
[null,null,null,null,null,null,null,null,0,0,0,null,null,null,0,{"$f":"IF(Inventory[[#This Row],[Item SKU/ID]]=\"\",0,SUMPRODUCT((Quantity_Sold_1=Inventory[[#This Row],[Item SKU/ID]])*Net_Profit))","v":0},{"$f":"IFERROR(AVERAGE(Inventory[[#This Row],[Total Net Profit]]/Inventory[[#This Row],[Quantity Sold]]),0)","v":0}]
[null,null,null,null,null,null,null,null,0,0,0,null,null,null,0,{"$f":"IF(Inventory[[#This Row],[Item SKU/ID]]=\"\",0,SUMPRODUCT((Quantity_Sold_1=Inventory[[#This Row],[Item SKU/ID]])*Net_Profit))","v":0},{"$f":"IFERROR(AVERAGE(Inventory[[#This Row],[Total Net Profit]]/Inventory[[#This Row],[Quantity Sold]]),0)","v":0}]
[null,null,null,null,null,null,null,null,0,0,0,null,null,null,0,{"$f":"IF(Inventory[[#This Row],[Item SKU/ID]]=\"\",0,SUMPRODUCT((Quantity_Sold_1=Inventory[[#This Row],[Item SKU/ID]])*Net_Profit))","v":0},{"$f":"IFERROR(AVERAGE(Inventory[[#This Row],[Total Net Profit]]/Inventory[[#This Row],[Quantity Sold]]),0)","v":0}]
[null,null,null,null,null,null,null,null,0,0,0,null,null,null,0,{"$f":"IF(Inventory[[#This Row],[Item SKU/ID]]=\"\",0,SUMPRODUCT((Quantity_Sold_1=Inventory[[#This Row],[Item SKU/ID]])*Net_Profit))","v":0},{"$f":"IFERROR(AVERAGE(Inventory[[#This Row],[Total Net Profit]]/Inventory[[#This Row],[Quantity Sold]]),0)","v":0}]
[null,null,null,null,null,null,null,null,0,0,0,null,null,null,0,{"$f":"IF(Inventory[[#This Row],[Item SKU/ID]]=\"\",0,SUMPRODUCT((Quantity_Sold_1=Inventory[[#This Row],[Item SKU/ID]])*Net_Profit))","v":0},{"$f":"IFERROR(AVERAGE(Inventory[[#This Row],[Total Net Profit]]/Inventory[[#This Row],[Quantity Sold]]),0)","v":0}]
[null,null,null,null,null,null,null,null,{"$f":"K3076*H3076","v":0},{"$f":"IF(F3076=\"\",0,SUMPRODUCT((Quantity_Sold_1=F3076)*Quantity_Sold_2))","v":0},{"$f":"G3076-J3076","v":0},null,null,null,{"$f":"K3076*H3076","v":0},{"$f":"IF(Inventory[[#This Row],[Item SKU/ID]]=\"\",0,SUMPRODUCT((Quantity_Sold_1=Inventory[[#This Row],[Item SKU/ID]])*Net_Profit))","v":0},{"$f":"IFERROR(AVERAGE(Inventory[[#This Row],[Total Net Profit]]/Inventory[[#This Row],[Quantity Sold]]),0)","v":0}]
[null,null,null,null,null,null,null,null,0,0,0,null,null,null,0,{"$f":"IF(Inventory[[#This Row],[Item SKU/ID]]=\"\",0,SUMPRODUCT((Quantity_Sold_1=Inventory[[#This Row],[Item SKU/ID]])*Net_Profit))","v":0},{"$f":"IFERROR(AVERAGE(Inventory[[#This Row],[Total Net Profit]]/Inventory[[#This Row],[Quantity Sold]]),0)","v":0}]
[null,null,null,null,null,null,null,null,0,0,0,null,null,null,0,{"$f":"IF(Inventory[[#This Row],[Item SKU/ID]]=\"\",0,SUMPRODUCT((Quantity_Sold_1=Inventory[[#This Row],[Item SKU/ID]])*Net_Profit))","v":0},{"$f":"IFERROR(AVERAGE(Inventory[[#This Row],[Total Net Profit]]/Inventory[[#This Row],[Quantity Sold]]),0)","v":0}]
[null,null,null,null,null,null,null,null,0,0,0,null,null,null,0,{"$f":"IF(Inventory[[#This Row],[Item SKU/ID]]=\"\",0,SUMPRODUCT((Quantity_Sold_1=Inventory[[#This Row],[Item SKU/ID]])*Net_Profit))","v":0},{"$f":"IFERROR(AVERAGE(Inventory[[#This Row],[Total Net Profit]]/Inventory[[#This Row],[Quantity Sold]]),0)","v":0}]
[null,null,null,null,null,null,null,null,0,0,0,null,null,null,0,{"$f":"IF(Inventory[[#This Row],[Item SKU/ID]]=\"\",0,SUMPRODUCT((Quantity_Sold_1=Inventory[[#This Row],[Item SKU/ID]])*Net_Profit))","v":0},{"$f":"IFERROR(AVERAGE(Inventory[[#This Row],[Total Net Profit]]/Inventory[[#This Row],[Quantity Sold]]),0)","v":0}]
[null,null,null,null,null,null,null,null,0,0,0,null,null,null,0,{"$f":"IF(Inventory[[#This Row],[Item SKU/ID]]=\"\",0,SUMPRODUCT((Quantity_Sold_1=Inventory[[#This Row],[Item SKU/ID]])*Net_Profit))","v":0},{"$f":"IFERROR(AVERAGE(Inventory[[#This Row],[Total Net Profit]]/Inventory[[#This Row],[Quantity Sold]]),0)","v":0}]
[null,null,null,null,null,null,null,null,0,0,0,null,null,null,0,{"$f":"IF(Inventory[[#This Row],[Item SKU/ID]]=\"\",0,SUMPRODUCT((Quantity_Sold_1=Inventory[[#This Row],[Item SKU/ID]])*Net_Profit))","v":0},{"$f":"IFERROR(AVERAGE(Inventory[[#This Row],[Total Net Profit]]/Inventory[[#This Row],[Quantity Sold]]),0)","v":0}]
[null,null,null,null,null,null,null,null,0,0,0,null,null,null,0,{"$f":"IF(Inventory[[#This Row],[Item SKU/ID]]=\"\",0,SUMPRODUCT((Quantity_Sold_1=Inventory[[#This Row],[Item SKU/ID]])*Net_Profit))","v":0},{"$f":"IFERROR(AVERAGE(Inventory[[#This Row],[Total Net Profit]]/Inventory[[#This Row],[Quantity Sold]]),0)","v":0}]
[null,null,null,null,null,null,null,null,0,0,0,null,null,null,0,{"$f":"IF(Inventory[[#This Row],[Item SKU/ID]]=\"\",0,SUMPRODUCT((Quantity_Sold_1=Inventory[[#This Row],[Item SKU/ID]])*Net_Profit))","v":0},{"$f":"IFERROR(AVERAGE(Inventory[[#This Row],[Total Net Profit]]/Inventory[[#This Row],[Quantity Sold]]),0)","v":0}]
[null,null,null,null,null,null,null,null,0,0,0,null,null,null,0,{"$f":"IF(Inventory[[#This Row],[Item SKU/ID]]=\"\",0,SUMPRODUCT((Quantity_Sold_1=Inventory[[#This Row],[Item SKU/ID]])*Net_Profit))","v":0},{"$f":"IFERROR(AVERAGE(Inventory[[#This Row],[Total Net Profit]]/Inventory[[#This Row],[Quantity Sold]]),0)","v":0}]
[null,null,null,null,null,null,null,null,0,0,0,null,null,null,0,{"$f":"IF(Inventory[[#This Row],[Item SKU/ID]]=\"\",0,SUMPRODUCT((Quantity_Sold_1=Inventory[[#This Row],[Item SKU/ID]])*Net_Profit))","v":0},{"$f":"IFERROR(AVERAGE(Inventory[[#This Row],[Total Net Profit]]/Inventory[[#This Row],[Quantity Sold]]),0)","v":0}]
[null,null,null,null,null,null,null,null,0,0,0,null,null,null,0,{"$f":"IF(Inventory[[#This Row],[Item SKU/ID]]=\"\",0,SUMPRODUCT((Quantity_Sold_1=Inventory[[#This Row],[Item SKU/ID]])*Net_Profit))","v":0},{"$f":"IFERROR(AVERAGE(Inventory[[#This Row],[Total Net Profit]]/Inventory[[#This Row],[Quantity Sold]]),0)","v":0}]
[null,null,null,null,null,null,null,null,0,0,0,null,null,null,0,{"$f":"IF(Inventory[[#This Row],[Item SKU/ID]]=\"\",0,SUMPRODUCT((Quantity_Sold_1=Inventory[[#This Row],[Item SKU/ID]])*Net_Profit))","v":0},{"$f":"IFERROR(AVERAGE(Inventory[[#This Row],[Total Net Profit]]/Inventory[[#This Row],[Quantity Sold]]),0)","v":0}]
[null,null,null,null,null,null,null,null,0,0,0,null,null,null,0,{"$f":"IF(Inventory[[#This Row],[Item SKU/ID]]=\"\",0,SUMPRODUCT((Quantity_Sold_1=Inventory[[#This Row],[Item SKU/ID]])*Net_Profit))","v":0},{"$f":"IFERROR(AVERAGE(Inventory[[#This Row],[Total Net Profit]]/Inventory[[#This Row],[Quantity Sold]]),0)","v":0}]
[null,null,null,null,null,null,null,null,0,0,0,null,null,null,0,{"$f":"IF(Inventory[[#This Row],[Item SKU/ID]]=\"\",0,SUMPRODUCT((Quantity_Sold_1=Inventory[[#This Row],[Item SKU/ID]])*Net_Profit))","v":0},{"$f":"IFERROR(AVERAGE(Inventory[[#This Row],[Total Net Profit]]/Inventory[[#This Row],[Quantity Sold]]),0)","v":0}]
[null,null,null,null,null,null,null,null,0,0,0,null,null,null,0,{"$f":"IF(Inventory[[#This Row],[Item SKU/ID]]=\"\",0,SUMPRODUCT((Quantity_Sold_1=Inventory[[#This Row],[Item SKU/ID]])*Net_Profit))","v":0},{"$f":"IFERROR(AVERAGE(Inventory[[#This Row],[Total Net Profit]]/Inventory[[#This Row],[Quantity Sold]]),0)","v":0}]
[null,null,null,null,null,null,null,null,0,0,0,null,null,null,0,{"$f":"IF(Inventory[[#This Row],[Item SKU/ID]]=\"\",0,SUMPRODUCT((Quantity_Sold_1=Inventory[[#This Row],[Item SKU/ID]])*Net_Profit))","v":0},{"$f":"IFERROR(AVERAGE(Inventory[[#This Row],[Total Net Profit]]/Inventory[[#This Row],[Quantity Sold]]),0)","v":0}]
[null,null,null,null,null,null,null,null,0,0,0,null,null,null,0,{"$f":"IF(Inventory[[#This Row],[Item SKU/ID]]=\"\",0,SUMPRODUCT((Quantity_Sold_1=Inventory[[#This Row],[Item SKU/ID]])*Net_Profit))","v":0},{"$f":"IFERROR(AVERAGE(Inventory[[#This Row],[Total Net Profit]]/Inventory[[#This Row],[Quantity Sold]]),0)","v":0}]
[null,null,null,null,null,null,null,null,0,0,0,null,null,null,0,{"$f":"IF(Inventory[[#This Row],[Item SKU/ID]]=\"\",0,SUMPRODUCT((Quantity_Sold_1=Inventory[[#This Row],[Item SKU/ID]])*Net_Profit))","v":0},{"$f":"IFERROR(AVERAGE(Inventory[[#This Row],[Total Net Profit]]/Inventory[[#This Row],[Quantity Sold]]),0)","v":0}]
[null,null,null,null,null,null,null,null,0,0,0,null,null,null,0,{"$f":"IF(Inventory[[#This Row],[Item SKU/ID]]=\"\",0,SUMPRODUCT((Quantity_Sold_1=Inventory[[#This Row],[Item SKU/ID]])*Net_Profit))","v":0},{"$f":"IFERROR(AVERAGE(Inventory[[#This Row],[Total Net Profit]]/Inventory[[#This Row],[Quantity Sold]]),0)","v":0}]
[null,null,null,null,null,null,null,null,0,0,0,null,null,null,0,{"$f":"IF(Inventory[[#This Row],[Item SKU/ID]]=\"\",0,SUMPRODUCT((Quantity_Sold_1=Inventory[[#This Row],[Item SKU/ID]])*Net_Profit))","v":0},{"$f":"IFERROR(AVERAGE(Inventory[[#This Row],[Total Net Profit]]/Inventory[[#This Row],[Quantity Sold]]),0)","v":0}]
[null,null,null,null,null,null,null,null,0,0,0,null,null,null,0,{"$f":"IF(Inventory[[#This Row],[Item SKU/ID]]=\"\",0,SUMPRODUCT((Quantity_Sold_1=Inventory[[#This Row],[Item SKU/ID]])*Net_Profit))","v":0},{"$f":"IFERROR(AVERAGE(Inventory[[#This Row],[Total Net Profit]]/Inventory[[#This Row],[Quantity Sold]]),0)","v":0}]
[null,null,null,null,null,null,null,null,0,0,0,null,null,null,0,{"$f":"IF(Inventory[[#This Row],[Item SKU/ID]]=\"\",0,SUMPRODUCT((Quantity_Sold_1=Inventory[[#This Row],[Item SKU/ID]])*Net_Profit))","v":0},{"$f":"IFERROR(AVERAGE(Inventory[[#This Row],[Total Net Profit]]/Inventory[[#This Row],[Quantity Sold]]),0)","v":0}]
[null,null,null,null,null,null,null,null,0,0,0,null,null,null,0,{"$f":"IF(Inventory[[#This Row],[Item SKU/ID]]=\"\",0,SUMPRODUCT((Quantity_Sold_1=Inventory[[#This Row],[Item SKU/ID]])*Net_Profit))","v":0},{"$f":"IFERROR(AVERAGE(Inventory[[#This Row],[Total Net Profit]]/Inventory[[#This Row],[Quantity Sold]]),0)","v":0}]
[null,null,null,null,null,null,null,null,0,0,0,null,null,null,0,{"$f":"IF(Inventory[[#This Row],[Item SKU/ID]]=\"\",0,SUMPRODUCT((Quantity_Sold_1=Inventory[[#This Row],[Item SKU/ID]])*Net_Profit))","v":0},{"$f":"IFERROR(AVERAGE(Inventory[[#This Row],[Total Net Profit]]/Inventory[[#This Row],[Quantity Sold]]),0)","v":0}]
[null,null,null,null,null,null,null,null,0,0,0,null,null,null,0,{"$f":"IF(Inventory[[#This Row],[Item SKU/ID]]=\"\",0,SUMPRODUCT((Quantity_Sold_1=Inventory[[#This Row],[Item SKU/ID]])*Net_Profit))","v":0},{"$f":"IFERROR(AVERAGE(Inventory[[#This Row],[Total Net Profit]]/Inventory[[#This Row],[Quantity Sold]]),0)","v":0}]
[null,null,null,null,null,null,null,null,0,0,0,null,null,null,0,{"$f":"IF(Inventory[[#This Row],[Item SKU/ID]]=\"\",0,SUMPRODUCT((Quantity_Sold_1=Inventory[[#This Row],[Item SKU/ID]])*Net_Profit))","v":0},{"$f":"IFERROR(AVERAGE(Inventory[[#This Row],[Total Net Profit]]/Inventory[[#This Row],[Quantity Sold]]),0)","v":0}]
[null,null,null,null,null,null,null,null,0,0,0,null,null,null,0,{"$f":"IF(Inventory[[#This Row],[Item SKU/ID]]=\"\",0,SUMPRODUCT((Quantity_Sold_1=Inventory[[#This Row],[Item SKU/ID]])*Net_Profit))","v":0},{"$f":"IFERROR(AVERAGE(Inventory[[#This Row],[Total Net Profit]]/Inventory[[#This Row],[Quantity Sold]]),0)","v":0}]
[null,null,null,null,null,null,null,null,0,0,0,null,null,null,0,{"$f":"IF(Inventory[[#This Row],[Item SKU/ID]]=\"\",0,SUMPRODUCT((Quantity_Sold_1=Inventory[[#This Row],[Item SKU/ID]])*Net_Profit))","v":0},{"$f":"IFERROR(AVERAGE(Inventory[[#This Row],[Total Net Profit]]/Inventory[[#This Row],[Quantity Sold]]),0)","v":0}]
[null,null,null,null,null,null,null,null,0,0,0,null,null,null,0,{"$f":"IF(Inventory[[#This Row],[Item SKU/ID]]=\"\",0,SUMPRODUCT((Quantity_Sold_1=Inventory[[#This Row],[Item SKU/ID]])*Net_Profit))","v":0},{"$f":"IFERROR(AVERAGE(Inventory[[#This Row],[Total Net Profit]]/Inventory[[#This Row],[Quantity Sold]]),0)","v":0}]
[null,null,null,null,null,null,null,null,0,0,0,null,null,null,0,{"$f":"IF(Inventory[[#This Row],[Item SKU/ID]]=\"\",0,SUMPRODUCT((Quantity_Sold_1=Inventory[[#This Row],[Item SKU/ID]])*Net_Profit))","v":0},{"$f":"IFERROR(AVERAGE(Inventory[[#This Row],[Total Net Profit]]/Inventory[[#This Row],[Quantity Sold]]),0)","v":0}]
[null,null,null,null,null,null,null,null,0,0,0,null,null,null,0,{"$f":"IF(Inventory[[#This Row],[Item SKU/ID]]=\"\",0,SUMPRODUCT((Quantity_Sold_1=Inventory[[#This Row],[Item SKU/ID]])*Net_Profit))","v":0},{"$f":"IFERROR(AVERAGE(Inventory[[#This Row],[Total Net Profit]]/Inventory[[#This Row],[Quantity Sold]]),0)","v":0}]
[null,null,null,null,null,null,null,null,0,0,0,null,null,null,0,{"$f":"IF(Inventory[[#This Row],[Item SKU/ID]]=\"\",0,SUMPRODUCT((Quantity_Sold_1=Inventory[[#This Row],[Item SKU/ID]])*Net_Profit))","v":0},{"$f":"IFERROR(AVERAGE(Inventory[[#This Row],[Total Net Profit]]/Inventory[[#This Row],[Quantity Sold]]),0)","v":0}]
[null,null,null,null,null,null,null,null,0,0,0,null,null,null,0,{"$f":"IF(Inventory[[#This Row],[Item SKU/ID]]=\"\",0,SUMPRODUCT((Quantity_Sold_1=Inventory[[#This Row],[Item SKU/ID]])*Net_Profit))","v":0},{"$f":"IFERROR(AVERAGE(Inventory[[#This Row],[Total Net Profit]]/Inventory[[#This Row],[Quantity Sold]]),0)","v":0}]
[null,null,null,null,null,null,null,null,0,0,0,null,null,null,0,{"$f":"IF(Inventory[[#This Row],[Item SKU/ID]]=\"\",0,SUMPRODUCT((Quantity_Sold_1=Inventory[[#This Row],[Item SKU/ID]])*Net_Profit))","v":0},{"$f":"IFERROR(AVERAGE(Inventory[[#This Row],[Total Net Profit]]/Inventory[[#This Row],[Quantity Sold]]),0)","v":0}]
[null,null,null,null,null,null,null,null,0,0,0,null,null,null,0,{"$f":"IF(Inventory[[#This Row],[Item SKU/ID]]=\"\",0,SUMPRODUCT((Quantity_Sold_1=Inventory[[#This Row],[Item SKU/ID]])*Net_Profit))","v":0},{"$f":"IFERROR(AVERAGE(Inventory[[#This Row],[Total Net Profit]]/Inventory[[#This Row],[Quantity Sold]]),0)","v":0}]
[null,null,null,null,null,null,null,null,0,0,0,null,null,null,0,{"$f":"IF(Inventory[[#This Row],[Item SKU/ID]]=\"\",0,SUMPRODUCT((Quantity_Sold_1=Inventory[[#This Row],[Item SKU/ID]])*Net_Profit))","v":0},{"$f":"IFERROR(AVERAGE(Inventory[[#This Row],[Total Net Profit]]/Inventory[[#This Row],[Quantity Sold]]),0)","v":0}]
[null,null,null,null,null,null,null,null,0,0,0,null,null,null,0,{"$f":"IF(Inventory[[#This Row],[Item SKU/ID]]=\"\",0,SUMPRODUCT((Quantity_Sold_1=Inventory[[#This Row],[Item SKU/ID]])*Net_Profit))","v":0},{"$f":"IFERROR(AVERAGE(Inventory[[#This Row],[Total Net Profit]]/Inventory[[#This Row],[Quantity Sold]]),0)","v":0}]
[null,null,null,null,null,null,null,null,0,0,0,null,null,null,0,{"$f":"IF(Inventory[[#This Row],[Item SKU/ID]]=\"\",0,SUMPRODUCT((Quantity_Sold_1=Inventory[[#This Row],[Item SKU/ID]])*Net_Profit))","v":0},{"$f":"IFERROR(AVERAGE(Inventory[[#This Row],[Total Net Profit]]/Inventory[[#This Row],[Quantity Sold]]),0)","v":0}]
[null,null,null,null,null,null,null,null,0,0,0,null,null,null,0,{"$f":"IF(Inventory[[#This Row],[Item SKU/ID]]=\"\",0,SUMPRODUCT((Quantity_Sold_1=Inventory[[#This Row],[Item SKU/ID]])*Net_Profit))","v":0},{"$f":"IFERROR(AVERAGE(Inventory[[#This Row],[Total Net Profit]]/Inventory[[#This Row],[Quantity Sold]]),0)","v":0}]
[null,null,null,null,null,null,null,null,0,0,0,null,null,null,0,{"$f":"IF(Inventory[[#This Row],[Item SKU/ID]]=\"\",0,SUMPRODUCT((Quantity_Sold_1=Inventory[[#This Row],[Item SKU/ID]])*Net_Profit))","v":0},{"$f":"IFERROR(AVERAGE(Inventory[[#This Row],[Total Net Profit]]/Inventory[[#This Row],[Quantity Sold]]),0)","v":0}]
[null,null,null,null,null,null,null,null,0,0,0,null,null,null,0,{"$f":"IF(Inventory[[#This Row],[Item SKU/ID]]=\"\",0,SUMPRODUCT((Quantity_Sold_1=Inventory[[#This Row],[Item SKU/ID]])*Net_Profit))","v":0},{"$f":"IFERROR(AVERAGE(Inventory[[#This Row],[Total Net Profit]]/Inventory[[#This Row],[Quantity Sold]]),0)","v":0}]
[null,null,null,null,null,null,null,null,0,0,0,null,null,null,0,{"$f":"IF(Inventory[[#This Row],[Item SKU/ID]]=\"\",0,SUMPRODUCT((Quantity_Sold_1=Inventory[[#This Row],[Item SKU/ID]])*Net_Profit))","v":0},{"$f":"IFERROR(AVERAGE(Inventory[[#This Row],[Total Net Profit]]/Inventory[[#This Row],[Quantity Sold]]),0)","v":0}]
[null,null,null,null,null,null,null,null,0,0,0,null,null,null,0,{"$f":"IF(Inventory[[#This Row],[Item SKU/ID]]=\"\",0,SUMPRODUCT((Quantity_Sold_1=Inventory[[#This Row],[Item SKU/ID]])*Net_Profit))","v":0},{"$f":"IFERROR(AVERAGE(Inventory[[#This Row],[Total Net Profit]]/Inventory[[#This Row],[Quantity Sold]]),0)","v":0}]
[null,null,null,null,null,null,null,null,0,0,0,null,null,null,0,{"$f":"IF(Inventory[[#This Row],[Item SKU/ID]]=\"\",0,SUMPRODUCT((Quantity_Sold_1=Inventory[[#This Row],[Item SKU/ID]])*Net_Profit))","v":0},{"$f":"IFERROR(AVERAGE(Inventory[[#This Row],[Total Net Profit]]/Inventory[[#This Row],[Quantity Sold]]),0)","v":0}]
[null,null,null,null,null,null,null,null,0,0,0,null,null,null,0,{"$f":"IF(Inventory[[#This Row],[Item SKU/ID]]=\"\",0,SUMPRODUCT((Quantity_Sold_1=Inventory[[#This Row],[Item SKU/ID]])*Net_Profit))","v":0},{"$f":"IFERROR(AVERAGE(Inventory[[#This Row],[Total Net Profit]]/Inventory[[#This Row],[Quantity Sold]]),0)","v":0}]
[null,null,null,null,null,null,null,null,0,0,0,null,null,null,0,{"$f":"IF(Inventory[[#This Row],[Item SKU/ID]]=\"\",0,SUMPRODUCT((Quantity_Sold_1=Inventory[[#This Row],[Item SKU/ID]])*Net_Profit))","v":0},{"$f":"IFERROR(AVERAGE(Inventory[[#This Row],[Total Net Profit]]/Inventory[[#This Row],[Quantity Sold]]),0)","v":0}]
[null,null,null,null,null,null,null,null,0,0,0,null,null,null,0,{"$f":"IF(Inventory[[#This Row],[Item SKU/ID]]=\"\",0,SUMPRODUCT((Quantity_Sold_1=Inventory[[#This Row],[Item SKU/ID]])*Net_Profit))","v":0},{"$f":"IFERROR(AVERAGE(Inventory[[#This Row],[Total Net Profit]]/Inventory[[#This Row],[Quantity Sold]]),0)","v":0}]
[null,null,null,null,null,null,null,null,0,0,0,null,null,null,0,{"$f":"IF(Inventory[[#This Row],[Item SKU/ID]]=\"\",0,SUMPRODUCT((Quantity_Sold_1=Inventory[[#This Row],[Item SKU/ID]])*Net_Profit))","v":0},{"$f":"IFERROR(AVERAGE(Inventory[[#This Row],[Total Net Profit]]/Inventory[[#This Row],[Quantity Sold]]),0)","v":0}]
[null,null,null,null,null,null,null,null,0,0,0,null,null,null,0,{"$f":"IF(Inventory[[#This Row],[Item SKU/ID]]=\"\",0,SUMPRODUCT((Quantity_Sold_1=Inventory[[#This Row],[Item SKU/ID]])*Net_Profit))","v":0},{"$f":"IFERROR(AVERAGE(Inventory[[#This Row],[Total Net Profit]]/Inventory[[#This Row],[Quantity Sold]]),0)","v":0}]
[null,null,null,null,null,null,null,null,0,0,0,null,null,null,0,{"$f":"IF(Inventory[[#This Row],[Item SKU/ID]]=\"\",0,SUMPRODUCT((Quantity_Sold_1=Inventory[[#This Row],[Item SKU/ID]])*Net_Profit))","v":0},{"$f":"IFERROR(AVERAGE(Inventory[[#This Row],[Total Net Profit]]/Inventory[[#This Row],[Quantity Sold]]),0)","v":0}]
[null,null,null,null,null,null,null,null,0,0,0,null,null,null,0,{"$f":"IF(Inventory[[#This Row],[Item SKU/ID]]=\"\",0,SUMPRODUCT((Quantity_Sold_1=Inventory[[#This Row],[Item SKU/ID]])*Net_Profit))","v":0},{"$f":"IFERROR(AVERAGE(Inventory[[#This Row],[Total Net Profit]]/Inventory[[#This Row],[Quantity Sold]]),0)","v":0}]
[null,null,null,null,null,null,null,null,0,0,0,null,null,null,0,{"$f":"IF(Inventory[[#This Row],[Item SKU/ID]]=\"\",0,SUMPRODUCT((Quantity_Sold_1=Inventory[[#This Row],[Item SKU/ID]])*Net_Profit))","v":0},{"$f":"IFERROR(AVERAGE(Inventory[[#This Row],[Total Net Profit]]/Inventory[[#This Row],[Quantity Sold]]),0)","v":0}]
[null,null,null,null,null,null,null,null,0,0,0,null,null,null,0,{"$f":"IF(Inventory[[#This Row],[Item SKU/ID]]=\"\",0,SUMPRODUCT((Quantity_Sold_1=Inventory[[#This Row],[Item SKU/ID]])*Net_Profit))","v":0},{"$f":"IFERROR(AVERAGE(Inventory[[#This Row],[Total Net Profit]]/Inventory[[#This Row],[Quantity Sold]]),0)","v":0}]
[null,null,null,null,null,null,null,null,0,0,0,null,null,null,0,{"$f":"IF(Inventory[[#This Row],[Item SKU/ID]]=\"\",0,SUMPRODUCT((Quantity_Sold_1=Inventory[[#This Row],[Item SKU/ID]])*Net_Profit))","v":0},{"$f":"IFERROR(AVERAGE(Inventory[[#This Row],[Total Net Profit]]/Inventory[[#This Row],[Quantity Sold]]),0)","v":0}]
[null,null,null,null,null,null,null,null,0,0,0,null,null,null,0,{"$f":"IF(Inventory[[#This Row],[Item SKU/ID]]=\"\",0,SUMPRODUCT((Quantity_Sold_1=Inventory[[#This Row],[Item SKU/ID]])*Net_Profit))","v":0},{"$f":"IFERROR(AVERAGE(Inventory[[#This Row],[Total Net Profit]]/Inventory[[#This Row],[Quantity Sold]]),0)","v":0}]
[null,null,null,null,null,null,null,null,0,0,0,null,null,null,0,{"$f":"IF(Inventory[[#This Row],[Item SKU/ID]]=\"\",0,SUMPRODUCT((Quantity_Sold_1=Inventory[[#This Row],[Item SKU/ID]])*Net_Profit))","v":0},{"$f":"IFERROR(AVERAGE(Inventory[[#This Row],[Total Net Profit]]/Inventory[[#This Row],[Quantity Sold]]),0)","v":0}]
[null,null,null,null,null,null,null,null,0,0,0,null,null,null,0,{"$f":"IF(Inventory[[#This Row],[Item SKU/ID]]=\"\",0,SUMPRODUCT((Quantity_Sold_1=Inventory[[#This Row],[Item SKU/ID]])*Net_Profit))","v":0},{"$f":"IFERROR(AVERAGE(Inventory[[#This Row],[Total Net Profit]]/Inventory[[#This Row],[Quantity Sold]]),0)","v":0}]
[null,null,null,null,null,null,null,null,0,0,0,null,null,null,0,{"$f":"IF(Inventory[[#This Row],[Item SKU/ID]]=\"\",0,SUMPRODUCT((Quantity_Sold_1=Inventory[[#This Row],[Item SKU/ID]])*Net_Profit))","v":0},{"$f":"IFERROR(AVERAGE(Inventory[[#This Row],[Total Net Profit]]/Inventory[[#This Row],[Quantity Sold]]),0)","v":0}]
[null,null,null,null,null,null,null,null,0,0,0,null,null,null,0,{"$f":"IF(Inventory[[#This Row],[Item SKU/ID]]=\"\",0,SUMPRODUCT((Quantity_Sold_1=Inventory[[#This Row],[Item SKU/ID]])*Net_Profit))","v":0},{"$f":"IFERROR(AVERAGE(Inventory[[#This Row],[Total Net Profit]]/Inventory[[#This Row],[Quantity Sold]]),0)","v":0}]
[null,null,null,null,null,null,null,null,0,0,0,null,null,null,0,{"$f":"IF(Inventory[[#This Row],[Item SKU/ID]]=\"\",0,SUMPRODUCT((Quantity_Sold_1=Inventory[[#This Row],[Item SKU/ID]])*Net_Profit))","v":0},{"$f":"IFERROR(AVERAGE(Inventory[[#This Row],[Total Net Profit]]/Inventory[[#This Row],[Quantity Sold]]),0)","v":0}]
[null,null,null,null,null,null,null,null,0,0,0,null,null,null,0,{"$f":"IF(Inventory[[#This Row],[Item SKU/ID]]=\"\",0,SUMPRODUCT((Quantity_Sold_1=Inventory[[#This Row],[Item SKU/ID]])*Net_Profit))","v":0},{"$f":"IFERROR(AVERAGE(Inventory[[#This Row],[Total Net Profit]]/Inventory[[#This Row],[Quantity Sold]]),0)","v":0}]
[null,null,null,null,null,null,null,null,0,0,0,null,null,null,0,{"$f":"IF(Inventory[[#This Row],[Item SKU/ID]]=\"\",0,SUMPRODUCT((Quantity_Sold_1=Inventory[[#This Row],[Item SKU/ID]])*Net_Profit))","v":0},{"$f":"IFERROR(AVERAGE(Inventory[[#This Row],[Total Net Profit]]/Inventory[[#This Row],[Quantity Sold]]),0)","v":0}]
[null,null,null,null,null,null,null,null,0,0,0,null,null,null,0,{"$f":"IF(Inventory[[#This Row],[Item SKU/ID]]=\"\",0,SUMPRODUCT((Quantity_Sold_1=Inventory[[#This Row],[Item SKU/ID]])*Net_Profit))","v":0},{"$f":"IFERROR(AVERAGE(Inventory[[#This Row],[Total Net Profit]]/Inventory[[#This Row],[Quantity Sold]]),0)","v":0}]
[null,null,null,null,null,null,null,null,{"$f":"K3140*H3140","v":0},{"$f":"IF(F3140=\"\",0,SUMPRODUCT((Quantity_Sold_1=F3140)*Quantity_Sold_2))","v":0},{"$f":"G3140-J3140","v":0},null,null,null,{"$f":"K3140*H3140","v":0},{"$f":"IF(Inventory[[#This Row],[Item SKU/ID]]=\"\",0,SUMPRODUCT((Quantity_Sold_1=Inventory[[#This Row],[Item SKU/ID]])*Net_Profit))","v":0},{"$f":"IFERROR(AVERAGE(Inventory[[#This Row],[Total Net Profit]]/Inventory[[#This Row],[Quantity Sold]]),0)","v":0}]
[null,null,null,null,null,null,null,null,0,0,0,null,null,null,0,{"$f":"IF(Inventory[[#This Row],[Item SKU/ID]]=\"\",0,SUMPRODUCT((Quantity_Sold_1=Inventory[[#This Row],[Item SKU/ID]])*Net_Profit))","v":0},{"$f":"IFERROR(AVERAGE(Inventory[[#This Row],[Total Net Profit]]/Inventory[[#This Row],[Quantity Sold]]),0)","v":0}]
[null,null,null,null,null,null,null,null,0,0,0,null,null,null,0,{"$f":"IF(Inventory[[#This Row],[Item SKU/ID]]=\"\",0,SUMPRODUCT((Quantity_Sold_1=Inventory[[#This Row],[Item SKU/ID]])*Net_Profit))","v":0},{"$f":"IFERROR(AVERAGE(Inventory[[#This Row],[Total Net Profit]]/Inventory[[#This Row],[Quantity Sold]]),0)","v":0}]
[null,null,null,null,null,null,null,null,0,0,0,null,null,null,0,{"$f":"IF(Inventory[[#This Row],[Item SKU/ID]]=\"\",0,SUMPRODUCT((Quantity_Sold_1=Inventory[[#This Row],[Item SKU/ID]])*Net_Profit))","v":0},{"$f":"IFERROR(AVERAGE(Inventory[[#This Row],[Total Net Profit]]/Inventory[[#This Row],[Quantity Sold]]),0)","v":0}]
[null,null,null,null,null,null,null,null,0,0,0,null,null,null,0,{"$f":"IF(Inventory[[#This Row],[Item SKU/ID]]=\"\",0,SUMPRODUCT((Quantity_Sold_1=Inventory[[#This Row],[Item SKU/ID]])*Net_Profit))","v":0},{"$f":"IFERROR(AVERAGE(Inventory[[#This Row],[Total Net Profit]]/Inventory[[#This Row],[Quantity Sold]]),0)","v":0}]
[null,null,null,null,null,null,null,null,0,0,0,null,null,null,0,{"$f":"IF(Inventory[[#This Row],[Item SKU/ID]]=\"\",0,SUMPRODUCT((Quantity_Sold_1=Inventory[[#This Row],[Item SKU/ID]])*Net_Profit))","v":0},{"$f":"IFERROR(AVERAGE(Inventory[[#This Row],[Total Net Profit]]/Inventory[[#This Row],[Quantity Sold]]),0)","v":0}]
[null,null,null,null,null,null,null,null,0,0,0,null,null,null,0,{"$f":"IF(Inventory[[#This Row],[Item SKU/ID]]=\"\",0,SUMPRODUCT((Quantity_Sold_1=Inventory[[#This Row],[Item SKU/ID]])*Net_Profit))","v":0},{"$f":"IFERROR(AVERAGE(Inventory[[#This Row],[Total Net Profit]]/Inventory[[#This Row],[Quantity Sold]]),0)","v":0}]
[null,null,null,null,null,null,null,null,0,0,0,null,null,null,0,{"$f":"IF(Inventory[[#This Row],[Item SKU/ID]]=\"\",0,SUMPRODUCT((Quantity_Sold_1=Inventory[[#This Row],[Item SKU/ID]])*Net_Profit))","v":0},{"$f":"IFERROR(AVERAGE(Inventory[[#This Row],[Total Net Profit]]/Inventory[[#This Row],[Quantity Sold]]),0)","v":0}]
[null,null,null,null,null,null,null,null,0,0,0,null,null,null,0,{"$f":"IF(Inventory[[#This Row],[Item SKU/ID]]=\"\",0,SUMPRODUCT((Quantity_Sold_1=Inventory[[#This Row],[Item SKU/ID]])*Net_Profit))","v":0},{"$f":"IFERROR(AVERAGE(Inventory[[#This Row],[Total Net Profit]]/Inventory[[#This Row],[Quantity Sold]]),0)","v":0}]
[null,null,null,null,null,null,null,null,0,0,0,null,null,null,0,{"$f":"IF(Inventory[[#This Row],[Item SKU/ID]]=\"\",0,SUMPRODUCT((Quantity_Sold_1=Inventory[[#This Row],[Item SKU/ID]])*Net_Profit))","v":0},{"$f":"IFERROR(AVERAGE(Inventory[[#This Row],[Total Net Profit]]/Inventory[[#This Row],[Quantity Sold]]),0)","v":0}]
[null,null,null,null,null,null,null,null,0,0,0,null,null,null,0,{"$f":"IF(Inventory[[#This Row],[Item SKU/ID]]=\"\",0,SUMPRODUCT((Quantity_Sold_1=Inventory[[#This Row],[Item SKU/ID]])*Net_Profit))","v":0},{"$f":"IFERROR(AVERAGE(Inventory[[#This Row],[Total Net Profit]]/Inventory[[#This Row],[Quantity Sold]]),0)","v":0}]
[null,null,null,null,null,null,null,null,0,0,0,null,null,null,0,{"$f":"IF(Inventory[[#This Row],[Item SKU/ID]]=\"\",0,SUMPRODUCT((Quantity_Sold_1=Inventory[[#This Row],[Item SKU/ID]])*Net_Profit))","v":0},{"$f":"IFERROR(AVERAGE(Inventory[[#This Row],[Total Net Profit]]/Inventory[[#This Row],[Quantity Sold]]),0)","v":0}]
[null,null,null,null,null,null,null,null,0,0,0,null,null,null,0,{"$f":"IF(Inventory[[#This Row],[Item SKU/ID]]=\"\",0,SUMPRODUCT((Quantity_Sold_1=Inventory[[#This Row],[Item SKU/ID]])*Net_Profit))","v":0},{"$f":"IFERROR(AVERAGE(Inventory[[#This Row],[Total Net Profit]]/Inventory[[#This Row],[Quantity Sold]]),0)","v":0}]
[null,null,null,null,null,null,null,null,0,0,0,null,null,null,0,{"$f":"IF(Inventory[[#This Row],[Item SKU/ID]]=\"\",0,SUMPRODUCT((Quantity_Sold_1=Inventory[[#This Row],[Item SKU/ID]])*Net_Profit))","v":0},{"$f":"IFERROR(AVERAGE(Inventory[[#This Row],[Total Net Profit]]/Inventory[[#This Row],[Quantity Sold]]),0)","v":0}]
[null,null,null,null,null,null,null,null,0,0,0,null,null,null,0,{"$f":"IF(Inventory[[#This Row],[Item SKU/ID]]=\"\",0,SUMPRODUCT((Quantity_Sold_1=Inventory[[#This Row],[Item SKU/ID]])*Net_Profit))","v":0},{"$f":"IFERROR(AVERAGE(Inventory[[#This Row],[Total Net Profit]]/Inventory[[#This Row],[Quantity Sold]]),0)","v":0}]
[null,null,null,null,null,null,null,null,0,0,0,null,null,null,0,{"$f":"IF(Inventory[[#This Row],[Item SKU/ID]]=\"\",0,SUMPRODUCT((Quantity_Sold_1=Inventory[[#This Row],[Item SKU/ID]])*Net_Profit))","v":0},{"$f":"IFERROR(AVERAGE(Inventory[[#This Row],[Total Net Profit]]/Inventory[[#This Row],[Quantity Sold]]),0)","v":0}]
[null,null,null,null,null,null,null,null,0,0,0,null,null,null,0,{"$f":"IF(Inventory[[#This Row],[Item SKU/ID]]=\"\",0,SUMPRODUCT((Quantity_Sold_1=Inventory[[#This Row],[Item SKU/ID]])*Net_Profit))","v":0},{"$f":"IFERROR(AVERAGE(Inventory[[#This Row],[Total Net Profit]]/Inventory[[#This Row],[Quantity Sold]]),0)","v":0}]
[null,null,null,null,null,null,null,null,0,0,0,null,null,null,0,{"$f":"IF(Inventory[[#This Row],[Item SKU/ID]]=\"\",0,SUMPRODUCT((Quantity_Sold_1=Inventory[[#This Row],[Item SKU/ID]])*Net_Profit))","v":0},{"$f":"IFERROR(AVERAGE(Inventory[[#This Row],[Total Net Profit]]/Inventory[[#This Row],[Quantity Sold]]),0)","v":0}]
[null,null,null,null,null,null,null,null,0,0,0,null,null,null,0,{"$f":"IF(Inventory[[#This Row],[Item SKU/ID]]=\"\",0,SUMPRODUCT((Quantity_Sold_1=Inventory[[#This Row],[Item SKU/ID]])*Net_Profit))","v":0},{"$f":"IFERROR(AVERAGE(Inventory[[#This Row],[Total Net Profit]]/Inventory[[#This Row],[Quantity Sold]]),0)","v":0}]
[null,null,null,null,null,null,null,null,0,0,0,null,null,null,0,{"$f":"IF(Inventory[[#This Row],[Item SKU/ID]]=\"\",0,SUMPRODUCT((Quantity_Sold_1=Inventory[[#This Row],[Item SKU/ID]])*Net_Profit))","v":0},{"$f":"IFERROR(AVERAGE(Inventory[[#This Row],[Total Net Profit]]/Inventory[[#This Row],[Quantity Sold]]),0)","v":0}]
[null,null,null,null,null,null,null,null,0,0,0,null,null,null,0,{"$f":"IF(Inventory[[#This Row],[Item SKU/ID]]=\"\",0,SUMPRODUCT((Quantity_Sold_1=Inventory[[#This Row],[Item SKU/ID]])*Net_Profit))","v":0},{"$f":"IFERROR(AVERAGE(Inventory[[#This Row],[Total Net Profit]]/Inventory[[#This Row],[Quantity Sold]]),0)","v":0}]
[null,null,null,null,null,null,null,null,0,0,0,null,null,null,0,{"$f":"IF(Inventory[[#This Row],[Item SKU/ID]]=\"\",0,SUMPRODUCT((Quantity_Sold_1=Inventory[[#This Row],[Item SKU/ID]])*Net_Profit))","v":0},{"$f":"IFERROR(AVERAGE(Inventory[[#This Row],[Total Net Profit]]/Inventory[[#This Row],[Quantity Sold]]),0)","v":0}]
[null,null,null,null,null,null,null,null,0,0,0,null,null,null,0,{"$f":"IF(Inventory[[#This Row],[Item SKU/ID]]=\"\",0,SUMPRODUCT((Quantity_Sold_1=Inventory[[#This Row],[Item SKU/ID]])*Net_Profit))","v":0},{"$f":"IFERROR(AVERAGE(Inventory[[#This Row],[Total Net Profit]]/Inventory[[#This Row],[Quantity Sold]]),0)","v":0}]
[null,null,null,null,null,null,null,null,0,0,0,null,null,null,0,{"$f":"IF(Inventory[[#This Row],[Item SKU/ID]]=\"\",0,SUMPRODUCT((Quantity_Sold_1=Inventory[[#This Row],[Item SKU/ID]])*Net_Profit))","v":0},{"$f":"IFERROR(AVERAGE(Inventory[[#This Row],[Total Net Profit]]/Inventory[[#This Row],[Quantity Sold]]),0)","v":0}]
[null,null,null,null,null,null,null,null,0,0,0,null,null,null,0,{"$f":"IF(Inventory[[#This Row],[Item SKU/ID]]=\"\",0,SUMPRODUCT((Quantity_Sold_1=Inventory[[#This Row],[Item SKU/ID]])*Net_Profit))","v":0},{"$f":"IFERROR(AVERAGE(Inventory[[#This Row],[Total Net Profit]]/Inventory[[#This Row],[Quantity Sold]]),0)","v":0}]
[null,null,null,null,null,null,null,null,0,0,0,null,null,null,0,{"$f":"IF(Inventory[[#This Row],[Item SKU/ID]]=\"\",0,SUMPRODUCT((Quantity_Sold_1=Inventory[[#This Row],[Item SKU/ID]])*Net_Profit))","v":0},{"$f":"IFERROR(AVERAGE(Inventory[[#This Row],[Total Net Profit]]/Inventory[[#This Row],[Quantity Sold]]),0)","v":0}]
[null,null,null,null,null,null,null,null,0,0,0,null,null,null,0,{"$f":"IF(Inventory[[#This Row],[Item SKU/ID]]=\"\",0,SUMPRODUCT((Quantity_Sold_1=Inventory[[#This Row],[Item SKU/ID]])*Net_Profit))","v":0},{"$f":"IFERROR(AVERAGE(Inventory[[#This Row],[Total Net Profit]]/Inventory[[#This Row],[Quantity Sold]]),0)","v":0}]
[null,null,null,null,null,null,null,null,0,0,0,null,null,null,0,{"$f":"IF(Inventory[[#This Row],[Item SKU/ID]]=\"\",0,SUMPRODUCT((Quantity_Sold_1=Inventory[[#This Row],[Item SKU/ID]])*Net_Profit))","v":0},{"$f":"IFERROR(AVERAGE(Inventory[[#This Row],[Total Net Profit]]/Inventory[[#This Row],[Quantity Sold]]),0)","v":0}]
[null,null,null,null,null,null,null,null,0,0,0,null,null,null,0,{"$f":"IF(Inventory[[#This Row],[Item SKU/ID]]=\"\",0,SUMPRODUCT((Quantity_Sold_1=Inventory[[#This Row],[Item SKU/ID]])*Net_Profit))","v":0},{"$f":"IFERROR(AVERAGE(Inventory[[#This Row],[Total Net Profit]]/Inventory[[#This Row],[Quantity Sold]]),0)","v":0}]
[null,null,null,null,null,null,null,null,0,0,0,null,null,null,0,{"$f":"IF(Inventory[[#This Row],[Item SKU/ID]]=\"\",0,SUMPRODUCT((Quantity_Sold_1=Inventory[[#This Row],[Item SKU/ID]])*Net_Profit))","v":0},{"$f":"IFERROR(AVERAGE(Inventory[[#This Row],[Total Net Profit]]/Inventory[[#This Row],[Quantity Sold]]),0)","v":0}]
[null,null,null,null,null,null,null,null,0,0,0,null,null,null,0,{"$f":"IF(Inventory[[#This Row],[Item SKU/ID]]=\"\",0,SUMPRODUCT((Quantity_Sold_1=Inventory[[#This Row],[Item SKU/ID]])*Net_Profit))","v":0},{"$f":"IFERROR(AVERAGE(Inventory[[#This Row],[Total Net Profit]]/Inventory[[#This Row],[Quantity Sold]]),0)","v":0}]
[null,null,null,null,null,null,null,null,0,0,0,null,null,null,0,{"$f":"IF(Inventory[[#This Row],[Item SKU/ID]]=\"\",0,SUMPRODUCT((Quantity_Sold_1=Inventory[[#This Row],[Item SKU/ID]])*Net_Profit))","v":0},{"$f":"IFERROR(AVERAGE(Inventory[[#This Row],[Total Net Profit]]/Inventory[[#This Row],[Quantity Sold]]),0)","v":0}]
[null,null,null,null,null,null,null,null,0,0,0,null,null,null,0,{"$f":"IF(Inventory[[#This Row],[Item SKU/ID]]=\"\",0,SUMPRODUCT((Quantity_Sold_1=Inventory[[#This Row],[Item SKU/ID]])*Net_Profit))","v":0},{"$f":"IFERROR(AVERAGE(Inventory[[#This Row],[Total Net Profit]]/Inventory[[#This Row],[Quantity Sold]]),0)","v":0}]
[null,null,null,null,null,null,null,null,0,0,0,null,null,null,0,{"$f":"IF(Inventory[[#This Row],[Item SKU/ID]]=\"\",0,SUMPRODUCT((Quantity_Sold_1=Inventory[[#This Row],[Item SKU/ID]])*Net_Profit))","v":0},{"$f":"IFERROR(AVERAGE(Inventory[[#This Row],[Total Net Profit]]/Inventory[[#This Row],[Quantity Sold]]),0)","v":0}]
[null,null,null,null,null,null,null,null,0,0,0,null,null,null,0,{"$f":"IF(Inventory[[#This Row],[Item SKU/ID]]=\"\",0,SUMPRODUCT((Quantity_Sold_1=Inventory[[#This Row],[Item SKU/ID]])*Net_Profit))","v":0},{"$f":"IFERROR(AVERAGE(Inventory[[#This Row],[Total Net Profit]]/Inventory[[#This Row],[Quantity Sold]]),0)","v":0}]
[null,null,null,null,null,null,null,null,0,0,0,null,null,null,0,{"$f":"IF(Inventory[[#This Row],[Item SKU/ID]]=\"\",0,SUMPRODUCT((Quantity_Sold_1=Inventory[[#This Row],[Item SKU/ID]])*Net_Profit))","v":0},{"$f":"IFERROR(AVERAGE(Inventory[[#This Row],[Total Net Profit]]/Inventory[[#This Row],[Quantity Sold]]),0)","v":0}]
[null,null,null,null,null,null,null,null,0,0,0,null,null,null,0,{"$f":"IF(Inventory[[#This Row],[Item SKU/ID]]=\"\",0,SUMPRODUCT((Quantity_Sold_1=Inventory[[#This Row],[Item SKU/ID]])*Net_Profit))","v":0},{"$f":"IFERROR(AVERAGE(Inventory[[#This Row],[Total Net Profit]]/Inventory[[#This Row],[Quantity Sold]]),0)","v":0}]
[null,null,null,null,null,null,null,null,0,0,0,null,null,null,0,{"$f":"IF(Inventory[[#This Row],[Item SKU/ID]]=\"\",0,SUMPRODUCT((Quantity_Sold_1=Inventory[[#This Row],[Item SKU/ID]])*Net_Profit))","v":0},{"$f":"IFERROR(AVERAGE(Inventory[[#This Row],[Total Net Profit]]/Inventory[[#This Row],[Quantity Sold]]),0)","v":0}]
[null,null,null,null,null,null,null,null,0,0,0,null,null,null,0,{"$f":"IF(Inventory[[#This Row],[Item SKU/ID]]=\"\",0,SUMPRODUCT((Quantity_Sold_1=Inventory[[#This Row],[Item SKU/ID]])*Net_Profit))","v":0},{"$f":"IFERROR(AVERAGE(Inventory[[#This Row],[Total Net Profit]]/Inventory[[#This Row],[Quantity Sold]]),0)","v":0}]
[null,null,null,null,null,null,null,null,0,0,0,null,null,null,0,{"$f":"IF(Inventory[[#This Row],[Item SKU/ID]]=\"\",0,SUMPRODUCT((Quantity_Sold_1=Inventory[[#This Row],[Item SKU/ID]])*Net_Profit))","v":0},{"$f":"IFERROR(AVERAGE(Inventory[[#This Row],[Total Net Profit]]/Inventory[[#This Row],[Quantity Sold]]),0)","v":0}]
[null,null,null,null,null,null,null,null,0,0,0,null,null,null,0,{"$f":"IF(Inventory[[#This Row],[Item SKU/ID]]=\"\",0,SUMPRODUCT((Quantity_Sold_1=Inventory[[#This Row],[Item SKU/ID]])*Net_Profit))","v":0},{"$f":"IFERROR(AVERAGE(Inventory[[#This Row],[Total Net Profit]]/Inventory[[#This Row],[Quantity Sold]]),0)","v":0}]
[null,null,null,null,null,null,null,null,0,0,0,null,null,null,0,{"$f":"IF(Inventory[[#This Row],[Item SKU/ID]]=\"\",0,SUMPRODUCT((Quantity_Sold_1=Inventory[[#This Row],[Item SKU/ID]])*Net_Profit))","v":0},{"$f":"IFERROR(AVERAGE(Inventory[[#This Row],[Total Net Profit]]/Inventory[[#This Row],[Quantity Sold]]),0)","v":0}]
[null,null,null,null,null,null,null,null,0,0,0,null,null,null,0,{"$f":"IF(Inventory[[#This Row],[Item SKU/ID]]=\"\",0,SUMPRODUCT((Quantity_Sold_1=Inventory[[#This Row],[Item SKU/ID]])*Net_Profit))","v":0},{"$f":"IFERROR(AVERAGE(Inventory[[#This Row],[Total Net Profit]]/Inventory[[#This Row],[Quantity Sold]]),0)","v":0}]
[null,null,null,null,null,null,null,null,0,0,0,null,null,null,0,{"$f":"IF(Inventory[[#This Row],[Item SKU/ID]]=\"\",0,SUMPRODUCT((Quantity_Sold_1=Inventory[[#This Row],[Item SKU/ID]])*Net_Profit))","v":0},{"$f":"IFERROR(AVERAGE(Inventory[[#This Row],[Total Net Profit]]/Inventory[[#This Row],[Quantity Sold]]),0)","v":0}]
[null,null,null,null,null,null,null,null,0,0,0,null,null,null,0,{"$f":"IF(Inventory[[#This Row],[Item SKU/ID]]=\"\",0,SUMPRODUCT((Quantity_Sold_1=Inventory[[#This Row],[Item SKU/ID]])*Net_Profit))","v":0},{"$f":"IFERROR(AVERAGE(Inventory[[#This Row],[Total Net Profit]]/Inventory[[#This Row],[Quantity Sold]]),0)","v":0}]
[null,null,null,null,null,null,null,null,0,0,0,null,null,null,0,{"$f":"IF(Inventory[[#This Row],[Item SKU/ID]]=\"\",0,SUMPRODUCT((Quantity_Sold_1=Inventory[[#This Row],[Item SKU/ID]])*Net_Profit))","v":0},{"$f":"IFERROR(AVERAGE(Inventory[[#This Row],[Total Net Profit]]/Inventory[[#This Row],[Quantity Sold]]),0)","v":0}]
[null,null,null,null,null,null,null,null,0,0,0,null,null,null,0,{"$f":"IF(Inventory[[#This Row],[Item SKU/ID]]=\"\",0,SUMPRODUCT((Quantity_Sold_1=Inventory[[#This Row],[Item SKU/ID]])*Net_Profit))","v":0},{"$f":"IFERROR(AVERAGE(Inventory[[#This Row],[Total Net Profit]]/Inventory[[#This Row],[Quantity Sold]]),0)","v":0}]
[null,null,null,null,null,null,null,null,0,0,0,null,null,null,0,{"$f":"IF(Inventory[[#This Row],[Item SKU/ID]]=\"\",0,SUMPRODUCT((Quantity_Sold_1=Inventory[[#This Row],[Item SKU/ID]])*Net_Profit))","v":0},{"$f":"IFERROR(AVERAGE(Inventory[[#This Row],[Total Net Profit]]/Inventory[[#This Row],[Quantity Sold]]),0)","v":0}]
[null,null,null,null,null,null,null,null,0,0,0,null,null,null,0,{"$f":"IF(Inventory[[#This Row],[Item SKU/ID]]=\"\",0,SUMPRODUCT((Quantity_Sold_1=Inventory[[#This Row],[Item SKU/ID]])*Net_Profit))","v":0},{"$f":"IFERROR(AVERAGE(Inventory[[#This Row],[Total Net Profit]]/Inventory[[#This Row],[Quantity Sold]]),0)","v":0}]
[null,null,null,null,null,null,null,null,0,0,0,null,null,null,0,{"$f":"IF(Inventory[[#This Row],[Item SKU/ID]]=\"\",0,SUMPRODUCT((Quantity_Sold_1=Inventory[[#This Row],[Item SKU/ID]])*Net_Profit))","v":0},{"$f":"IFERROR(AVERAGE(Inventory[[#This Row],[Total Net Profit]]/Inventory[[#This Row],[Quantity Sold]]),0)","v":0}]
[null,null,null,null,null,null,null,null,0,0,0,null,null,null,0,{"$f":"IF(Inventory[[#This Row],[Item SKU/ID]]=\"\",0,SUMPRODUCT((Quantity_Sold_1=Inventory[[#This Row],[Item SKU/ID]])*Net_Profit))","v":0},{"$f":"IFERROR(AVERAGE(Inventory[[#This Row],[Total Net Profit]]/Inventory[[#This Row],[Quantity Sold]]),0)","v":0}]
[null,null,null,null,null,null,null,null,0,0,0,null,null,null,0,{"$f":"IF(Inventory[[#This Row],[Item SKU/ID]]=\"\",0,SUMPRODUCT((Quantity_Sold_1=Inventory[[#This Row],[Item SKU/ID]])*Net_Profit))","v":0},{"$f":"IFERROR(AVERAGE(Inventory[[#This Row],[Total Net Profit]]/Inventory[[#This Row],[Quantity Sold]]),0)","v":0}]
[null,null,null,null,null,null,null,null,0,0,0,null,null,null,0,{"$f":"IF(Inventory[[#This Row],[Item SKU/ID]]=\"\",0,SUMPRODUCT((Quantity_Sold_1=Inventory[[#This Row],[Item SKU/ID]])*Net_Profit))","v":0},{"$f":"IFERROR(AVERAGE(Inventory[[#This Row],[Total Net Profit]]/Inventory[[#This Row],[Quantity Sold]]),0)","v":0}]
[null,null,null,null,null,null,null,null,0,0,0,null,null,null,0,{"$f":"IF(Inventory[[#This Row],[Item SKU/ID]]=\"\",0,SUMPRODUCT((Quantity_Sold_1=Inventory[[#This Row],[Item SKU/ID]])*Net_Profit))","v":0},{"$f":"IFERROR(AVERAGE(Inventory[[#This Row],[Total Net Profit]]/Inventory[[#This Row],[Quantity Sold]]),0)","v":0}]
[null,null,null,null,null,null,null,null,0,0,0,null,null,null,0,{"$f":"IF(Inventory[[#This Row],[Item SKU/ID]]=\"\",0,SUMPRODUCT((Quantity_Sold_1=Inventory[[#This Row],[Item SKU/ID]])*Net_Profit))","v":0},{"$f":"IFERROR(AVERAGE(Inventory[[#This Row],[Total Net Profit]]/Inventory[[#This Row],[Quantity Sold]]),0)","v":0}]
[null,null,null,null,null,null,null,null,0,0,0,null,null,null,0,{"$f":"IF(Inventory[[#This Row],[Item SKU/ID]]=\"\",0,SUMPRODUCT((Quantity_Sold_1=Inventory[[#This Row],[Item SKU/ID]])*Net_Profit))","v":0},{"$f":"IFERROR(AVERAGE(Inventory[[#This Row],[Total Net Profit]]/Inventory[[#This Row],[Quantity Sold]]),0)","v":0}]
[null,null,null,null,null,null,null,null,0,0,0,null,null,null,0,{"$f":"IF(Inventory[[#This Row],[Item SKU/ID]]=\"\",0,SUMPRODUCT((Quantity_Sold_1=Inventory[[#This Row],[Item SKU/ID]])*Net_Profit))","v":0},{"$f":"IFERROR(AVERAGE(Inventory[[#This Row],[Total Net Profit]]/Inventory[[#This Row],[Quantity Sold]]),0)","v":0}]
[null,null,null,null,null,null,null,null,0,0,0,null,null,null,0,{"$f":"IF(Inventory[[#This Row],[Item SKU/ID]]=\"\",0,SUMPRODUCT((Quantity_Sold_1=Inventory[[#This Row],[Item SKU/ID]])*Net_Profit))","v":0},{"$f":"IFERROR(AVERAGE(Inventory[[#This Row],[Total Net Profit]]/Inventory[[#This Row],[Quantity Sold]]),0)","v":0}]
[null,null,null,null,null,null,null,null,0,0,0,null,null,null,0,{"$f":"IF(Inventory[[#This Row],[Item SKU/ID]]=\"\",0,SUMPRODUCT((Quantity_Sold_1=Inventory[[#This Row],[Item SKU/ID]])*Net_Profit))","v":0},{"$f":"IFERROR(AVERAGE(Inventory[[#This Row],[Total Net Profit]]/Inventory[[#This Row],[Quantity Sold]]),0)","v":0}]
[null,null,null,null,null,null,null,null,0,0,0,null,null,null,0,{"$f":"IF(Inventory[[#This Row],[Item SKU/ID]]=\"\",0,SUMPRODUCT((Quantity_Sold_1=Inventory[[#This Row],[Item SKU/ID]])*Net_Profit))","v":0},{"$f":"IFERROR(AVERAGE(Inventory[[#This Row],[Total Net Profit]]/Inventory[[#This Row],[Quantity Sold]]),0)","v":0}]
[null,null,null,null,null,null,null,null,0,0,0,null,null,null,0,{"$f":"IF(Inventory[[#This Row],[Item SKU/ID]]=\"\",0,SUMPRODUCT((Quantity_Sold_1=Inventory[[#This Row],[Item SKU/ID]])*Net_Profit))","v":0},{"$f":"IFERROR(AVERAGE(Inventory[[#This Row],[Total Net Profit]]/Inventory[[#This Row],[Quantity Sold]]),0)","v":0}]
[null,null,null,null,null,null,null,null,0,0,0,null,null,null,0,{"$f":"IF(Inventory[[#This Row],[Item SKU/ID]]=\"\",0,SUMPRODUCT((Quantity_Sold_1=Inventory[[#This Row],[Item SKU/ID]])*Net_Profit))","v":0},{"$f":"IFERROR(AVERAGE(Inventory[[#This Row],[Total Net Profit]]/Inventory[[#This Row],[Quantity Sold]]),0)","v":0}]
[null,null,null,null,null,null,null,null,0,0,0,null,null,null,0,{"$f":"IF(Inventory[[#This Row],[Item SKU/ID]]=\"\",0,SUMPRODUCT((Quantity_Sold_1=Inventory[[#This Row],[Item SKU/ID]])*Net_Profit))","v":0},{"$f":"IFERROR(AVERAGE(Inventory[[#This Row],[Total Net Profit]]/Inventory[[#This Row],[Quantity Sold]]),0)","v":0}]
[null,null,null,null,null,null,null,null,0,0,0,null,null,null,0,{"$f":"IF(Inventory[[#This Row],[Item SKU/ID]]=\"\",0,SUMPRODUCT((Quantity_Sold_1=Inventory[[#This Row],[Item SKU/ID]])*Net_Profit))","v":0},{"$f":"IFERROR(AVERAGE(Inventory[[#This Row],[Total Net Profit]]/Inventory[[#This Row],[Quantity Sold]]),0)","v":0}]
[null,null,null,null,null,null,null,null,{"$f":"K3204*H3204","v":0},{"$f":"IF(F3204=\"\",0,SUMPRODUCT((Quantity_Sold_1=F3204)*Quantity_Sold_2))","v":0},{"$f":"G3204-J3204","v":0},null,null,null,{"$f":"K3204*H3204","v":0},{"$f":"IF(Inventory[[#This Row],[Item SKU/ID]]=\"\",0,SUMPRODUCT((Quantity_Sold_1=Inventory[[#This Row],[Item SKU/ID]])*Net_Profit))","v":0},{"$f":"IFERROR(AVERAGE(Inventory[[#This Row],[Total Net Profit]]/Inventory[[#This Row],[Quantity Sold]]),0)","v":0}]
[null,null,null,null,null,null,null,null,0,0,0,null,null,null,0,{"$f":"IF(Inventory[[#This Row],[Item SKU/ID]]=\"\",0,SUMPRODUCT((Quantity_Sold_1=Inventory[[#This Row],[Item SKU/ID]])*Net_Profit))","v":0},{"$f":"IFERROR(AVERAGE(Inventory[[#This Row],[Total Net Profit]]/Inventory[[#This Row],[Quantity Sold]]),0)","v":0}]
[null,null,null,null,null,null,null,null,0,0,0,null,null,null,0,{"$f":"IF(Inventory[[#This Row],[Item SKU/ID]]=\"\",0,SUMPRODUCT((Quantity_Sold_1=Inventory[[#This Row],[Item SKU/ID]])*Net_Profit))","v":0},{"$f":"IFERROR(AVERAGE(Inventory[[#This Row],[Total Net Profit]]/Inventory[[#This Row],[Quantity Sold]]),0)","v":0}]
[null,null,null,null,null,null,null,null,0,0,0,null,null,null,0,{"$f":"IF(Inventory[[#This Row],[Item SKU/ID]]=\"\",0,SUMPRODUCT((Quantity_Sold_1=Inventory[[#This Row],[Item SKU/ID]])*Net_Profit))","v":0},{"$f":"IFERROR(AVERAGE(Inventory[[#This Row],[Total Net Profit]]/Inventory[[#This Row],[Quantity Sold]]),0)","v":0}]
[null,null,null,null,null,null,null,null,0,0,0,null,null,null,0,{"$f":"IF(Inventory[[#This Row],[Item SKU/ID]]=\"\",0,SUMPRODUCT((Quantity_Sold_1=Inventory[[#This Row],[Item SKU/ID]])*Net_Profit))","v":0},{"$f":"IFERROR(AVERAGE(Inventory[[#This Row],[Total Net Profit]]/Inventory[[#This Row],[Quantity Sold]]),0)","v":0}]
[null,null,null,null,null,null,null,null,0,0,0,null,null,null,0,{"$f":"IF(Inventory[[#This Row],[Item SKU/ID]]=\"\",0,SUMPRODUCT((Quantity_Sold_1=Inventory[[#This Row],[Item SKU/ID]])*Net_Profit))","v":0},{"$f":"IFERROR(AVERAGE(Inventory[[#This Row],[Total Net Profit]]/Inventory[[#This Row],[Quantity Sold]]),0)","v":0}]
[null,null,null,null,null,null,null,null,0,0,0,null,null,null,0,{"$f":"IF(Inventory[[#This Row],[Item SKU/ID]]=\"\",0,SUMPRODUCT((Quantity_Sold_1=Inventory[[#This Row],[Item SKU/ID]])*Net_Profit))","v":0},{"$f":"IFERROR(AVERAGE(Inventory[[#This Row],[Total Net Profit]]/Inventory[[#This Row],[Quantity Sold]]),0)","v":0}]
[null,null,null,null,null,null,null,null,0,0,0,null,null,null,0,{"$f":"IF(Inventory[[#This Row],[Item SKU/ID]]=\"\",0,SUMPRODUCT((Quantity_Sold_1=Inventory[[#This Row],[Item SKU/ID]])*Net_Profit))","v":0},{"$f":"IFERROR(AVERAGE(Inventory[[#This Row],[Total Net Profit]]/Inventory[[#This Row],[Quantity Sold]]),0)","v":0}]
[null,null,null,null,null,null,null,null,0,0,0,null,null,null,0,{"$f":"IF(Inventory[[#This Row],[Item SKU/ID]]=\"\",0,SUMPRODUCT((Quantity_Sold_1=Inventory[[#This Row],[Item SKU/ID]])*Net_Profit))","v":0},{"$f":"IFERROR(AVERAGE(Inventory[[#This Row],[Total Net Profit]]/Inventory[[#This Row],[Quantity Sold]]),0)","v":0}]
[null,null,null,null,null,null,null,null,0,0,0,null,null,null,0,{"$f":"IF(Inventory[[#This Row],[Item SKU/ID]]=\"\",0,SUMPRODUCT((Quantity_Sold_1=Inventory[[#This Row],[Item SKU/ID]])*Net_Profit))","v":0},{"$f":"IFERROR(AVERAGE(Inventory[[#This Row],[Total Net Profit]]/Inventory[[#This Row],[Quantity Sold]]),0)","v":0}]
[null,null,null,null,null,null,null,null,0,0,0,null,null,null,0,{"$f":"IF(Inventory[[#This Row],[Item SKU/ID]]=\"\",0,SUMPRODUCT((Quantity_Sold_1=Inventory[[#This Row],[Item SKU/ID]])*Net_Profit))","v":0},{"$f":"IFERROR(AVERAGE(Inventory[[#This Row],[Total Net Profit]]/Inventory[[#This Row],[Quantity Sold]]),0)","v":0}]
[null,null,null,null,null,null,null,null,0,0,0,null,null,null,0,{"$f":"IF(Inventory[[#This Row],[Item SKU/ID]]=\"\",0,SUMPRODUCT((Quantity_Sold_1=Inventory[[#This Row],[Item SKU/ID]])*Net_Profit))","v":0},{"$f":"IFERROR(AVERAGE(Inventory[[#This Row],[Total Net Profit]]/Inventory[[#This Row],[Quantity Sold]]),0)","v":0}]
[null,null,null,null,null,null,null,null,0,0,0,null,null,null,0,{"$f":"IF(Inventory[[#This Row],[Item SKU/ID]]=\"\",0,SUMPRODUCT((Quantity_Sold_1=Inventory[[#This Row],[Item SKU/ID]])*Net_Profit))","v":0},{"$f":"IFERROR(AVERAGE(Inventory[[#This Row],[Total Net Profit]]/Inventory[[#This Row],[Quantity Sold]]),0)","v":0}]
[null,null,null,null,null,null,null,null,0,0,0,null,null,null,0,{"$f":"IF(Inventory[[#This Row],[Item SKU/ID]]=\"\",0,SUMPRODUCT((Quantity_Sold_1=Inventory[[#This Row],[Item SKU/ID]])*Net_Profit))","v":0},{"$f":"IFERROR(AVERAGE(Inventory[[#This Row],[Total Net Profit]]/Inventory[[#This Row],[Quantity Sold]]),0)","v":0}]
[null,null,null,null,null,null,null,null,0,0,0,null,null,null,0,{"$f":"IF(Inventory[[#This Row],[Item SKU/ID]]=\"\",0,SUMPRODUCT((Quantity_Sold_1=Inventory[[#This Row],[Item SKU/ID]])*Net_Profit))","v":0},{"$f":"IFERROR(AVERAGE(Inventory[[#This Row],[Total Net Profit]]/Inventory[[#This Row],[Quantity Sold]]),0)","v":0}]
[null,null,null,null,null,null,null,null,0,0,0,null,null,null,0,{"$f":"IF(Inventory[[#This Row],[Item SKU/ID]]=\"\",0,SUMPRODUCT((Quantity_Sold_1=Inventory[[#This Row],[Item SKU/ID]])*Net_Profit))","v":0},{"$f":"IFERROR(AVERAGE(Inventory[[#This Row],[Total Net Profit]]/Inventory[[#This Row],[Quantity Sold]]),0)","v":0}]
[null,null,null,null,null,null,null,null,0,0,0,null,null,null,0,{"$f":"IF(Inventory[[#This Row],[Item SKU/ID]]=\"\",0,SUMPRODUCT((Quantity_Sold_1=Inventory[[#This Row],[Item SKU/ID]])*Net_Profit))","v":0},{"$f":"IFERROR(AVERAGE(Inventory[[#This Row],[Total Net Profit]]/Inventory[[#This Row],[Quantity Sold]]),0)","v":0}]
[null,null,null,null,null,null,null,null,0,0,0,null,null,null,0,{"$f":"IF(Inventory[[#This Row],[Item SKU/ID]]=\"\",0,SUMPRODUCT((Quantity_Sold_1=Inventory[[#This Row],[Item SKU/ID]])*Net_Profit))","v":0},{"$f":"IFERROR(AVERAGE(Inventory[[#This Row],[Total Net Profit]]/Inventory[[#This Row],[Quantity Sold]]),0)","v":0}]
[null,null,null,null,null,null,null,null,0,0,0,null,null,null,0,{"$f":"IF(Inventory[[#This Row],[Item SKU/ID]]=\"\",0,SUMPRODUCT((Quantity_Sold_1=Inventory[[#This Row],[Item SKU/ID]])*Net_Profit))","v":0},{"$f":"IFERROR(AVERAGE(Inventory[[#This Row],[Total Net Profit]]/Inventory[[#This Row],[Quantity Sold]]),0)","v":0}]
[null,null,null,null,null,null,null,null,0,0,0,null,null,null,0,{"$f":"IF(Inventory[[#This Row],[Item SKU/ID]]=\"\",0,SUMPRODUCT((Quantity_Sold_1=Inventory[[#This Row],[Item SKU/ID]])*Net_Profit))","v":0},{"$f":"IFERROR(AVERAGE(Inventory[[#This Row],[Total Net Profit]]/Inventory[[#This Row],[Quantity Sold]]),0)","v":0}]
[null,null,null,null,null,null,null,null,0,0,0,null,null,null,0,{"$f":"IF(Inventory[[#This Row],[Item SKU/ID]]=\"\",0,SUMPRODUCT((Quantity_Sold_1=Inventory[[#This Row],[Item SKU/ID]])*Net_Profit))","v":0},{"$f":"IFERROR(AVERAGE(Inventory[[#This Row],[Total Net Profit]]/Inventory[[#This Row],[Quantity Sold]]),0)","v":0}]
[null,null,null,null,null,null,null,null,0,0,0,null,null,null,0,{"$f":"IF(Inventory[[#This Row],[Item SKU/ID]]=\"\",0,SUMPRODUCT((Quantity_Sold_1=Inventory[[#This Row],[Item SKU/ID]])*Net_Profit))","v":0},{"$f":"IFERROR(AVERAGE(Inventory[[#This Row],[Total Net Profit]]/Inventory[[#This Row],[Quantity Sold]]),0)","v":0}]
[null,null,null,null,null,null,null,null,0,0,0,null,null,null,0,{"$f":"IF(Inventory[[#This Row],[Item SKU/ID]]=\"\",0,SUMPRODUCT((Quantity_Sold_1=Inventory[[#This Row],[Item SKU/ID]])*Net_Profit))","v":0},{"$f":"IFERROR(AVERAGE(Inventory[[#This Row],[Total Net Profit]]/Inventory[[#This Row],[Quantity Sold]]),0)","v":0}]
[null,null,null,null,null,null,null,null,0,0,0,null,null,null,0,{"$f":"IF(Inventory[[#This Row],[Item SKU/ID]]=\"\",0,SUMPRODUCT((Quantity_Sold_1=Inventory[[#This Row],[Item SKU/ID]])*Net_Profit))","v":0},{"$f":"IFERROR(AVERAGE(Inventory[[#This Row],[Total Net Profit]]/Inventory[[#This Row],[Quantity Sold]]),0)","v":0}]
[null,null,null,null,null,null,null,null,0,0,0,null,null,null,0,{"$f":"IF(Inventory[[#This Row],[Item SKU/ID]]=\"\",0,SUMPRODUCT((Quantity_Sold_1=Inventory[[#This Row],[Item SKU/ID]])*Net_Profit))","v":0},{"$f":"IFERROR(AVERAGE(Inventory[[#This Row],[Total Net Profit]]/Inventory[[#This Row],[Quantity Sold]]),0)","v":0}]
[null,null,null,null,null,null,null,null,0,0,0,null,null,null,0,{"$f":"IF(Inventory[[#This Row],[Item SKU/ID]]=\"\",0,SUMPRODUCT((Quantity_Sold_1=Inventory[[#This Row],[Item SKU/ID]])*Net_Profit))","v":0},{"$f":"IFERROR(AVERAGE(Inventory[[#This Row],[Total Net Profit]]/Inventory[[#This Row],[Quantity Sold]]),0)","v":0}]
[null,null,null,null,null,null,null,null,0,0,0,null,null,null,0,{"$f":"IF(Inventory[[#This Row],[Item SKU/ID]]=\"\",0,SUMPRODUCT((Quantity_Sold_1=Inventory[[#This Row],[Item SKU/ID]])*Net_Profit))","v":0},{"$f":"IFERROR(AVERAGE(Inventory[[#This Row],[Total Net Profit]]/Inventory[[#This Row],[Quantity Sold]]),0)","v":0}]
[null,null,null,null,null,null,null,null,0,0,0,null,null,null,0,{"$f":"IF(Inventory[[#This Row],[Item SKU/ID]]=\"\",0,SUMPRODUCT((Quantity_Sold_1=Inventory[[#This Row],[Item SKU/ID]])*Net_Profit))","v":0},{"$f":"IFERROR(AVERAGE(Inventory[[#This Row],[Total Net Profit]]/Inventory[[#This Row],[Quantity Sold]]),0)","v":0}]
[null,null,null,null,null,null,null,null,0,0,0,null,null,null,0,{"$f":"IF(Inventory[[#This Row],[Item SKU/ID]]=\"\",0,SUMPRODUCT((Quantity_Sold_1=Inventory[[#This Row],[Item SKU/ID]])*Net_Profit))","v":0},{"$f":"IFERROR(AVERAGE(Inventory[[#This Row],[Total Net Profit]]/Inventory[[#This Row],[Quantity Sold]]),0)","v":0}]
[null,null,null,null,null,null,null,null,0,0,0,null,null,null,0,{"$f":"IF(Inventory[[#This Row],[Item SKU/ID]]=\"\",0,SUMPRODUCT((Quantity_Sold_1=Inventory[[#This Row],[Item SKU/ID]])*Net_Profit))","v":0},{"$f":"IFERROR(AVERAGE(Inventory[[#This Row],[Total Net Profit]]/Inventory[[#This Row],[Quantity Sold]]),0)","v":0}]
[null,null,null,null,null,null,null,null,0,0,0,null,null,null,0,{"$f":"IF(Inventory[[#This Row],[Item SKU/ID]]=\"\",0,SUMPRODUCT((Quantity_Sold_1=Inventory[[#This Row],[Item SKU/ID]])*Net_Profit))","v":0},{"$f":"IFERROR(AVERAGE(Inventory[[#This Row],[Total Net Profit]]/Inventory[[#This Row],[Quantity Sold]]),0)","v":0}]
[null,null,null,null,null,null,null,null,0,0,0,null,null,null,0,{"$f":"IF(Inventory[[#This Row],[Item SKU/ID]]=\"\",0,SUMPRODUCT((Quantity_Sold_1=Inventory[[#This Row],[Item SKU/ID]])*Net_Profit))","v":0},{"$f":"IFERROR(AVERAGE(Inventory[[#This Row],[Total Net Profit]]/Inventory[[#This Row],[Quantity Sold]]),0)","v":0}]
[null,null,null,null,null,null,null,null,0,0,0,null,null,null,0,{"$f":"IF(Inventory[[#This Row],[Item SKU/ID]]=\"\",0,SUMPRODUCT((Quantity_Sold_1=Inventory[[#This Row],[Item SKU/ID]])*Net_Profit))","v":0},{"$f":"IFERROR(AVERAGE(Inventory[[#This Row],[Total Net Profit]]/Inventory[[#This Row],[Quantity Sold]]),0)","v":0}]
[null,null,null,null,null,null,null,null,0,0,0,null,null,null,0,{"$f":"IF(Inventory[[#This Row],[Item SKU/ID]]=\"\",0,SUMPRODUCT((Quantity_Sold_1=Inventory[[#This Row],[Item SKU/ID]])*Net_Profit))","v":0},{"$f":"IFERROR(AVERAGE(Inventory[[#This Row],[Total Net Profit]]/Inventory[[#This Row],[Quantity Sold]]),0)","v":0}]
[null,null,null,null,null,null,null,null,0,0,0,null,null,null,0,{"$f":"IF(Inventory[[#This Row],[Item SKU/ID]]=\"\",0,SUMPRODUCT((Quantity_Sold_1=Inventory[[#This Row],[Item SKU/ID]])*Net_Profit))","v":0},{"$f":"IFERROR(AVERAGE(Inventory[[#This Row],[Total Net Profit]]/Inventory[[#This Row],[Quantity Sold]]),0)","v":0}]
[null,null,null,null,null,null,null,null,0,0,0,null,null,null,0,{"$f":"IF(Inventory[[#This Row],[Item SKU/ID]]=\"\",0,SUMPRODUCT((Quantity_Sold_1=Inventory[[#This Row],[Item SKU/ID]])*Net_Profit))","v":0},{"$f":"IFERROR(AVERAGE(Inventory[[#This Row],[Total Net Profit]]/Inventory[[#This Row],[Quantity Sold]]),0)","v":0}]
[null,null,null,null,null,null,null,null,0,0,0,null,null,null,0,{"$f":"IF(Inventory[[#This Row],[Item SKU/ID]]=\"\",0,SUMPRODUCT((Quantity_Sold_1=Inventory[[#This Row],[Item SKU/ID]])*Net_Profit))","v":0},{"$f":"IFERROR(AVERAGE(Inventory[[#This Row],[Total Net Profit]]/Inventory[[#This Row],[Quantity Sold]]),0)","v":0}]
[null,null,null,null,null,null,null,null,0,0,0,null,null,null,0,{"$f":"IF(Inventory[[#This Row],[Item SKU/ID]]=\"\",0,SUMPRODUCT((Quantity_Sold_1=Inventory[[#This Row],[Item SKU/ID]])*Net_Profit))","v":0},{"$f":"IFERROR(AVERAGE(Inventory[[#This Row],[Total Net Profit]]/Inventory[[#This Row],[Quantity Sold]]),0)","v":0}]
[null,null,null,null,null,null,null,null,0,0,0,null,null,null,0,{"$f":"IF(Inventory[[#This Row],[Item SKU/ID]]=\"\",0,SUMPRODUCT((Quantity_Sold_1=Inventory[[#This Row],[Item SKU/ID]])*Net_Profit))","v":0},{"$f":"IFERROR(AVERAGE(Inventory[[#This Row],[Total Net Profit]]/Inventory[[#This Row],[Quantity Sold]]),0)","v":0}]
[null,null,null,null,null,null,null,null,0,0,0,null,null,null,0,{"$f":"IF(Inventory[[#This Row],[Item SKU/ID]]=\"\",0,SUMPRODUCT((Quantity_Sold_1=Inventory[[#This Row],[Item SKU/ID]])*Net_Profit))","v":0},{"$f":"IFERROR(AVERAGE(Inventory[[#This Row],[Total Net Profit]]/Inventory[[#This Row],[Quantity Sold]]),0)","v":0}]
[null,null,null,null,null,null,null,null,0,0,0,null,null,null,0,{"$f":"IF(Inventory[[#This Row],[Item SKU/ID]]=\"\",0,SUMPRODUCT((Quantity_Sold_1=Inventory[[#This Row],[Item SKU/ID]])*Net_Profit))","v":0},{"$f":"IFERROR(AVERAGE(Inventory[[#This Row],[Total Net Profit]]/Inventory[[#This Row],[Quantity Sold]]),0)","v":0}]
[null,null,null,null,null,null,null,null,0,0,0,null,null,null,0,{"$f":"IF(Inventory[[#This Row],[Item SKU/ID]]=\"\",0,SUMPRODUCT((Quantity_Sold_1=Inventory[[#This Row],[Item SKU/ID]])*Net_Profit))","v":0},{"$f":"IFERROR(AVERAGE(Inventory[[#This Row],[Total Net Profit]]/Inventory[[#This Row],[Quantity Sold]]),0)","v":0}]
[null,null,null,null,null,null,null,null,0,0,0,null,null,null,0,{"$f":"IF(Inventory[[#This Row],[Item SKU/ID]]=\"\",0,SUMPRODUCT((Quantity_Sold_1=Inventory[[#This Row],[Item SKU/ID]])*Net_Profit))","v":0},{"$f":"IFERROR(AVERAGE(Inventory[[#This Row],[Total Net Profit]]/Inventory[[#This Row],[Quantity Sold]]),0)","v":0}]
[null,null,null,null,null,null,null,null,0,0,0,null,null,null,0,{"$f":"IF(Inventory[[#This Row],[Item SKU/ID]]=\"\",0,SUMPRODUCT((Quantity_Sold_1=Inventory[[#This Row],[Item SKU/ID]])*Net_Profit))","v":0},{"$f":"IFERROR(AVERAGE(Inventory[[#This Row],[Total Net Profit]]/Inventory[[#This Row],[Quantity Sold]]),0)","v":0}]
[null,null,null,null,null,null,null,null,0,0,0,null,null,null,0,{"$f":"IF(Inventory[[#This Row],[Item SKU/ID]]=\"\",0,SUMPRODUCT((Quantity_Sold_1=Inventory[[#This Row],[Item SKU/ID]])*Net_Profit))","v":0},{"$f":"IFERROR(AVERAGE(Inventory[[#This Row],[Total Net Profit]]/Inventory[[#This Row],[Quantity Sold]]),0)","v":0}]
[null,null,null,null,null,null,null,null,0,0,0,null,null,null,0,{"$f":"IF(Inventory[[#This Row],[Item SKU/ID]]=\"\",0,SUMPRODUCT((Quantity_Sold_1=Inventory[[#This Row],[Item SKU/ID]])*Net_Profit))","v":0},{"$f":"IFERROR(AVERAGE(Inventory[[#This Row],[Total Net Profit]]/Inventory[[#This Row],[Quantity Sold]]),0)","v":0}]
[null,null,null,null,null,null,null,null,0,0,0,null,null,null,0,{"$f":"IF(Inventory[[#This Row],[Item SKU/ID]]=\"\",0,SUMPRODUCT((Quantity_Sold_1=Inventory[[#This Row],[Item SKU/ID]])*Net_Profit))","v":0},{"$f":"IFERROR(AVERAGE(Inventory[[#This Row],[Total Net Profit]]/Inventory[[#This Row],[Quantity Sold]]),0)","v":0}]
[null,null,null,null,null,null,null,null,0,0,0,null,null,null,0,{"$f":"IF(Inventory[[#This Row],[Item SKU/ID]]=\"\",0,SUMPRODUCT((Quantity_Sold_1=Inventory[[#This Row],[Item SKU/ID]])*Net_Profit))","v":0},{"$f":"IFERROR(AVERAGE(Inventory[[#This Row],[Total Net Profit]]/Inventory[[#This Row],[Quantity Sold]]),0)","v":0}]
[null,null,null,null,null,null,null,null,0,0,0,null,null,null,0,{"$f":"IF(Inventory[[#This Row],[Item SKU/ID]]=\"\",0,SUMPRODUCT((Quantity_Sold_1=Inventory[[#This Row],[Item SKU/ID]])*Net_Profit))","v":0},{"$f":"IFERROR(AVERAGE(Inventory[[#This Row],[Total Net Profit]]/Inventory[[#This Row],[Quantity Sold]]),0)","v":0}]
[null,null,null,null,null,null,null,null,0,0,0,null,null,null,0,{"$f":"IF(Inventory[[#This Row],[Item SKU/ID]]=\"\",0,SUMPRODUCT((Quantity_Sold_1=Inventory[[#This Row],[Item SKU/ID]])*Net_Profit))","v":0},{"$f":"IFERROR(AVERAGE(Inventory[[#This Row],[Total Net Profit]]/Inventory[[#This Row],[Quantity Sold]]),0)","v":0}]
[null,null,null,null,null,null,null,null,0,0,0,null,null,null,0,{"$f":"IF(Inventory[[#This Row],[Item SKU/ID]]=\"\",0,SUMPRODUCT((Quantity_Sold_1=Inventory[[#This Row],[Item SKU/ID]])*Net_Profit))","v":0},{"$f":"IFERROR(AVERAGE(Inventory[[#This Row],[Total Net Profit]]/Inventory[[#This Row],[Quantity Sold]]),0)","v":0}]
[null,null,null,null,null,null,null,null,0,0,0,null,null,null,0,{"$f":"IF(Inventory[[#This Row],[Item SKU/ID]]=\"\",0,SUMPRODUCT((Quantity_Sold_1=Inventory[[#This Row],[Item SKU/ID]])*Net_Profit))","v":0},{"$f":"IFERROR(AVERAGE(Inventory[[#This Row],[Total Net Profit]]/Inventory[[#This Row],[Quantity Sold]]),0)","v":0}]
[null,null,null,null,null,null,null,null,0,0,0,null,null,null,0,{"$f":"IF(Inventory[[#This Row],[Item SKU/ID]]=\"\",0,SUMPRODUCT((Quantity_Sold_1=Inventory[[#This Row],[Item SKU/ID]])*Net_Profit))","v":0},{"$f":"IFERROR(AVERAGE(Inventory[[#This Row],[Total Net Profit]]/Inventory[[#This Row],[Quantity Sold]]),0)","v":0}]
[null,null,null,null,null,null,null,null,0,0,0,null,null,null,0,{"$f":"IF(Inventory[[#This Row],[Item SKU/ID]]=\"\",0,SUMPRODUCT((Quantity_Sold_1=Inventory[[#This Row],[Item SKU/ID]])*Net_Profit))","v":0},{"$f":"IFERROR(AVERAGE(Inventory[[#This Row],[Total Net Profit]]/Inventory[[#This Row],[Quantity Sold]]),0)","v":0}]
[null,null,null,null,null,null,null,null,0,0,0,null,null,null,0,{"$f":"IF(Inventory[[#This Row],[Item SKU/ID]]=\"\",0,SUMPRODUCT((Quantity_Sold_1=Inventory[[#This Row],[Item SKU/ID]])*Net_Profit))","v":0},{"$f":"IFERROR(AVERAGE(Inventory[[#This Row],[Total Net Profit]]/Inventory[[#This Row],[Quantity Sold]]),0)","v":0}]
[null,null,null,null,null,null,null,null,0,0,0,null,null,null,0,{"$f":"IF(Inventory[[#This Row],[Item SKU/ID]]=\"\",0,SUMPRODUCT((Quantity_Sold_1=Inventory[[#This Row],[Item SKU/ID]])*Net_Profit))","v":0},{"$f":"IFERROR(AVERAGE(Inventory[[#This Row],[Total Net Profit]]/Inventory[[#This Row],[Quantity Sold]]),0)","v":0}]
[null,null,null,null,null,null,null,null,0,0,0,null,null,null,0,{"$f":"IF(Inventory[[#This Row],[Item SKU/ID]]=\"\",0,SUMPRODUCT((Quantity_Sold_1=Inventory[[#This Row],[Item SKU/ID]])*Net_Profit))","v":0},{"$f":"IFERROR(AVERAGE(Inventory[[#This Row],[Total Net Profit]]/Inventory[[#This Row],[Quantity Sold]]),0)","v":0}]
[null,null,null,null,null,null,null,null,0,0,0,null,null,null,0,{"$f":"IF(Inventory[[#This Row],[Item SKU/ID]]=\"\",0,SUMPRODUCT((Quantity_Sold_1=Inventory[[#This Row],[Item SKU/ID]])*Net_Profit))","v":0},{"$f":"IFERROR(AVERAGE(Inventory[[#This Row],[Total Net Profit]]/Inventory[[#This Row],[Quantity Sold]]),0)","v":0}]
[null,null,null,null,null,null,null,null,0,0,0,null,null,null,0,{"$f":"IF(Inventory[[#This Row],[Item SKU/ID]]=\"\",0,SUMPRODUCT((Quantity_Sold_1=Inventory[[#This Row],[Item SKU/ID]])*Net_Profit))","v":0},{"$f":"IFERROR(AVERAGE(Inventory[[#This Row],[Total Net Profit]]/Inventory[[#This Row],[Quantity Sold]]),0)","v":0}]
[null,null,null,null,null,null,null,null,0,0,0,null,null,null,0,{"$f":"IF(Inventory[[#This Row],[Item SKU/ID]]=\"\",0,SUMPRODUCT((Quantity_Sold_1=Inventory[[#This Row],[Item SKU/ID]])*Net_Profit))","v":0},{"$f":"IFERROR(AVERAGE(Inventory[[#This Row],[Total Net Profit]]/Inventory[[#This Row],[Quantity Sold]]),0)","v":0}]
[null,null,null,null,null,null,null,null,0,0,0,null,null,null,0,{"$f":"IF(Inventory[[#This Row],[Item SKU/ID]]=\"\",0,SUMPRODUCT((Quantity_Sold_1=Inventory[[#This Row],[Item SKU/ID]])*Net_Profit))","v":0},{"$f":"IFERROR(AVERAGE(Inventory[[#This Row],[Total Net Profit]]/Inventory[[#This Row],[Quantity Sold]]),0)","v":0}]
[null,null,null,null,null,null,null,null,0,0,0,null,null,null,0,{"$f":"IF(Inventory[[#This Row],[Item SKU/ID]]=\"\",0,SUMPRODUCT((Quantity_Sold_1=Inventory[[#This Row],[Item SKU/ID]])*Net_Profit))","v":0},{"$f":"IFERROR(AVERAGE(Inventory[[#This Row],[Total Net Profit]]/Inventory[[#This Row],[Quantity Sold]]),0)","v":0}]
[null,null,null,null,null,null,null,null,0,0,0,null,null,null,0,{"$f":"IF(Inventory[[#This Row],[Item SKU/ID]]=\"\",0,SUMPRODUCT((Quantity_Sold_1=Inventory[[#This Row],[Item SKU/ID]])*Net_Profit))","v":0},{"$f":"IFERROR(AVERAGE(Inventory[[#This Row],[Total Net Profit]]/Inventory[[#This Row],[Quantity Sold]]),0)","v":0}]
[null,null,null,null,null,null,null,null,0,0,0,null,null,null,0,{"$f":"IF(Inventory[[#This Row],[Item SKU/ID]]=\"\",0,SUMPRODUCT((Quantity_Sold_1=Inventory[[#This Row],[Item SKU/ID]])*Net_Profit))","v":0},{"$f":"IFERROR(AVERAGE(Inventory[[#This Row],[Total Net Profit]]/Inventory[[#This Row],[Quantity Sold]]),0)","v":0}]
[null,null,null,null,null,null,null,null,{"$f":"K3268*H3268","v":0},{"$f":"IF(F3268=\"\",0,SUMPRODUCT((Quantity_Sold_1=F3268)*Quantity_Sold_2))","v":0},{"$f":"G3268-J3268","v":0},null,null,null,{"$f":"K3268*H3268","v":0},{"$f":"IF(Inventory[[#This Row],[Item SKU/ID]]=\"\",0,SUMPRODUCT((Quantity_Sold_1=Inventory[[#This Row],[Item SKU/ID]])*Net_Profit))","v":0},{"$f":"IFERROR(AVERAGE(Inventory[[#This Row],[Total Net Profit]]/Inventory[[#This Row],[Quantity Sold]]),0)","v":0}]
[null,null,null,null,null,null,null,null,0,0,0,null,null,null,0,{"$f":"IF(Inventory[[#This Row],[Item SKU/ID]]=\"\",0,SUMPRODUCT((Quantity_Sold_1=Inventory[[#This Row],[Item SKU/ID]])*Net_Profit))","v":0},{"$f":"IFERROR(AVERAGE(Inventory[[#This Row],[Total Net Profit]]/Inventory[[#This Row],[Quantity Sold]]),0)","v":0}]
[null,null,null,null,null,null,null,null,0,0,0,null,null,null,0,{"$f":"IF(Inventory[[#This Row],[Item SKU/ID]]=\"\",0,SUMPRODUCT((Quantity_Sold_1=Inventory[[#This Row],[Item SKU/ID]])*Net_Profit))","v":0},{"$f":"IFERROR(AVERAGE(Inventory[[#This Row],[Total Net Profit]]/Inventory[[#This Row],[Quantity Sold]]),0)","v":0}]
[null,null,null,null,null,null,null,null,0,0,0,null,null,null,0,{"$f":"IF(Inventory[[#This Row],[Item SKU/ID]]=\"\",0,SUMPRODUCT((Quantity_Sold_1=Inventory[[#This Row],[Item SKU/ID]])*Net_Profit))","v":0},{"$f":"IFERROR(AVERAGE(Inventory[[#This Row],[Total Net Profit]]/Inventory[[#This Row],[Quantity Sold]]),0)","v":0}]
[null,null,null,null,null,null,null,null,0,0,0,null,null,null,0,{"$f":"IF(Inventory[[#This Row],[Item SKU/ID]]=\"\",0,SUMPRODUCT((Quantity_Sold_1=Inventory[[#This Row],[Item SKU/ID]])*Net_Profit))","v":0},{"$f":"IFERROR(AVERAGE(Inventory[[#This Row],[Total Net Profit]]/Inventory[[#This Row],[Quantity Sold]]),0)","v":0}]
[null,null,null,null,null,null,null,null,0,0,0,null,null,null,0,{"$f":"IF(Inventory[[#This Row],[Item SKU/ID]]=\"\",0,SUMPRODUCT((Quantity_Sold_1=Inventory[[#This Row],[Item SKU/ID]])*Net_Profit))","v":0},{"$f":"IFERROR(AVERAGE(Inventory[[#This Row],[Total Net Profit]]/Inventory[[#This Row],[Quantity Sold]]),0)","v":0}]
[null,null,null,null,null,null,null,null,0,0,0,null,null,null,0,{"$f":"IF(Inventory[[#This Row],[Item SKU/ID]]=\"\",0,SUMPRODUCT((Quantity_Sold_1=Inventory[[#This Row],[Item SKU/ID]])*Net_Profit))","v":0},{"$f":"IFERROR(AVERAGE(Inventory[[#This Row],[Total Net Profit]]/Inventory[[#This Row],[Quantity Sold]]),0)","v":0}]
[null,null,null,null,null,null,null,null,0,0,0,null,null,null,0,{"$f":"IF(Inventory[[#This Row],[Item SKU/ID]]=\"\",0,SUMPRODUCT((Quantity_Sold_1=Inventory[[#This Row],[Item SKU/ID]])*Net_Profit))","v":0},{"$f":"IFERROR(AVERAGE(Inventory[[#This Row],[Total Net Profit]]/Inventory[[#This Row],[Quantity Sold]]),0)","v":0}]
[null,null,null,null,null,null,null,null,0,0,0,null,null,null,0,{"$f":"IF(Inventory[[#This Row],[Item SKU/ID]]=\"\",0,SUMPRODUCT((Quantity_Sold_1=Inventory[[#This Row],[Item SKU/ID]])*Net_Profit))","v":0},{"$f":"IFERROR(AVERAGE(Inventory[[#This Row],[Total Net Profit]]/Inventory[[#This Row],[Quantity Sold]]),0)","v":0}]
[null,null,null,null,null,null,null,null,0,0,0,null,null,null,0,{"$f":"IF(Inventory[[#This Row],[Item SKU/ID]]=\"\",0,SUMPRODUCT((Quantity_Sold_1=Inventory[[#This Row],[Item SKU/ID]])*Net_Profit))","v":0},{"$f":"IFERROR(AVERAGE(Inventory[[#This Row],[Total Net Profit]]/Inventory[[#This Row],[Quantity Sold]]),0)","v":0}]
[null,null,null,null,null,null,null,null,0,0,0,null,null,null,0,{"$f":"IF(Inventory[[#This Row],[Item SKU/ID]]=\"\",0,SUMPRODUCT((Quantity_Sold_1=Inventory[[#This Row],[Item SKU/ID]])*Net_Profit))","v":0},{"$f":"IFERROR(AVERAGE(Inventory[[#This Row],[Total Net Profit]]/Inventory[[#This Row],[Quantity Sold]]),0)","v":0}]
[null,null,null,null,null,null,null,null,0,0,0,null,null,null,0,{"$f":"IF(Inventory[[#This Row],[Item SKU/ID]]=\"\",0,SUMPRODUCT((Quantity_Sold_1=Inventory[[#This Row],[Item SKU/ID]])*Net_Profit))","v":0},{"$f":"IFERROR(AVERAGE(Inventory[[#This Row],[Total Net Profit]]/Inventory[[#This Row],[Quantity Sold]]),0)","v":0}]
[null,null,null,null,null,null,null,null,0,0,0,null,null,null,0,{"$f":"IF(Inventory[[#This Row],[Item SKU/ID]]=\"\",0,SUMPRODUCT((Quantity_Sold_1=Inventory[[#This Row],[Item SKU/ID]])*Net_Profit))","v":0},{"$f":"IFERROR(AVERAGE(Inventory[[#This Row],[Total Net Profit]]/Inventory[[#This Row],[Quantity Sold]]),0)","v":0}]
[null,null,null,null,null,null,null,null,0,0,0,null,null,null,0,{"$f":"IF(Inventory[[#This Row],[Item SKU/ID]]=\"\",0,SUMPRODUCT((Quantity_Sold_1=Inventory[[#This Row],[Item SKU/ID]])*Net_Profit))","v":0},{"$f":"IFERROR(AVERAGE(Inventory[[#This Row],[Total Net Profit]]/Inventory[[#This Row],[Quantity Sold]]),0)","v":0}]
[null,null,null,null,null,null,null,null,0,0,0,null,null,null,0,{"$f":"IF(Inventory[[#This Row],[Item SKU/ID]]=\"\",0,SUMPRODUCT((Quantity_Sold_1=Inventory[[#This Row],[Item SKU/ID]])*Net_Profit))","v":0},{"$f":"IFERROR(AVERAGE(Inventory[[#This Row],[Total Net Profit]]/Inventory[[#This Row],[Quantity Sold]]),0)","v":0}]
[null,null,null,null,null,null,null,null,0,0,0,null,null,null,0,{"$f":"IF(Inventory[[#This Row],[Item SKU/ID]]=\"\",0,SUMPRODUCT((Quantity_Sold_1=Inventory[[#This Row],[Item SKU/ID]])*Net_Profit))","v":0},{"$f":"IFERROR(AVERAGE(Inventory[[#This Row],[Total Net Profit]]/Inventory[[#This Row],[Quantity Sold]]),0)","v":0}]
[null,null,null,null,null,null,null,null,0,0,0,null,null,null,0,{"$f":"IF(Inventory[[#This Row],[Item SKU/ID]]=\"\",0,SUMPRODUCT((Quantity_Sold_1=Inventory[[#This Row],[Item SKU/ID]])*Net_Profit))","v":0},{"$f":"IFERROR(AVERAGE(Inventory[[#This Row],[Total Net Profit]]/Inventory[[#This Row],[Quantity Sold]]),0)","v":0}]
[null,null,null,null,null,null,null,null,0,0,0,null,null,null,0,{"$f":"IF(Inventory[[#This Row],[Item SKU/ID]]=\"\",0,SUMPRODUCT((Quantity_Sold_1=Inventory[[#This Row],[Item SKU/ID]])*Net_Profit))","v":0},{"$f":"IFERROR(AVERAGE(Inventory[[#This Row],[Total Net Profit]]/Inventory[[#This Row],[Quantity Sold]]),0)","v":0}]
[null,null,null,null,null,null,null,null,0,0,0,null,null,null,0,{"$f":"IF(Inventory[[#This Row],[Item SKU/ID]]=\"\",0,SUMPRODUCT((Quantity_Sold_1=Inventory[[#This Row],[Item SKU/ID]])*Net_Profit))","v":0},{"$f":"IFERROR(AVERAGE(Inventory[[#This Row],[Total Net Profit]]/Inventory[[#This Row],[Quantity Sold]]),0)","v":0}]
[null,null,null,null,null,null,null,null,0,0,0,null,null,null,0,{"$f":"IF(Inventory[[#This Row],[Item SKU/ID]]=\"\",0,SUMPRODUCT((Quantity_Sold_1=Inventory[[#This Row],[Item SKU/ID]])*Net_Profit))","v":0},{"$f":"IFERROR(AVERAGE(Inventory[[#This Row],[Total Net Profit]]/Inventory[[#This Row],[Quantity Sold]]),0)","v":0}]
[null,null,null,null,null,null,null,null,0,0,0,null,null,null,0,{"$f":"IF(Inventory[[#This Row],[Item SKU/ID]]=\"\",0,SUMPRODUCT((Quantity_Sold_1=Inventory[[#This Row],[Item SKU/ID]])*Net_Profit))","v":0},{"$f":"IFERROR(AVERAGE(Inventory[[#This Row],[Total Net Profit]]/Inventory[[#This Row],[Quantity Sold]]),0)","v":0}]
[null,null,null,null,null,null,null,null,0,0,0,null,null,null,0,{"$f":"IF(Inventory[[#This Row],[Item SKU/ID]]=\"\",0,SUMPRODUCT((Quantity_Sold_1=Inventory[[#This Row],[Item SKU/ID]])*Net_Profit))","v":0},{"$f":"IFERROR(AVERAGE(Inventory[[#This Row],[Total Net Profit]]/Inventory[[#This Row],[Quantity Sold]]),0)","v":0}]
[null,null,null,null,null,null,null,null,0,0,0,null,null,null,0,{"$f":"IF(Inventory[[#This Row],[Item SKU/ID]]=\"\",0,SUMPRODUCT((Quantity_Sold_1=Inventory[[#This Row],[Item SKU/ID]])*Net_Profit))","v":0},{"$f":"IFERROR(AVERAGE(Inventory[[#This Row],[Total Net Profit]]/Inventory[[#This Row],[Quantity Sold]]),0)","v":0}]
[null,null,null,null,null,null,null,null,0,0,0,null,null,null,0,{"$f":"IF(Inventory[[#This Row],[Item SKU/ID]]=\"\",0,SUMPRODUCT((Quantity_Sold_1=Inventory[[#This Row],[Item SKU/ID]])*Net_Profit))","v":0},{"$f":"IFERROR(AVERAGE(Inventory[[#This Row],[Total Net Profit]]/Inventory[[#This Row],[Quantity Sold]]),0)","v":0}]
[null,null,null,null,null,null,null,null,0,0,0,null,null,null,0,{"$f":"IF(Inventory[[#This Row],[Item SKU/ID]]=\"\",0,SUMPRODUCT((Quantity_Sold_1=Inventory[[#This Row],[Item SKU/ID]])*Net_Profit))","v":0},{"$f":"IFERROR(AVERAGE(Inventory[[#This Row],[Total Net Profit]]/Inventory[[#This Row],[Quantity Sold]]),0)","v":0}]
[null,null,null,null,null,null,null,null,0,0,0,null,null,null,0,{"$f":"IF(Inventory[[#This Row],[Item SKU/ID]]=\"\",0,SUMPRODUCT((Quantity_Sold_1=Inventory[[#This Row],[Item SKU/ID]])*Net_Profit))","v":0},{"$f":"IFERROR(AVERAGE(Inventory[[#This Row],[Total Net Profit]]/Inventory[[#This Row],[Quantity Sold]]),0)","v":0}]
[null,null,null,null,null,null,null,null,0,0,0,null,null,null,0,{"$f":"IF(Inventory[[#This Row],[Item SKU/ID]]=\"\",0,SUMPRODUCT((Quantity_Sold_1=Inventory[[#This Row],[Item SKU/ID]])*Net_Profit))","v":0},{"$f":"IFERROR(AVERAGE(Inventory[[#This Row],[Total Net Profit]]/Inventory[[#This Row],[Quantity Sold]]),0)","v":0}]
[null,null,null,null,null,null,null,null,0,0,0,null,null,null,0,{"$f":"IF(Inventory[[#This Row],[Item SKU/ID]]=\"\",0,SUMPRODUCT((Quantity_Sold_1=Inventory[[#This Row],[Item SKU/ID]])*Net_Profit))","v":0},{"$f":"IFERROR(AVERAGE(Inventory[[#This Row],[Total Net Profit]]/Inventory[[#This Row],[Quantity Sold]]),0)","v":0}]
[null,null,null,null,null,null,null,null,0,0,0,null,null,null,0,{"$f":"IF(Inventory[[#This Row],[Item SKU/ID]]=\"\",0,SUMPRODUCT((Quantity_Sold_1=Inventory[[#This Row],[Item SKU/ID]])*Net_Profit))","v":0},{"$f":"IFERROR(AVERAGE(Inventory[[#This Row],[Total Net Profit]]/Inventory[[#This Row],[Quantity Sold]]),0)","v":0}]
[null,null,null,null,null,null,null,null,0,0,0,null,null,null,0,{"$f":"IF(Inventory[[#This Row],[Item SKU/ID]]=\"\",0,SUMPRODUCT((Quantity_Sold_1=Inventory[[#This Row],[Item SKU/ID]])*Net_Profit))","v":0},{"$f":"IFERROR(AVERAGE(Inventory[[#This Row],[Total Net Profit]]/Inventory[[#This Row],[Quantity Sold]]),0)","v":0}]
[null,null,null,null,null,null,null,null,0,0,0,null,null,null,0,{"$f":"IF(Inventory[[#This Row],[Item SKU/ID]]=\"\",0,SUMPRODUCT((Quantity_Sold_1=Inventory[[#This Row],[Item SKU/ID]])*Net_Profit))","v":0},{"$f":"IFERROR(AVERAGE(Inventory[[#This Row],[Total Net Profit]]/Inventory[[#This Row],[Quantity Sold]]),0)","v":0}]
[null,null,null,null,null,null,null,null,0,0,0,null,null,null,0,{"$f":"IF(Inventory[[#This Row],[Item SKU/ID]]=\"\",0,SUMPRODUCT((Quantity_Sold_1=Inventory[[#This Row],[Item SKU/ID]])*Net_Profit))","v":0},{"$f":"IFERROR(AVERAGE(Inventory[[#This Row],[Total Net Profit]]/Inventory[[#This Row],[Quantity Sold]]),0)","v":0}]
[null,null,null,null,null,null,null,null,0,0,0,null,null,null,0,{"$f":"IF(Inventory[[#This Row],[Item SKU/ID]]=\"\",0,SUMPRODUCT((Quantity_Sold_1=Inventory[[#This Row],[Item SKU/ID]])*Net_Profit))","v":0},{"$f":"IFERROR(AVERAGE(Inventory[[#This Row],[Total Net Profit]]/Inventory[[#This Row],[Quantity Sold]]),0)","v":0}]
[null,null,null,null,null,null,null,null,0,0,0,null,null,null,0,{"$f":"IF(Inventory[[#This Row],[Item SKU/ID]]=\"\",0,SUMPRODUCT((Quantity_Sold_1=Inventory[[#This Row],[Item SKU/ID]])*Net_Profit))","v":0},{"$f":"IFERROR(AVERAGE(Inventory[[#This Row],[Total Net Profit]]/Inventory[[#This Row],[Quantity Sold]]),0)","v":0}]
[null,null,null,null,null,null,null,null,0,0,0,null,null,null,0,{"$f":"IF(Inventory[[#This Row],[Item SKU/ID]]=\"\",0,SUMPRODUCT((Quantity_Sold_1=Inventory[[#This Row],[Item SKU/ID]])*Net_Profit))","v":0},{"$f":"IFERROR(AVERAGE(Inventory[[#This Row],[Total Net Profit]]/Inventory[[#This Row],[Quantity Sold]]),0)","v":0}]
[null,null,null,null,null,null,null,null,0,0,0,null,null,null,0,{"$f":"IF(Inventory[[#This Row],[Item SKU/ID]]=\"\",0,SUMPRODUCT((Quantity_Sold_1=Inventory[[#This Row],[Item SKU/ID]])*Net_Profit))","v":0},{"$f":"IFERROR(AVERAGE(Inventory[[#This Row],[Total Net Profit]]/Inventory[[#This Row],[Quantity Sold]]),0)","v":0}]
[null,null,null,null,null,null,null,null,0,0,0,null,null,null,0,{"$f":"IF(Inventory[[#This Row],[Item SKU/ID]]=\"\",0,SUMPRODUCT((Quantity_Sold_1=Inventory[[#This Row],[Item SKU/ID]])*Net_Profit))","v":0},{"$f":"IFERROR(AVERAGE(Inventory[[#This Row],[Total Net Profit]]/Inventory[[#This Row],[Quantity Sold]]),0)","v":0}]
[null,null,null,null,null,null,null,null,0,0,0,null,null,null,0,{"$f":"IF(Inventory[[#This Row],[Item SKU/ID]]=\"\",0,SUMPRODUCT((Quantity_Sold_1=Inventory[[#This Row],[Item SKU/ID]])*Net_Profit))","v":0},{"$f":"IFERROR(AVERAGE(Inventory[[#This Row],[Total Net Profit]]/Inventory[[#This Row],[Quantity Sold]]),0)","v":0}]
[null,null,null,null,null,null,null,null,0,0,0,null,null,null,0,{"$f":"IF(Inventory[[#This Row],[Item SKU/ID]]=\"\",0,SUMPRODUCT((Quantity_Sold_1=Inventory[[#This Row],[Item SKU/ID]])*Net_Profit))","v":0},{"$f":"IFERROR(AVERAGE(Inventory[[#This Row],[Total Net Profit]]/Inventory[[#This Row],[Quantity Sold]]),0)","v":0}]
[null,null,null,null,null,null,null,null,0,0,0,null,null,null,0,{"$f":"IF(Inventory[[#This Row],[Item SKU/ID]]=\"\",0,SUMPRODUCT((Quantity_Sold_1=Inventory[[#This Row],[Item SKU/ID]])*Net_Profit))","v":0},{"$f":"IFERROR(AVERAGE(Inventory[[#This Row],[Total Net Profit]]/Inventory[[#This Row],[Quantity Sold]]),0)","v":0}]
[null,null,null,null,null,null,null,null,0,0,0,null,null,null,0,{"$f":"IF(Inventory[[#This Row],[Item SKU/ID]]=\"\",0,SUMPRODUCT((Quantity_Sold_1=Inventory[[#This Row],[Item SKU/ID]])*Net_Profit))","v":0},{"$f":"IFERROR(AVERAGE(Inventory[[#This Row],[Total Net Profit]]/Inventory[[#This Row],[Quantity Sold]]),0)","v":0}]
[null,null,null,null,null,null,null,null,0,0,0,null,null,null,0,{"$f":"IF(Inventory[[#This Row],[Item SKU/ID]]=\"\",0,SUMPRODUCT((Quantity_Sold_1=Inventory[[#This Row],[Item SKU/ID]])*Net_Profit))","v":0},{"$f":"IFERROR(AVERAGE(Inventory[[#This Row],[Total Net Profit]]/Inventory[[#This Row],[Quantity Sold]]),0)","v":0}]
[null,null,null,null,null,null,null,null,0,0,0,null,null,null,0,{"$f":"IF(Inventory[[#This Row],[Item SKU/ID]]=\"\",0,SUMPRODUCT((Quantity_Sold_1=Inventory[[#This Row],[Item SKU/ID]])*Net_Profit))","v":0},{"$f":"IFERROR(AVERAGE(Inventory[[#This Row],[Total Net Profit]]/Inventory[[#This Row],[Quantity Sold]]),0)","v":0}]
[null,null,null,null,null,null,null,null,0,0,0,null,null,null,0,{"$f":"IF(Inventory[[#This Row],[Item SKU/ID]]=\"\",0,SUMPRODUCT((Quantity_Sold_1=Inventory[[#This Row],[Item SKU/ID]])*Net_Profit))","v":0},{"$f":"IFERROR(AVERAGE(Inventory[[#This Row],[Total Net Profit]]/Inventory[[#This Row],[Quantity Sold]]),0)","v":0}]
[null,null,null,null,null,null,null,null,0,0,0,null,null,null,0,{"$f":"IF(Inventory[[#This Row],[Item SKU/ID]]=\"\",0,SUMPRODUCT((Quantity_Sold_1=Inventory[[#This Row],[Item SKU/ID]])*Net_Profit))","v":0},{"$f":"IFERROR(AVERAGE(Inventory[[#This Row],[Total Net Profit]]/Inventory[[#This Row],[Quantity Sold]]),0)","v":0}]
[null,null,null,null,null,null,null,null,0,0,0,null,null,null,0,{"$f":"IF(Inventory[[#This Row],[Item SKU/ID]]=\"\",0,SUMPRODUCT((Quantity_Sold_1=Inventory[[#This Row],[Item SKU/ID]])*Net_Profit))","v":0},{"$f":"IFERROR(AVERAGE(Inventory[[#This Row],[Total Net Profit]]/Inventory[[#This Row],[Quantity Sold]]),0)","v":0}]
[null,null,null,null,null,null,null,null,0,0,0,null,null,null,0,{"$f":"IF(Inventory[[#This Row],[Item SKU/ID]]=\"\",0,SUMPRODUCT((Quantity_Sold_1=Inventory[[#This Row],[Item SKU/ID]])*Net_Profit))","v":0},{"$f":"IFERROR(AVERAGE(Inventory[[#This Row],[Total Net Profit]]/Inventory[[#This Row],[Quantity Sold]]),0)","v":0}]
[null,null,null,null,null,null,null,null,0,0,0,null,null,null,0,{"$f":"IF(Inventory[[#This Row],[Item SKU/ID]]=\"\",0,SUMPRODUCT((Quantity_Sold_1=Inventory[[#This Row],[Item SKU/ID]])*Net_Profit))","v":0},{"$f":"IFERROR(AVERAGE(Inventory[[#This Row],[Total Net Profit]]/Inventory[[#This Row],[Quantity Sold]]),0)","v":0}]
[null,null,null,null,null,null,null,null,0,0,0,null,null,null,0,{"$f":"IF(Inventory[[#This Row],[Item SKU/ID]]=\"\",0,SUMPRODUCT((Quantity_Sold_1=Inventory[[#This Row],[Item SKU/ID]])*Net_Profit))","v":0},{"$f":"IFERROR(AVERAGE(Inventory[[#This Row],[Total Net Profit]]/Inventory[[#This Row],[Quantity Sold]]),0)","v":0}]
[null,null,null,null,null,null,null,null,0,0,0,null,null,null,0,{"$f":"IF(Inventory[[#This Row],[Item SKU/ID]]=\"\",0,SUMPRODUCT((Quantity_Sold_1=Inventory[[#This Row],[Item SKU/ID]])*Net_Profit))","v":0},{"$f":"IFERROR(AVERAGE(Inventory[[#This Row],[Total Net Profit]]/Inventory[[#This Row],[Quantity Sold]]),0)","v":0}]
[null,null,null,null,null,null,null,null,0,0,0,null,null,null,0,{"$f":"IF(Inventory[[#This Row],[Item SKU/ID]]=\"\",0,SUMPRODUCT((Quantity_Sold_1=Inventory[[#This Row],[Item SKU/ID]])*Net_Profit))","v":0},{"$f":"IFERROR(AVERAGE(Inventory[[#This Row],[Total Net Profit]]/Inventory[[#This Row],[Quantity Sold]]),0)","v":0}]
[null,null,null,null,null,null,null,null,0,0,0,null,null,null,0,{"$f":"IF(Inventory[[#This Row],[Item SKU/ID]]=\"\",0,SUMPRODUCT((Quantity_Sold_1=Inventory[[#This Row],[Item SKU/ID]])*Net_Profit))","v":0},{"$f":"IFERROR(AVERAGE(Inventory[[#This Row],[Total Net Profit]]/Inventory[[#This Row],[Quantity Sold]]),0)","v":0}]
[null,null,null,null,null,null,null,null,0,0,0,null,null,null,0,{"$f":"IF(Inventory[[#This Row],[Item SKU/ID]]=\"\",0,SUMPRODUCT((Quantity_Sold_1=Inventory[[#This Row],[Item SKU/ID]])*Net_Profit))","v":0},{"$f":"IFERROR(AVERAGE(Inventory[[#This Row],[Total Net Profit]]/Inventory[[#This Row],[Quantity Sold]]),0)","v":0}]
[null,null,null,null,null,null,null,null,0,0,0,null,null,null,0,{"$f":"IF(Inventory[[#This Row],[Item SKU/ID]]=\"\",0,SUMPRODUCT((Quantity_Sold_1=Inventory[[#This Row],[Item SKU/ID]])*Net_Profit))","v":0},{"$f":"IFERROR(AVERAGE(Inventory[[#This Row],[Total Net Profit]]/Inventory[[#This Row],[Quantity Sold]]),0)","v":0}]
[null,null,null,null,null,null,null,null,0,0,0,null,null,null,0,{"$f":"IF(Inventory[[#This Row],[Item SKU/ID]]=\"\",0,SUMPRODUCT((Quantity_Sold_1=Inventory[[#This Row],[Item SKU/ID]])*Net_Profit))","v":0},{"$f":"IFERROR(AVERAGE(Inventory[[#This Row],[Total Net Profit]]/Inventory[[#This Row],[Quantity Sold]]),0)","v":0}]
[null,null,null,null,null,null,null,null,0,0,0,null,null,null,0,{"$f":"IF(Inventory[[#This Row],[Item SKU/ID]]=\"\",0,SUMPRODUCT((Quantity_Sold_1=Inventory[[#This Row],[Item SKU/ID]])*Net_Profit))","v":0},{"$f":"IFERROR(AVERAGE(Inventory[[#This Row],[Total Net Profit]]/Inventory[[#This Row],[Quantity Sold]]),0)","v":0}]
[null,null,null,null,null,null,null,null,0,0,0,null,null,null,0,{"$f":"IF(Inventory[[#This Row],[Item SKU/ID]]=\"\",0,SUMPRODUCT((Quantity_Sold_1=Inventory[[#This Row],[Item SKU/ID]])*Net_Profit))","v":0},{"$f":"IFERROR(AVERAGE(Inventory[[#This Row],[Total Net Profit]]/Inventory[[#This Row],[Quantity Sold]]),0)","v":0}]
[null,null,null,null,null,null,null,null,0,0,0,null,null,null,0,{"$f":"IF(Inventory[[#This Row],[Item SKU/ID]]=\"\",0,SUMPRODUCT((Quantity_Sold_1=Inventory[[#This Row],[Item SKU/ID]])*Net_Profit))","v":0},{"$f":"IFERROR(AVERAGE(Inventory[[#This Row],[Total Net Profit]]/Inventory[[#This Row],[Quantity Sold]]),0)","v":0}]
[null,null,null,null,null,null,null,null,0,0,0,null,null,null,0,{"$f":"IF(Inventory[[#This Row],[Item SKU/ID]]=\"\",0,SUMPRODUCT((Quantity_Sold_1=Inventory[[#This Row],[Item SKU/ID]])*Net_Profit))","v":0},{"$f":"IFERROR(AVERAGE(Inventory[[#This Row],[Total Net Profit]]/Inventory[[#This Row],[Quantity Sold]]),0)","v":0}]
[null,null,null,null,null,null,null,null,0,0,0,null,null,null,0,{"$f":"IF(Inventory[[#This Row],[Item SKU/ID]]=\"\",0,SUMPRODUCT((Quantity_Sold_1=Inventory[[#This Row],[Item SKU/ID]])*Net_Profit))","v":0},{"$f":"IFERROR(AVERAGE(Inventory[[#This Row],[Total Net Profit]]/Inventory[[#This Row],[Quantity Sold]]),0)","v":0}]
[null,null,null,null,null,null,null,null,0,0,0,null,null,null,0,{"$f":"IF(Inventory[[#This Row],[Item SKU/ID]]=\"\",0,SUMPRODUCT((Quantity_Sold_1=Inventory[[#This Row],[Item SKU/ID]])*Net_Profit))","v":0},{"$f":"IFERROR(AVERAGE(Inventory[[#This Row],[Total Net Profit]]/Inventory[[#This Row],[Quantity Sold]]),0)","v":0}]
[null,null,null,null,null,null,null,null,0,0,0,null,null,null,0,{"$f":"IF(Inventory[[#This Row],[Item SKU/ID]]=\"\",0,SUMPRODUCT((Quantity_Sold_1=Inventory[[#This Row],[Item SKU/ID]])*Net_Profit))","v":0},{"$f":"IFERROR(AVERAGE(Inventory[[#This Row],[Total Net Profit]]/Inventory[[#This Row],[Quantity Sold]]),0)","v":0}]
[null,null,null,null,null,null,null,null,0,0,0,null,null,null,0,{"$f":"IF(Inventory[[#This Row],[Item SKU/ID]]=\"\",0,SUMPRODUCT((Quantity_Sold_1=Inventory[[#This Row],[Item SKU/ID]])*Net_Profit))","v":0},{"$f":"IFERROR(AVERAGE(Inventory[[#This Row],[Total Net Profit]]/Inventory[[#This Row],[Quantity Sold]]),0)","v":0}]
[null,null,null,null,null,null,null,null,0,0,0,null,null,null,0,{"$f":"IF(Inventory[[#This Row],[Item SKU/ID]]=\"\",0,SUMPRODUCT((Quantity_Sold_1=Inventory[[#This Row],[Item SKU/ID]])*Net_Profit))","v":0},{"$f":"IFERROR(AVERAGE(Inventory[[#This Row],[Total Net Profit]]/Inventory[[#This Row],[Quantity Sold]]),0)","v":0}]
[null,null,null,null,null,null,null,null,{"$f":"K3332*H3332","v":0},{"$f":"IF(F3332=\"\",0,SUMPRODUCT((Quantity_Sold_1=F3332)*Quantity_Sold_2))","v":0},{"$f":"G3332-J3332","v":0},null,null,null,{"$f":"K3332*H3332","v":0},{"$f":"IF(Inventory[[#This Row],[Item SKU/ID]]=\"\",0,SUMPRODUCT((Quantity_Sold_1=Inventory[[#This Row],[Item SKU/ID]])*Net_Profit))","v":0},{"$f":"IFERROR(AVERAGE(Inventory[[#This Row],[Total Net Profit]]/Inventory[[#This Row],[Quantity Sold]]),0)","v":0}]
[null,null,null,null,null,null,null,null,0,0,0,null,null,null,0,{"$f":"IF(Inventory[[#This Row],[Item SKU/ID]]=\"\",0,SUMPRODUCT((Quantity_Sold_1=Inventory[[#This Row],[Item SKU/ID]])*Net_Profit))","v":0},{"$f":"IFERROR(AVERAGE(Inventory[[#This Row],[Total Net Profit]]/Inventory[[#This Row],[Quantity Sold]]),0)","v":0}]
[null,null,null,null,null,null,null,null,0,0,0,null,null,null,0,{"$f":"IF(Inventory[[#This Row],[Item SKU/ID]]=\"\",0,SUMPRODUCT((Quantity_Sold_1=Inventory[[#This Row],[Item SKU/ID]])*Net_Profit))","v":0},{"$f":"IFERROR(AVERAGE(Inventory[[#This Row],[Total Net Profit]]/Inventory[[#This Row],[Quantity Sold]]),0)","v":0}]
[null,null,null,null,null,null,null,null,0,0,0,null,null,null,0,{"$f":"IF(Inventory[[#This Row],[Item SKU/ID]]=\"\",0,SUMPRODUCT((Quantity_Sold_1=Inventory[[#This Row],[Item SKU/ID]])*Net_Profit))","v":0},{"$f":"IFERROR(AVERAGE(Inventory[[#This Row],[Total Net Profit]]/Inventory[[#This Row],[Quantity Sold]]),0)","v":0}]
[null,null,null,null,null,null,null,null,0,0,0,null,null,null,0,{"$f":"IF(Inventory[[#This Row],[Item SKU/ID]]=\"\",0,SUMPRODUCT((Quantity_Sold_1=Inventory[[#This Row],[Item SKU/ID]])*Net_Profit))","v":0},{"$f":"IFERROR(AVERAGE(Inventory[[#This Row],[Total Net Profit]]/Inventory[[#This Row],[Quantity Sold]]),0)","v":0}]
[null,null,null,null,null,null,null,null,0,0,0,null,null,null,0,{"$f":"IF(Inventory[[#This Row],[Item SKU/ID]]=\"\",0,SUMPRODUCT((Quantity_Sold_1=Inventory[[#This Row],[Item SKU/ID]])*Net_Profit))","v":0},{"$f":"IFERROR(AVERAGE(Inventory[[#This Row],[Total Net Profit]]/Inventory[[#This Row],[Quantity Sold]]),0)","v":0}]
[null,null,null,null,null,null,null,null,0,0,0,null,null,null,0,{"$f":"IF(Inventory[[#This Row],[Item SKU/ID]]=\"\",0,SUMPRODUCT((Quantity_Sold_1=Inventory[[#This Row],[Item SKU/ID]])*Net_Profit))","v":0},{"$f":"IFERROR(AVERAGE(Inventory[[#This Row],[Total Net Profit]]/Inventory[[#This Row],[Quantity Sold]]),0)","v":0}]
[null,null,null,null,null,null,null,null,0,0,0,null,null,null,0,{"$f":"IF(Inventory[[#This Row],[Item SKU/ID]]=\"\",0,SUMPRODUCT((Quantity_Sold_1=Inventory[[#This Row],[Item SKU/ID]])*Net_Profit))","v":0},{"$f":"IFERROR(AVERAGE(Inventory[[#This Row],[Total Net Profit]]/Inventory[[#This Row],[Quantity Sold]]),0)","v":0}]
[null,null,null,null,null,null,null,null,0,0,0,null,null,null,0,{"$f":"IF(Inventory[[#This Row],[Item SKU/ID]]=\"\",0,SUMPRODUCT((Quantity_Sold_1=Inventory[[#This Row],[Item SKU/ID]])*Net_Profit))","v":0},{"$f":"IFERROR(AVERAGE(Inventory[[#This Row],[Total Net Profit]]/Inventory[[#This Row],[Quantity Sold]]),0)","v":0}]
[null,null,null,null,null,null,null,null,0,0,0,null,null,null,0,{"$f":"IF(Inventory[[#This Row],[Item SKU/ID]]=\"\",0,SUMPRODUCT((Quantity_Sold_1=Inventory[[#This Row],[Item SKU/ID]])*Net_Profit))","v":0},{"$f":"IFERROR(AVERAGE(Inventory[[#This Row],[Total Net Profit]]/Inventory[[#This Row],[Quantity Sold]]),0)","v":0}]
[null,null,null,null,null,null,null,null,0,0,0,null,null,null,0,{"$f":"IF(Inventory[[#This Row],[Item SKU/ID]]=\"\",0,SUMPRODUCT((Quantity_Sold_1=Inventory[[#This Row],[Item SKU/ID]])*Net_Profit))","v":0},{"$f":"IFERROR(AVERAGE(Inventory[[#This Row],[Total Net Profit]]/Inventory[[#This Row],[Quantity Sold]]),0)","v":0}]
[null,null,null,null,null,null,null,null,0,0,0,null,null,null,0,{"$f":"IF(Inventory[[#This Row],[Item SKU/ID]]=\"\",0,SUMPRODUCT((Quantity_Sold_1=Inventory[[#This Row],[Item SKU/ID]])*Net_Profit))","v":0},{"$f":"IFERROR(AVERAGE(Inventory[[#This Row],[Total Net Profit]]/Inventory[[#This Row],[Quantity Sold]]),0)","v":0}]
[null,null,null,null,null,null,null,null,0,0,0,null,null,null,0,{"$f":"IF(Inventory[[#This Row],[Item SKU/ID]]=\"\",0,SUMPRODUCT((Quantity_Sold_1=Inventory[[#This Row],[Item SKU/ID]])*Net_Profit))","v":0},{"$f":"IFERROR(AVERAGE(Inventory[[#This Row],[Total Net Profit]]/Inventory[[#This Row],[Quantity Sold]]),0)","v":0}]
[null,null,null,null,null,null,null,null,0,0,0,null,null,null,0,{"$f":"IF(Inventory[[#This Row],[Item SKU/ID]]=\"\",0,SUMPRODUCT((Quantity_Sold_1=Inventory[[#This Row],[Item SKU/ID]])*Net_Profit))","v":0},{"$f":"IFERROR(AVERAGE(Inventory[[#This Row],[Total Net Profit]]/Inventory[[#This Row],[Quantity Sold]]),0)","v":0}]
[null,null,null,null,null,null,null,null,0,0,0,null,null,null,0,{"$f":"IF(Inventory[[#This Row],[Item SKU/ID]]=\"\",0,SUMPRODUCT((Quantity_Sold_1=Inventory[[#This Row],[Item SKU/ID]])*Net_Profit))","v":0},{"$f":"IFERROR(AVERAGE(Inventory[[#This Row],[Total Net Profit]]/Inventory[[#This Row],[Quantity Sold]]),0)","v":0}]
[null,null,null,null,null,null,null,null,0,0,0,null,null,null,0,{"$f":"IF(Inventory[[#This Row],[Item SKU/ID]]=\"\",0,SUMPRODUCT((Quantity_Sold_1=Inventory[[#This Row],[Item SKU/ID]])*Net_Profit))","v":0},{"$f":"IFERROR(AVERAGE(Inventory[[#This Row],[Total Net Profit]]/Inventory[[#This Row],[Quantity Sold]]),0)","v":0}]
[null,null,null,null,null,null,null,null,0,0,0,null,null,null,0,{"$f":"IF(Inventory[[#This Row],[Item SKU/ID]]=\"\",0,SUMPRODUCT((Quantity_Sold_1=Inventory[[#This Row],[Item SKU/ID]])*Net_Profit))","v":0},{"$f":"IFERROR(AVERAGE(Inventory[[#This Row],[Total Net Profit]]/Inventory[[#This Row],[Quantity Sold]]),0)","v":0}]
[null,null,null,null,null,null,null,null,0,0,0,null,null,null,0,{"$f":"IF(Inventory[[#This Row],[Item SKU/ID]]=\"\",0,SUMPRODUCT((Quantity_Sold_1=Inventory[[#This Row],[Item SKU/ID]])*Net_Profit))","v":0},{"$f":"IFERROR(AVERAGE(Inventory[[#This Row],[Total Net Profit]]/Inventory[[#This Row],[Quantity Sold]]),0)","v":0}]
[null,null,null,null,null,null,null,null,0,0,0,null,null,null,0,{"$f":"IF(Inventory[[#This Row],[Item SKU/ID]]=\"\",0,SUMPRODUCT((Quantity_Sold_1=Inventory[[#This Row],[Item SKU/ID]])*Net_Profit))","v":0},{"$f":"IFERROR(AVERAGE(Inventory[[#This Row],[Total Net Profit]]/Inventory[[#This Row],[Quantity Sold]]),0)","v":0}]
[null,null,null,null,null,null,null,null,0,0,0,null,null,null,0,{"$f":"IF(Inventory[[#This Row],[Item SKU/ID]]=\"\",0,SUMPRODUCT((Quantity_Sold_1=Inventory[[#This Row],[Item SKU/ID]])*Net_Profit))","v":0},{"$f":"IFERROR(AVERAGE(Inventory[[#This Row],[Total Net Profit]]/Inventory[[#This Row],[Quantity Sold]]),0)","v":0}]
[null,null,null,null,null,null,null,null,0,0,0,null,null,null,0,{"$f":"IF(Inventory[[#This Row],[Item SKU/ID]]=\"\",0,SUMPRODUCT((Quantity_Sold_1=Inventory[[#This Row],[Item SKU/ID]])*Net_Profit))","v":0},{"$f":"IFERROR(AVERAGE(Inventory[[#This Row],[Total Net Profit]]/Inventory[[#This Row],[Quantity Sold]]),0)","v":0}]
[null,null,null,null,null,null,null,null,0,0,0,null,null,null,0,{"$f":"IF(Inventory[[#This Row],[Item SKU/ID]]=\"\",0,SUMPRODUCT((Quantity_Sold_1=Inventory[[#This Row],[Item SKU/ID]])*Net_Profit))","v":0},{"$f":"IFERROR(AVERAGE(Inventory[[#This Row],[Total Net Profit]]/Inventory[[#This Row],[Quantity Sold]]),0)","v":0}]
[null,null,null,null,null,null,null,null,0,0,0,null,null,null,0,{"$f":"IF(Inventory[[#This Row],[Item SKU/ID]]=\"\",0,SUMPRODUCT((Quantity_Sold_1=Inventory[[#This Row],[Item SKU/ID]])*Net_Profit))","v":0},{"$f":"IFERROR(AVERAGE(Inventory[[#This Row],[Total Net Profit]]/Inventory[[#This Row],[Quantity Sold]]),0)","v":0}]
[null,null,null,null,null,null,null,null,0,0,0,null,null,null,0,{"$f":"IF(Inventory[[#This Row],[Item SKU/ID]]=\"\",0,SUMPRODUCT((Quantity_Sold_1=Inventory[[#This Row],[Item SKU/ID]])*Net_Profit))","v":0},{"$f":"IFERROR(AVERAGE(Inventory[[#This Row],[Total Net Profit]]/Inventory[[#This Row],[Quantity Sold]]),0)","v":0}]
[null,null,null,null,null,null,null,null,0,0,0,null,null,null,0,{"$f":"IF(Inventory[[#This Row],[Item SKU/ID]]=\"\",0,SUMPRODUCT((Quantity_Sold_1=Inventory[[#This Row],[Item SKU/ID]])*Net_Profit))","v":0},{"$f":"IFERROR(AVERAGE(Inventory[[#This Row],[Total Net Profit]]/Inventory[[#This Row],[Quantity Sold]]),0)","v":0}]
[null,null,null,null,null,null,null,null,0,0,0,null,null,null,0,{"$f":"IF(Inventory[[#This Row],[Item SKU/ID]]=\"\",0,SUMPRODUCT((Quantity_Sold_1=Inventory[[#This Row],[Item SKU/ID]])*Net_Profit))","v":0},{"$f":"IFERROR(AVERAGE(Inventory[[#This Row],[Total Net Profit]]/Inventory[[#This Row],[Quantity Sold]]),0)","v":0}]
[null,null,null,null,null,null,null,null,0,0,0,null,null,null,0,{"$f":"IF(Inventory[[#This Row],[Item SKU/ID]]=\"\",0,SUMPRODUCT((Quantity_Sold_1=Inventory[[#This Row],[Item SKU/ID]])*Net_Profit))","v":0},{"$f":"IFERROR(AVERAGE(Inventory[[#This Row],[Total Net Profit]]/Inventory[[#This Row],[Quantity Sold]]),0)","v":0}]
[null,null,null,null,null,null,null,null,0,0,0,null,null,null,0,{"$f":"IF(Inventory[[#This Row],[Item SKU/ID]]=\"\",0,SUMPRODUCT((Quantity_Sold_1=Inventory[[#This Row],[Item SKU/ID]])*Net_Profit))","v":0},{"$f":"IFERROR(AVERAGE(Inventory[[#This Row],[Total Net Profit]]/Inventory[[#This Row],[Quantity Sold]]),0)","v":0}]
[null,null,null,null,null,null,null,null,0,0,0,null,null,null,0,{"$f":"IF(Inventory[[#This Row],[Item SKU/ID]]=\"\",0,SUMPRODUCT((Quantity_Sold_1=Inventory[[#This Row],[Item SKU/ID]])*Net_Profit))","v":0},{"$f":"IFERROR(AVERAGE(Inventory[[#This Row],[Total Net Profit]]/Inventory[[#This Row],[Quantity Sold]]),0)","v":0}]
[null,null,null,null,null,null,null,null,0,0,0,null,null,null,0,{"$f":"IF(Inventory[[#This Row],[Item SKU/ID]]=\"\",0,SUMPRODUCT((Quantity_Sold_1=Inventory[[#This Row],[Item SKU/ID]])*Net_Profit))","v":0},{"$f":"IFERROR(AVERAGE(Inventory[[#This Row],[Total Net Profit]]/Inventory[[#This Row],[Quantity Sold]]),0)","v":0}]
[null,null,null,null,null,null,null,null,0,0,0,null,null,null,0,{"$f":"IF(Inventory[[#This Row],[Item SKU/ID]]=\"\",0,SUMPRODUCT((Quantity_Sold_1=Inventory[[#This Row],[Item SKU/ID]])*Net_Profit))","v":0},{"$f":"IFERROR(AVERAGE(Inventory[[#This Row],[Total Net Profit]]/Inventory[[#This Row],[Quantity Sold]]),0)","v":0}]
[null,null,null,null,null,null,null,null,0,0,0,null,null,null,0,{"$f":"IF(Inventory[[#This Row],[Item SKU/ID]]=\"\",0,SUMPRODUCT((Quantity_Sold_1=Inventory[[#This Row],[Item SKU/ID]])*Net_Profit))","v":0},{"$f":"IFERROR(AVERAGE(Inventory[[#This Row],[Total Net Profit]]/Inventory[[#This Row],[Quantity Sold]]),0)","v":0}]
[null,null,null,null,null,null,null,null,0,0,0,null,null,null,0,{"$f":"IF(Inventory[[#This Row],[Item SKU/ID]]=\"\",0,SUMPRODUCT((Quantity_Sold_1=Inventory[[#This Row],[Item SKU/ID]])*Net_Profit))","v":0},{"$f":"IFERROR(AVERAGE(Inventory[[#This Row],[Total Net Profit]]/Inventory[[#This Row],[Quantity Sold]]),0)","v":0}]
[null,null,null,null,null,null,null,null,0,0,0,null,null,null,0,{"$f":"IF(Inventory[[#This Row],[Item SKU/ID]]=\"\",0,SUMPRODUCT((Quantity_Sold_1=Inventory[[#This Row],[Item SKU/ID]])*Net_Profit))","v":0},{"$f":"IFERROR(AVERAGE(Inventory[[#This Row],[Total Net Profit]]/Inventory[[#This Row],[Quantity Sold]]),0)","v":0}]
[null,null,null,null,null,null,null,null,0,0,0,null,null,null,0,{"$f":"IF(Inventory[[#This Row],[Item SKU/ID]]=\"\",0,SUMPRODUCT((Quantity_Sold_1=Inventory[[#This Row],[Item SKU/ID]])*Net_Profit))","v":0},{"$f":"IFERROR(AVERAGE(Inventory[[#This Row],[Total Net Profit]]/Inventory[[#This Row],[Quantity Sold]]),0)","v":0}]
[null,null,null,null,null,null,null,null,0,0,0,null,null,null,0,{"$f":"IF(Inventory[[#This Row],[Item SKU/ID]]=\"\",0,SUMPRODUCT((Quantity_Sold_1=Inventory[[#This Row],[Item SKU/ID]])*Net_Profit))","v":0},{"$f":"IFERROR(AVERAGE(Inventory[[#This Row],[Total Net Profit]]/Inventory[[#This Row],[Quantity Sold]]),0)","v":0}]
[null,null,null,null,null,null,null,null,0,0,0,null,null,null,0,{"$f":"IF(Inventory[[#This Row],[Item SKU/ID]]=\"\",0,SUMPRODUCT((Quantity_Sold_1=Inventory[[#This Row],[Item SKU/ID]])*Net_Profit))","v":0},{"$f":"IFERROR(AVERAGE(Inventory[[#This Row],[Total Net Profit]]/Inventory[[#This Row],[Quantity Sold]]),0)","v":0}]
[null,null,null,null,null,null,null,null,0,0,0,null,null,null,0,{"$f":"IF(Inventory[[#This Row],[Item SKU/ID]]=\"\",0,SUMPRODUCT((Quantity_Sold_1=Inventory[[#This Row],[Item SKU/ID]])*Net_Profit))","v":0},{"$f":"IFERROR(AVERAGE(Inventory[[#This Row],[Total Net Profit]]/Inventory[[#This Row],[Quantity Sold]]),0)","v":0}]
[null,null,null,null,null,null,null,null,0,0,0,null,null,null,0,{"$f":"IF(Inventory[[#This Row],[Item SKU/ID]]=\"\",0,SUMPRODUCT((Quantity_Sold_1=Inventory[[#This Row],[Item SKU/ID]])*Net_Profit))","v":0},{"$f":"IFERROR(AVERAGE(Inventory[[#This Row],[Total Net Profit]]/Inventory[[#This Row],[Quantity Sold]]),0)","v":0}]
[null,null,null,null,null,null,null,null,0,0,0,null,null,null,0,{"$f":"IF(Inventory[[#This Row],[Item SKU/ID]]=\"\",0,SUMPRODUCT((Quantity_Sold_1=Inventory[[#This Row],[Item SKU/ID]])*Net_Profit))","v":0},{"$f":"IFERROR(AVERAGE(Inventory[[#This Row],[Total Net Profit]]/Inventory[[#This Row],[Quantity Sold]]),0)","v":0}]
[null,null,null,null,null,null,null,null,0,0,0,null,null,null,0,{"$f":"IF(Inventory[[#This Row],[Item SKU/ID]]=\"\",0,SUMPRODUCT((Quantity_Sold_1=Inventory[[#This Row],[Item SKU/ID]])*Net_Profit))","v":0},{"$f":"IFERROR(AVERAGE(Inventory[[#This Row],[Total Net Profit]]/Inventory[[#This Row],[Quantity Sold]]),0)","v":0}]
[null,null,null,null,null,null,null,null,0,0,0,null,null,null,0,{"$f":"IF(Inventory[[#This Row],[Item SKU/ID]]=\"\",0,SUMPRODUCT((Quantity_Sold_1=Inventory[[#This Row],[Item SKU/ID]])*Net_Profit))","v":0},{"$f":"IFERROR(AVERAGE(Inventory[[#This Row],[Total Net Profit]]/Inventory[[#This Row],[Quantity Sold]]),0)","v":0}]
[null,null,null,null,null,null,null,null,0,0,0,null,null,null,0,{"$f":"IF(Inventory[[#This Row],[Item SKU/ID]]=\"\",0,SUMPRODUCT((Quantity_Sold_1=Inventory[[#This Row],[Item SKU/ID]])*Net_Profit))","v":0},{"$f":"IFERROR(AVERAGE(Inventory[[#This Row],[Total Net Profit]]/Inventory[[#This Row],[Quantity Sold]]),0)","v":0}]
[null,null,null,null,null,null,null,null,0,0,0,null,null,null,0,{"$f":"IF(Inventory[[#This Row],[Item SKU/ID]]=\"\",0,SUMPRODUCT((Quantity_Sold_1=Inventory[[#This Row],[Item SKU/ID]])*Net_Profit))","v":0},{"$f":"IFERROR(AVERAGE(Inventory[[#This Row],[Total Net Profit]]/Inventory[[#This Row],[Quantity Sold]]),0)","v":0}]
[null,null,null,null,null,null,null,null,0,0,0,null,null,null,0,{"$f":"IF(Inventory[[#This Row],[Item SKU/ID]]=\"\",0,SUMPRODUCT((Quantity_Sold_1=Inventory[[#This Row],[Item SKU/ID]])*Net_Profit))","v":0},{"$f":"IFERROR(AVERAGE(Inventory[[#This Row],[Total Net Profit]]/Inventory[[#This Row],[Quantity Sold]]),0)","v":0}]
[null,null,null,null,null,null,null,null,0,0,0,null,null,null,0,{"$f":"IF(Inventory[[#This Row],[Item SKU/ID]]=\"\",0,SUMPRODUCT((Quantity_Sold_1=Inventory[[#This Row],[Item SKU/ID]])*Net_Profit))","v":0},{"$f":"IFERROR(AVERAGE(Inventory[[#This Row],[Total Net Profit]]/Inventory[[#This Row],[Quantity Sold]]),0)","v":0}]
[null,null,null,null,null,null,null,null,0,0,0,null,null,null,0,{"$f":"IF(Inventory[[#This Row],[Item SKU/ID]]=\"\",0,SUMPRODUCT((Quantity_Sold_1=Inventory[[#This Row],[Item SKU/ID]])*Net_Profit))","v":0},{"$f":"IFERROR(AVERAGE(Inventory[[#This Row],[Total Net Profit]]/Inventory[[#This Row],[Quantity Sold]]),0)","v":0}]
[null,null,null,null,null,null,null,null,0,0,0,null,null,null,0,{"$f":"IF(Inventory[[#This Row],[Item SKU/ID]]=\"\",0,SUMPRODUCT((Quantity_Sold_1=Inventory[[#This Row],[Item SKU/ID]])*Net_Profit))","v":0},{"$f":"IFERROR(AVERAGE(Inventory[[#This Row],[Total Net Profit]]/Inventory[[#This Row],[Quantity Sold]]),0)","v":0}]
[null,null,null,null,null,null,null,null,0,0,0,null,null,null,0,{"$f":"IF(Inventory[[#This Row],[Item SKU/ID]]=\"\",0,SUMPRODUCT((Quantity_Sold_1=Inventory[[#This Row],[Item SKU/ID]])*Net_Profit))","v":0},{"$f":"IFERROR(AVERAGE(Inventory[[#This Row],[Total Net Profit]]/Inventory[[#This Row],[Quantity Sold]]),0)","v":0}]
[null,null,null,null,null,null,null,null,0,0,0,null,null,null,0,{"$f":"IF(Inventory[[#This Row],[Item SKU/ID]]=\"\",0,SUMPRODUCT((Quantity_Sold_1=Inventory[[#This Row],[Item SKU/ID]])*Net_Profit))","v":0},{"$f":"IFERROR(AVERAGE(Inventory[[#This Row],[Total Net Profit]]/Inventory[[#This Row],[Quantity Sold]]),0)","v":0}]
[null,null,null,null,null,null,null,null,0,0,0,null,null,null,0,{"$f":"IF(Inventory[[#This Row],[Item SKU/ID]]=\"\",0,SUMPRODUCT((Quantity_Sold_1=Inventory[[#This Row],[Item SKU/ID]])*Net_Profit))","v":0},{"$f":"IFERROR(AVERAGE(Inventory[[#This Row],[Total Net Profit]]/Inventory[[#This Row],[Quantity Sold]]),0)","v":0}]
[null,null,null,null,null,null,null,null,0,0,0,null,null,null,0,{"$f":"IF(Inventory[[#This Row],[Item SKU/ID]]=\"\",0,SUMPRODUCT((Quantity_Sold_1=Inventory[[#This Row],[Item SKU/ID]])*Net_Profit))","v":0},{"$f":"IFERROR(AVERAGE(Inventory[[#This Row],[Total Net Profit]]/Inventory[[#This Row],[Quantity Sold]]),0)","v":0}]
[null,null,null,null,null,null,null,null,0,0,0,null,null,null,0,{"$f":"IF(Inventory[[#This Row],[Item SKU/ID]]=\"\",0,SUMPRODUCT((Quantity_Sold_1=Inventory[[#This Row],[Item SKU/ID]])*Net_Profit))","v":0},{"$f":"IFERROR(AVERAGE(Inventory[[#This Row],[Total Net Profit]]/Inventory[[#This Row],[Quantity Sold]]),0)","v":0}]
[null,null,null,null,null,null,null,null,0,0,0,null,null,null,0,{"$f":"IF(Inventory[[#This Row],[Item SKU/ID]]=\"\",0,SUMPRODUCT((Quantity_Sold_1=Inventory[[#This Row],[Item SKU/ID]])*Net_Profit))","v":0},{"$f":"IFERROR(AVERAGE(Inventory[[#This Row],[Total Net Profit]]/Inventory[[#This Row],[Quantity Sold]]),0)","v":0}]
[null,null,null,null,null,null,null,null,0,0,0,null,null,null,0,{"$f":"IF(Inventory[[#This Row],[Item SKU/ID]]=\"\",0,SUMPRODUCT((Quantity_Sold_1=Inventory[[#This Row],[Item SKU/ID]])*Net_Profit))","v":0},{"$f":"IFERROR(AVERAGE(Inventory[[#This Row],[Total Net Profit]]/Inventory[[#This Row],[Quantity Sold]]),0)","v":0}]
[null,null,null,null,null,null,null,null,0,0,0,null,null,null,0,{"$f":"IF(Inventory[[#This Row],[Item SKU/ID]]=\"\",0,SUMPRODUCT((Quantity_Sold_1=Inventory[[#This Row],[Item SKU/ID]])*Net_Profit))","v":0},{"$f":"IFERROR(AVERAGE(Inventory[[#This Row],[Total Net Profit]]/Inventory[[#This Row],[Quantity Sold]]),0)","v":0}]
[null,null,null,null,null,null,null,null,0,0,0,null,null,null,0,{"$f":"IF(Inventory[[#This Row],[Item SKU/ID]]=\"\",0,SUMPRODUCT((Quantity_Sold_1=Inventory[[#This Row],[Item SKU/ID]])*Net_Profit))","v":0},{"$f":"IFERROR(AVERAGE(Inventory[[#This Row],[Total Net Profit]]/Inventory[[#This Row],[Quantity Sold]]),0)","v":0}]
[null,null,null,null,null,null,null,null,0,0,0,null,null,null,0,{"$f":"IF(Inventory[[#This Row],[Item SKU/ID]]=\"\",0,SUMPRODUCT((Quantity_Sold_1=Inventory[[#This Row],[Item SKU/ID]])*Net_Profit))","v":0},{"$f":"IFERROR(AVERAGE(Inventory[[#This Row],[Total Net Profit]]/Inventory[[#This Row],[Quantity Sold]]),0)","v":0}]
[null,null,null,null,null,null,null,null,0,0,0,null,null,null,0,{"$f":"IF(Inventory[[#This Row],[Item SKU/ID]]=\"\",0,SUMPRODUCT((Quantity_Sold_1=Inventory[[#This Row],[Item SKU/ID]])*Net_Profit))","v":0},{"$f":"IFERROR(AVERAGE(Inventory[[#This Row],[Total Net Profit]]/Inventory[[#This Row],[Quantity Sold]]),0)","v":0}]
[null,null,null,null,null,null,null,null,0,0,0,null,null,null,0,{"$f":"IF(Inventory[[#This Row],[Item SKU/ID]]=\"\",0,SUMPRODUCT((Quantity_Sold_1=Inventory[[#This Row],[Item SKU/ID]])*Net_Profit))","v":0},{"$f":"IFERROR(AVERAGE(Inventory[[#This Row],[Total Net Profit]]/Inventory[[#This Row],[Quantity Sold]]),0)","v":0}]
[null,null,null,null,null,null,null,null,0,0,0,null,null,null,0,{"$f":"IF(Inventory[[#This Row],[Item SKU/ID]]=\"\",0,SUMPRODUCT((Quantity_Sold_1=Inventory[[#This Row],[Item SKU/ID]])*Net_Profit))","v":0},{"$f":"IFERROR(AVERAGE(Inventory[[#This Row],[Total Net Profit]]/Inventory[[#This Row],[Quantity Sold]]),0)","v":0}]
[null,null,null,null,null,null,null,null,0,0,0,null,null,null,0,{"$f":"IF(Inventory[[#This Row],[Item SKU/ID]]=\"\",0,SUMPRODUCT((Quantity_Sold_1=Inventory[[#This Row],[Item SKU/ID]])*Net_Profit))","v":0},{"$f":"IFERROR(AVERAGE(Inventory[[#This Row],[Total Net Profit]]/Inventory[[#This Row],[Quantity Sold]]),0)","v":0}]
[null,null,null,null,null,null,null,null,0,0,0,null,null,null,0,{"$f":"IF(Inventory[[#This Row],[Item SKU/ID]]=\"\",0,SUMPRODUCT((Quantity_Sold_1=Inventory[[#This Row],[Item SKU/ID]])*Net_Profit))","v":0},{"$f":"IFERROR(AVERAGE(Inventory[[#This Row],[Total Net Profit]]/Inventory[[#This Row],[Quantity Sold]]),0)","v":0}]
[null,null,null,null,null,null,null,null,0,0,0,null,null,null,0,{"$f":"IF(Inventory[[#This Row],[Item SKU/ID]]=\"\",0,SUMPRODUCT((Quantity_Sold_1=Inventory[[#This Row],[Item SKU/ID]])*Net_Profit))","v":0},{"$f":"IFERROR(AVERAGE(Inventory[[#This Row],[Total Net Profit]]/Inventory[[#This Row],[Quantity Sold]]),0)","v":0}]
[null,null,null,null,null,null,null,null,{"$f":"K3396*H3396","v":0},{"$f":"IF(F3396=\"\",0,SUMPRODUCT((Quantity_Sold_1=F3396)*Quantity_Sold_2))","v":0},{"$f":"G3396-J3396","v":0},null,null,null,{"$f":"K3396*H3396","v":0},{"$f":"IF(Inventory[[#This Row],[Item SKU/ID]]=\"\",0,SUMPRODUCT((Quantity_Sold_1=Inventory[[#This Row],[Item SKU/ID]])*Net_Profit))","v":0},{"$f":"IFERROR(AVERAGE(Inventory[[#This Row],[Total Net Profit]]/Inventory[[#This Row],[Quantity Sold]]),0)","v":0}]
[null,null,null,null,null,null,null,null,0,0,0,null,null,null,0,{"$f":"IF(Inventory[[#This Row],[Item SKU/ID]]=\"\",0,SUMPRODUCT((Quantity_Sold_1=Inventory[[#This Row],[Item SKU/ID]])*Net_Profit))","v":0},{"$f":"IFERROR(AVERAGE(Inventory[[#This Row],[Total Net Profit]]/Inventory[[#This Row],[Quantity Sold]]),0)","v":0}]
[null,null,null,null,null,null,null,null,0,0,0,null,null,null,0,{"$f":"IF(Inventory[[#This Row],[Item SKU/ID]]=\"\",0,SUMPRODUCT((Quantity_Sold_1=Inventory[[#This Row],[Item SKU/ID]])*Net_Profit))","v":0},{"$f":"IFERROR(AVERAGE(Inventory[[#This Row],[Total Net Profit]]/Inventory[[#This Row],[Quantity Sold]]),0)","v":0}]
[null,null,null,null,null,null,null,null,0,0,0,null,null,null,0,{"$f":"IF(Inventory[[#This Row],[Item SKU/ID]]=\"\",0,SUMPRODUCT((Quantity_Sold_1=Inventory[[#This Row],[Item SKU/ID]])*Net_Profit))","v":0},{"$f":"IFERROR(AVERAGE(Inventory[[#This Row],[Total Net Profit]]/Inventory[[#This Row],[Quantity Sold]]),0)","v":0}]
[null,null,null,null,null,null,null,null,0,0,0,null,null,null,0,{"$f":"IF(Inventory[[#This Row],[Item SKU/ID]]=\"\",0,SUMPRODUCT((Quantity_Sold_1=Inventory[[#This Row],[Item SKU/ID]])*Net_Profit))","v":0},{"$f":"IFERROR(AVERAGE(Inventory[[#This Row],[Total Net Profit]]/Inventory[[#This Row],[Quantity Sold]]),0)","v":0}]
[null,null,null,null,null,null,null,null,0,0,0,null,null,null,0,{"$f":"IF(Inventory[[#This Row],[Item SKU/ID]]=\"\",0,SUMPRODUCT((Quantity_Sold_1=Inventory[[#This Row],[Item SKU/ID]])*Net_Profit))","v":0},{"$f":"IFERROR(AVERAGE(Inventory[[#This Row],[Total Net Profit]]/Inventory[[#This Row],[Quantity Sold]]),0)","v":0}]
[null,null,null,null,null,null,null,null,0,0,0,null,null,null,0,{"$f":"IF(Inventory[[#This Row],[Item SKU/ID]]=\"\",0,SUMPRODUCT((Quantity_Sold_1=Inventory[[#This Row],[Item SKU/ID]])*Net_Profit))","v":0},{"$f":"IFERROR(AVERAGE(Inventory[[#This Row],[Total Net Profit]]/Inventory[[#This Row],[Quantity Sold]]),0)","v":0}]
[null,null,null,null,null,null,null,null,0,0,0,null,null,null,0,{"$f":"IF(Inventory[[#This Row],[Item SKU/ID]]=\"\",0,SUMPRODUCT((Quantity_Sold_1=Inventory[[#This Row],[Item SKU/ID]])*Net_Profit))","v":0},{"$f":"IFERROR(AVERAGE(Inventory[[#This Row],[Total Net Profit]]/Inventory[[#This Row],[Quantity Sold]]),0)","v":0}]
[null,null,null,null,null,null,null,null,0,0,0,null,null,null,0,{"$f":"IF(Inventory[[#This Row],[Item SKU/ID]]=\"\",0,SUMPRODUCT((Quantity_Sold_1=Inventory[[#This Row],[Item SKU/ID]])*Net_Profit))","v":0},{"$f":"IFERROR(AVERAGE(Inventory[[#This Row],[Total Net Profit]]/Inventory[[#This Row],[Quantity Sold]]),0)","v":0}]
[null,null,null,null,null,null,null,null,0,0,0,null,null,null,0,{"$f":"IF(Inventory[[#This Row],[Item SKU/ID]]=\"\",0,SUMPRODUCT((Quantity_Sold_1=Inventory[[#This Row],[Item SKU/ID]])*Net_Profit))","v":0},{"$f":"IFERROR(AVERAGE(Inventory[[#This Row],[Total Net Profit]]/Inventory[[#This Row],[Quantity Sold]]),0)","v":0}]
[null,null,null,null,null,null,null,null,0,0,0,null,null,null,0,{"$f":"IF(Inventory[[#This Row],[Item SKU/ID]]=\"\",0,SUMPRODUCT((Quantity_Sold_1=Inventory[[#This Row],[Item SKU/ID]])*Net_Profit))","v":0},{"$f":"IFERROR(AVERAGE(Inventory[[#This Row],[Total Net Profit]]/Inventory[[#This Row],[Quantity Sold]]),0)","v":0}]
[null,null,null,null,null,null,null,null,0,0,0,null,null,null,0,{"$f":"IF(Inventory[[#This Row],[Item SKU/ID]]=\"\",0,SUMPRODUCT((Quantity_Sold_1=Inventory[[#This Row],[Item SKU/ID]])*Net_Profit))","v":0},{"$f":"IFERROR(AVERAGE(Inventory[[#This Row],[Total Net Profit]]/Inventory[[#This Row],[Quantity Sold]]),0)","v":0}]
[null,null,null,null,null,null,null,null,0,0,0,null,null,null,0,{"$f":"IF(Inventory[[#This Row],[Item SKU/ID]]=\"\",0,SUMPRODUCT((Quantity_Sold_1=Inventory[[#This Row],[Item SKU/ID]])*Net_Profit))","v":0},{"$f":"IFERROR(AVERAGE(Inventory[[#This Row],[Total Net Profit]]/Inventory[[#This Row],[Quantity Sold]]),0)","v":0}]
[null,null,null,null,null,null,null,null,0,0,0,null,null,null,0,{"$f":"IF(Inventory[[#This Row],[Item SKU/ID]]=\"\",0,SUMPRODUCT((Quantity_Sold_1=Inventory[[#This Row],[Item SKU/ID]])*Net_Profit))","v":0},{"$f":"IFERROR(AVERAGE(Inventory[[#This Row],[Total Net Profit]]/Inventory[[#This Row],[Quantity Sold]]),0)","v":0}]
[null,null,null,null,null,null,null,null,0,0,0,null,null,null,0,{"$f":"IF(Inventory[[#This Row],[Item SKU/ID]]=\"\",0,SUMPRODUCT((Quantity_Sold_1=Inventory[[#This Row],[Item SKU/ID]])*Net_Profit))","v":0},{"$f":"IFERROR(AVERAGE(Inventory[[#This Row],[Total Net Profit]]/Inventory[[#This Row],[Quantity Sold]]),0)","v":0}]
[null,null,null,null,null,null,null,null,0,0,0,null,null,null,0,{"$f":"IF(Inventory[[#This Row],[Item SKU/ID]]=\"\",0,SUMPRODUCT((Quantity_Sold_1=Inventory[[#This Row],[Item SKU/ID]])*Net_Profit))","v":0},{"$f":"IFERROR(AVERAGE(Inventory[[#This Row],[Total Net Profit]]/Inventory[[#This Row],[Quantity Sold]]),0)","v":0}]
[null,null,null,null,null,null,null,null,0,0,0,null,null,null,0,{"$f":"IF(Inventory[[#This Row],[Item SKU/ID]]=\"\",0,SUMPRODUCT((Quantity_Sold_1=Inventory[[#This Row],[Item SKU/ID]])*Net_Profit))","v":0},{"$f":"IFERROR(AVERAGE(Inventory[[#This Row],[Total Net Profit]]/Inventory[[#This Row],[Quantity Sold]]),0)","v":0}]
[null,null,null,null,null,null,null,null,0,0,0,null,null,null,0,{"$f":"IF(Inventory[[#This Row],[Item SKU/ID]]=\"\",0,SUMPRODUCT((Quantity_Sold_1=Inventory[[#This Row],[Item SKU/ID]])*Net_Profit))","v":0},{"$f":"IFERROR(AVERAGE(Inventory[[#This Row],[Total Net Profit]]/Inventory[[#This Row],[Quantity Sold]]),0)","v":0}]
[null,null,null,null,null,null,null,null,0,0,0,null,null,null,0,{"$f":"IF(Inventory[[#This Row],[Item SKU/ID]]=\"\",0,SUMPRODUCT((Quantity_Sold_1=Inventory[[#This Row],[Item SKU/ID]])*Net_Profit))","v":0},{"$f":"IFERROR(AVERAGE(Inventory[[#This Row],[Total Net Profit]]/Inventory[[#This Row],[Quantity Sold]]),0)","v":0}]
[null,null,null,null,null,null,null,null,0,0,0,null,null,null,0,{"$f":"IF(Inventory[[#This Row],[Item SKU/ID]]=\"\",0,SUMPRODUCT((Quantity_Sold_1=Inventory[[#This Row],[Item SKU/ID]])*Net_Profit))","v":0},{"$f":"IFERROR(AVERAGE(Inventory[[#This Row],[Total Net Profit]]/Inventory[[#This Row],[Quantity Sold]]),0)","v":0}]
[null,null,null,null,null,null,null,null,0,0,0,null,null,null,0,{"$f":"IF(Inventory[[#This Row],[Item SKU/ID]]=\"\",0,SUMPRODUCT((Quantity_Sold_1=Inventory[[#This Row],[Item SKU/ID]])*Net_Profit))","v":0},{"$f":"IFERROR(AVERAGE(Inventory[[#This Row],[Total Net Profit]]/Inventory[[#This Row],[Quantity Sold]]),0)","v":0}]
[null,null,null,null,null,null,null,null,0,0,0,null,null,null,0,{"$f":"IF(Inventory[[#This Row],[Item SKU/ID]]=\"\",0,SUMPRODUCT((Quantity_Sold_1=Inventory[[#This Row],[Item SKU/ID]])*Net_Profit))","v":0},{"$f":"IFERROR(AVERAGE(Inventory[[#This Row],[Total Net Profit]]/Inventory[[#This Row],[Quantity Sold]]),0)","v":0}]
[null,null,null,null,null,null,null,null,0,0,0,null,null,null,0,{"$f":"IF(Inventory[[#This Row],[Item SKU/ID]]=\"\",0,SUMPRODUCT((Quantity_Sold_1=Inventory[[#This Row],[Item SKU/ID]])*Net_Profit))","v":0},{"$f":"IFERROR(AVERAGE(Inventory[[#This Row],[Total Net Profit]]/Inventory[[#This Row],[Quantity Sold]]),0)","v":0}]
[null,null,null,null,null,null,null,null,0,0,0,null,null,null,0,{"$f":"IF(Inventory[[#This Row],[Item SKU/ID]]=\"\",0,SUMPRODUCT((Quantity_Sold_1=Inventory[[#This Row],[Item SKU/ID]])*Net_Profit))","v":0},{"$f":"IFERROR(AVERAGE(Inventory[[#This Row],[Total Net Profit]]/Inventory[[#This Row],[Quantity Sold]]),0)","v":0}]
[null,null,null,null,null,null,null,null,0,0,0,null,null,null,0,{"$f":"IF(Inventory[[#This Row],[Item SKU/ID]]=\"\",0,SUMPRODUCT((Quantity_Sold_1=Inventory[[#This Row],[Item SKU/ID]])*Net_Profit))","v":0},{"$f":"IFERROR(AVERAGE(Inventory[[#This Row],[Total Net Profit]]/Inventory[[#This Row],[Quantity Sold]]),0)","v":0}]
[null,null,null,null,null,null,null,null,0,0,0,null,null,null,0,{"$f":"IF(Inventory[[#This Row],[Item SKU/ID]]=\"\",0,SUMPRODUCT((Quantity_Sold_1=Inventory[[#This Row],[Item SKU/ID]])*Net_Profit))","v":0},{"$f":"IFERROR(AVERAGE(Inventory[[#This Row],[Total Net Profit]]/Inventory[[#This Row],[Quantity Sold]]),0)","v":0}]
[null,null,null,null,null,null,null,null,0,0,0,null,null,null,0,{"$f":"IF(Inventory[[#This Row],[Item SKU/ID]]=\"\",0,SUMPRODUCT((Quantity_Sold_1=Inventory[[#This Row],[Item SKU/ID]])*Net_Profit))","v":0},{"$f":"IFERROR(AVERAGE(Inventory[[#This Row],[Total Net Profit]]/Inventory[[#This Row],[Quantity Sold]]),0)","v":0}]
[null,null,null,null,null,null,null,null,0,0,0,null,null,null,0,{"$f":"IF(Inventory[[#This Row],[Item SKU/ID]]=\"\",0,SUMPRODUCT((Quantity_Sold_1=Inventory[[#This Row],[Item SKU/ID]])*Net_Profit))","v":0},{"$f":"IFERROR(AVERAGE(Inventory[[#This Row],[Total Net Profit]]/Inventory[[#This Row],[Quantity Sold]]),0)","v":0}]
[null,null,null,null,null,null,null,null,0,0,0,null,null,null,0,{"$f":"IF(Inventory[[#This Row],[Item SKU/ID]]=\"\",0,SUMPRODUCT((Quantity_Sold_1=Inventory[[#This Row],[Item SKU/ID]])*Net_Profit))","v":0},{"$f":"IFERROR(AVERAGE(Inventory[[#This Row],[Total Net Profit]]/Inventory[[#This Row],[Quantity Sold]]),0)","v":0}]
[null,null,null,null,null,null,null,null,0,0,0,null,null,null,0,{"$f":"IF(Inventory[[#This Row],[Item SKU/ID]]=\"\",0,SUMPRODUCT((Quantity_Sold_1=Inventory[[#This Row],[Item SKU/ID]])*Net_Profit))","v":0},{"$f":"IFERROR(AVERAGE(Inventory[[#This Row],[Total Net Profit]]/Inventory[[#This Row],[Quantity Sold]]),0)","v":0}]
[null,null,null,null,null,null,null,null,0,0,0,null,null,null,0,{"$f":"IF(Inventory[[#This Row],[Item SKU/ID]]=\"\",0,SUMPRODUCT((Quantity_Sold_1=Inventory[[#This Row],[Item SKU/ID]])*Net_Profit))","v":0},{"$f":"IFERROR(AVERAGE(Inventory[[#This Row],[Total Net Profit]]/Inventory[[#This Row],[Quantity Sold]]),0)","v":0}]
[null,null,null,null,null,null,null,null,0,0,0,null,null,null,0,{"$f":"IF(Inventory[[#This Row],[Item SKU/ID]]=\"\",0,SUMPRODUCT((Quantity_Sold_1=Inventory[[#This Row],[Item SKU/ID]])*Net_Profit))","v":0},{"$f":"IFERROR(AVERAGE(Inventory[[#This Row],[Total Net Profit]]/Inventory[[#This Row],[Quantity Sold]]),0)","v":0}]
[null,null,null,null,null,null,null,null,0,0,0,null,null,null,0,{"$f":"IF(Inventory[[#This Row],[Item SKU/ID]]=\"\",0,SUMPRODUCT((Quantity_Sold_1=Inventory[[#This Row],[Item SKU/ID]])*Net_Profit))","v":0},{"$f":"IFERROR(AVERAGE(Inventory[[#This Row],[Total Net Profit]]/Inventory[[#This Row],[Quantity Sold]]),0)","v":0}]
[null,null,null,null,null,null,null,null,0,0,0,null,null,null,0,{"$f":"IF(Inventory[[#This Row],[Item SKU/ID]]=\"\",0,SUMPRODUCT((Quantity_Sold_1=Inventory[[#This Row],[Item SKU/ID]])*Net_Profit))","v":0},{"$f":"IFERROR(AVERAGE(Inventory[[#This Row],[Total Net Profit]]/Inventory[[#This Row],[Quantity Sold]]),0)","v":0}]
[null,null,null,null,null,null,null,null,0,0,0,null,null,null,0,{"$f":"IF(Inventory[[#This Row],[Item SKU/ID]]=\"\",0,SUMPRODUCT((Quantity_Sold_1=Inventory[[#This Row],[Item SKU/ID]])*Net_Profit))","v":0},{"$f":"IFERROR(AVERAGE(Inventory[[#This Row],[Total Net Profit]]/Inventory[[#This Row],[Quantity Sold]]),0)","v":0}]
[null,null,null,null,null,null,null,null,0,0,0,null,null,null,0,{"$f":"IF(Inventory[[#This Row],[Item SKU/ID]]=\"\",0,SUMPRODUCT((Quantity_Sold_1=Inventory[[#This Row],[Item SKU/ID]])*Net_Profit))","v":0},{"$f":"IFERROR(AVERAGE(Inventory[[#This Row],[Total Net Profit]]/Inventory[[#This Row],[Quantity Sold]]),0)","v":0}]
[null,null,null,null,null,null,null,null,0,0,0,null,null,null,0,{"$f":"IF(Inventory[[#This Row],[Item SKU/ID]]=\"\",0,SUMPRODUCT((Quantity_Sold_1=Inventory[[#This Row],[Item SKU/ID]])*Net_Profit))","v":0},{"$f":"IFERROR(AVERAGE(Inventory[[#This Row],[Total Net Profit]]/Inventory[[#This Row],[Quantity Sold]]),0)","v":0}]
[null,null,null,null,null,null,null,null,0,0,0,null,null,null,0,{"$f":"IF(Inventory[[#This Row],[Item SKU/ID]]=\"\",0,SUMPRODUCT((Quantity_Sold_1=Inventory[[#This Row],[Item SKU/ID]])*Net_Profit))","v":0},{"$f":"IFERROR(AVERAGE(Inventory[[#This Row],[Total Net Profit]]/Inventory[[#This Row],[Quantity Sold]]),0)","v":0}]
[null,null,null,null,null,null,null,null,0,0,0,null,null,null,0,{"$f":"IF(Inventory[[#This Row],[Item SKU/ID]]=\"\",0,SUMPRODUCT((Quantity_Sold_1=Inventory[[#This Row],[Item SKU/ID]])*Net_Profit))","v":0},{"$f":"IFERROR(AVERAGE(Inventory[[#This Row],[Total Net Profit]]/Inventory[[#This Row],[Quantity Sold]]),0)","v":0}]
[null,null,null,null,null,null,null,null,0,0,0,null,null,null,0,{"$f":"IF(Inventory[[#This Row],[Item SKU/ID]]=\"\",0,SUMPRODUCT((Quantity_Sold_1=Inventory[[#This Row],[Item SKU/ID]])*Net_Profit))","v":0},{"$f":"IFERROR(AVERAGE(Inventory[[#This Row],[Total Net Profit]]/Inventory[[#This Row],[Quantity Sold]]),0)","v":0}]
[null,null,null,null,null,null,null,null,0,0,0,null,null,null,0,{"$f":"IF(Inventory[[#This Row],[Item SKU/ID]]=\"\",0,SUMPRODUCT((Quantity_Sold_1=Inventory[[#This Row],[Item SKU/ID]])*Net_Profit))","v":0},{"$f":"IFERROR(AVERAGE(Inventory[[#This Row],[Total Net Profit]]/Inventory[[#This Row],[Quantity Sold]]),0)","v":0}]
[null,null,null,null,null,null,null,null,0,0,0,null,null,null,0,{"$f":"IF(Inventory[[#This Row],[Item SKU/ID]]=\"\",0,SUMPRODUCT((Quantity_Sold_1=Inventory[[#This Row],[Item SKU/ID]])*Net_Profit))","v":0},{"$f":"IFERROR(AVERAGE(Inventory[[#This Row],[Total Net Profit]]/Inventory[[#This Row],[Quantity Sold]]),0)","v":0}]
[null,null,null,null,null,null,null,null,0,0,0,null,null,null,0,{"$f":"IF(Inventory[[#This Row],[Item SKU/ID]]=\"\",0,SUMPRODUCT((Quantity_Sold_1=Inventory[[#This Row],[Item SKU/ID]])*Net_Profit))","v":0},{"$f":"IFERROR(AVERAGE(Inventory[[#This Row],[Total Net Profit]]/Inventory[[#This Row],[Quantity Sold]]),0)","v":0}]
[null,null,null,null,null,null,null,null,0,0,0,null,null,null,0,{"$f":"IF(Inventory[[#This Row],[Item SKU/ID]]=\"\",0,SUMPRODUCT((Quantity_Sold_1=Inventory[[#This Row],[Item SKU/ID]])*Net_Profit))","v":0},{"$f":"IFERROR(AVERAGE(Inventory[[#This Row],[Total Net Profit]]/Inventory[[#This Row],[Quantity Sold]]),0)","v":0}]
[null,null,null,null,null,null,null,null,0,0,0,null,null,null,0,{"$f":"IF(Inventory[[#This Row],[Item SKU/ID]]=\"\",0,SUMPRODUCT((Quantity_Sold_1=Inventory[[#This Row],[Item SKU/ID]])*Net_Profit))","v":0},{"$f":"IFERROR(AVERAGE(Inventory[[#This Row],[Total Net Profit]]/Inventory[[#This Row],[Quantity Sold]]),0)","v":0}]
[null,null,null,null,null,null,null,null,0,0,0,null,null,null,0,{"$f":"IF(Inventory[[#This Row],[Item SKU/ID]]=\"\",0,SUMPRODUCT((Quantity_Sold_1=Inventory[[#This Row],[Item SKU/ID]])*Net_Profit))","v":0},{"$f":"IFERROR(AVERAGE(Inventory[[#This Row],[Total Net Profit]]/Inventory[[#This Row],[Quantity Sold]]),0)","v":0}]
[null,null,null,null,null,null,null,null,0,0,0,null,null,null,0,{"$f":"IF(Inventory[[#This Row],[Item SKU/ID]]=\"\",0,SUMPRODUCT((Quantity_Sold_1=Inventory[[#This Row],[Item SKU/ID]])*Net_Profit))","v":0},{"$f":"IFERROR(AVERAGE(Inventory[[#This Row],[Total Net Profit]]/Inventory[[#This Row],[Quantity Sold]]),0)","v":0}]
[null,null,null,null,null,null,null,null,0,0,0,null,null,null,0,{"$f":"IF(Inventory[[#This Row],[Item SKU/ID]]=\"\",0,SUMPRODUCT((Quantity_Sold_1=Inventory[[#This Row],[Item SKU/ID]])*Net_Profit))","v":0},{"$f":"IFERROR(AVERAGE(Inventory[[#This Row],[Total Net Profit]]/Inventory[[#This Row],[Quantity Sold]]),0)","v":0}]
[null,null,null,null,null,null,null,null,0,0,0,null,null,null,0,{"$f":"IF(Inventory[[#This Row],[Item SKU/ID]]=\"\",0,SUMPRODUCT((Quantity_Sold_1=Inventory[[#This Row],[Item SKU/ID]])*Net_Profit))","v":0},{"$f":"IFERROR(AVERAGE(Inventory[[#This Row],[Total Net Profit]]/Inventory[[#This Row],[Quantity Sold]]),0)","v":0}]
[null,null,null,null,null,null,null,null,0,0,0,null,null,null,0,{"$f":"IF(Inventory[[#This Row],[Item SKU/ID]]=\"\",0,SUMPRODUCT((Quantity_Sold_1=Inventory[[#This Row],[Item SKU/ID]])*Net_Profit))","v":0},{"$f":"IFERROR(AVERAGE(Inventory[[#This Row],[Total Net Profit]]/Inventory[[#This Row],[Quantity Sold]]),0)","v":0}]
[null,null,null,null,null,null,null,null,0,0,0,null,null,null,0,{"$f":"IF(Inventory[[#This Row],[Item SKU/ID]]=\"\",0,SUMPRODUCT((Quantity_Sold_1=Inventory[[#This Row],[Item SKU/ID]])*Net_Profit))","v":0},{"$f":"IFERROR(AVERAGE(Inventory[[#This Row],[Total Net Profit]]/Inventory[[#This Row],[Quantity Sold]]),0)","v":0}]
[null,null,null,null,null,null,null,null,0,0,0,null,null,null,0,{"$f":"IF(Inventory[[#This Row],[Item SKU/ID]]=\"\",0,SUMPRODUCT((Quantity_Sold_1=Inventory[[#This Row],[Item SKU/ID]])*Net_Profit))","v":0},{"$f":"IFERROR(AVERAGE(Inventory[[#This Row],[Total Net Profit]]/Inventory[[#This Row],[Quantity Sold]]),0)","v":0}]
[null,null,null,null,null,null,null,null,0,0,0,null,null,null,0,{"$f":"IF(Inventory[[#This Row],[Item SKU/ID]]=\"\",0,SUMPRODUCT((Quantity_Sold_1=Inventory[[#This Row],[Item SKU/ID]])*Net_Profit))","v":0},{"$f":"IFERROR(AVERAGE(Inventory[[#This Row],[Total Net Profit]]/Inventory[[#This Row],[Quantity Sold]]),0)","v":0}]
[null,null,null,null,null,null,null,null,0,0,0,null,null,null,0,{"$f":"IF(Inventory[[#This Row],[Item SKU/ID]]=\"\",0,SUMPRODUCT((Quantity_Sold_1=Inventory[[#This Row],[Item SKU/ID]])*Net_Profit))","v":0},{"$f":"IFERROR(AVERAGE(Inventory[[#This Row],[Total Net Profit]]/Inventory[[#This Row],[Quantity Sold]]),0)","v":0}]
[null,null,null,null,null,null,null,null,0,0,0,null,null,null,0,{"$f":"IF(Inventory[[#This Row],[Item SKU/ID]]=\"\",0,SUMPRODUCT((Quantity_Sold_1=Inventory[[#This Row],[Item SKU/ID]])*Net_Profit))","v":0},{"$f":"IFERROR(AVERAGE(Inventory[[#This Row],[Total Net Profit]]/Inventory[[#This Row],[Quantity Sold]]),0)","v":0}]
[null,null,null,null,null,null,null,null,0,0,0,null,null,null,0,{"$f":"IF(Inventory[[#This Row],[Item SKU/ID]]=\"\",0,SUMPRODUCT((Quantity_Sold_1=Inventory[[#This Row],[Item SKU/ID]])*Net_Profit))","v":0},{"$f":"IFERROR(AVERAGE(Inventory[[#This Row],[Total Net Profit]]/Inventory[[#This Row],[Quantity Sold]]),0)","v":0}]
[null,null,null,null,null,null,null,null,0,0,0,null,null,null,0,{"$f":"IF(Inventory[[#This Row],[Item SKU/ID]]=\"\",0,SUMPRODUCT((Quantity_Sold_1=Inventory[[#This Row],[Item SKU/ID]])*Net_Profit))","v":0},{"$f":"IFERROR(AVERAGE(Inventory[[#This Row],[Total Net Profit]]/Inventory[[#This Row],[Quantity Sold]]),0)","v":0}]
[null,null,null,null,null,null,null,null,0,0,0,null,null,null,0,{"$f":"IF(Inventory[[#This Row],[Item SKU/ID]]=\"\",0,SUMPRODUCT((Quantity_Sold_1=Inventory[[#This Row],[Item SKU/ID]])*Net_Profit))","v":0},{"$f":"IFERROR(AVERAGE(Inventory[[#This Row],[Total Net Profit]]/Inventory[[#This Row],[Quantity Sold]]),0)","v":0}]
[null,null,null,null,null,null,null,null,0,0,0,null,null,null,0,{"$f":"IF(Inventory[[#This Row],[Item SKU/ID]]=\"\",0,SUMPRODUCT((Quantity_Sold_1=Inventory[[#This Row],[Item SKU/ID]])*Net_Profit))","v":0},{"$f":"IFERROR(AVERAGE(Inventory[[#This Row],[Total Net Profit]]/Inventory[[#This Row],[Quantity Sold]]),0)","v":0}]
[null,null,null,null,null,null,null,null,0,0,0,null,null,null,0,{"$f":"IF(Inventory[[#This Row],[Item SKU/ID]]=\"\",0,SUMPRODUCT((Quantity_Sold_1=Inventory[[#This Row],[Item SKU/ID]])*Net_Profit))","v":0},{"$f":"IFERROR(AVERAGE(Inventory[[#This Row],[Total Net Profit]]/Inventory[[#This Row],[Quantity Sold]]),0)","v":0}]
[null,null,null,null,null,null,null,null,0,0,0,null,null,null,0,{"$f":"IF(Inventory[[#This Row],[Item SKU/ID]]=\"\",0,SUMPRODUCT((Quantity_Sold_1=Inventory[[#This Row],[Item SKU/ID]])*Net_Profit))","v":0},{"$f":"IFERROR(AVERAGE(Inventory[[#This Row],[Total Net Profit]]/Inventory[[#This Row],[Quantity Sold]]),0)","v":0}]
[null,null,null,null,null,null,null,null,0,0,0,null,null,null,0,{"$f":"IF(Inventory[[#This Row],[Item SKU/ID]]=\"\",0,SUMPRODUCT((Quantity_Sold_1=Inventory[[#This Row],[Item SKU/ID]])*Net_Profit))","v":0},{"$f":"IFERROR(AVERAGE(Inventory[[#This Row],[Total Net Profit]]/Inventory[[#This Row],[Quantity Sold]]),0)","v":0}]
[null,null,null,null,null,null,null,null,0,0,0,null,null,null,0,{"$f":"IF(Inventory[[#This Row],[Item SKU/ID]]=\"\",0,SUMPRODUCT((Quantity_Sold_1=Inventory[[#This Row],[Item SKU/ID]])*Net_Profit))","v":0},{"$f":"IFERROR(AVERAGE(Inventory[[#This Row],[Total Net Profit]]/Inventory[[#This Row],[Quantity Sold]]),0)","v":0}]
[null,null,null,null,null,null,null,null,0,0,0,null,null,null,0,{"$f":"IF(Inventory[[#This Row],[Item SKU/ID]]=\"\",0,SUMPRODUCT((Quantity_Sold_1=Inventory[[#This Row],[Item SKU/ID]])*Net_Profit))","v":0},{"$f":"IFERROR(AVERAGE(Inventory[[#This Row],[Total Net Profit]]/Inventory[[#This Row],[Quantity Sold]]),0)","v":0}]
[null,null,null,null,null,null,null,null,{"$f":"K3460*H3460","v":0},{"$f":"IF(F3460=\"\",0,SUMPRODUCT((Quantity_Sold_1=F3460)*Quantity_Sold_2))","v":0},{"$f":"G3460-J3460","v":0},null,null,null,{"$f":"K3460*H3460","v":0},{"$f":"IF(Inventory[[#This Row],[Item SKU/ID]]=\"\",0,SUMPRODUCT((Quantity_Sold_1=Inventory[[#This Row],[Item SKU/ID]])*Net_Profit))","v":0},{"$f":"IFERROR(AVERAGE(Inventory[[#This Row],[Total Net Profit]]/Inventory[[#This Row],[Quantity Sold]]),0)","v":0}]
[null,null,null,null,null,null,null,null,0,0,0,null,null,null,0,{"$f":"IF(Inventory[[#This Row],[Item SKU/ID]]=\"\",0,SUMPRODUCT((Quantity_Sold_1=Inventory[[#This Row],[Item SKU/ID]])*Net_Profit))","v":0},{"$f":"IFERROR(AVERAGE(Inventory[[#This Row],[Total Net Profit]]/Inventory[[#This Row],[Quantity Sold]]),0)","v":0}]
[null,null,null,null,null,null,null,null,0,0,0,null,null,null,0,{"$f":"IF(Inventory[[#This Row],[Item SKU/ID]]=\"\",0,SUMPRODUCT((Quantity_Sold_1=Inventory[[#This Row],[Item SKU/ID]])*Net_Profit))","v":0},{"$f":"IFERROR(AVERAGE(Inventory[[#This Row],[Total Net Profit]]/Inventory[[#This Row],[Quantity Sold]]),0)","v":0}]
[null,null,null,null,null,null,null,null,0,0,0,null,null,null,0,{"$f":"IF(Inventory[[#This Row],[Item SKU/ID]]=\"\",0,SUMPRODUCT((Quantity_Sold_1=Inventory[[#This Row],[Item SKU/ID]])*Net_Profit))","v":0},{"$f":"IFERROR(AVERAGE(Inventory[[#This Row],[Total Net Profit]]/Inventory[[#This Row],[Quantity Sold]]),0)","v":0}]
[null,null,null,null,null,null,null,null,0,0,0,null,null,null,0,{"$f":"IF(Inventory[[#This Row],[Item SKU/ID]]=\"\",0,SUMPRODUCT((Quantity_Sold_1=Inventory[[#This Row],[Item SKU/ID]])*Net_Profit))","v":0},{"$f":"IFERROR(AVERAGE(Inventory[[#This Row],[Total Net Profit]]/Inventory[[#This Row],[Quantity Sold]]),0)","v":0}]
[null,null,null,null,null,null,null,null,0,0,0,null,null,null,0,{"$f":"IF(Inventory[[#This Row],[Item SKU/ID]]=\"\",0,SUMPRODUCT((Quantity_Sold_1=Inventory[[#This Row],[Item SKU/ID]])*Net_Profit))","v":0},{"$f":"IFERROR(AVERAGE(Inventory[[#This Row],[Total Net Profit]]/Inventory[[#This Row],[Quantity Sold]]),0)","v":0}]
[null,null,null,null,null,null,null,null,0,0,0,null,null,null,0,{"$f":"IF(Inventory[[#This Row],[Item SKU/ID]]=\"\",0,SUMPRODUCT((Quantity_Sold_1=Inventory[[#This Row],[Item SKU/ID]])*Net_Profit))","v":0},{"$f":"IFERROR(AVERAGE(Inventory[[#This Row],[Total Net Profit]]/Inventory[[#This Row],[Quantity Sold]]),0)","v":0}]
[null,null,null,null,null,null,null,null,0,0,0,null,null,null,0,{"$f":"IF(Inventory[[#This Row],[Item SKU/ID]]=\"\",0,SUMPRODUCT((Quantity_Sold_1=Inventory[[#This Row],[Item SKU/ID]])*Net_Profit))","v":0},{"$f":"IFERROR(AVERAGE(Inventory[[#This Row],[Total Net Profit]]/Inventory[[#This Row],[Quantity Sold]]),0)","v":0}]
[null,null,null,null,null,null,null,null,0,0,0,null,null,null,0,{"$f":"IF(Inventory[[#This Row],[Item SKU/ID]]=\"\",0,SUMPRODUCT((Quantity_Sold_1=Inventory[[#This Row],[Item SKU/ID]])*Net_Profit))","v":0},{"$f":"IFERROR(AVERAGE(Inventory[[#This Row],[Total Net Profit]]/Inventory[[#This Row],[Quantity Sold]]),0)","v":0}]
[null,null,null,null,null,null,null,null,0,0,0,null,null,null,0,{"$f":"IF(Inventory[[#This Row],[Item SKU/ID]]=\"\",0,SUMPRODUCT((Quantity_Sold_1=Inventory[[#This Row],[Item SKU/ID]])*Net_Profit))","v":0},{"$f":"IFERROR(AVERAGE(Inventory[[#This Row],[Total Net Profit]]/Inventory[[#This Row],[Quantity Sold]]),0)","v":0}]
[null,null,null,null,null,null,null,null,0,0,0,null,null,null,0,{"$f":"IF(Inventory[[#This Row],[Item SKU/ID]]=\"\",0,SUMPRODUCT((Quantity_Sold_1=Inventory[[#This Row],[Item SKU/ID]])*Net_Profit))","v":0},{"$f":"IFERROR(AVERAGE(Inventory[[#This Row],[Total Net Profit]]/Inventory[[#This Row],[Quantity Sold]]),0)","v":0}]
[null,null,null,null,null,null,null,null,0,0,0,null,null,null,0,{"$f":"IF(Inventory[[#This Row],[Item SKU/ID]]=\"\",0,SUMPRODUCT((Quantity_Sold_1=Inventory[[#This Row],[Item SKU/ID]])*Net_Profit))","v":0},{"$f":"IFERROR(AVERAGE(Inventory[[#This Row],[Total Net Profit]]/Inventory[[#This Row],[Quantity Sold]]),0)","v":0}]
[null,null,null,null,null,null,null,null,0,0,0,null,null,null,0,{"$f":"IF(Inventory[[#This Row],[Item SKU/ID]]=\"\",0,SUMPRODUCT((Quantity_Sold_1=Inventory[[#This Row],[Item SKU/ID]])*Net_Profit))","v":0},{"$f":"IFERROR(AVERAGE(Inventory[[#This Row],[Total Net Profit]]/Inventory[[#This Row],[Quantity Sold]]),0)","v":0}]
[null,null,null,null,null,null,null,null,0,0,0,null,null,null,0,{"$f":"IF(Inventory[[#This Row],[Item SKU/ID]]=\"\",0,SUMPRODUCT((Quantity_Sold_1=Inventory[[#This Row],[Item SKU/ID]])*Net_Profit))","v":0},{"$f":"IFERROR(AVERAGE(Inventory[[#This Row],[Total Net Profit]]/Inventory[[#This Row],[Quantity Sold]]),0)","v":0}]
[null,null,null,null,null,null,null,null,0,0,0,null,null,null,0,{"$f":"IF(Inventory[[#This Row],[Item SKU/ID]]=\"\",0,SUMPRODUCT((Quantity_Sold_1=Inventory[[#This Row],[Item SKU/ID]])*Net_Profit))","v":0},{"$f":"IFERROR(AVERAGE(Inventory[[#This Row],[Total Net Profit]]/Inventory[[#This Row],[Quantity Sold]]),0)","v":0}]
[null,null,null,null,null,null,null,null,0,0,0,null,null,null,0,{"$f":"IF(Inventory[[#This Row],[Item SKU/ID]]=\"\",0,SUMPRODUCT((Quantity_Sold_1=Inventory[[#This Row],[Item SKU/ID]])*Net_Profit))","v":0},{"$f":"IFERROR(AVERAGE(Inventory[[#This Row],[Total Net Profit]]/Inventory[[#This Row],[Quantity Sold]]),0)","v":0}]
[null,null,null,null,null,null,null,null,0,0,0,null,null,null,0,{"$f":"IF(Inventory[[#This Row],[Item SKU/ID]]=\"\",0,SUMPRODUCT((Quantity_Sold_1=Inventory[[#This Row],[Item SKU/ID]])*Net_Profit))","v":0},{"$f":"IFERROR(AVERAGE(Inventory[[#This Row],[Total Net Profit]]/Inventory[[#This Row],[Quantity Sold]]),0)","v":0}]
[null,null,null,null,null,null,null,null,0,0,0,null,null,null,0,{"$f":"IF(Inventory[[#This Row],[Item SKU/ID]]=\"\",0,SUMPRODUCT((Quantity_Sold_1=Inventory[[#This Row],[Item SKU/ID]])*Net_Profit))","v":0},{"$f":"IFERROR(AVERAGE(Inventory[[#This Row],[Total Net Profit]]/Inventory[[#This Row],[Quantity Sold]]),0)","v":0}]
[null,null,null,null,null,null,null,null,0,0,0,null,null,null,0,{"$f":"IF(Inventory[[#This Row],[Item SKU/ID]]=\"\",0,SUMPRODUCT((Quantity_Sold_1=Inventory[[#This Row],[Item SKU/ID]])*Net_Profit))","v":0},{"$f":"IFERROR(AVERAGE(Inventory[[#This Row],[Total Net Profit]]/Inventory[[#This Row],[Quantity Sold]]),0)","v":0}]
[null,null,null,null,null,null,null,null,0,0,0,null,null,null,0,{"$f":"IF(Inventory[[#This Row],[Item SKU/ID]]=\"\",0,SUMPRODUCT((Quantity_Sold_1=Inventory[[#This Row],[Item SKU/ID]])*Net_Profit))","v":0},{"$f":"IFERROR(AVERAGE(Inventory[[#This Row],[Total Net Profit]]/Inventory[[#This Row],[Quantity Sold]]),0)","v":0}]
[null,null,null,null,null,null,null,null,0,0,0,null,null,null,0,{"$f":"IF(Inventory[[#This Row],[Item SKU/ID]]=\"\",0,SUMPRODUCT((Quantity_Sold_1=Inventory[[#This Row],[Item SKU/ID]])*Net_Profit))","v":0},{"$f":"IFERROR(AVERAGE(Inventory[[#This Row],[Total Net Profit]]/Inventory[[#This Row],[Quantity Sold]]),0)","v":0}]
[null,null,null,null,null,null,null,null,0,0,0,null,null,null,0,{"$f":"IF(Inventory[[#This Row],[Item SKU/ID]]=\"\",0,SUMPRODUCT((Quantity_Sold_1=Inventory[[#This Row],[Item SKU/ID]])*Net_Profit))","v":0},{"$f":"IFERROR(AVERAGE(Inventory[[#This Row],[Total Net Profit]]/Inventory[[#This Row],[Quantity Sold]]),0)","v":0}]
[null,null,null,null,null,null,null,null,0,0,0,null,null,null,0,{"$f":"IF(Inventory[[#This Row],[Item SKU/ID]]=\"\",0,SUMPRODUCT((Quantity_Sold_1=Inventory[[#This Row],[Item SKU/ID]])*Net_Profit))","v":0},{"$f":"IFERROR(AVERAGE(Inventory[[#This Row],[Total Net Profit]]/Inventory[[#This Row],[Quantity Sold]]),0)","v":0}]
[null,null,null,null,null,null,null,null,0,0,0,null,null,null,0,{"$f":"IF(Inventory[[#This Row],[Item SKU/ID]]=\"\",0,SUMPRODUCT((Quantity_Sold_1=Inventory[[#This Row],[Item SKU/ID]])*Net_Profit))","v":0},{"$f":"IFERROR(AVERAGE(Inventory[[#This Row],[Total Net Profit]]/Inventory[[#This Row],[Quantity Sold]]),0)","v":0}]
[null,null,null,null,null,null,null,null,0,0,0,null,null,null,0,{"$f":"IF(Inventory[[#This Row],[Item SKU/ID]]=\"\",0,SUMPRODUCT((Quantity_Sold_1=Inventory[[#This Row],[Item SKU/ID]])*Net_Profit))","v":0},{"$f":"IFERROR(AVERAGE(Inventory[[#This Row],[Total Net Profit]]/Inventory[[#This Row],[Quantity Sold]]),0)","v":0}]
[null,null,null,null,null,null,null,null,0,0,0,null,null,null,0,{"$f":"IF(Inventory[[#This Row],[Item SKU/ID]]=\"\",0,SUMPRODUCT((Quantity_Sold_1=Inventory[[#This Row],[Item SKU/ID]])*Net_Profit))","v":0},{"$f":"IFERROR(AVERAGE(Inventory[[#This Row],[Total Net Profit]]/Inventory[[#This Row],[Quantity Sold]]),0)","v":0}]
[null,null,null,null,null,null,null,null,0,0,0,null,null,null,0,{"$f":"IF(Inventory[[#This Row],[Item SKU/ID]]=\"\",0,SUMPRODUCT((Quantity_Sold_1=Inventory[[#This Row],[Item SKU/ID]])*Net_Profit))","v":0},{"$f":"IFERROR(AVERAGE(Inventory[[#This Row],[Total Net Profit]]/Inventory[[#This Row],[Quantity Sold]]),0)","v":0}]
[null,null,null,null,null,null,null,null,0,0,0,null,null,null,0,{"$f":"IF(Inventory[[#This Row],[Item SKU/ID]]=\"\",0,SUMPRODUCT((Quantity_Sold_1=Inventory[[#This Row],[Item SKU/ID]])*Net_Profit))","v":0},{"$f":"IFERROR(AVERAGE(Inventory[[#This Row],[Total Net Profit]]/Inventory[[#This Row],[Quantity Sold]]),0)","v":0}]
[null,null,null,null,null,null,null,null,0,0,0,null,null,null,0,{"$f":"IF(Inventory[[#This Row],[Item SKU/ID]]=\"\",0,SUMPRODUCT((Quantity_Sold_1=Inventory[[#This Row],[Item SKU/ID]])*Net_Profit))","v":0},{"$f":"IFERROR(AVERAGE(Inventory[[#This Row],[Total Net Profit]]/Inventory[[#This Row],[Quantity Sold]]),0)","v":0}]
[null,null,null,null,null,null,null,null,0,0,0,null,null,null,0,{"$f":"IF(Inventory[[#This Row],[Item SKU/ID]]=\"\",0,SUMPRODUCT((Quantity_Sold_1=Inventory[[#This Row],[Item SKU/ID]])*Net_Profit))","v":0},{"$f":"IFERROR(AVERAGE(Inventory[[#This Row],[Total Net Profit]]/Inventory[[#This Row],[Quantity Sold]]),0)","v":0}]
[null,null,null,null,null,null,null,null,0,0,0,null,null,null,0,{"$f":"IF(Inventory[[#This Row],[Item SKU/ID]]=\"\",0,SUMPRODUCT((Quantity_Sold_1=Inventory[[#This Row],[Item SKU/ID]])*Net_Profit))","v":0},{"$f":"IFERROR(AVERAGE(Inventory[[#This Row],[Total Net Profit]]/Inventory[[#This Row],[Quantity Sold]]),0)","v":0}]
[null,null,null,null,null,null,null,null,0,0,0,null,null,null,0,{"$f":"IF(Inventory[[#This Row],[Item SKU/ID]]=\"\",0,SUMPRODUCT((Quantity_Sold_1=Inventory[[#This Row],[Item SKU/ID]])*Net_Profit))","v":0},{"$f":"IFERROR(AVERAGE(Inventory[[#This Row],[Total Net Profit]]/Inventory[[#This Row],[Quantity Sold]]),0)","v":0}]
[null,null,null,null,null,null,null,null,0,0,0,null,null,null,0,{"$f":"IF(Inventory[[#This Row],[Item SKU/ID]]=\"\",0,SUMPRODUCT((Quantity_Sold_1=Inventory[[#This Row],[Item SKU/ID]])*Net_Profit))","v":0},{"$f":"IFERROR(AVERAGE(Inventory[[#This Row],[Total Net Profit]]/Inventory[[#This Row],[Quantity Sold]]),0)","v":0}]
[null,null,null,null,null,null,null,null,0,0,0,null,null,null,0,{"$f":"IF(Inventory[[#This Row],[Item SKU/ID]]=\"\",0,SUMPRODUCT((Quantity_Sold_1=Inventory[[#This Row],[Item SKU/ID]])*Net_Profit))","v":0},{"$f":"IFERROR(AVERAGE(Inventory[[#This Row],[Total Net Profit]]/Inventory[[#This Row],[Quantity Sold]]),0)","v":0}]
[null,null,null,null,null,null,null,null,0,0,0,null,null,null,0,{"$f":"IF(Inventory[[#This Row],[Item SKU/ID]]=\"\",0,SUMPRODUCT((Quantity_Sold_1=Inventory[[#This Row],[Item SKU/ID]])*Net_Profit))","v":0},{"$f":"IFERROR(AVERAGE(Inventory[[#This Row],[Total Net Profit]]/Inventory[[#This Row],[Quantity Sold]]),0)","v":0}]
[null,null,null,null,null,null,null,null,0,0,0,null,null,null,0,{"$f":"IF(Inventory[[#This Row],[Item SKU/ID]]=\"\",0,SUMPRODUCT((Quantity_Sold_1=Inventory[[#This Row],[Item SKU/ID]])*Net_Profit))","v":0},{"$f":"IFERROR(AVERAGE(Inventory[[#This Row],[Total Net Profit]]/Inventory[[#This Row],[Quantity Sold]]),0)","v":0}]
[null,null,null,null,null,null,null,null,0,0,0,null,null,null,0,{"$f":"IF(Inventory[[#This Row],[Item SKU/ID]]=\"\",0,SUMPRODUCT((Quantity_Sold_1=Inventory[[#This Row],[Item SKU/ID]])*Net_Profit))","v":0},{"$f":"IFERROR(AVERAGE(Inventory[[#This Row],[Total Net Profit]]/Inventory[[#This Row],[Quantity Sold]]),0)","v":0}]
[null,null,null,null,null,null,null,null,0,0,0,null,null,null,0,{"$f":"IF(Inventory[[#This Row],[Item SKU/ID]]=\"\",0,SUMPRODUCT((Quantity_Sold_1=Inventory[[#This Row],[Item SKU/ID]])*Net_Profit))","v":0},{"$f":"IFERROR(AVERAGE(Inventory[[#This Row],[Total Net Profit]]/Inventory[[#This Row],[Quantity Sold]]),0)","v":0}]
[null,null,null,null,null,null,null,null,0,0,0,null,null,null,0,{"$f":"IF(Inventory[[#This Row],[Item SKU/ID]]=\"\",0,SUMPRODUCT((Quantity_Sold_1=Inventory[[#This Row],[Item SKU/ID]])*Net_Profit))","v":0},{"$f":"IFERROR(AVERAGE(Inventory[[#This Row],[Total Net Profit]]/Inventory[[#This Row],[Quantity Sold]]),0)","v":0}]
[null,null,null,null,null,null,null,null,0,0,0,null,null,null,0,{"$f":"IF(Inventory[[#This Row],[Item SKU/ID]]=\"\",0,SUMPRODUCT((Quantity_Sold_1=Inventory[[#This Row],[Item SKU/ID]])*Net_Profit))","v":0},{"$f":"IFERROR(AVERAGE(Inventory[[#This Row],[Total Net Profit]]/Inventory[[#This Row],[Quantity Sold]]),0)","v":0}]
[null,null,null,null,null,null,null,null,0,0,0,null,null,null,0,{"$f":"IF(Inventory[[#This Row],[Item SKU/ID]]=\"\",0,SUMPRODUCT((Quantity_Sold_1=Inventory[[#This Row],[Item SKU/ID]])*Net_Profit))","v":0},{"$f":"IFERROR(AVERAGE(Inventory[[#This Row],[Total Net Profit]]/Inventory[[#This Row],[Quantity Sold]]),0)","v":0}]
[null,null,null,null,null,null,null,null,0,0,0,null,null,null,0,{"$f":"IF(Inventory[[#This Row],[Item SKU/ID]]=\"\",0,SUMPRODUCT((Quantity_Sold_1=Inventory[[#This Row],[Item SKU/ID]])*Net_Profit))","v":0},{"$f":"IFERROR(AVERAGE(Inventory[[#This Row],[Total Net Profit]]/Inventory[[#This Row],[Quantity Sold]]),0)","v":0}]
[null,null,null,null,null,null,null,null,0,0,0,null,null,null,0,{"$f":"IF(Inventory[[#This Row],[Item SKU/ID]]=\"\",0,SUMPRODUCT((Quantity_Sold_1=Inventory[[#This Row],[Item SKU/ID]])*Net_Profit))","v":0},{"$f":"IFERROR(AVERAGE(Inventory[[#This Row],[Total Net Profit]]/Inventory[[#This Row],[Quantity Sold]]),0)","v":0}]
[null,null,null,null,null,null,null,null,0,0,0,null,null,null,0,{"$f":"IF(Inventory[[#This Row],[Item SKU/ID]]=\"\",0,SUMPRODUCT((Quantity_Sold_1=Inventory[[#This Row],[Item SKU/ID]])*Net_Profit))","v":0},{"$f":"IFERROR(AVERAGE(Inventory[[#This Row],[Total Net Profit]]/Inventory[[#This Row],[Quantity Sold]]),0)","v":0}]
[null,null,null,null,null,null,null,null,0,0,0,null,null,null,0,{"$f":"IF(Inventory[[#This Row],[Item SKU/ID]]=\"\",0,SUMPRODUCT((Quantity_Sold_1=Inventory[[#This Row],[Item SKU/ID]])*Net_Profit))","v":0},{"$f":"IFERROR(AVERAGE(Inventory[[#This Row],[Total Net Profit]]/Inventory[[#This Row],[Quantity Sold]]),0)","v":0}]
[null,null,null,null,null,null,null,null,0,0,0,null,null,null,0,{"$f":"IF(Inventory[[#This Row],[Item SKU/ID]]=\"\",0,SUMPRODUCT((Quantity_Sold_1=Inventory[[#This Row],[Item SKU/ID]])*Net_Profit))","v":0},{"$f":"IFERROR(AVERAGE(Inventory[[#This Row],[Total Net Profit]]/Inventory[[#This Row],[Quantity Sold]]),0)","v":0}]
[null,null,null,null,null,null,null,null,0,0,0,null,null,null,0,{"$f":"IF(Inventory[[#This Row],[Item SKU/ID]]=\"\",0,SUMPRODUCT((Quantity_Sold_1=Inventory[[#This Row],[Item SKU/ID]])*Net_Profit))","v":0},{"$f":"IFERROR(AVERAGE(Inventory[[#This Row],[Total Net Profit]]/Inventory[[#This Row],[Quantity Sold]]),0)","v":0}]
[null,null,null,null,null,null,null,null,0,0,0,null,null,null,0,{"$f":"IF(Inventory[[#This Row],[Item SKU/ID]]=\"\",0,SUMPRODUCT((Quantity_Sold_1=Inventory[[#This Row],[Item SKU/ID]])*Net_Profit))","v":0},{"$f":"IFERROR(AVERAGE(Inventory[[#This Row],[Total Net Profit]]/Inventory[[#This Row],[Quantity Sold]]),0)","v":0}]
[null,null,null,null,null,null,null,null,0,0,0,null,null,null,0,{"$f":"IF(Inventory[[#This Row],[Item SKU/ID]]=\"\",0,SUMPRODUCT((Quantity_Sold_1=Inventory[[#This Row],[Item SKU/ID]])*Net_Profit))","v":0},{"$f":"IFERROR(AVERAGE(Inventory[[#This Row],[Total Net Profit]]/Inventory[[#This Row],[Quantity Sold]]),0)","v":0}]
[null,null,null,null,null,null,null,null,0,0,0,null,null,null,0,{"$f":"IF(Inventory[[#This Row],[Item SKU/ID]]=\"\",0,SUMPRODUCT((Quantity_Sold_1=Inventory[[#This Row],[Item SKU/ID]])*Net_Profit))","v":0},{"$f":"IFERROR(AVERAGE(Inventory[[#This Row],[Total Net Profit]]/Inventory[[#This Row],[Quantity Sold]]),0)","v":0}]
[null,null,null,null,null,null,null,null,0,0,0,null,null,null,0,{"$f":"IF(Inventory[[#This Row],[Item SKU/ID]]=\"\",0,SUMPRODUCT((Quantity_Sold_1=Inventory[[#This Row],[Item SKU/ID]])*Net_Profit))","v":0},{"$f":"IFERROR(AVERAGE(Inventory[[#This Row],[Total Net Profit]]/Inventory[[#This Row],[Quantity Sold]]),0)","v":0}]
[null,null,null,null,null,null,null,null,0,0,0,null,null,null,0,{"$f":"IF(Inventory[[#This Row],[Item SKU/ID]]=\"\",0,SUMPRODUCT((Quantity_Sold_1=Inventory[[#This Row],[Item SKU/ID]])*Net_Profit))","v":0},{"$f":"IFERROR(AVERAGE(Inventory[[#This Row],[Total Net Profit]]/Inventory[[#This Row],[Quantity Sold]]),0)","v":0}]
[null,null,null,null,null,null,null,null,0,0,0,null,null,null,0,{"$f":"IF(Inventory[[#This Row],[Item SKU/ID]]=\"\",0,SUMPRODUCT((Quantity_Sold_1=Inventory[[#This Row],[Item SKU/ID]])*Net_Profit))","v":0},{"$f":"IFERROR(AVERAGE(Inventory[[#This Row],[Total Net Profit]]/Inventory[[#This Row],[Quantity Sold]]),0)","v":0}]
[null,null,null,null,null,null,null,null,0,0,0,null,null,null,0,{"$f":"IF(Inventory[[#This Row],[Item SKU/ID]]=\"\",0,SUMPRODUCT((Quantity_Sold_1=Inventory[[#This Row],[Item SKU/ID]])*Net_Profit))","v":0},{"$f":"IFERROR(AVERAGE(Inventory[[#This Row],[Total Net Profit]]/Inventory[[#This Row],[Quantity Sold]]),0)","v":0}]
[null,null,null,null,null,null,null,null,0,0,0,null,null,null,0,{"$f":"IF(Inventory[[#This Row],[Item SKU/ID]]=\"\",0,SUMPRODUCT((Quantity_Sold_1=Inventory[[#This Row],[Item SKU/ID]])*Net_Profit))","v":0},{"$f":"IFERROR(AVERAGE(Inventory[[#This Row],[Total Net Profit]]/Inventory[[#This Row],[Quantity Sold]]),0)","v":0}]
[null,null,null,null,null,null,null,null,0,0,0,null,null,null,0,{"$f":"IF(Inventory[[#This Row],[Item SKU/ID]]=\"\",0,SUMPRODUCT((Quantity_Sold_1=Inventory[[#This Row],[Item SKU/ID]])*Net_Profit))","v":0},{"$f":"IFERROR(AVERAGE(Inventory[[#This Row],[Total Net Profit]]/Inventory[[#This Row],[Quantity Sold]]),0)","v":0}]
[null,null,null,null,null,null,null,null,0,0,0,null,null,null,0,{"$f":"IF(Inventory[[#This Row],[Item SKU/ID]]=\"\",0,SUMPRODUCT((Quantity_Sold_1=Inventory[[#This Row],[Item SKU/ID]])*Net_Profit))","v":0},{"$f":"IFERROR(AVERAGE(Inventory[[#This Row],[Total Net Profit]]/Inventory[[#This Row],[Quantity Sold]]),0)","v":0}]
[null,null,null,null,null,null,null,null,0,0,0,null,null,null,0,{"$f":"IF(Inventory[[#This Row],[Item SKU/ID]]=\"\",0,SUMPRODUCT((Quantity_Sold_1=Inventory[[#This Row],[Item SKU/ID]])*Net_Profit))","v":0},{"$f":"IFERROR(AVERAGE(Inventory[[#This Row],[Total Net Profit]]/Inventory[[#This Row],[Quantity Sold]]),0)","v":0}]
[null,null,null,null,null,null,null,null,0,0,0,null,null,null,0,{"$f":"IF(Inventory[[#This Row],[Item SKU/ID]]=\"\",0,SUMPRODUCT((Quantity_Sold_1=Inventory[[#This Row],[Item SKU/ID]])*Net_Profit))","v":0},{"$f":"IFERROR(AVERAGE(Inventory[[#This Row],[Total Net Profit]]/Inventory[[#This Row],[Quantity Sold]]),0)","v":0}]
[null,null,null,null,null,null,null,null,0,0,0,null,null,null,0,{"$f":"IF(Inventory[[#This Row],[Item SKU/ID]]=\"\",0,SUMPRODUCT((Quantity_Sold_1=Inventory[[#This Row],[Item SKU/ID]])*Net_Profit))","v":0},{"$f":"IFERROR(AVERAGE(Inventory[[#This Row],[Total Net Profit]]/Inventory[[#This Row],[Quantity Sold]]),0)","v":0}]
[null,null,null,null,null,null,null,null,0,0,0,null,null,null,0,{"$f":"IF(Inventory[[#This Row],[Item SKU/ID]]=\"\",0,SUMPRODUCT((Quantity_Sold_1=Inventory[[#This Row],[Item SKU/ID]])*Net_Profit))","v":0},{"$f":"IFERROR(AVERAGE(Inventory[[#This Row],[Total Net Profit]]/Inventory[[#This Row],[Quantity Sold]]),0)","v":0}]
[null,null,null,null,null,null,null,null,0,0,0,null,null,null,0,{"$f":"IF(Inventory[[#This Row],[Item SKU/ID]]=\"\",0,SUMPRODUCT((Quantity_Sold_1=Inventory[[#This Row],[Item SKU/ID]])*Net_Profit))","v":0},{"$f":"IFERROR(AVERAGE(Inventory[[#This Row],[Total Net Profit]]/Inventory[[#This Row],[Quantity Sold]]),0)","v":0}]
[null,null,null,null,null,null,null,null,0,0,0,null,null,null,0,{"$f":"IF(Inventory[[#This Row],[Item SKU/ID]]=\"\",0,SUMPRODUCT((Quantity_Sold_1=Inventory[[#This Row],[Item SKU/ID]])*Net_Profit))","v":0},{"$f":"IFERROR(AVERAGE(Inventory[[#This Row],[Total Net Profit]]/Inventory[[#This Row],[Quantity Sold]]),0)","v":0}]
[null,null,null,null,null,null,null,null,0,0,0,null,null,null,0,{"$f":"IF(Inventory[[#This Row],[Item SKU/ID]]=\"\",0,SUMPRODUCT((Quantity_Sold_1=Inventory[[#This Row],[Item SKU/ID]])*Net_Profit))","v":0},{"$f":"IFERROR(AVERAGE(Inventory[[#This Row],[Total Net Profit]]/Inventory[[#This Row],[Quantity Sold]]),0)","v":0}]
[null,null,null,null,null,null,null,null,{"$f":"K3524*H3524","v":0},{"$f":"IF(F3524=\"\",0,SUMPRODUCT((Quantity_Sold_1=F3524)*Quantity_Sold_2))","v":0},{"$f":"G3524-J3524","v":0},null,null,null,{"$f":"K3524*H3524","v":0},{"$f":"IF(Inventory[[#This Row],[Item SKU/ID]]=\"\",0,SUMPRODUCT((Quantity_Sold_1=Inventory[[#This Row],[Item SKU/ID]])*Net_Profit))","v":0},{"$f":"IFERROR(AVERAGE(Inventory[[#This Row],[Total Net Profit]]/Inventory[[#This Row],[Quantity Sold]]),0)","v":0}]
[null,null,null,null,null,null,null,null,0,0,0,null,null,null,0,{"$f":"IF(Inventory[[#This Row],[Item SKU/ID]]=\"\",0,SUMPRODUCT((Quantity_Sold_1=Inventory[[#This Row],[Item SKU/ID]])*Net_Profit))","v":0},{"$f":"IFERROR(AVERAGE(Inventory[[#This Row],[Total Net Profit]]/Inventory[[#This Row],[Quantity Sold]]),0)","v":0}]
[null,null,null,null,null,null,null,null,0,0,0,null,null,null,0,{"$f":"IF(Inventory[[#This Row],[Item SKU/ID]]=\"\",0,SUMPRODUCT((Quantity_Sold_1=Inventory[[#This Row],[Item SKU/ID]])*Net_Profit))","v":0},{"$f":"IFERROR(AVERAGE(Inventory[[#This Row],[Total Net Profit]]/Inventory[[#This Row],[Quantity Sold]]),0)","v":0}]
[null,null,null,null,null,null,null,null,0,0,0,null,null,null,0,{"$f":"IF(Inventory[[#This Row],[Item SKU/ID]]=\"\",0,SUMPRODUCT((Quantity_Sold_1=Inventory[[#This Row],[Item SKU/ID]])*Net_Profit))","v":0},{"$f":"IFERROR(AVERAGE(Inventory[[#This Row],[Total Net Profit]]/Inventory[[#This Row],[Quantity Sold]]),0)","v":0}]
[null,null,null,null,null,null,null,null,0,0,0,null,null,null,0,{"$f":"IF(Inventory[[#This Row],[Item SKU/ID]]=\"\",0,SUMPRODUCT((Quantity_Sold_1=Inventory[[#This Row],[Item SKU/ID]])*Net_Profit))","v":0},{"$f":"IFERROR(AVERAGE(Inventory[[#This Row],[Total Net Profit]]/Inventory[[#This Row],[Quantity Sold]]),0)","v":0}]
[null,null,null,null,null,null,null,null,0,0,0,null,null,null,0,{"$f":"IF(Inventory[[#This Row],[Item SKU/ID]]=\"\",0,SUMPRODUCT((Quantity_Sold_1=Inventory[[#This Row],[Item SKU/ID]])*Net_Profit))","v":0},{"$f":"IFERROR(AVERAGE(Inventory[[#This Row],[Total Net Profit]]/Inventory[[#This Row],[Quantity Sold]]),0)","v":0}]
[null,null,null,null,null,null,null,null,0,0,0,null,null,null,0,{"$f":"IF(Inventory[[#This Row],[Item SKU/ID]]=\"\",0,SUMPRODUCT((Quantity_Sold_1=Inventory[[#This Row],[Item SKU/ID]])*Net_Profit))","v":0},{"$f":"IFERROR(AVERAGE(Inventory[[#This Row],[Total Net Profit]]/Inventory[[#This Row],[Quantity Sold]]),0)","v":0}]
[null,null,null,null,null,null,null,null,0,0,0,null,null,null,0,{"$f":"IF(Inventory[[#This Row],[Item SKU/ID]]=\"\",0,SUMPRODUCT((Quantity_Sold_1=Inventory[[#This Row],[Item SKU/ID]])*Net_Profit))","v":0},{"$f":"IFERROR(AVERAGE(Inventory[[#This Row],[Total Net Profit]]/Inventory[[#This Row],[Quantity Sold]]),0)","v":0}]
[null,null,null,null,null,null,null,null,0,0,0,null,null,null,0,{"$f":"IF(Inventory[[#This Row],[Item SKU/ID]]=\"\",0,SUMPRODUCT((Quantity_Sold_1=Inventory[[#This Row],[Item SKU/ID]])*Net_Profit))","v":0},{"$f":"IFERROR(AVERAGE(Inventory[[#This Row],[Total Net Profit]]/Inventory[[#This Row],[Quantity Sold]]),0)","v":0}]
[null,null,null,null,null,null,null,null,0,0,0,null,null,null,0,{"$f":"IF(Inventory[[#This Row],[Item SKU/ID]]=\"\",0,SUMPRODUCT((Quantity_Sold_1=Inventory[[#This Row],[Item SKU/ID]])*Net_Profit))","v":0},{"$f":"IFERROR(AVERAGE(Inventory[[#This Row],[Total Net Profit]]/Inventory[[#This Row],[Quantity Sold]]),0)","v":0}]
[null,null,null,null,null,null,null,null,0,0,0,null,null,null,0,{"$f":"IF(Inventory[[#This Row],[Item SKU/ID]]=\"\",0,SUMPRODUCT((Quantity_Sold_1=Inventory[[#This Row],[Item SKU/ID]])*Net_Profit))","v":0},{"$f":"IFERROR(AVERAGE(Inventory[[#This Row],[Total Net Profit]]/Inventory[[#This Row],[Quantity Sold]]),0)","v":0}]
[null,null,null,null,null,null,null,null,0,0,0,null,null,null,0,{"$f":"IF(Inventory[[#This Row],[Item SKU/ID]]=\"\",0,SUMPRODUCT((Quantity_Sold_1=Inventory[[#This Row],[Item SKU/ID]])*Net_Profit))","v":0},{"$f":"IFERROR(AVERAGE(Inventory[[#This Row],[Total Net Profit]]/Inventory[[#This Row],[Quantity Sold]]),0)","v":0}]
[null,null,null,null,null,null,null,null,0,0,0,null,null,null,0,{"$f":"IF(Inventory[[#This Row],[Item SKU/ID]]=\"\",0,SUMPRODUCT((Quantity_Sold_1=Inventory[[#This Row],[Item SKU/ID]])*Net_Profit))","v":0},{"$f":"IFERROR(AVERAGE(Inventory[[#This Row],[Total Net Profit]]/Inventory[[#This Row],[Quantity Sold]]),0)","v":0}]
[null,null,null,null,null,null,null,null,0,0,0,null,null,null,0,{"$f":"IF(Inventory[[#This Row],[Item SKU/ID]]=\"\",0,SUMPRODUCT((Quantity_Sold_1=Inventory[[#This Row],[Item SKU/ID]])*Net_Profit))","v":0},{"$f":"IFERROR(AVERAGE(Inventory[[#This Row],[Total Net Profit]]/Inventory[[#This Row],[Quantity Sold]]),0)","v":0}]
[null,null,null,null,null,null,null,null,0,0,0,null,null,null,0,{"$f":"IF(Inventory[[#This Row],[Item SKU/ID]]=\"\",0,SUMPRODUCT((Quantity_Sold_1=Inventory[[#This Row],[Item SKU/ID]])*Net_Profit))","v":0},{"$f":"IFERROR(AVERAGE(Inventory[[#This Row],[Total Net Profit]]/Inventory[[#This Row],[Quantity Sold]]),0)","v":0}]
[null,null,null,null,null,null,null,null,0,0,0,null,null,null,0,{"$f":"IF(Inventory[[#This Row],[Item SKU/ID]]=\"\",0,SUMPRODUCT((Quantity_Sold_1=Inventory[[#This Row],[Item SKU/ID]])*Net_Profit))","v":0},{"$f":"IFERROR(AVERAGE(Inventory[[#This Row],[Total Net Profit]]/Inventory[[#This Row],[Quantity Sold]]),0)","v":0}]
[null,null,null,null,null,null,null,null,0,0,0,null,null,null,0,{"$f":"IF(Inventory[[#This Row],[Item SKU/ID]]=\"\",0,SUMPRODUCT((Quantity_Sold_1=Inventory[[#This Row],[Item SKU/ID]])*Net_Profit))","v":0},{"$f":"IFERROR(AVERAGE(Inventory[[#This Row],[Total Net Profit]]/Inventory[[#This Row],[Quantity Sold]]),0)","v":0}]
[null,null,null,null,null,null,null,null,0,0,0,null,null,null,0,{"$f":"IF(Inventory[[#This Row],[Item SKU/ID]]=\"\",0,SUMPRODUCT((Quantity_Sold_1=Inventory[[#This Row],[Item SKU/ID]])*Net_Profit))","v":0},{"$f":"IFERROR(AVERAGE(Inventory[[#This Row],[Total Net Profit]]/Inventory[[#This Row],[Quantity Sold]]),0)","v":0}]
[null,null,null,null,null,null,null,null,0,0,0,null,null,null,0,{"$f":"IF(Inventory[[#This Row],[Item SKU/ID]]=\"\",0,SUMPRODUCT((Quantity_Sold_1=Inventory[[#This Row],[Item SKU/ID]])*Net_Profit))","v":0},{"$f":"IFERROR(AVERAGE(Inventory[[#This Row],[Total Net Profit]]/Inventory[[#This Row],[Quantity Sold]]),0)","v":0}]
[null,null,null,null,null,null,null,null,0,0,0,null,null,null,0,{"$f":"IF(Inventory[[#This Row],[Item SKU/ID]]=\"\",0,SUMPRODUCT((Quantity_Sold_1=Inventory[[#This Row],[Item SKU/ID]])*Net_Profit))","v":0},{"$f":"IFERROR(AVERAGE(Inventory[[#This Row],[Total Net Profit]]/Inventory[[#This Row],[Quantity Sold]]),0)","v":0}]
[null,null,null,null,null,null,null,null,0,0,0,null,null,null,0,{"$f":"IF(Inventory[[#This Row],[Item SKU/ID]]=\"\",0,SUMPRODUCT((Quantity_Sold_1=Inventory[[#This Row],[Item SKU/ID]])*Net_Profit))","v":0},{"$f":"IFERROR(AVERAGE(Inventory[[#This Row],[Total Net Profit]]/Inventory[[#This Row],[Quantity Sold]]),0)","v":0}]
[null,null,null,null,null,null,null,null,0,0,0,null,null,null,0,{"$f":"IF(Inventory[[#This Row],[Item SKU/ID]]=\"\",0,SUMPRODUCT((Quantity_Sold_1=Inventory[[#This Row],[Item SKU/ID]])*Net_Profit))","v":0},{"$f":"IFERROR(AVERAGE(Inventory[[#This Row],[Total Net Profit]]/Inventory[[#This Row],[Quantity Sold]]),0)","v":0}]
[null,null,null,null,null,null,null,null,0,0,0,null,null,null,0,{"$f":"IF(Inventory[[#This Row],[Item SKU/ID]]=\"\",0,SUMPRODUCT((Quantity_Sold_1=Inventory[[#This Row],[Item SKU/ID]])*Net_Profit))","v":0},{"$f":"IFERROR(AVERAGE(Inventory[[#This Row],[Total Net Profit]]/Inventory[[#This Row],[Quantity Sold]]),0)","v":0}]
[null,null,null,null,null,null,null,null,0,0,0,null,null,null,0,{"$f":"IF(Inventory[[#This Row],[Item SKU/ID]]=\"\",0,SUMPRODUCT((Quantity_Sold_1=Inventory[[#This Row],[Item SKU/ID]])*Net_Profit))","v":0},{"$f":"IFERROR(AVERAGE(Inventory[[#This Row],[Total Net Profit]]/Inventory[[#This Row],[Quantity Sold]]),0)","v":0}]
[null,null,null,null,null,null,null,null,0,0,0,null,null,null,0,{"$f":"IF(Inventory[[#This Row],[Item SKU/ID]]=\"\",0,SUMPRODUCT((Quantity_Sold_1=Inventory[[#This Row],[Item SKU/ID]])*Net_Profit))","v":0},{"$f":"IFERROR(AVERAGE(Inventory[[#This Row],[Total Net Profit]]/Inventory[[#This Row],[Quantity Sold]]),0)","v":0}]
[null,null,null,null,null,null,null,null,0,0,0,null,null,null,0,{"$f":"IF(Inventory[[#This Row],[Item SKU/ID]]=\"\",0,SUMPRODUCT((Quantity_Sold_1=Inventory[[#This Row],[Item SKU/ID]])*Net_Profit))","v":0},{"$f":"IFERROR(AVERAGE(Inventory[[#This Row],[Total Net Profit]]/Inventory[[#This Row],[Quantity Sold]]),0)","v":0}]
[null,null,null,null,null,null,null,null,0,0,0,null,null,null,0,{"$f":"IF(Inventory[[#This Row],[Item SKU/ID]]=\"\",0,SUMPRODUCT((Quantity_Sold_1=Inventory[[#This Row],[Item SKU/ID]])*Net_Profit))","v":0},{"$f":"IFERROR(AVERAGE(Inventory[[#This Row],[Total Net Profit]]/Inventory[[#This Row],[Quantity Sold]]),0)","v":0}]
[null,null,null,null,null,null,null,null,0,0,0,null,null,null,0,{"$f":"IF(Inventory[[#This Row],[Item SKU/ID]]=\"\",0,SUMPRODUCT((Quantity_Sold_1=Inventory[[#This Row],[Item SKU/ID]])*Net_Profit))","v":0},{"$f":"IFERROR(AVERAGE(Inventory[[#This Row],[Total Net Profit]]/Inventory[[#This Row],[Quantity Sold]]),0)","v":0}]
[null,null,null,null,null,null,null,null,0,0,0,null,null,null,0,{"$f":"IF(Inventory[[#This Row],[Item SKU/ID]]=\"\",0,SUMPRODUCT((Quantity_Sold_1=Inventory[[#This Row],[Item SKU/ID]])*Net_Profit))","v":0},{"$f":"IFERROR(AVERAGE(Inventory[[#This Row],[Total Net Profit]]/Inventory[[#This Row],[Quantity Sold]]),0)","v":0}]
[null,null,null,null,null,null,null,null,0,0,0,null,null,null,0,{"$f":"IF(Inventory[[#This Row],[Item SKU/ID]]=\"\",0,SUMPRODUCT((Quantity_Sold_1=Inventory[[#This Row],[Item SKU/ID]])*Net_Profit))","v":0},{"$f":"IFERROR(AVERAGE(Inventory[[#This Row],[Total Net Profit]]/Inventory[[#This Row],[Quantity Sold]]),0)","v":0}]
[null,null,null,null,null,null,null,null,0,0,0,null,null,null,0,{"$f":"IF(Inventory[[#This Row],[Item SKU/ID]]=\"\",0,SUMPRODUCT((Quantity_Sold_1=Inventory[[#This Row],[Item SKU/ID]])*Net_Profit))","v":0},{"$f":"IFERROR(AVERAGE(Inventory[[#This Row],[Total Net Profit]]/Inventory[[#This Row],[Quantity Sold]]),0)","v":0}]
[null,null,null,null,null,null,null,null,0,0,0,null,null,null,0,{"$f":"IF(Inventory[[#This Row],[Item SKU/ID]]=\"\",0,SUMPRODUCT((Quantity_Sold_1=Inventory[[#This Row],[Item SKU/ID]])*Net_Profit))","v":0},{"$f":"IFERROR(AVERAGE(Inventory[[#This Row],[Total Net Profit]]/Inventory[[#This Row],[Quantity Sold]]),0)","v":0}]
[null,null,null,null,null,null,null,null,0,0,0,null,null,null,0,{"$f":"IF(Inventory[[#This Row],[Item SKU/ID]]=\"\",0,SUMPRODUCT((Quantity_Sold_1=Inventory[[#This Row],[Item SKU/ID]])*Net_Profit))","v":0},{"$f":"IFERROR(AVERAGE(Inventory[[#This Row],[Total Net Profit]]/Inventory[[#This Row],[Quantity Sold]]),0)","v":0}]
[null,null,null,null,null,null,null,null,0,0,0,null,null,null,0,{"$f":"IF(Inventory[[#This Row],[Item SKU/ID]]=\"\",0,SUMPRODUCT((Quantity_Sold_1=Inventory[[#This Row],[Item SKU/ID]])*Net_Profit))","v":0},{"$f":"IFERROR(AVERAGE(Inventory[[#This Row],[Total Net Profit]]/Inventory[[#This Row],[Quantity Sold]]),0)","v":0}]
[null,null,null,null,null,null,null,null,0,0,0,null,null,null,0,{"$f":"IF(Inventory[[#This Row],[Item SKU/ID]]=\"\",0,SUMPRODUCT((Quantity_Sold_1=Inventory[[#This Row],[Item SKU/ID]])*Net_Profit))","v":0},{"$f":"IFERROR(AVERAGE(Inventory[[#This Row],[Total Net Profit]]/Inventory[[#This Row],[Quantity Sold]]),0)","v":0}]
[null,null,null,null,null,null,null,null,0,0,0,null,null,null,0,{"$f":"IF(Inventory[[#This Row],[Item SKU/ID]]=\"\",0,SUMPRODUCT((Quantity_Sold_1=Inventory[[#This Row],[Item SKU/ID]])*Net_Profit))","v":0},{"$f":"IFERROR(AVERAGE(Inventory[[#This Row],[Total Net Profit]]/Inventory[[#This Row],[Quantity Sold]]),0)","v":0}]
[null,null,null,null,null,null,null,null,0,0,0,null,null,null,0,{"$f":"IF(Inventory[[#This Row],[Item SKU/ID]]=\"\",0,SUMPRODUCT((Quantity_Sold_1=Inventory[[#This Row],[Item SKU/ID]])*Net_Profit))","v":0},{"$f":"IFERROR(AVERAGE(Inventory[[#This Row],[Total Net Profit]]/Inventory[[#This Row],[Quantity Sold]]),0)","v":0}]
[null,null,null,null,null,null,null,null,0,0,0,null,null,null,0,{"$f":"IF(Inventory[[#This Row],[Item SKU/ID]]=\"\",0,SUMPRODUCT((Quantity_Sold_1=Inventory[[#This Row],[Item SKU/ID]])*Net_Profit))","v":0},{"$f":"IFERROR(AVERAGE(Inventory[[#This Row],[Total Net Profit]]/Inventory[[#This Row],[Quantity Sold]]),0)","v":0}]
[null,null,null,null,null,null,null,null,0,0,0,null,null,null,0,{"$f":"IF(Inventory[[#This Row],[Item SKU/ID]]=\"\",0,SUMPRODUCT((Quantity_Sold_1=Inventory[[#This Row],[Item SKU/ID]])*Net_Profit))","v":0},{"$f":"IFERROR(AVERAGE(Inventory[[#This Row],[Total Net Profit]]/Inventory[[#This Row],[Quantity Sold]]),0)","v":0}]
[null,null,null,null,null,null,null,null,0,0,0,null,null,null,0,{"$f":"IF(Inventory[[#This Row],[Item SKU/ID]]=\"\",0,SUMPRODUCT((Quantity_Sold_1=Inventory[[#This Row],[Item SKU/ID]])*Net_Profit))","v":0},{"$f":"IFERROR(AVERAGE(Inventory[[#This Row],[Total Net Profit]]/Inventory[[#This Row],[Quantity Sold]]),0)","v":0}]
[null,null,null,null,null,null,null,null,0,0,0,null,null,null,0,{"$f":"IF(Inventory[[#This Row],[Item SKU/ID]]=\"\",0,SUMPRODUCT((Quantity_Sold_1=Inventory[[#This Row],[Item SKU/ID]])*Net_Profit))","v":0},{"$f":"IFERROR(AVERAGE(Inventory[[#This Row],[Total Net Profit]]/Inventory[[#This Row],[Quantity Sold]]),0)","v":0}]
[null,null,null,null,null,null,null,null,0,0,0,null,null,null,0,{"$f":"IF(Inventory[[#This Row],[Item SKU/ID]]=\"\",0,SUMPRODUCT((Quantity_Sold_1=Inventory[[#This Row],[Item SKU/ID]])*Net_Profit))","v":0},{"$f":"IFERROR(AVERAGE(Inventory[[#This Row],[Total Net Profit]]/Inventory[[#This Row],[Quantity Sold]]),0)","v":0}]
[null,null,null,null,null,null,null,null,0,0,0,null,null,null,0,{"$f":"IF(Inventory[[#This Row],[Item SKU/ID]]=\"\",0,SUMPRODUCT((Quantity_Sold_1=Inventory[[#This Row],[Item SKU/ID]])*Net_Profit))","v":0},{"$f":"IFERROR(AVERAGE(Inventory[[#This Row],[Total Net Profit]]/Inventory[[#This Row],[Quantity Sold]]),0)","v":0}]
[null,null,null,null,null,null,null,null,0,0,0,null,null,null,0,{"$f":"IF(Inventory[[#This Row],[Item SKU/ID]]=\"\",0,SUMPRODUCT((Quantity_Sold_1=Inventory[[#This Row],[Item SKU/ID]])*Net_Profit))","v":0},{"$f":"IFERROR(AVERAGE(Inventory[[#This Row],[Total Net Profit]]/Inventory[[#This Row],[Quantity Sold]]),0)","v":0}]
[null,null,null,null,null,null,null,null,0,0,0,null,null,null,0,{"$f":"IF(Inventory[[#This Row],[Item SKU/ID]]=\"\",0,SUMPRODUCT((Quantity_Sold_1=Inventory[[#This Row],[Item SKU/ID]])*Net_Profit))","v":0},{"$f":"IFERROR(AVERAGE(Inventory[[#This Row],[Total Net Profit]]/Inventory[[#This Row],[Quantity Sold]]),0)","v":0}]
[null,null,null,null,null,null,null,null,0,0,0,null,null,null,0,{"$f":"IF(Inventory[[#This Row],[Item SKU/ID]]=\"\",0,SUMPRODUCT((Quantity_Sold_1=Inventory[[#This Row],[Item SKU/ID]])*Net_Profit))","v":0},{"$f":"IFERROR(AVERAGE(Inventory[[#This Row],[Total Net Profit]]/Inventory[[#This Row],[Quantity Sold]]),0)","v":0}]
[null,null,null,null,null,null,null,null,0,0,0,null,null,null,0,{"$f":"IF(Inventory[[#This Row],[Item SKU/ID]]=\"\",0,SUMPRODUCT((Quantity_Sold_1=Inventory[[#This Row],[Item SKU/ID]])*Net_Profit))","v":0},{"$f":"IFERROR(AVERAGE(Inventory[[#This Row],[Total Net Profit]]/Inventory[[#This Row],[Quantity Sold]]),0)","v":0}]
[null,null,null,null,null,null,null,null,0,0,0,null,null,null,0,{"$f":"IF(Inventory[[#This Row],[Item SKU/ID]]=\"\",0,SUMPRODUCT((Quantity_Sold_1=Inventory[[#This Row],[Item SKU/ID]])*Net_Profit))","v":0},{"$f":"IFERROR(AVERAGE(Inventory[[#This Row],[Total Net Profit]]/Inventory[[#This Row],[Quantity Sold]]),0)","v":0}]
[null,null,null,null,null,null,null,null,0,0,0,null,null,null,0,{"$f":"IF(Inventory[[#This Row],[Item SKU/ID]]=\"\",0,SUMPRODUCT((Quantity_Sold_1=Inventory[[#This Row],[Item SKU/ID]])*Net_Profit))","v":0},{"$f":"IFERROR(AVERAGE(Inventory[[#This Row],[Total Net Profit]]/Inventory[[#This Row],[Quantity Sold]]),0)","v":0}]
[null,null,null,null,null,null,null,null,0,0,0,null,null,null,0,{"$f":"IF(Inventory[[#This Row],[Item SKU/ID]]=\"\",0,SUMPRODUCT((Quantity_Sold_1=Inventory[[#This Row],[Item SKU/ID]])*Net_Profit))","v":0},{"$f":"IFERROR(AVERAGE(Inventory[[#This Row],[Total Net Profit]]/Inventory[[#This Row],[Quantity Sold]]),0)","v":0}]
[null,null,null,null,null,null,null,null,0,0,0,null,null,null,0,{"$f":"IF(Inventory[[#This Row],[Item SKU/ID]]=\"\",0,SUMPRODUCT((Quantity_Sold_1=Inventory[[#This Row],[Item SKU/ID]])*Net_Profit))","v":0},{"$f":"IFERROR(AVERAGE(Inventory[[#This Row],[Total Net Profit]]/Inventory[[#This Row],[Quantity Sold]]),0)","v":0}]
[null,null,null,null,null,null,null,null,0,0,0,null,null,null,0,{"$f":"IF(Inventory[[#This Row],[Item SKU/ID]]=\"\",0,SUMPRODUCT((Quantity_Sold_1=Inventory[[#This Row],[Item SKU/ID]])*Net_Profit))","v":0},{"$f":"IFERROR(AVERAGE(Inventory[[#This Row],[Total Net Profit]]/Inventory[[#This Row],[Quantity Sold]]),0)","v":0}]
[null,null,null,null,null,null,null,null,0,0,0,null,null,null,0,{"$f":"IF(Inventory[[#This Row],[Item SKU/ID]]=\"\",0,SUMPRODUCT((Quantity_Sold_1=Inventory[[#This Row],[Item SKU/ID]])*Net_Profit))","v":0},{"$f":"IFERROR(AVERAGE(Inventory[[#This Row],[Total Net Profit]]/Inventory[[#This Row],[Quantity Sold]]),0)","v":0}]
[null,null,null,null,null,null,null,null,0,0,0,null,null,null,0,{"$f":"IF(Inventory[[#This Row],[Item SKU/ID]]=\"\",0,SUMPRODUCT((Quantity_Sold_1=Inventory[[#This Row],[Item SKU/ID]])*Net_Profit))","v":0},{"$f":"IFERROR(AVERAGE(Inventory[[#This Row],[Total Net Profit]]/Inventory[[#This Row],[Quantity Sold]]),0)","v":0}]
[null,null,null,null,null,null,null,null,0,0,0,null,null,null,0,{"$f":"IF(Inventory[[#This Row],[Item SKU/ID]]=\"\",0,SUMPRODUCT((Quantity_Sold_1=Inventory[[#This Row],[Item SKU/ID]])*Net_Profit))","v":0},{"$f":"IFERROR(AVERAGE(Inventory[[#This Row],[Total Net Profit]]/Inventory[[#This Row],[Quantity Sold]]),0)","v":0}]
[null,null,null,null,null,null,null,null,0,0,0,null,null,null,0,{"$f":"IF(Inventory[[#This Row],[Item SKU/ID]]=\"\",0,SUMPRODUCT((Quantity_Sold_1=Inventory[[#This Row],[Item SKU/ID]])*Net_Profit))","v":0},{"$f":"IFERROR(AVERAGE(Inventory[[#This Row],[Total Net Profit]]/Inventory[[#This Row],[Quantity Sold]]),0)","v":0}]
[null,null,null,null,null,null,null,null,0,0,0,null,null,null,0,{"$f":"IF(Inventory[[#This Row],[Item SKU/ID]]=\"\",0,SUMPRODUCT((Quantity_Sold_1=Inventory[[#This Row],[Item SKU/ID]])*Net_Profit))","v":0},{"$f":"IFERROR(AVERAGE(Inventory[[#This Row],[Total Net Profit]]/Inventory[[#This Row],[Quantity Sold]]),0)","v":0}]
[null,null,null,null,null,null,null,null,0,0,0,null,null,null,0,{"$f":"IF(Inventory[[#This Row],[Item SKU/ID]]=\"\",0,SUMPRODUCT((Quantity_Sold_1=Inventory[[#This Row],[Item SKU/ID]])*Net_Profit))","v":0},{"$f":"IFERROR(AVERAGE(Inventory[[#This Row],[Total Net Profit]]/Inventory[[#This Row],[Quantity Sold]]),0)","v":0}]
[null,null,null,null,null,null,null,null,0,0,0,null,null,null,0,{"$f":"IF(Inventory[[#This Row],[Item SKU/ID]]=\"\",0,SUMPRODUCT((Quantity_Sold_1=Inventory[[#This Row],[Item SKU/ID]])*Net_Profit))","v":0},{"$f":"IFERROR(AVERAGE(Inventory[[#This Row],[Total Net Profit]]/Inventory[[#This Row],[Quantity Sold]]),0)","v":0}]
[null,null,null,null,null,null,null,null,0,0,0,null,null,null,0,{"$f":"IF(Inventory[[#This Row],[Item SKU/ID]]=\"\",0,SUMPRODUCT((Quantity_Sold_1=Inventory[[#This Row],[Item SKU/ID]])*Net_Profit))","v":0},{"$f":"IFERROR(AVERAGE(Inventory[[#This Row],[Total Net Profit]]/Inventory[[#This Row],[Quantity Sold]]),0)","v":0}]
[null,null,null,null,null,null,null,null,0,0,0,null,null,null,0,{"$f":"IF(Inventory[[#This Row],[Item SKU/ID]]=\"\",0,SUMPRODUCT((Quantity_Sold_1=Inventory[[#This Row],[Item SKU/ID]])*Net_Profit))","v":0},{"$f":"IFERROR(AVERAGE(Inventory[[#This Row],[Total Net Profit]]/Inventory[[#This Row],[Quantity Sold]]),0)","v":0}]
[null,null,null,null,null,null,null,null,0,0,0,null,null,null,0,{"$f":"IF(Inventory[[#This Row],[Item SKU/ID]]=\"\",0,SUMPRODUCT((Quantity_Sold_1=Inventory[[#This Row],[Item SKU/ID]])*Net_Profit))","v":0},{"$f":"IFERROR(AVERAGE(Inventory[[#This Row],[Total Net Profit]]/Inventory[[#This Row],[Quantity Sold]]),0)","v":0}]
[null,null,null,null,null,null,null,null,0,0,0,null,null,null,0,{"$f":"IF(Inventory[[#This Row],[Item SKU/ID]]=\"\",0,SUMPRODUCT((Quantity_Sold_1=Inventory[[#This Row],[Item SKU/ID]])*Net_Profit))","v":0},{"$f":"IFERROR(AVERAGE(Inventory[[#This Row],[Total Net Profit]]/Inventory[[#This Row],[Quantity Sold]]),0)","v":0}]
[null,null,null,null,null,null,null,null,0,0,0,null,null,null,0,{"$f":"IF(Inventory[[#This Row],[Item SKU/ID]]=\"\",0,SUMPRODUCT((Quantity_Sold_1=Inventory[[#This Row],[Item SKU/ID]])*Net_Profit))","v":0},{"$f":"IFERROR(AVERAGE(Inventory[[#This Row],[Total Net Profit]]/Inventory[[#This Row],[Quantity Sold]]),0)","v":0}]
[null,null,null,null,null,null,null,null,{"$f":"K3588*H3588","v":0},{"$f":"IF(F3588=\"\",0,SUMPRODUCT((Quantity_Sold_1=F3588)*Quantity_Sold_2))","v":0},{"$f":"G3588-J3588","v":0},null,null,null,{"$f":"K3588*H3588","v":0},{"$f":"IF(Inventory[[#This Row],[Item SKU/ID]]=\"\",0,SUMPRODUCT((Quantity_Sold_1=Inventory[[#This Row],[Item SKU/ID]])*Net_Profit))","v":0},{"$f":"IFERROR(AVERAGE(Inventory[[#This Row],[Total Net Profit]]/Inventory[[#This Row],[Quantity Sold]]),0)","v":0}]
[null,null,null,null,null,null,null,null,0,0,0,null,null,null,0,{"$f":"IF(Inventory[[#This Row],[Item SKU/ID]]=\"\",0,SUMPRODUCT((Quantity_Sold_1=Inventory[[#This Row],[Item SKU/ID]])*Net_Profit))","v":0},{"$f":"IFERROR(AVERAGE(Inventory[[#This Row],[Total Net Profit]]/Inventory[[#This Row],[Quantity Sold]]),0)","v":0}]
[null,null,null,null,null,null,null,null,0,0,0,null,null,null,0,{"$f":"IF(Inventory[[#This Row],[Item SKU/ID]]=\"\",0,SUMPRODUCT((Quantity_Sold_1=Inventory[[#This Row],[Item SKU/ID]])*Net_Profit))","v":0},{"$f":"IFERROR(AVERAGE(Inventory[[#This Row],[Total Net Profit]]/Inventory[[#This Row],[Quantity Sold]]),0)","v":0}]
[null,null,null,null,null,null,null,null,0,0,0,null,null,null,0,{"$f":"IF(Inventory[[#This Row],[Item SKU/ID]]=\"\",0,SUMPRODUCT((Quantity_Sold_1=Inventory[[#This Row],[Item SKU/ID]])*Net_Profit))","v":0},{"$f":"IFERROR(AVERAGE(Inventory[[#This Row],[Total Net Profit]]/Inventory[[#This Row],[Quantity Sold]]),0)","v":0}]
[null,null,null,null,null,null,null,null,0,0,0,null,null,null,0,{"$f":"IF(Inventory[[#This Row],[Item SKU/ID]]=\"\",0,SUMPRODUCT((Quantity_Sold_1=Inventory[[#This Row],[Item SKU/ID]])*Net_Profit))","v":0},{"$f":"IFERROR(AVERAGE(Inventory[[#This Row],[Total Net Profit]]/Inventory[[#This Row],[Quantity Sold]]),0)","v":0}]
[null,null,null,null,null,null,null,null,0,0,0,null,null,null,0,{"$f":"IF(Inventory[[#This Row],[Item SKU/ID]]=\"\",0,SUMPRODUCT((Quantity_Sold_1=Inventory[[#This Row],[Item SKU/ID]])*Net_Profit))","v":0},{"$f":"IFERROR(AVERAGE(Inventory[[#This Row],[Total Net Profit]]/Inventory[[#This Row],[Quantity Sold]]),0)","v":0}]
[null,null,null,null,null,null,null,null,0,0,0,null,null,null,0,{"$f":"IF(Inventory[[#This Row],[Item SKU/ID]]=\"\",0,SUMPRODUCT((Quantity_Sold_1=Inventory[[#This Row],[Item SKU/ID]])*Net_Profit))","v":0},{"$f":"IFERROR(AVERAGE(Inventory[[#This Row],[Total Net Profit]]/Inventory[[#This Row],[Quantity Sold]]),0)","v":0}]
[null,null,null,null,null,null,null,null,0,0,0,null,null,null,0,{"$f":"IF(Inventory[[#This Row],[Item SKU/ID]]=\"\",0,SUMPRODUCT((Quantity_Sold_1=Inventory[[#This Row],[Item SKU/ID]])*Net_Profit))","v":0},{"$f":"IFERROR(AVERAGE(Inventory[[#This Row],[Total Net Profit]]/Inventory[[#This Row],[Quantity Sold]]),0)","v":0}]
[null,null,null,null,null,null,null,null,0,0,0,null,null,null,0,{"$f":"IF(Inventory[[#This Row],[Item SKU/ID]]=\"\",0,SUMPRODUCT((Quantity_Sold_1=Inventory[[#This Row],[Item SKU/ID]])*Net_Profit))","v":0},{"$f":"IFERROR(AVERAGE(Inventory[[#This Row],[Total Net Profit]]/Inventory[[#This Row],[Quantity Sold]]),0)","v":0}]
[null,null,null,null,null,null,null,null,0,0,0,null,null,null,0,{"$f":"IF(Inventory[[#This Row],[Item SKU/ID]]=\"\",0,SUMPRODUCT((Quantity_Sold_1=Inventory[[#This Row],[Item SKU/ID]])*Net_Profit))","v":0},{"$f":"IFERROR(AVERAGE(Inventory[[#This Row],[Total Net Profit]]/Inventory[[#This Row],[Quantity Sold]]),0)","v":0}]
[null,null,null,null,null,null,null,null,0,0,0,null,null,null,0,{"$f":"IF(Inventory[[#This Row],[Item SKU/ID]]=\"\",0,SUMPRODUCT((Quantity_Sold_1=Inventory[[#This Row],[Item SKU/ID]])*Net_Profit))","v":0},{"$f":"IFERROR(AVERAGE(Inventory[[#This Row],[Total Net Profit]]/Inventory[[#This Row],[Quantity Sold]]),0)","v":0}]
[null,null,null,null,null,null,null,null,0,0,0,null,null,null,0,{"$f":"IF(Inventory[[#This Row],[Item SKU/ID]]=\"\",0,SUMPRODUCT((Quantity_Sold_1=Inventory[[#This Row],[Item SKU/ID]])*Net_Profit))","v":0},{"$f":"IFERROR(AVERAGE(Inventory[[#This Row],[Total Net Profit]]/Inventory[[#This Row],[Quantity Sold]]),0)","v":0}]
[null,null,null,null,null,null,null,null,0,0,0,null,null,null,0,{"$f":"IF(Inventory[[#This Row],[Item SKU/ID]]=\"\",0,SUMPRODUCT((Quantity_Sold_1=Inventory[[#This Row],[Item SKU/ID]])*Net_Profit))","v":0},{"$f":"IFERROR(AVERAGE(Inventory[[#This Row],[Total Net Profit]]/Inventory[[#This Row],[Quantity Sold]]),0)","v":0}]
[null,null,null,null,null,null,null,null,0,0,0,null,null,null,0,{"$f":"IF(Inventory[[#This Row],[Item SKU/ID]]=\"\",0,SUMPRODUCT((Quantity_Sold_1=Inventory[[#This Row],[Item SKU/ID]])*Net_Profit))","v":0},{"$f":"IFERROR(AVERAGE(Inventory[[#This Row],[Total Net Profit]]/Inventory[[#This Row],[Quantity Sold]]),0)","v":0}]
[null,null,null,null,null,null,null,null,0,0,0,null,null,null,0,{"$f":"IF(Inventory[[#This Row],[Item SKU/ID]]=\"\",0,SUMPRODUCT((Quantity_Sold_1=Inventory[[#This Row],[Item SKU/ID]])*Net_Profit))","v":0},{"$f":"IFERROR(AVERAGE(Inventory[[#This Row],[Total Net Profit]]/Inventory[[#This Row],[Quantity Sold]]),0)","v":0}]
[null,null,null,null,null,null,null,null,0,0,0,null,null,null,0,{"$f":"IF(Inventory[[#This Row],[Item SKU/ID]]=\"\",0,SUMPRODUCT((Quantity_Sold_1=Inventory[[#This Row],[Item SKU/ID]])*Net_Profit))","v":0},{"$f":"IFERROR(AVERAGE(Inventory[[#This Row],[Total Net Profit]]/Inventory[[#This Row],[Quantity Sold]]),0)","v":0}]
[null,null,null,null,null,null,null,null,0,0,0,null,null,null,0,{"$f":"IF(Inventory[[#This Row],[Item SKU/ID]]=\"\",0,SUMPRODUCT((Quantity_Sold_1=Inventory[[#This Row],[Item SKU/ID]])*Net_Profit))","v":0},{"$f":"IFERROR(AVERAGE(Inventory[[#This Row],[Total Net Profit]]/Inventory[[#This Row],[Quantity Sold]]),0)","v":0}]
[null,null,null,null,null,null,null,null,0,0,0,null,null,null,0,{"$f":"IF(Inventory[[#This Row],[Item SKU/ID]]=\"\",0,SUMPRODUCT((Quantity_Sold_1=Inventory[[#This Row],[Item SKU/ID]])*Net_Profit))","v":0},{"$f":"IFERROR(AVERAGE(Inventory[[#This Row],[Total Net Profit]]/Inventory[[#This Row],[Quantity Sold]]),0)","v":0}]
[null,null,null,null,null,null,null,null,0,0,0,null,null,null,0,{"$f":"IF(Inventory[[#This Row],[Item SKU/ID]]=\"\",0,SUMPRODUCT((Quantity_Sold_1=Inventory[[#This Row],[Item SKU/ID]])*Net_Profit))","v":0},{"$f":"IFERROR(AVERAGE(Inventory[[#This Row],[Total Net Profit]]/Inventory[[#This Row],[Quantity Sold]]),0)","v":0}]
[null,null,null,null,null,null,null,null,0,0,0,null,null,null,0,{"$f":"IF(Inventory[[#This Row],[Item SKU/ID]]=\"\",0,SUMPRODUCT((Quantity_Sold_1=Inventory[[#This Row],[Item SKU/ID]])*Net_Profit))","v":0},{"$f":"IFERROR(AVERAGE(Inventory[[#This Row],[Total Net Profit]]/Inventory[[#This Row],[Quantity Sold]]),0)","v":0}]
[null,null,null,null,null,null,null,null,0,0,0,null,null,null,0,{"$f":"IF(Inventory[[#This Row],[Item SKU/ID]]=\"\",0,SUMPRODUCT((Quantity_Sold_1=Inventory[[#This Row],[Item SKU/ID]])*Net_Profit))","v":0},{"$f":"IFERROR(AVERAGE(Inventory[[#This Row],[Total Net Profit]]/Inventory[[#This Row],[Quantity Sold]]),0)","v":0}]
[null,null,null,null,null,null,null,null,0,0,0,null,null,null,0,{"$f":"IF(Inventory[[#This Row],[Item SKU/ID]]=\"\",0,SUMPRODUCT((Quantity_Sold_1=Inventory[[#This Row],[Item SKU/ID]])*Net_Profit))","v":0},{"$f":"IFERROR(AVERAGE(Inventory[[#This Row],[Total Net Profit]]/Inventory[[#This Row],[Quantity Sold]]),0)","v":0}]
[null,null,null,null,null,null,null,null,0,0,0,null,null,null,0,{"$f":"IF(Inventory[[#This Row],[Item SKU/ID]]=\"\",0,SUMPRODUCT((Quantity_Sold_1=Inventory[[#This Row],[Item SKU/ID]])*Net_Profit))","v":0},{"$f":"IFERROR(AVERAGE(Inventory[[#This Row],[Total Net Profit]]/Inventory[[#This Row],[Quantity Sold]]),0)","v":0}]
[null,null,null,null,null,null,null,null,0,0,0,null,null,null,0,{"$f":"IF(Inventory[[#This Row],[Item SKU/ID]]=\"\",0,SUMPRODUCT((Quantity_Sold_1=Inventory[[#This Row],[Item SKU/ID]])*Net_Profit))","v":0},{"$f":"IFERROR(AVERAGE(Inventory[[#This Row],[Total Net Profit]]/Inventory[[#This Row],[Quantity Sold]]),0)","v":0}]
[null,null,null,null,null,null,null,null,0,0,0,null,null,null,0,{"$f":"IF(Inventory[[#This Row],[Item SKU/ID]]=\"\",0,SUMPRODUCT((Quantity_Sold_1=Inventory[[#This Row],[Item SKU/ID]])*Net_Profit))","v":0},{"$f":"IFERROR(AVERAGE(Inventory[[#This Row],[Total Net Profit]]/Inventory[[#This Row],[Quantity Sold]]),0)","v":0}]
[null,null,null,null,null,null,null,null,0,0,0,null,null,null,0,{"$f":"IF(Inventory[[#This Row],[Item SKU/ID]]=\"\",0,SUMPRODUCT((Quantity_Sold_1=Inventory[[#This Row],[Item SKU/ID]])*Net_Profit))","v":0},{"$f":"IFERROR(AVERAGE(Inventory[[#This Row],[Total Net Profit]]/Inventory[[#This Row],[Quantity Sold]]),0)","v":0}]
[null,null,null,null,null,null,null,null,0,0,0,null,null,null,0,{"$f":"IF(Inventory[[#This Row],[Item SKU/ID]]=\"\",0,SUMPRODUCT((Quantity_Sold_1=Inventory[[#This Row],[Item SKU/ID]])*Net_Profit))","v":0},{"$f":"IFERROR(AVERAGE(Inventory[[#This Row],[Total Net Profit]]/Inventory[[#This Row],[Quantity Sold]]),0)","v":0}]
[null,null,null,null,null,null,null,null,0,0,0,null,null,null,0,{"$f":"IF(Inventory[[#This Row],[Item SKU/ID]]=\"\",0,SUMPRODUCT((Quantity_Sold_1=Inventory[[#This Row],[Item SKU/ID]])*Net_Profit))","v":0},{"$f":"IFERROR(AVERAGE(Inventory[[#This Row],[Total Net Profit]]/Inventory[[#This Row],[Quantity Sold]]),0)","v":0}]
[null,null,null,null,null,null,null,null,0,0,0,null,null,null,0,{"$f":"IF(Inventory[[#This Row],[Item SKU/ID]]=\"\",0,SUMPRODUCT((Quantity_Sold_1=Inventory[[#This Row],[Item SKU/ID]])*Net_Profit))","v":0},{"$f":"IFERROR(AVERAGE(Inventory[[#This Row],[Total Net Profit]]/Inventory[[#This Row],[Quantity Sold]]),0)","v":0}]
[null,null,null,null,null,null,null,null,0,0,0,null,null,null,0,{"$f":"IF(Inventory[[#This Row],[Item SKU/ID]]=\"\",0,SUMPRODUCT((Quantity_Sold_1=Inventory[[#This Row],[Item SKU/ID]])*Net_Profit))","v":0},{"$f":"IFERROR(AVERAGE(Inventory[[#This Row],[Total Net Profit]]/Inventory[[#This Row],[Quantity Sold]]),0)","v":0}]
[null,null,null,null,null,null,null,null,0,0,0,null,null,null,0,{"$f":"IF(Inventory[[#This Row],[Item SKU/ID]]=\"\",0,SUMPRODUCT((Quantity_Sold_1=Inventory[[#This Row],[Item SKU/ID]])*Net_Profit))","v":0},{"$f":"IFERROR(AVERAGE(Inventory[[#This Row],[Total Net Profit]]/Inventory[[#This Row],[Quantity Sold]]),0)","v":0}]
[null,null,null,null,null,null,null,null,0,0,0,null,null,null,0,{"$f":"IF(Inventory[[#This Row],[Item SKU/ID]]=\"\",0,SUMPRODUCT((Quantity_Sold_1=Inventory[[#This Row],[Item SKU/ID]])*Net_Profit))","v":0},{"$f":"IFERROR(AVERAGE(Inventory[[#This Row],[Total Net Profit]]/Inventory[[#This Row],[Quantity Sold]]),0)","v":0}]
[null,null,null,null,null,null,null,null,0,0,0,null,null,null,0,{"$f":"IF(Inventory[[#This Row],[Item SKU/ID]]=\"\",0,SUMPRODUCT((Quantity_Sold_1=Inventory[[#This Row],[Item SKU/ID]])*Net_Profit))","v":0},{"$f":"IFERROR(AVERAGE(Inventory[[#This Row],[Total Net Profit]]/Inventory[[#This Row],[Quantity Sold]]),0)","v":0}]
[null,null,null,null,null,null,null,null,0,0,0,null,null,null,0,{"$f":"IF(Inventory[[#This Row],[Item SKU/ID]]=\"\",0,SUMPRODUCT((Quantity_Sold_1=Inventory[[#This Row],[Item SKU/ID]])*Net_Profit))","v":0},{"$f":"IFERROR(AVERAGE(Inventory[[#This Row],[Total Net Profit]]/Inventory[[#This Row],[Quantity Sold]]),0)","v":0}]
[null,null,null,null,null,null,null,null,0,0,0,null,null,null,0,{"$f":"IF(Inventory[[#This Row],[Item SKU/ID]]=\"\",0,SUMPRODUCT((Quantity_Sold_1=Inventory[[#This Row],[Item SKU/ID]])*Net_Profit))","v":0},{"$f":"IFERROR(AVERAGE(Inventory[[#This Row],[Total Net Profit]]/Inventory[[#This Row],[Quantity Sold]]),0)","v":0}]
[null,null,null,null,null,null,null,null,0,0,0,null,null,null,0,{"$f":"IF(Inventory[[#This Row],[Item SKU/ID]]=\"\",0,SUMPRODUCT((Quantity_Sold_1=Inventory[[#This Row],[Item SKU/ID]])*Net_Profit))","v":0},{"$f":"IFERROR(AVERAGE(Inventory[[#This Row],[Total Net Profit]]/Inventory[[#This Row],[Quantity Sold]]),0)","v":0}]
[null,null,null,null,null,null,null,null,0,0,0,null,null,null,0,{"$f":"IF(Inventory[[#This Row],[Item SKU/ID]]=\"\",0,SUMPRODUCT((Quantity_Sold_1=Inventory[[#This Row],[Item SKU/ID]])*Net_Profit))","v":0},{"$f":"IFERROR(AVERAGE(Inventory[[#This Row],[Total Net Profit]]/Inventory[[#This Row],[Quantity Sold]]),0)","v":0}]
[null,null,null,null,null,null,null,null,0,0,0,null,null,null,0,{"$f":"IF(Inventory[[#This Row],[Item SKU/ID]]=\"\",0,SUMPRODUCT((Quantity_Sold_1=Inventory[[#This Row],[Item SKU/ID]])*Net_Profit))","v":0},{"$f":"IFERROR(AVERAGE(Inventory[[#This Row],[Total Net Profit]]/Inventory[[#This Row],[Quantity Sold]]),0)","v":0}]
[null,null,null,null,null,null,null,null,0,0,0,null,null,null,0,{"$f":"IF(Inventory[[#This Row],[Item SKU/ID]]=\"\",0,SUMPRODUCT((Quantity_Sold_1=Inventory[[#This Row],[Item SKU/ID]])*Net_Profit))","v":0},{"$f":"IFERROR(AVERAGE(Inventory[[#This Row],[Total Net Profit]]/Inventory[[#This Row],[Quantity Sold]]),0)","v":0}]
[null,null,null,null,null,null,null,null,0,0,0,null,null,null,0,{"$f":"IF(Inventory[[#This Row],[Item SKU/ID]]=\"\",0,SUMPRODUCT((Quantity_Sold_1=Inventory[[#This Row],[Item SKU/ID]])*Net_Profit))","v":0},{"$f":"IFERROR(AVERAGE(Inventory[[#This Row],[Total Net Profit]]/Inventory[[#This Row],[Quantity Sold]]),0)","v":0}]
[null,null,null,null,null,null,null,null,0,0,0,null,null,null,0,{"$f":"IF(Inventory[[#This Row],[Item SKU/ID]]=\"\",0,SUMPRODUCT((Quantity_Sold_1=Inventory[[#This Row],[Item SKU/ID]])*Net_Profit))","v":0},{"$f":"IFERROR(AVERAGE(Inventory[[#This Row],[Total Net Profit]]/Inventory[[#This Row],[Quantity Sold]]),0)","v":0}]
[null,null,null,null,null,null,null,null,0,0,0,null,null,null,0,{"$f":"IF(Inventory[[#This Row],[Item SKU/ID]]=\"\",0,SUMPRODUCT((Quantity_Sold_1=Inventory[[#This Row],[Item SKU/ID]])*Net_Profit))","v":0},{"$f":"IFERROR(AVERAGE(Inventory[[#This Row],[Total Net Profit]]/Inventory[[#This Row],[Quantity Sold]]),0)","v":0}]
[null,null,null,null,null,null,null,null,0,0,0,null,null,null,0,{"$f":"IF(Inventory[[#This Row],[Item SKU/ID]]=\"\",0,SUMPRODUCT((Quantity_Sold_1=Inventory[[#This Row],[Item SKU/ID]])*Net_Profit))","v":0},{"$f":"IFERROR(AVERAGE(Inventory[[#This Row],[Total Net Profit]]/Inventory[[#This Row],[Quantity Sold]]),0)","v":0}]
[null,null,null,null,null,null,null,null,0,0,0,null,null,null,0,{"$f":"IF(Inventory[[#This Row],[Item SKU/ID]]=\"\",0,SUMPRODUCT((Quantity_Sold_1=Inventory[[#This Row],[Item SKU/ID]])*Net_Profit))","v":0},{"$f":"IFERROR(AVERAGE(Inventory[[#This Row],[Total Net Profit]]/Inventory[[#This Row],[Quantity Sold]]),0)","v":0}]
[null,null,null,null,null,null,null,null,0,0,0,null,null,null,0,{"$f":"IF(Inventory[[#This Row],[Item SKU/ID]]=\"\",0,SUMPRODUCT((Quantity_Sold_1=Inventory[[#This Row],[Item SKU/ID]])*Net_Profit))","v":0},{"$f":"IFERROR(AVERAGE(Inventory[[#This Row],[Total Net Profit]]/Inventory[[#This Row],[Quantity Sold]]),0)","v":0}]
[null,null,null,null,null,null,null,null,0,0,0,null,null,null,0,{"$f":"IF(Inventory[[#This Row],[Item SKU/ID]]=\"\",0,SUMPRODUCT((Quantity_Sold_1=Inventory[[#This Row],[Item SKU/ID]])*Net_Profit))","v":0},{"$f":"IFERROR(AVERAGE(Inventory[[#This Row],[Total Net Profit]]/Inventory[[#This Row],[Quantity Sold]]),0)","v":0}]
[null,null,null,null,null,null,null,null,0,0,0,null,null,null,0,{"$f":"IF(Inventory[[#This Row],[Item SKU/ID]]=\"\",0,SUMPRODUCT((Quantity_Sold_1=Inventory[[#This Row],[Item SKU/ID]])*Net_Profit))","v":0},{"$f":"IFERROR(AVERAGE(Inventory[[#This Row],[Total Net Profit]]/Inventory[[#This Row],[Quantity Sold]]),0)","v":0}]
[null,null,null,null,null,null,null,null,0,0,0,null,null,null,0,{"$f":"IF(Inventory[[#This Row],[Item SKU/ID]]=\"\",0,SUMPRODUCT((Quantity_Sold_1=Inventory[[#This Row],[Item SKU/ID]])*Net_Profit))","v":0},{"$f":"IFERROR(AVERAGE(Inventory[[#This Row],[Total Net Profit]]/Inventory[[#This Row],[Quantity Sold]]),0)","v":0}]
[null,null,null,null,null,null,null,null,0,0,0,null,null,null,0,{"$f":"IF(Inventory[[#This Row],[Item SKU/ID]]=\"\",0,SUMPRODUCT((Quantity_Sold_1=Inventory[[#This Row],[Item SKU/ID]])*Net_Profit))","v":0},{"$f":"IFERROR(AVERAGE(Inventory[[#This Row],[Total Net Profit]]/Inventory[[#This Row],[Quantity Sold]]),0)","v":0}]
[null,null,null,null,null,null,null,null,0,0,0,null,null,null,0,{"$f":"IF(Inventory[[#This Row],[Item SKU/ID]]=\"\",0,SUMPRODUCT((Quantity_Sold_1=Inventory[[#This Row],[Item SKU/ID]])*Net_Profit))","v":0},{"$f":"IFERROR(AVERAGE(Inventory[[#This Row],[Total Net Profit]]/Inventory[[#This Row],[Quantity Sold]]),0)","v":0}]
[null,null,null,null,null,null,null,null,0,0,0,null,null,null,0,{"$f":"IF(Inventory[[#This Row],[Item SKU/ID]]=\"\",0,SUMPRODUCT((Quantity_Sold_1=Inventory[[#This Row],[Item SKU/ID]])*Net_Profit))","v":0},{"$f":"IFERROR(AVERAGE(Inventory[[#This Row],[Total Net Profit]]/Inventory[[#This Row],[Quantity Sold]]),0)","v":0}]
[null,null,null,null,null,null,null,null,0,0,0,null,null,null,0,{"$f":"IF(Inventory[[#This Row],[Item SKU/ID]]=\"\",0,SUMPRODUCT((Quantity_Sold_1=Inventory[[#This Row],[Item SKU/ID]])*Net_Profit))","v":0},{"$f":"IFERROR(AVERAGE(Inventory[[#This Row],[Total Net Profit]]/Inventory[[#This Row],[Quantity Sold]]),0)","v":0}]
[null,null,null,null,null,null,null,null,0,0,0,null,null,null,0,{"$f":"IF(Inventory[[#This Row],[Item SKU/ID]]=\"\",0,SUMPRODUCT((Quantity_Sold_1=Inventory[[#This Row],[Item SKU/ID]])*Net_Profit))","v":0},{"$f":"IFERROR(AVERAGE(Inventory[[#This Row],[Total Net Profit]]/Inventory[[#This Row],[Quantity Sold]]),0)","v":0}]
[null,null,null,null,null,null,null,null,0,0,0,null,null,null,0,{"$f":"IF(Inventory[[#This Row],[Item SKU/ID]]=\"\",0,SUMPRODUCT((Quantity_Sold_1=Inventory[[#This Row],[Item SKU/ID]])*Net_Profit))","v":0},{"$f":"IFERROR(AVERAGE(Inventory[[#This Row],[Total Net Profit]]/Inventory[[#This Row],[Quantity Sold]]),0)","v":0}]
[null,null,null,null,null,null,null,null,0,0,0,null,null,null,0,{"$f":"IF(Inventory[[#This Row],[Item SKU/ID]]=\"\",0,SUMPRODUCT((Quantity_Sold_1=Inventory[[#This Row],[Item SKU/ID]])*Net_Profit))","v":0},{"$f":"IFERROR(AVERAGE(Inventory[[#This Row],[Total Net Profit]]/Inventory[[#This Row],[Quantity Sold]]),0)","v":0}]
[null,null,null,null,null,null,null,null,0,0,0,null,null,null,0,{"$f":"IF(Inventory[[#This Row],[Item SKU/ID]]=\"\",0,SUMPRODUCT((Quantity_Sold_1=Inventory[[#This Row],[Item SKU/ID]])*Net_Profit))","v":0},{"$f":"IFERROR(AVERAGE(Inventory[[#This Row],[Total Net Profit]]/Inventory[[#This Row],[Quantity Sold]]),0)","v":0}]
[null,null,null,null,null,null,null,null,0,0,0,null,null,null,0,{"$f":"IF(Inventory[[#This Row],[Item SKU/ID]]=\"\",0,SUMPRODUCT((Quantity_Sold_1=Inventory[[#This Row],[Item SKU/ID]])*Net_Profit))","v":0},{"$f":"IFERROR(AVERAGE(Inventory[[#This Row],[Total Net Profit]]/Inventory[[#This Row],[Quantity Sold]]),0)","v":0}]
[null,null,null,null,null,null,null,null,0,0,0,null,null,null,0,{"$f":"IF(Inventory[[#This Row],[Item SKU/ID]]=\"\",0,SUMPRODUCT((Quantity_Sold_1=Inventory[[#This Row],[Item SKU/ID]])*Net_Profit))","v":0},{"$f":"IFERROR(AVERAGE(Inventory[[#This Row],[Total Net Profit]]/Inventory[[#This Row],[Quantity Sold]]),0)","v":0}]
[null,null,null,null,null,null,null,null,0,0,0,null,null,null,0,{"$f":"IF(Inventory[[#This Row],[Item SKU/ID]]=\"\",0,SUMPRODUCT((Quantity_Sold_1=Inventory[[#This Row],[Item SKU/ID]])*Net_Profit))","v":0},{"$f":"IFERROR(AVERAGE(Inventory[[#This Row],[Total Net Profit]]/Inventory[[#This Row],[Quantity Sold]]),0)","v":0}]
[null,null,null,null,null,null,null,null,0,0,0,null,null,null,0,{"$f":"IF(Inventory[[#This Row],[Item SKU/ID]]=\"\",0,SUMPRODUCT((Quantity_Sold_1=Inventory[[#This Row],[Item SKU/ID]])*Net_Profit))","v":0},{"$f":"IFERROR(AVERAGE(Inventory[[#This Row],[Total Net Profit]]/Inventory[[#This Row],[Quantity Sold]]),0)","v":0}]
[null,null,null,null,null,null,null,null,0,0,0,null,null,null,0,{"$f":"IF(Inventory[[#This Row],[Item SKU/ID]]=\"\",0,SUMPRODUCT((Quantity_Sold_1=Inventory[[#This Row],[Item SKU/ID]])*Net_Profit))","v":0},{"$f":"IFERROR(AVERAGE(Inventory[[#This Row],[Total Net Profit]]/Inventory[[#This Row],[Quantity Sold]]),0)","v":0}]
[null,null,null,null,null,null,null,null,0,0,0,null,null,null,0,{"$f":"IF(Inventory[[#This Row],[Item SKU/ID]]=\"\",0,SUMPRODUCT((Quantity_Sold_1=Inventory[[#This Row],[Item SKU/ID]])*Net_Profit))","v":0},{"$f":"IFERROR(AVERAGE(Inventory[[#This Row],[Total Net Profit]]/Inventory[[#This Row],[Quantity Sold]]),0)","v":0}]
[null,null,null,null,null,null,null,null,0,0,0,null,null,null,0,{"$f":"IF(Inventory[[#This Row],[Item SKU/ID]]=\"\",0,SUMPRODUCT((Quantity_Sold_1=Inventory[[#This Row],[Item SKU/ID]])*Net_Profit))","v":0},{"$f":"IFERROR(AVERAGE(Inventory[[#This Row],[Total Net Profit]]/Inventory[[#This Row],[Quantity Sold]]),0)","v":0}]
[null,null,null,null,null,null,null,null,0,0,0,null,null,null,0,{"$f":"IF(Inventory[[#This Row],[Item SKU/ID]]=\"\",0,SUMPRODUCT((Quantity_Sold_1=Inventory[[#This Row],[Item SKU/ID]])*Net_Profit))","v":0},{"$f":"IFERROR(AVERAGE(Inventory[[#This Row],[Total Net Profit]]/Inventory[[#This Row],[Quantity Sold]]),0)","v":0}]
[null,null,null,null,null,null,null,null,{"$f":"K3652*H3652","v":0},{"$f":"IF(F3652=\"\",0,SUMPRODUCT((Quantity_Sold_1=F3652)*Quantity_Sold_2))","v":0},{"$f":"G3652-J3652","v":0},null,null,null,{"$f":"K3652*H3652","v":0},{"$f":"IF(Inventory[[#This Row],[Item SKU/ID]]=\"\",0,SUMPRODUCT((Quantity_Sold_1=Inventory[[#This Row],[Item SKU/ID]])*Net_Profit))","v":0},{"$f":"IFERROR(AVERAGE(Inventory[[#This Row],[Total Net Profit]]/Inventory[[#This Row],[Quantity Sold]]),0)","v":0}]
[null,null,null,null,null,null,null,null,0,0,0,null,null,null,0,{"$f":"IF(Inventory[[#This Row],[Item SKU/ID]]=\"\",0,SUMPRODUCT((Quantity_Sold_1=Inventory[[#This Row],[Item SKU/ID]])*Net_Profit))","v":0},{"$f":"IFERROR(AVERAGE(Inventory[[#This Row],[Total Net Profit]]/Inventory[[#This Row],[Quantity Sold]]),0)","v":0}]
[null,null,null,null,null,null,null,null,0,0,0,null,null,null,0,{"$f":"IF(Inventory[[#This Row],[Item SKU/ID]]=\"\",0,SUMPRODUCT((Quantity_Sold_1=Inventory[[#This Row],[Item SKU/ID]])*Net_Profit))","v":0},{"$f":"IFERROR(AVERAGE(Inventory[[#This Row],[Total Net Profit]]/Inventory[[#This Row],[Quantity Sold]]),0)","v":0}]
[null,null,null,null,null,null,null,null,0,0,0,null,null,null,0,{"$f":"IF(Inventory[[#This Row],[Item SKU/ID]]=\"\",0,SUMPRODUCT((Quantity_Sold_1=Inventory[[#This Row],[Item SKU/ID]])*Net_Profit))","v":0},{"$f":"IFERROR(AVERAGE(Inventory[[#This Row],[Total Net Profit]]/Inventory[[#This Row],[Quantity Sold]]),0)","v":0}]
[null,null,null,null,null,null,null,null,0,0,0,null,null,null,0,{"$f":"IF(Inventory[[#This Row],[Item SKU/ID]]=\"\",0,SUMPRODUCT((Quantity_Sold_1=Inventory[[#This Row],[Item SKU/ID]])*Net_Profit))","v":0},{"$f":"IFERROR(AVERAGE(Inventory[[#This Row],[Total Net Profit]]/Inventory[[#This Row],[Quantity Sold]]),0)","v":0}]
[null,null,null,null,null,null,null,null,0,0,0,null,null,null,0,{"$f":"IF(Inventory[[#This Row],[Item SKU/ID]]=\"\",0,SUMPRODUCT((Quantity_Sold_1=Inventory[[#This Row],[Item SKU/ID]])*Net_Profit))","v":0},{"$f":"IFERROR(AVERAGE(Inventory[[#This Row],[Total Net Profit]]/Inventory[[#This Row],[Quantity Sold]]),0)","v":0}]
[null,null,null,null,null,null,null,null,0,0,0,null,null,null,0,{"$f":"IF(Inventory[[#This Row],[Item SKU/ID]]=\"\",0,SUMPRODUCT((Quantity_Sold_1=Inventory[[#This Row],[Item SKU/ID]])*Net_Profit))","v":0},{"$f":"IFERROR(AVERAGE(Inventory[[#This Row],[Total Net Profit]]/Inventory[[#This Row],[Quantity Sold]]),0)","v":0}]
[null,null,null,null,null,null,null,null,0,0,0,null,null,null,0,{"$f":"IF(Inventory[[#This Row],[Item SKU/ID]]=\"\",0,SUMPRODUCT((Quantity_Sold_1=Inventory[[#This Row],[Item SKU/ID]])*Net_Profit))","v":0},{"$f":"IFERROR(AVERAGE(Inventory[[#This Row],[Total Net Profit]]/Inventory[[#This Row],[Quantity Sold]]),0)","v":0}]
[null,null,null,null,null,null,null,null,0,0,0,null,null,null,0,{"$f":"IF(Inventory[[#This Row],[Item SKU/ID]]=\"\",0,SUMPRODUCT((Quantity_Sold_1=Inventory[[#This Row],[Item SKU/ID]])*Net_Profit))","v":0},{"$f":"IFERROR(AVERAGE(Inventory[[#This Row],[Total Net Profit]]/Inventory[[#This Row],[Quantity Sold]]),0)","v":0}]
[null,null,null,null,null,null,null,null,0,0,0,null,null,null,0,{"$f":"IF(Inventory[[#This Row],[Item SKU/ID]]=\"\",0,SUMPRODUCT((Quantity_Sold_1=Inventory[[#This Row],[Item SKU/ID]])*Net_Profit))","v":0},{"$f":"IFERROR(AVERAGE(Inventory[[#This Row],[Total Net Profit]]/Inventory[[#This Row],[Quantity Sold]]),0)","v":0}]
[null,null,null,null,null,null,null,null,0,0,0,null,null,null,0,{"$f":"IF(Inventory[[#This Row],[Item SKU/ID]]=\"\",0,SUMPRODUCT((Quantity_Sold_1=Inventory[[#This Row],[Item SKU/ID]])*Net_Profit))","v":0},{"$f":"IFERROR(AVERAGE(Inventory[[#This Row],[Total Net Profit]]/Inventory[[#This Row],[Quantity Sold]]),0)","v":0}]
[null,null,null,null,null,null,null,null,0,0,0,null,null,null,0,{"$f":"IF(Inventory[[#This Row],[Item SKU/ID]]=\"\",0,SUMPRODUCT((Quantity_Sold_1=Inventory[[#This Row],[Item SKU/ID]])*Net_Profit))","v":0},{"$f":"IFERROR(AVERAGE(Inventory[[#This Row],[Total Net Profit]]/Inventory[[#This Row],[Quantity Sold]]),0)","v":0}]
[null,null,null,null,null,null,null,null,0,0,0,null,null,null,0,{"$f":"IF(Inventory[[#This Row],[Item SKU/ID]]=\"\",0,SUMPRODUCT((Quantity_Sold_1=Inventory[[#This Row],[Item SKU/ID]])*Net_Profit))","v":0},{"$f":"IFERROR(AVERAGE(Inventory[[#This Row],[Total Net Profit]]/Inventory[[#This Row],[Quantity Sold]]),0)","v":0}]
[null,null,null,null,null,null,null,null,0,0,0,null,null,null,0,{"$f":"IF(Inventory[[#This Row],[Item SKU/ID]]=\"\",0,SUMPRODUCT((Quantity_Sold_1=Inventory[[#This Row],[Item SKU/ID]])*Net_Profit))","v":0},{"$f":"IFERROR(AVERAGE(Inventory[[#This Row],[Total Net Profit]]/Inventory[[#This Row],[Quantity Sold]]),0)","v":0}]
[null,null,null,null,null,null,null,null,0,0,0,null,null,null,0,{"$f":"IF(Inventory[[#This Row],[Item SKU/ID]]=\"\",0,SUMPRODUCT((Quantity_Sold_1=Inventory[[#This Row],[Item SKU/ID]])*Net_Profit))","v":0},{"$f":"IFERROR(AVERAGE(Inventory[[#This Row],[Total Net Profit]]/Inventory[[#This Row],[Quantity Sold]]),0)","v":0}]
[null,null,null,null,null,null,null,null,0,0,0,null,null,null,0,{"$f":"IF(Inventory[[#This Row],[Item SKU/ID]]=\"\",0,SUMPRODUCT((Quantity_Sold_1=Inventory[[#This Row],[Item SKU/ID]])*Net_Profit))","v":0},{"$f":"IFERROR(AVERAGE(Inventory[[#This Row],[Total Net Profit]]/Inventory[[#This Row],[Quantity Sold]]),0)","v":0}]
[null,null,null,null,null,null,null,null,0,0,0,null,null,null,0,{"$f":"IF(Inventory[[#This Row],[Item SKU/ID]]=\"\",0,SUMPRODUCT((Quantity_Sold_1=Inventory[[#This Row],[Item SKU/ID]])*Net_Profit))","v":0},{"$f":"IFERROR(AVERAGE(Inventory[[#This Row],[Total Net Profit]]/Inventory[[#This Row],[Quantity Sold]]),0)","v":0}]
[null,null,null,null,null,null,null,null,0,0,0,null,null,null,0,{"$f":"IF(Inventory[[#This Row],[Item SKU/ID]]=\"\",0,SUMPRODUCT((Quantity_Sold_1=Inventory[[#This Row],[Item SKU/ID]])*Net_Profit))","v":0},{"$f":"IFERROR(AVERAGE(Inventory[[#This Row],[Total Net Profit]]/Inventory[[#This Row],[Quantity Sold]]),0)","v":0}]
[null,null,null,null,null,null,null,null,0,0,0,null,null,null,0,{"$f":"IF(Inventory[[#This Row],[Item SKU/ID]]=\"\",0,SUMPRODUCT((Quantity_Sold_1=Inventory[[#This Row],[Item SKU/ID]])*Net_Profit))","v":0},{"$f":"IFERROR(AVERAGE(Inventory[[#This Row],[Total Net Profit]]/Inventory[[#This Row],[Quantity Sold]]),0)","v":0}]
[null,null,null,null,null,null,null,null,0,0,0,null,null,null,0,{"$f":"IF(Inventory[[#This Row],[Item SKU/ID]]=\"\",0,SUMPRODUCT((Quantity_Sold_1=Inventory[[#This Row],[Item SKU/ID]])*Net_Profit))","v":0},{"$f":"IFERROR(AVERAGE(Inventory[[#This Row],[Total Net Profit]]/Inventory[[#This Row],[Quantity Sold]]),0)","v":0}]
[null,null,null,null,null,null,null,null,0,0,0,null,null,null,0,{"$f":"IF(Inventory[[#This Row],[Item SKU/ID]]=\"\",0,SUMPRODUCT((Quantity_Sold_1=Inventory[[#This Row],[Item SKU/ID]])*Net_Profit))","v":0},{"$f":"IFERROR(AVERAGE(Inventory[[#This Row],[Total Net Profit]]/Inventory[[#This Row],[Quantity Sold]]),0)","v":0}]
[null,null,null,null,null,null,null,null,0,0,0,null,null,null,0,{"$f":"IF(Inventory[[#This Row],[Item SKU/ID]]=\"\",0,SUMPRODUCT((Quantity_Sold_1=Inventory[[#This Row],[Item SKU/ID]])*Net_Profit))","v":0},{"$f":"IFERROR(AVERAGE(Inventory[[#This Row],[Total Net Profit]]/Inventory[[#This Row],[Quantity Sold]]),0)","v":0}]
[null,null,null,null,null,null,null,null,0,0,0,null,null,null,0,{"$f":"IF(Inventory[[#This Row],[Item SKU/ID]]=\"\",0,SUMPRODUCT((Quantity_Sold_1=Inventory[[#This Row],[Item SKU/ID]])*Net_Profit))","v":0},{"$f":"IFERROR(AVERAGE(Inventory[[#This Row],[Total Net Profit]]/Inventory[[#This Row],[Quantity Sold]]),0)","v":0}]
[null,null,null,null,null,null,null,null,0,0,0,null,null,null,0,{"$f":"IF(Inventory[[#This Row],[Item SKU/ID]]=\"\",0,SUMPRODUCT((Quantity_Sold_1=Inventory[[#This Row],[Item SKU/ID]])*Net_Profit))","v":0},{"$f":"IFERROR(AVERAGE(Inventory[[#This Row],[Total Net Profit]]/Inventory[[#This Row],[Quantity Sold]]),0)","v":0}]
[null,null,null,null,null,null,null,null,0,0,0,null,null,null,0,{"$f":"IF(Inventory[[#This Row],[Item SKU/ID]]=\"\",0,SUMPRODUCT((Quantity_Sold_1=Inventory[[#This Row],[Item SKU/ID]])*Net_Profit))","v":0},{"$f":"IFERROR(AVERAGE(Inventory[[#This Row],[Total Net Profit]]/Inventory[[#This Row],[Quantity Sold]]),0)","v":0}]
[null,null,null,null,null,null,null,null,0,0,0,null,null,null,0,{"$f":"IF(Inventory[[#This Row],[Item SKU/ID]]=\"\",0,SUMPRODUCT((Quantity_Sold_1=Inventory[[#This Row],[Item SKU/ID]])*Net_Profit))","v":0},{"$f":"IFERROR(AVERAGE(Inventory[[#This Row],[Total Net Profit]]/Inventory[[#This Row],[Quantity Sold]]),0)","v":0}]
[null,null,null,null,null,null,null,null,0,0,0,null,null,null,0,{"$f":"IF(Inventory[[#This Row],[Item SKU/ID]]=\"\",0,SUMPRODUCT((Quantity_Sold_1=Inventory[[#This Row],[Item SKU/ID]])*Net_Profit))","v":0},{"$f":"IFERROR(AVERAGE(Inventory[[#This Row],[Total Net Profit]]/Inventory[[#This Row],[Quantity Sold]]),0)","v":0}]
[null,null,null,null,null,null,null,null,0,0,0,null,null,null,0,{"$f":"IF(Inventory[[#This Row],[Item SKU/ID]]=\"\",0,SUMPRODUCT((Quantity_Sold_1=Inventory[[#This Row],[Item SKU/ID]])*Net_Profit))","v":0},{"$f":"IFERROR(AVERAGE(Inventory[[#This Row],[Total Net Profit]]/Inventory[[#This Row],[Quantity Sold]]),0)","v":0}]
[null,null,null,null,null,null,null,null,0,0,0,null,null,null,0,{"$f":"IF(Inventory[[#This Row],[Item SKU/ID]]=\"\",0,SUMPRODUCT((Quantity_Sold_1=Inventory[[#This Row],[Item SKU/ID]])*Net_Profit))","v":0},{"$f":"IFERROR(AVERAGE(Inventory[[#This Row],[Total Net Profit]]/Inventory[[#This Row],[Quantity Sold]]),0)","v":0}]
[null,null,null,null,null,null,null,null,0,0,0,null,null,null,0,{"$f":"IF(Inventory[[#This Row],[Item SKU/ID]]=\"\",0,SUMPRODUCT((Quantity_Sold_1=Inventory[[#This Row],[Item SKU/ID]])*Net_Profit))","v":0},{"$f":"IFERROR(AVERAGE(Inventory[[#This Row],[Total Net Profit]]/Inventory[[#This Row],[Quantity Sold]]),0)","v":0}]
[null,null,null,null,null,null,null,null,0,0,0,null,null,null,0,{"$f":"IF(Inventory[[#This Row],[Item SKU/ID]]=\"\",0,SUMPRODUCT((Quantity_Sold_1=Inventory[[#This Row],[Item SKU/ID]])*Net_Profit))","v":0},{"$f":"IFERROR(AVERAGE(Inventory[[#This Row],[Total Net Profit]]/Inventory[[#This Row],[Quantity Sold]]),0)","v":0}]
[null,null,null,null,null,null,null,null,0,0,0,null,null,null,0,{"$f":"IF(Inventory[[#This Row],[Item SKU/ID]]=\"\",0,SUMPRODUCT((Quantity_Sold_1=Inventory[[#This Row],[Item SKU/ID]])*Net_Profit))","v":0},{"$f":"IFERROR(AVERAGE(Inventory[[#This Row],[Total Net Profit]]/Inventory[[#This Row],[Quantity Sold]]),0)","v":0}]
[null,null,null,null,null,null,null,null,0,0,0,null,null,null,0,{"$f":"IF(Inventory[[#This Row],[Item SKU/ID]]=\"\",0,SUMPRODUCT((Quantity_Sold_1=Inventory[[#This Row],[Item SKU/ID]])*Net_Profit))","v":0},{"$f":"IFERROR(AVERAGE(Inventory[[#This Row],[Total Net Profit]]/Inventory[[#This Row],[Quantity Sold]]),0)","v":0}]
[null,null,null,null,null,null,null,null,0,0,0,null,null,null,0,{"$f":"IF(Inventory[[#This Row],[Item SKU/ID]]=\"\",0,SUMPRODUCT((Quantity_Sold_1=Inventory[[#This Row],[Item SKU/ID]])*Net_Profit))","v":0},{"$f":"IFERROR(AVERAGE(Inventory[[#This Row],[Total Net Profit]]/Inventory[[#This Row],[Quantity Sold]]),0)","v":0}]
[null,null,null,null,null,null,null,null,0,0,0,null,null,null,0,{"$f":"IF(Inventory[[#This Row],[Item SKU/ID]]=\"\",0,SUMPRODUCT((Quantity_Sold_1=Inventory[[#This Row],[Item SKU/ID]])*Net_Profit))","v":0},{"$f":"IFERROR(AVERAGE(Inventory[[#This Row],[Total Net Profit]]/Inventory[[#This Row],[Quantity Sold]]),0)","v":0}]
[null,null,null,null,null,null,null,null,0,0,0,null,null,null,0,{"$f":"IF(Inventory[[#This Row],[Item SKU/ID]]=\"\",0,SUMPRODUCT((Quantity_Sold_1=Inventory[[#This Row],[Item SKU/ID]])*Net_Profit))","v":0},{"$f":"IFERROR(AVERAGE(Inventory[[#This Row],[Total Net Profit]]/Inventory[[#This Row],[Quantity Sold]]),0)","v":0}]
[null,null,null,null,null,null,null,null,0,0,0,null,null,null,0,{"$f":"IF(Inventory[[#This Row],[Item SKU/ID]]=\"\",0,SUMPRODUCT((Quantity_Sold_1=Inventory[[#This Row],[Item SKU/ID]])*Net_Profit))","v":0},{"$f":"IFERROR(AVERAGE(Inventory[[#This Row],[Total Net Profit]]/Inventory[[#This Row],[Quantity Sold]]),0)","v":0}]
[null,null,null,null,null,null,null,null,0,0,0,null,null,null,0,{"$f":"IF(Inventory[[#This Row],[Item SKU/ID]]=\"\",0,SUMPRODUCT((Quantity_Sold_1=Inventory[[#This Row],[Item SKU/ID]])*Net_Profit))","v":0},{"$f":"IFERROR(AVERAGE(Inventory[[#This Row],[Total Net Profit]]/Inventory[[#This Row],[Quantity Sold]]),0)","v":0}]
[null,null,null,null,null,null,null,null,0,0,0,null,null,null,0,{"$f":"IF(Inventory[[#This Row],[Item SKU/ID]]=\"\",0,SUMPRODUCT((Quantity_Sold_1=Inventory[[#This Row],[Item SKU/ID]])*Net_Profit))","v":0},{"$f":"IFERROR(AVERAGE(Inventory[[#This Row],[Total Net Profit]]/Inventory[[#This Row],[Quantity Sold]]),0)","v":0}]
[null,null,null,null,null,null,null,null,0,0,0,null,null,null,0,{"$f":"IF(Inventory[[#This Row],[Item SKU/ID]]=\"\",0,SUMPRODUCT((Quantity_Sold_1=Inventory[[#This Row],[Item SKU/ID]])*Net_Profit))","v":0},{"$f":"IFERROR(AVERAGE(Inventory[[#This Row],[Total Net Profit]]/Inventory[[#This Row],[Quantity Sold]]),0)","v":0}]
[null,null,null,null,null,null,null,null,0,0,0,null,null,null,0,{"$f":"IF(Inventory[[#This Row],[Item SKU/ID]]=\"\",0,SUMPRODUCT((Quantity_Sold_1=Inventory[[#This Row],[Item SKU/ID]])*Net_Profit))","v":0},{"$f":"IFERROR(AVERAGE(Inventory[[#This Row],[Total Net Profit]]/Inventory[[#This Row],[Quantity Sold]]),0)","v":0}]
[null,null,null,null,null,null,null,null,0,0,0,null,null,null,0,{"$f":"IF(Inventory[[#This Row],[Item SKU/ID]]=\"\",0,SUMPRODUCT((Quantity_Sold_1=Inventory[[#This Row],[Item SKU/ID]])*Net_Profit))","v":0},{"$f":"IFERROR(AVERAGE(Inventory[[#This Row],[Total Net Profit]]/Inventory[[#This Row],[Quantity Sold]]),0)","v":0}]
[null,null,null,null,null,null,null,null,0,0,0,null,null,null,0,{"$f":"IF(Inventory[[#This Row],[Item SKU/ID]]=\"\",0,SUMPRODUCT((Quantity_Sold_1=Inventory[[#This Row],[Item SKU/ID]])*Net_Profit))","v":0},{"$f":"IFERROR(AVERAGE(Inventory[[#This Row],[Total Net Profit]]/Inventory[[#This Row],[Quantity Sold]]),0)","v":0}]
[null,null,null,null,null,null,null,null,0,0,0,null,null,null,0,{"$f":"IF(Inventory[[#This Row],[Item SKU/ID]]=\"\",0,SUMPRODUCT((Quantity_Sold_1=Inventory[[#This Row],[Item SKU/ID]])*Net_Profit))","v":0},{"$f":"IFERROR(AVERAGE(Inventory[[#This Row],[Total Net Profit]]/Inventory[[#This Row],[Quantity Sold]]),0)","v":0}]
[null,null,null,null,null,null,null,null,0,0,0,null,null,null,0,{"$f":"IF(Inventory[[#This Row],[Item SKU/ID]]=\"\",0,SUMPRODUCT((Quantity_Sold_1=Inventory[[#This Row],[Item SKU/ID]])*Net_Profit))","v":0},{"$f":"IFERROR(AVERAGE(Inventory[[#This Row],[Total Net Profit]]/Inventory[[#This Row],[Quantity Sold]]),0)","v":0}]
[null,null,null,null,null,null,null,null,0,0,0,null,null,null,0,{"$f":"IF(Inventory[[#This Row],[Item SKU/ID]]=\"\",0,SUMPRODUCT((Quantity_Sold_1=Inventory[[#This Row],[Item SKU/ID]])*Net_Profit))","v":0},{"$f":"IFERROR(AVERAGE(Inventory[[#This Row],[Total Net Profit]]/Inventory[[#This Row],[Quantity Sold]]),0)","v":0}]
[null,null,null,null,null,null,null,null,0,0,0,null,null,null,0,{"$f":"IF(Inventory[[#This Row],[Item SKU/ID]]=\"\",0,SUMPRODUCT((Quantity_Sold_1=Inventory[[#This Row],[Item SKU/ID]])*Net_Profit))","v":0},{"$f":"IFERROR(AVERAGE(Inventory[[#This Row],[Total Net Profit]]/Inventory[[#This Row],[Quantity Sold]]),0)","v":0}]
[null,null,null,null,null,null,null,null,0,0,0,null,null,null,0,{"$f":"IF(Inventory[[#This Row],[Item SKU/ID]]=\"\",0,SUMPRODUCT((Quantity_Sold_1=Inventory[[#This Row],[Item SKU/ID]])*Net_Profit))","v":0},{"$f":"IFERROR(AVERAGE(Inventory[[#This Row],[Total Net Profit]]/Inventory[[#This Row],[Quantity Sold]]),0)","v":0}]
[null,null,null,null,null,null,null,null,0,0,0,null,null,null,0,{"$f":"IF(Inventory[[#This Row],[Item SKU/ID]]=\"\",0,SUMPRODUCT((Quantity_Sold_1=Inventory[[#This Row],[Item SKU/ID]])*Net_Profit))","v":0},{"$f":"IFERROR(AVERAGE(Inventory[[#This Row],[Total Net Profit]]/Inventory[[#This Row],[Quantity Sold]]),0)","v":0}]
[null,null,null,null,null,null,null,null,0,0,0,null,null,null,0,{"$f":"IF(Inventory[[#This Row],[Item SKU/ID]]=\"\",0,SUMPRODUCT((Quantity_Sold_1=Inventory[[#This Row],[Item SKU/ID]])*Net_Profit))","v":0},{"$f":"IFERROR(AVERAGE(Inventory[[#This Row],[Total Net Profit]]/Inventory[[#This Row],[Quantity Sold]]),0)","v":0}]
[null,null,null,null,null,null,null,null,0,0,0,null,null,null,0,{"$f":"IF(Inventory[[#This Row],[Item SKU/ID]]=\"\",0,SUMPRODUCT((Quantity_Sold_1=Inventory[[#This Row],[Item SKU/ID]])*Net_Profit))","v":0},{"$f":"IFERROR(AVERAGE(Inventory[[#This Row],[Total Net Profit]]/Inventory[[#This Row],[Quantity Sold]]),0)","v":0}]
[null,null,null,null,null,null,null,null,0,0,0,null,null,null,0,{"$f":"IF(Inventory[[#This Row],[Item SKU/ID]]=\"\",0,SUMPRODUCT((Quantity_Sold_1=Inventory[[#This Row],[Item SKU/ID]])*Net_Profit))","v":0},{"$f":"IFERROR(AVERAGE(Inventory[[#This Row],[Total Net Profit]]/Inventory[[#This Row],[Quantity Sold]]),0)","v":0}]
[null,null,null,null,null,null,null,null,0,0,0,null,null,null,0,{"$f":"IF(Inventory[[#This Row],[Item SKU/ID]]=\"\",0,SUMPRODUCT((Quantity_Sold_1=Inventory[[#This Row],[Item SKU/ID]])*Net_Profit))","v":0},{"$f":"IFERROR(AVERAGE(Inventory[[#This Row],[Total Net Profit]]/Inventory[[#This Row],[Quantity Sold]]),0)","v":0}]
[null,null,null,null,null,null,null,null,0,0,0,null,null,null,0,{"$f":"IF(Inventory[[#This Row],[Item SKU/ID]]=\"\",0,SUMPRODUCT((Quantity_Sold_1=Inventory[[#This Row],[Item SKU/ID]])*Net_Profit))","v":0},{"$f":"IFERROR(AVERAGE(Inventory[[#This Row],[Total Net Profit]]/Inventory[[#This Row],[Quantity Sold]]),0)","v":0}]
[null,null,null,null,null,null,null,null,0,0,0,null,null,null,0,{"$f":"IF(Inventory[[#This Row],[Item SKU/ID]]=\"\",0,SUMPRODUCT((Quantity_Sold_1=Inventory[[#This Row],[Item SKU/ID]])*Net_Profit))","v":0},{"$f":"IFERROR(AVERAGE(Inventory[[#This Row],[Total Net Profit]]/Inventory[[#This Row],[Quantity Sold]]),0)","v":0}]
[null,null,null,null,null,null,null,null,0,0,0,null,null,null,0,{"$f":"IF(Inventory[[#This Row],[Item SKU/ID]]=\"\",0,SUMPRODUCT((Quantity_Sold_1=Inventory[[#This Row],[Item SKU/ID]])*Net_Profit))","v":0},{"$f":"IFERROR(AVERAGE(Inventory[[#This Row],[Total Net Profit]]/Inventory[[#This Row],[Quantity Sold]]),0)","v":0}]
[null,null,null,null,null,null,null,null,0,0,0,null,null,null,0,{"$f":"IF(Inventory[[#This Row],[Item SKU/ID]]=\"\",0,SUMPRODUCT((Quantity_Sold_1=Inventory[[#This Row],[Item SKU/ID]])*Net_Profit))","v":0},{"$f":"IFERROR(AVERAGE(Inventory[[#This Row],[Total Net Profit]]/Inventory[[#This Row],[Quantity Sold]]),0)","v":0}]
[null,null,null,null,null,null,null,null,0,0,0,null,null,null,0,{"$f":"IF(Inventory[[#This Row],[Item SKU/ID]]=\"\",0,SUMPRODUCT((Quantity_Sold_1=Inventory[[#This Row],[Item SKU/ID]])*Net_Profit))","v":0},{"$f":"IFERROR(AVERAGE(Inventory[[#This Row],[Total Net Profit]]/Inventory[[#This Row],[Quantity Sold]]),0)","v":0}]
[null,null,null,null,null,null,null,null,0,0,0,null,null,null,0,{"$f":"IF(Inventory[[#This Row],[Item SKU/ID]]=\"\",0,SUMPRODUCT((Quantity_Sold_1=Inventory[[#This Row],[Item SKU/ID]])*Net_Profit))","v":0},{"$f":"IFERROR(AVERAGE(Inventory[[#This Row],[Total Net Profit]]/Inventory[[#This Row],[Quantity Sold]]),0)","v":0}]
[null,null,null,null,null,null,null,null,0,0,0,null,null,null,0,{"$f":"IF(Inventory[[#This Row],[Item SKU/ID]]=\"\",0,SUMPRODUCT((Quantity_Sold_1=Inventory[[#This Row],[Item SKU/ID]])*Net_Profit))","v":0},{"$f":"IFERROR(AVERAGE(Inventory[[#This Row],[Total Net Profit]]/Inventory[[#This Row],[Quantity Sold]]),0)","v":0}]
[null,null,null,null,null,null,null,null,0,0,0,null,null,null,0,{"$f":"IF(Inventory[[#This Row],[Item SKU/ID]]=\"\",0,SUMPRODUCT((Quantity_Sold_1=Inventory[[#This Row],[Item SKU/ID]])*Net_Profit))","v":0},{"$f":"IFERROR(AVERAGE(Inventory[[#This Row],[Total Net Profit]]/Inventory[[#This Row],[Quantity Sold]]),0)","v":0}]
[null,null,null,null,null,null,null,null,0,0,0,null,null,null,0,{"$f":"IF(Inventory[[#This Row],[Item SKU/ID]]=\"\",0,SUMPRODUCT((Quantity_Sold_1=Inventory[[#This Row],[Item SKU/ID]])*Net_Profit))","v":0},{"$f":"IFERROR(AVERAGE(Inventory[[#This Row],[Total Net Profit]]/Inventory[[#This Row],[Quantity Sold]]),0)","v":0}]
[null,null,null,null,null,null,null,null,0,0,0,null,null,null,0,{"$f":"IF(Inventory[[#This Row],[Item SKU/ID]]=\"\",0,SUMPRODUCT((Quantity_Sold_1=Inventory[[#This Row],[Item SKU/ID]])*Net_Profit))","v":0},{"$f":"IFERROR(AVERAGE(Inventory[[#This Row],[Total Net Profit]]/Inventory[[#This Row],[Quantity Sold]]),0)","v":0}]
[null,null,null,null,null,null,null,null,0,0,0,null,null,null,0,{"$f":"IF(Inventory[[#This Row],[Item SKU/ID]]=\"\",0,SUMPRODUCT((Quantity_Sold_1=Inventory[[#This Row],[Item SKU/ID]])*Net_Profit))","v":0},{"$f":"IFERROR(AVERAGE(Inventory[[#This Row],[Total Net Profit]]/Inventory[[#This Row],[Quantity Sold]]),0)","v":0}]
[null,null,null,null,null,null,null,null,{"$f":"K3716*H3716","v":0},{"$f":"IF(F3716=\"\",0,SUMPRODUCT((Quantity_Sold_1=F3716)*Quantity_Sold_2))","v":0},{"$f":"G3716-J3716","v":0},null,null,null,{"$f":"K3716*H3716","v":0},{"$f":"IF(Inventory[[#This Row],[Item SKU/ID]]=\"\",0,SUMPRODUCT((Quantity_Sold_1=Inventory[[#This Row],[Item SKU/ID]])*Net_Profit))","v":0},{"$f":"IFERROR(AVERAGE(Inventory[[#This Row],[Total Net Profit]]/Inventory[[#This Row],[Quantity Sold]]),0)","v":0}]
[null,null,null,null,null,null,null,null,0,0,0,null,null,null,0,{"$f":"IF(Inventory[[#This Row],[Item SKU/ID]]=\"\",0,SUMPRODUCT((Quantity_Sold_1=Inventory[[#This Row],[Item SKU/ID]])*Net_Profit))","v":0},{"$f":"IFERROR(AVERAGE(Inventory[[#This Row],[Total Net Profit]]/Inventory[[#This Row],[Quantity Sold]]),0)","v":0}]
[null,null,null,null,null,null,null,null,0,0,0,null,null,null,0,{"$f":"IF(Inventory[[#This Row],[Item SKU/ID]]=\"\",0,SUMPRODUCT((Quantity_Sold_1=Inventory[[#This Row],[Item SKU/ID]])*Net_Profit))","v":0},{"$f":"IFERROR(AVERAGE(Inventory[[#This Row],[Total Net Profit]]/Inventory[[#This Row],[Quantity Sold]]),0)","v":0}]
[null,null,null,null,null,null,null,null,0,0,0,null,null,null,0,{"$f":"IF(Inventory[[#This Row],[Item SKU/ID]]=\"\",0,SUMPRODUCT((Quantity_Sold_1=Inventory[[#This Row],[Item SKU/ID]])*Net_Profit))","v":0},{"$f":"IFERROR(AVERAGE(Inventory[[#This Row],[Total Net Profit]]/Inventory[[#This Row],[Quantity Sold]]),0)","v":0}]
[null,null,null,null,null,null,null,null,0,0,0,null,null,null,0,{"$f":"IF(Inventory[[#This Row],[Item SKU/ID]]=\"\",0,SUMPRODUCT((Quantity_Sold_1=Inventory[[#This Row],[Item SKU/ID]])*Net_Profit))","v":0},{"$f":"IFERROR(AVERAGE(Inventory[[#This Row],[Total Net Profit]]/Inventory[[#This Row],[Quantity Sold]]),0)","v":0}]
[null,null,null,null,null,null,null,null,0,0,0,null,null,null,0,{"$f":"IF(Inventory[[#This Row],[Item SKU/ID]]=\"\",0,SUMPRODUCT((Quantity_Sold_1=Inventory[[#This Row],[Item SKU/ID]])*Net_Profit))","v":0},{"$f":"IFERROR(AVERAGE(Inventory[[#This Row],[Total Net Profit]]/Inventory[[#This Row],[Quantity Sold]]),0)","v":0}]
[null,null,null,null,null,null,null,null,0,0,0,null,null,null,0,{"$f":"IF(Inventory[[#This Row],[Item SKU/ID]]=\"\",0,SUMPRODUCT((Quantity_Sold_1=Inventory[[#This Row],[Item SKU/ID]])*Net_Profit))","v":0},{"$f":"IFERROR(AVERAGE(Inventory[[#This Row],[Total Net Profit]]/Inventory[[#This Row],[Quantity Sold]]),0)","v":0}]
[null,null,null,null,null,null,null,null,0,0,0,null,null,null,0,{"$f":"IF(Inventory[[#This Row],[Item SKU/ID]]=\"\",0,SUMPRODUCT((Quantity_Sold_1=Inventory[[#This Row],[Item SKU/ID]])*Net_Profit))","v":0},{"$f":"IFERROR(AVERAGE(Inventory[[#This Row],[Total Net Profit]]/Inventory[[#This Row],[Quantity Sold]]),0)","v":0}]
[null,null,null,null,null,null,null,null,0,0,0,null,null,null,0,{"$f":"IF(Inventory[[#This Row],[Item SKU/ID]]=\"\",0,SUMPRODUCT((Quantity_Sold_1=Inventory[[#This Row],[Item SKU/ID]])*Net_Profit))","v":0},{"$f":"IFERROR(AVERAGE(Inventory[[#This Row],[Total Net Profit]]/Inventory[[#This Row],[Quantity Sold]]),0)","v":0}]
[null,null,null,null,null,null,null,null,0,0,0,null,null,null,0,{"$f":"IF(Inventory[[#This Row],[Item SKU/ID]]=\"\",0,SUMPRODUCT((Quantity_Sold_1=Inventory[[#This Row],[Item SKU/ID]])*Net_Profit))","v":0},{"$f":"IFERROR(AVERAGE(Inventory[[#This Row],[Total Net Profit]]/Inventory[[#This Row],[Quantity Sold]]),0)","v":0}]
[null,null,null,null,null,null,null,null,0,0,0,null,null,null,0,{"$f":"IF(Inventory[[#This Row],[Item SKU/ID]]=\"\",0,SUMPRODUCT((Quantity_Sold_1=Inventory[[#This Row],[Item SKU/ID]])*Net_Profit))","v":0},{"$f":"IFERROR(AVERAGE(Inventory[[#This Row],[Total Net Profit]]/Inventory[[#This Row],[Quantity Sold]]),0)","v":0}]
[null,null,null,null,null,null,null,null,0,0,0,null,null,null,0,{"$f":"IF(Inventory[[#This Row],[Item SKU/ID]]=\"\",0,SUMPRODUCT((Quantity_Sold_1=Inventory[[#This Row],[Item SKU/ID]])*Net_Profit))","v":0},{"$f":"IFERROR(AVERAGE(Inventory[[#This Row],[Total Net Profit]]/Inventory[[#This Row],[Quantity Sold]]),0)","v":0}]
[null,null,null,null,null,null,null,null,0,0,0,null,null,null,0,{"$f":"IF(Inventory[[#This Row],[Item SKU/ID]]=\"\",0,SUMPRODUCT((Quantity_Sold_1=Inventory[[#This Row],[Item SKU/ID]])*Net_Profit))","v":0},{"$f":"IFERROR(AVERAGE(Inventory[[#This Row],[Total Net Profit]]/Inventory[[#This Row],[Quantity Sold]]),0)","v":0}]
[null,null,null,null,null,null,null,null,0,0,0,null,null,null,0,{"$f":"IF(Inventory[[#This Row],[Item SKU/ID]]=\"\",0,SUMPRODUCT((Quantity_Sold_1=Inventory[[#This Row],[Item SKU/ID]])*Net_Profit))","v":0},{"$f":"IFERROR(AVERAGE(Inventory[[#This Row],[Total Net Profit]]/Inventory[[#This Row],[Quantity Sold]]),0)","v":0}]
[null,null,null,null,null,null,null,null,0,0,0,null,null,null,0,{"$f":"IF(Inventory[[#This Row],[Item SKU/ID]]=\"\",0,SUMPRODUCT((Quantity_Sold_1=Inventory[[#This Row],[Item SKU/ID]])*Net_Profit))","v":0},{"$f":"IFERROR(AVERAGE(Inventory[[#This Row],[Total Net Profit]]/Inventory[[#This Row],[Quantity Sold]]),0)","v":0}]
[null,null,null,null,null,null,null,null,0,0,0,null,null,null,0,{"$f":"IF(Inventory[[#This Row],[Item SKU/ID]]=\"\",0,SUMPRODUCT((Quantity_Sold_1=Inventory[[#This Row],[Item SKU/ID]])*Net_Profit))","v":0},{"$f":"IFERROR(AVERAGE(Inventory[[#This Row],[Total Net Profit]]/Inventory[[#This Row],[Quantity Sold]]),0)","v":0}]
[null,null,null,null,null,null,null,null,0,0,0,null,null,null,0,{"$f":"IF(Inventory[[#This Row],[Item SKU/ID]]=\"\",0,SUMPRODUCT((Quantity_Sold_1=Inventory[[#This Row],[Item SKU/ID]])*Net_Profit))","v":0},{"$f":"IFERROR(AVERAGE(Inventory[[#This Row],[Total Net Profit]]/Inventory[[#This Row],[Quantity Sold]]),0)","v":0}]
[null,null,null,null,null,null,null,null,0,0,0,null,null,null,0,{"$f":"IF(Inventory[[#This Row],[Item SKU/ID]]=\"\",0,SUMPRODUCT((Quantity_Sold_1=Inventory[[#This Row],[Item SKU/ID]])*Net_Profit))","v":0},{"$f":"IFERROR(AVERAGE(Inventory[[#This Row],[Total Net Profit]]/Inventory[[#This Row],[Quantity Sold]]),0)","v":0}]
[null,null,null,null,null,null,null,null,0,0,0,null,null,null,0,{"$f":"IF(Inventory[[#This Row],[Item SKU/ID]]=\"\",0,SUMPRODUCT((Quantity_Sold_1=Inventory[[#This Row],[Item SKU/ID]])*Net_Profit))","v":0},{"$f":"IFERROR(AVERAGE(Inventory[[#This Row],[Total Net Profit]]/Inventory[[#This Row],[Quantity Sold]]),0)","v":0}]
[null,null,null,null,null,null,null,null,0,0,0,null,null,null,0,{"$f":"IF(Inventory[[#This Row],[Item SKU/ID]]=\"\",0,SUMPRODUCT((Quantity_Sold_1=Inventory[[#This Row],[Item SKU/ID]])*Net_Profit))","v":0},{"$f":"IFERROR(AVERAGE(Inventory[[#This Row],[Total Net Profit]]/Inventory[[#This Row],[Quantity Sold]]),0)","v":0}]
[null,null,null,null,null,null,null,null,0,0,0,null,null,null,0,{"$f":"IF(Inventory[[#This Row],[Item SKU/ID]]=\"\",0,SUMPRODUCT((Quantity_Sold_1=Inventory[[#This Row],[Item SKU/ID]])*Net_Profit))","v":0},{"$f":"IFERROR(AVERAGE(Inventory[[#This Row],[Total Net Profit]]/Inventory[[#This Row],[Quantity Sold]]),0)","v":0}]
[null,null,null,null,null,null,null,null,0,0,0,null,null,null,0,{"$f":"IF(Inventory[[#This Row],[Item SKU/ID]]=\"\",0,SUMPRODUCT((Quantity_Sold_1=Inventory[[#This Row],[Item SKU/ID]])*Net_Profit))","v":0},{"$f":"IFERROR(AVERAGE(Inventory[[#This Row],[Total Net Profit]]/Inventory[[#This Row],[Quantity Sold]]),0)","v":0}]
[null,null,null,null,null,null,null,null,0,0,0,null,null,null,0,{"$f":"IF(Inventory[[#This Row],[Item SKU/ID]]=\"\",0,SUMPRODUCT((Quantity_Sold_1=Inventory[[#This Row],[Item SKU/ID]])*Net_Profit))","v":0},{"$f":"IFERROR(AVERAGE(Inventory[[#This Row],[Total Net Profit]]/Inventory[[#This Row],[Quantity Sold]]),0)","v":0}]
[null,null,null,null,null,null,null,null,0,0,0,null,null,null,0,{"$f":"IF(Inventory[[#This Row],[Item SKU/ID]]=\"\",0,SUMPRODUCT((Quantity_Sold_1=Inventory[[#This Row],[Item SKU/ID]])*Net_Profit))","v":0},{"$f":"IFERROR(AVERAGE(Inventory[[#This Row],[Total Net Profit]]/Inventory[[#This Row],[Quantity Sold]]),0)","v":0}]
[null,null,null,null,null,null,null,null,0,0,0,null,null,null,0,{"$f":"IF(Inventory[[#This Row],[Item SKU/ID]]=\"\",0,SUMPRODUCT((Quantity_Sold_1=Inventory[[#This Row],[Item SKU/ID]])*Net_Profit))","v":0},{"$f":"IFERROR(AVERAGE(Inventory[[#This Row],[Total Net Profit]]/Inventory[[#This Row],[Quantity Sold]]),0)","v":0}]
[null,null,null,null,null,null,null,null,0,0,0,null,null,null,0,{"$f":"IF(Inventory[[#This Row],[Item SKU/ID]]=\"\",0,SUMPRODUCT((Quantity_Sold_1=Inventory[[#This Row],[Item SKU/ID]])*Net_Profit))","v":0},{"$f":"IFERROR(AVERAGE(Inventory[[#This Row],[Total Net Profit]]/Inventory[[#This Row],[Quantity Sold]]),0)","v":0}]
[null,null,null,null,null,null,null,null,0,0,0,null,null,null,0,{"$f":"IF(Inventory[[#This Row],[Item SKU/ID]]=\"\",0,SUMPRODUCT((Quantity_Sold_1=Inventory[[#This Row],[Item SKU/ID]])*Net_Profit))","v":0},{"$f":"IFERROR(AVERAGE(Inventory[[#This Row],[Total Net Profit]]/Inventory[[#This Row],[Quantity Sold]]),0)","v":0}]
[null,null,null,null,null,null,null,null,0,0,0,null,null,null,0,{"$f":"IF(Inventory[[#This Row],[Item SKU/ID]]=\"\",0,SUMPRODUCT((Quantity_Sold_1=Inventory[[#This Row],[Item SKU/ID]])*Net_Profit))","v":0},{"$f":"IFERROR(AVERAGE(Inventory[[#This Row],[Total Net Profit]]/Inventory[[#This Row],[Quantity Sold]]),0)","v":0}]
[null,null,null,null,null,null,null,null,0,0,0,null,null,null,0,{"$f":"IF(Inventory[[#This Row],[Item SKU/ID]]=\"\",0,SUMPRODUCT((Quantity_Sold_1=Inventory[[#This Row],[Item SKU/ID]])*Net_Profit))","v":0},{"$f":"IFERROR(AVERAGE(Inventory[[#This Row],[Total Net Profit]]/Inventory[[#This Row],[Quantity Sold]]),0)","v":0}]
[null,null,null,null,null,null,null,null,0,0,0,null,null,null,0,{"$f":"IF(Inventory[[#This Row],[Item SKU/ID]]=\"\",0,SUMPRODUCT((Quantity_Sold_1=Inventory[[#This Row],[Item SKU/ID]])*Net_Profit))","v":0},{"$f":"IFERROR(AVERAGE(Inventory[[#This Row],[Total Net Profit]]/Inventory[[#This Row],[Quantity Sold]]),0)","v":0}]
[null,null,null,null,null,null,null,null,0,0,0,null,null,null,0,{"$f":"IF(Inventory[[#This Row],[Item SKU/ID]]=\"\",0,SUMPRODUCT((Quantity_Sold_1=Inventory[[#This Row],[Item SKU/ID]])*Net_Profit))","v":0},{"$f":"IFERROR(AVERAGE(Inventory[[#This Row],[Total Net Profit]]/Inventory[[#This Row],[Quantity Sold]]),0)","v":0}]
[null,null,null,null,null,null,null,null,0,0,0,null,null,null,0,{"$f":"IF(Inventory[[#This Row],[Item SKU/ID]]=\"\",0,SUMPRODUCT((Quantity_Sold_1=Inventory[[#This Row],[Item SKU/ID]])*Net_Profit))","v":0},{"$f":"IFERROR(AVERAGE(Inventory[[#This Row],[Total Net Profit]]/Inventory[[#This Row],[Quantity Sold]]),0)","v":0}]
[null,null,null,null,null,null,null,null,0,0,0,null,null,null,0,{"$f":"IF(Inventory[[#This Row],[Item SKU/ID]]=\"\",0,SUMPRODUCT((Quantity_Sold_1=Inventory[[#This Row],[Item SKU/ID]])*Net_Profit))","v":0},{"$f":"IFERROR(AVERAGE(Inventory[[#This Row],[Total Net Profit]]/Inventory[[#This Row],[Quantity Sold]]),0)","v":0}]
[null,null,null,null,null,null,null,null,0,0,0,null,null,null,0,{"$f":"IF(Inventory[[#This Row],[Item SKU/ID]]=\"\",0,SUMPRODUCT((Quantity_Sold_1=Inventory[[#This Row],[Item SKU/ID]])*Net_Profit))","v":0},{"$f":"IFERROR(AVERAGE(Inventory[[#This Row],[Total Net Profit]]/Inventory[[#This Row],[Quantity Sold]]),0)","v":0}]
[null,null,null,null,null,null,null,null,0,0,0,null,null,null,0,{"$f":"IF(Inventory[[#This Row],[Item SKU/ID]]=\"\",0,SUMPRODUCT((Quantity_Sold_1=Inventory[[#This Row],[Item SKU/ID]])*Net_Profit))","v":0},{"$f":"IFERROR(AVERAGE(Inventory[[#This Row],[Total Net Profit]]/Inventory[[#This Row],[Quantity Sold]]),0)","v":0}]
[null,null,null,null,null,null,null,null,0,0,0,null,null,null,0,{"$f":"IF(Inventory[[#This Row],[Item SKU/ID]]=\"\",0,SUMPRODUCT((Quantity_Sold_1=Inventory[[#This Row],[Item SKU/ID]])*Net_Profit))","v":0},{"$f":"IFERROR(AVERAGE(Inventory[[#This Row],[Total Net Profit]]/Inventory[[#This Row],[Quantity Sold]]),0)","v":0}]
[null,null,null,null,null,null,null,null,0,0,0,null,null,null,0,{"$f":"IF(Inventory[[#This Row],[Item SKU/ID]]=\"\",0,SUMPRODUCT((Quantity_Sold_1=Inventory[[#This Row],[Item SKU/ID]])*Net_Profit))","v":0},{"$f":"IFERROR(AVERAGE(Inventory[[#This Row],[Total Net Profit]]/Inventory[[#This Row],[Quantity Sold]]),0)","v":0}]
[null,null,null,null,null,null,null,null,0,0,0,null,null,null,0,{"$f":"IF(Inventory[[#This Row],[Item SKU/ID]]=\"\",0,SUMPRODUCT((Quantity_Sold_1=Inventory[[#This Row],[Item SKU/ID]])*Net_Profit))","v":0},{"$f":"IFERROR(AVERAGE(Inventory[[#This Row],[Total Net Profit]]/Inventory[[#This Row],[Quantity Sold]]),0)","v":0}]
[null,null,null,null,null,null,null,null,0,0,0,null,null,null,0,{"$f":"IF(Inventory[[#This Row],[Item SKU/ID]]=\"\",0,SUMPRODUCT((Quantity_Sold_1=Inventory[[#This Row],[Item SKU/ID]])*Net_Profit))","v":0},{"$f":"IFERROR(AVERAGE(Inventory[[#This Row],[Total Net Profit]]/Inventory[[#This Row],[Quantity Sold]]),0)","v":0}]
[null,null,null,null,null,null,null,null,0,0,0,null,null,null,0,{"$f":"IF(Inventory[[#This Row],[Item SKU/ID]]=\"\",0,SUMPRODUCT((Quantity_Sold_1=Inventory[[#This Row],[Item SKU/ID]])*Net_Profit))","v":0},{"$f":"IFERROR(AVERAGE(Inventory[[#This Row],[Total Net Profit]]/Inventory[[#This Row],[Quantity Sold]]),0)","v":0}]
[null,null,null,null,null,null,null,null,0,0,0,null,null,null,0,{"$f":"IF(Inventory[[#This Row],[Item SKU/ID]]=\"\",0,SUMPRODUCT((Quantity_Sold_1=Inventory[[#This Row],[Item SKU/ID]])*Net_Profit))","v":0},{"$f":"IFERROR(AVERAGE(Inventory[[#This Row],[Total Net Profit]]/Inventory[[#This Row],[Quantity Sold]]),0)","v":0}]
[null,null,null,null,null,null,null,null,0,0,0,null,null,null,0,{"$f":"IF(Inventory[[#This Row],[Item SKU/ID]]=\"\",0,SUMPRODUCT((Quantity_Sold_1=Inventory[[#This Row],[Item SKU/ID]])*Net_Profit))","v":0},{"$f":"IFERROR(AVERAGE(Inventory[[#This Row],[Total Net Profit]]/Inventory[[#This Row],[Quantity Sold]]),0)","v":0}]
[null,null,null,null,null,null,null,null,0,0,0,null,null,null,0,{"$f":"IF(Inventory[[#This Row],[Item SKU/ID]]=\"\",0,SUMPRODUCT((Quantity_Sold_1=Inventory[[#This Row],[Item SKU/ID]])*Net_Profit))","v":0},{"$f":"IFERROR(AVERAGE(Inventory[[#This Row],[Total Net Profit]]/Inventory[[#This Row],[Quantity Sold]]),0)","v":0}]
[null,null,null,null,null,null,null,null,0,0,0,null,null,null,0,{"$f":"IF(Inventory[[#This Row],[Item SKU/ID]]=\"\",0,SUMPRODUCT((Quantity_Sold_1=Inventory[[#This Row],[Item SKU/ID]])*Net_Profit))","v":0},{"$f":"IFERROR(AVERAGE(Inventory[[#This Row],[Total Net Profit]]/Inventory[[#This Row],[Quantity Sold]]),0)","v":0}]
[null,null,null,null,null,null,null,null,0,0,0,null,null,null,0,{"$f":"IF(Inventory[[#This Row],[Item SKU/ID]]=\"\",0,SUMPRODUCT((Quantity_Sold_1=Inventory[[#This Row],[Item SKU/ID]])*Net_Profit))","v":0},{"$f":"IFERROR(AVERAGE(Inventory[[#This Row],[Total Net Profit]]/Inventory[[#This Row],[Quantity Sold]]),0)","v":0}]
[null,null,null,null,null,null,null,null,0,0,0,null,null,null,0,{"$f":"IF(Inventory[[#This Row],[Item SKU/ID]]=\"\",0,SUMPRODUCT((Quantity_Sold_1=Inventory[[#This Row],[Item SKU/ID]])*Net_Profit))","v":0},{"$f":"IFERROR(AVERAGE(Inventory[[#This Row],[Total Net Profit]]/Inventory[[#This Row],[Quantity Sold]]),0)","v":0}]
[null,null,null,null,null,null,null,null,0,0,0,null,null,null,0,{"$f":"IF(Inventory[[#This Row],[Item SKU/ID]]=\"\",0,SUMPRODUCT((Quantity_Sold_1=Inventory[[#This Row],[Item SKU/ID]])*Net_Profit))","v":0},{"$f":"IFERROR(AVERAGE(Inventory[[#This Row],[Total Net Profit]]/Inventory[[#This Row],[Quantity Sold]]),0)","v":0}]
[null,null,null,null,null,null,null,null,0,0,0,null,null,null,0,{"$f":"IF(Inventory[[#This Row],[Item SKU/ID]]=\"\",0,SUMPRODUCT((Quantity_Sold_1=Inventory[[#This Row],[Item SKU/ID]])*Net_Profit))","v":0},{"$f":"IFERROR(AVERAGE(Inventory[[#This Row],[Total Net Profit]]/Inventory[[#This Row],[Quantity Sold]]),0)","v":0}]
[null,null,null,null,null,null,null,null,0,0,0,null,null,null,0,{"$f":"IF(Inventory[[#This Row],[Item SKU/ID]]=\"\",0,SUMPRODUCT((Quantity_Sold_1=Inventory[[#This Row],[Item SKU/ID]])*Net_Profit))","v":0},{"$f":"IFERROR(AVERAGE(Inventory[[#This Row],[Total Net Profit]]/Inventory[[#This Row],[Quantity Sold]]),0)","v":0}]
[null,null,null,null,null,null,null,null,0,0,0,null,null,null,0,{"$f":"IF(Inventory[[#This Row],[Item SKU/ID]]=\"\",0,SUMPRODUCT((Quantity_Sold_1=Inventory[[#This Row],[Item SKU/ID]])*Net_Profit))","v":0},{"$f":"IFERROR(AVERAGE(Inventory[[#This Row],[Total Net Profit]]/Inventory[[#This Row],[Quantity Sold]]),0)","v":0}]
[null,null,null,null,null,null,null,null,0,0,0,null,null,null,0,{"$f":"IF(Inventory[[#This Row],[Item SKU/ID]]=\"\",0,SUMPRODUCT((Quantity_Sold_1=Inventory[[#This Row],[Item SKU/ID]])*Net_Profit))","v":0},{"$f":"IFERROR(AVERAGE(Inventory[[#This Row],[Total Net Profit]]/Inventory[[#This Row],[Quantity Sold]]),0)","v":0}]
[null,null,null,null,null,null,null,null,0,0,0,null,null,null,0,{"$f":"IF(Inventory[[#This Row],[Item SKU/ID]]=\"\",0,SUMPRODUCT((Quantity_Sold_1=Inventory[[#This Row],[Item SKU/ID]])*Net_Profit))","v":0},{"$f":"IFERROR(AVERAGE(Inventory[[#This Row],[Total Net Profit]]/Inventory[[#This Row],[Quantity Sold]]),0)","v":0}]
[null,null,null,null,null,null,null,null,0,0,0,null,null,null,0,{"$f":"IF(Inventory[[#This Row],[Item SKU/ID]]=\"\",0,SUMPRODUCT((Quantity_Sold_1=Inventory[[#This Row],[Item SKU/ID]])*Net_Profit))","v":0},{"$f":"IFERROR(AVERAGE(Inventory[[#This Row],[Total Net Profit]]/Inventory[[#This Row],[Quantity Sold]]),0)","v":0}]
[null,null,null,null,null,null,null,null,0,0,0,null,null,null,0,{"$f":"IF(Inventory[[#This Row],[Item SKU/ID]]=\"\",0,SUMPRODUCT((Quantity_Sold_1=Inventory[[#This Row],[Item SKU/ID]])*Net_Profit))","v":0},{"$f":"IFERROR(AVERAGE(Inventory[[#This Row],[Total Net Profit]]/Inventory[[#This Row],[Quantity Sold]]),0)","v":0}]
[null,null,null,null,null,null,null,null,0,0,0,null,null,null,0,{"$f":"IF(Inventory[[#This Row],[Item SKU/ID]]=\"\",0,SUMPRODUCT((Quantity_Sold_1=Inventory[[#This Row],[Item SKU/ID]])*Net_Profit))","v":0},{"$f":"IFERROR(AVERAGE(Inventory[[#This Row],[Total Net Profit]]/Inventory[[#This Row],[Quantity Sold]]),0)","v":0}]
[null,null,null,null,null,null,null,null,0,0,0,null,null,null,0,{"$f":"IF(Inventory[[#This Row],[Item SKU/ID]]=\"\",0,SUMPRODUCT((Quantity_Sold_1=Inventory[[#This Row],[Item SKU/ID]])*Net_Profit))","v":0},{"$f":"IFERROR(AVERAGE(Inventory[[#This Row],[Total Net Profit]]/Inventory[[#This Row],[Quantity Sold]]),0)","v":0}]
[null,null,null,null,null,null,null,null,0,0,0,null,null,null,0,{"$f":"IF(Inventory[[#This Row],[Item SKU/ID]]=\"\",0,SUMPRODUCT((Quantity_Sold_1=Inventory[[#This Row],[Item SKU/ID]])*Net_Profit))","v":0},{"$f":"IFERROR(AVERAGE(Inventory[[#This Row],[Total Net Profit]]/Inventory[[#This Row],[Quantity Sold]]),0)","v":0}]
[null,null,null,null,null,null,null,null,0,0,0,null,null,null,0,{"$f":"IF(Inventory[[#This Row],[Item SKU/ID]]=\"\",0,SUMPRODUCT((Quantity_Sold_1=Inventory[[#This Row],[Item SKU/ID]])*Net_Profit))","v":0},{"$f":"IFERROR(AVERAGE(Inventory[[#This Row],[Total Net Profit]]/Inventory[[#This Row],[Quantity Sold]]),0)","v":0}]
[null,null,null,null,null,null,null,null,0,0,0,null,null,null,0,{"$f":"IF(Inventory[[#This Row],[Item SKU/ID]]=\"\",0,SUMPRODUCT((Quantity_Sold_1=Inventory[[#This Row],[Item SKU/ID]])*Net_Profit))","v":0},{"$f":"IFERROR(AVERAGE(Inventory[[#This Row],[Total Net Profit]]/Inventory[[#This Row],[Quantity Sold]]),0)","v":0}]
[null,null,null,null,null,null,null,null,0,0,0,null,null,null,0,{"$f":"IF(Inventory[[#This Row],[Item SKU/ID]]=\"\",0,SUMPRODUCT((Quantity_Sold_1=Inventory[[#This Row],[Item SKU/ID]])*Net_Profit))","v":0},{"$f":"IFERROR(AVERAGE(Inventory[[#This Row],[Total Net Profit]]/Inventory[[#This Row],[Quantity Sold]]),0)","v":0}]
[null,null,null,null,null,null,null,null,0,0,0,null,null,null,0,{"$f":"IF(Inventory[[#This Row],[Item SKU/ID]]=\"\",0,SUMPRODUCT((Quantity_Sold_1=Inventory[[#This Row],[Item SKU/ID]])*Net_Profit))","v":0},{"$f":"IFERROR(AVERAGE(Inventory[[#This Row],[Total Net Profit]]/Inventory[[#This Row],[Quantity Sold]]),0)","v":0}]
[null,null,null,null,null,null,null,null,0,0,0,null,null,null,0,{"$f":"IF(Inventory[[#This Row],[Item SKU/ID]]=\"\",0,SUMPRODUCT((Quantity_Sold_1=Inventory[[#This Row],[Item SKU/ID]])*Net_Profit))","v":0},{"$f":"IFERROR(AVERAGE(Inventory[[#This Row],[Total Net Profit]]/Inventory[[#This Row],[Quantity Sold]]),0)","v":0}]
[null,null,null,null,null,null,null,null,0,0,0,null,null,null,0,{"$f":"IF(Inventory[[#This Row],[Item SKU/ID]]=\"\",0,SUMPRODUCT((Quantity_Sold_1=Inventory[[#This Row],[Item SKU/ID]])*Net_Profit))","v":0},{"$f":"IFERROR(AVERAGE(Inventory[[#This Row],[Total Net Profit]]/Inventory[[#This Row],[Quantity Sold]]),0)","v":0}]
[null,null,null,null,null,null,null,null,0,0,0,null,null,null,0,{"$f":"IF(Inventory[[#This Row],[Item SKU/ID]]=\"\",0,SUMPRODUCT((Quantity_Sold_1=Inventory[[#This Row],[Item SKU/ID]])*Net_Profit))","v":0},{"$f":"IFERROR(AVERAGE(Inventory[[#This Row],[Total Net Profit]]/Inventory[[#This Row],[Quantity Sold]]),0)","v":0}]
[null,null,null,null,null,null,null,null,{"$f":"K3780*H3780","v":0},{"$f":"IF(F3780=\"\",0,SUMPRODUCT((Quantity_Sold_1=F3780)*Quantity_Sold_2))","v":0},{"$f":"G3780-J3780","v":0},null,null,null,{"$f":"K3780*H3780","v":0},{"$f":"IF(Inventory[[#This Row],[Item SKU/ID]]=\"\",0,SUMPRODUCT((Quantity_Sold_1=Inventory[[#This Row],[Item SKU/ID]])*Net_Profit))","v":0},{"$f":"IFERROR(AVERAGE(Inventory[[#This Row],[Total Net Profit]]/Inventory[[#This Row],[Quantity Sold]]),0)","v":0}]
[null,null,null,null,null,null,null,null,0,0,0,null,null,null,0,{"$f":"IF(Inventory[[#This Row],[Item SKU/ID]]=\"\",0,SUMPRODUCT((Quantity_Sold_1=Inventory[[#This Row],[Item SKU/ID]])*Net_Profit))","v":0},{"$f":"IFERROR(AVERAGE(Inventory[[#This Row],[Total Net Profit]]/Inventory[[#This Row],[Quantity Sold]]),0)","v":0}]
[null,null,null,null,null,null,null,null,0,0,0,null,null,null,0,{"$f":"IF(Inventory[[#This Row],[Item SKU/ID]]=\"\",0,SUMPRODUCT((Quantity_Sold_1=Inventory[[#This Row],[Item SKU/ID]])*Net_Profit))","v":0},{"$f":"IFERROR(AVERAGE(Inventory[[#This Row],[Total Net Profit]]/Inventory[[#This Row],[Quantity Sold]]),0)","v":0}]
[null,null,null,null,null,null,null,null,0,0,0,null,null,null,0,{"$f":"IF(Inventory[[#This Row],[Item SKU/ID]]=\"\",0,SUMPRODUCT((Quantity_Sold_1=Inventory[[#This Row],[Item SKU/ID]])*Net_Profit))","v":0},{"$f":"IFERROR(AVERAGE(Inventory[[#This Row],[Total Net Profit]]/Inventory[[#This Row],[Quantity Sold]]),0)","v":0}]
[null,null,null,null,null,null,null,null,0,0,0,null,null,null,0,{"$f":"IF(Inventory[[#This Row],[Item SKU/ID]]=\"\",0,SUMPRODUCT((Quantity_Sold_1=Inventory[[#This Row],[Item SKU/ID]])*Net_Profit))","v":0},{"$f":"IFERROR(AVERAGE(Inventory[[#This Row],[Total Net Profit]]/Inventory[[#This Row],[Quantity Sold]]),0)","v":0}]
[null,null,null,null,null,null,null,null,0,0,0,null,null,null,0,{"$f":"IF(Inventory[[#This Row],[Item SKU/ID]]=\"\",0,SUMPRODUCT((Quantity_Sold_1=Inventory[[#This Row],[Item SKU/ID]])*Net_Profit))","v":0},{"$f":"IFERROR(AVERAGE(Inventory[[#This Row],[Total Net Profit]]/Inventory[[#This Row],[Quantity Sold]]),0)","v":0}]
[null,null,null,null,null,null,null,null,0,0,0,null,null,null,0,{"$f":"IF(Inventory[[#This Row],[Item SKU/ID]]=\"\",0,SUMPRODUCT((Quantity_Sold_1=Inventory[[#This Row],[Item SKU/ID]])*Net_Profit))","v":0},{"$f":"IFERROR(AVERAGE(Inventory[[#This Row],[Total Net Profit]]/Inventory[[#This Row],[Quantity Sold]]),0)","v":0}]
[null,null,null,null,null,null,null,null,0,0,0,null,null,null,0,{"$f":"IF(Inventory[[#This Row],[Item SKU/ID]]=\"\",0,SUMPRODUCT((Quantity_Sold_1=Inventory[[#This Row],[Item SKU/ID]])*Net_Profit))","v":0},{"$f":"IFERROR(AVERAGE(Inventory[[#This Row],[Total Net Profit]]/Inventory[[#This Row],[Quantity Sold]]),0)","v":0}]
[null,null,null,null,null,null,null,null,0,0,0,null,null,null,0,{"$f":"IF(Inventory[[#This Row],[Item SKU/ID]]=\"\",0,SUMPRODUCT((Quantity_Sold_1=Inventory[[#This Row],[Item SKU/ID]])*Net_Profit))","v":0},{"$f":"IFERROR(AVERAGE(Inventory[[#This Row],[Total Net Profit]]/Inventory[[#This Row],[Quantity Sold]]),0)","v":0}]
[null,null,null,null,null,null,null,null,0,0,0,null,null,null,0,{"$f":"IF(Inventory[[#This Row],[Item SKU/ID]]=\"\",0,SUMPRODUCT((Quantity_Sold_1=Inventory[[#This Row],[Item SKU/ID]])*Net_Profit))","v":0},{"$f":"IFERROR(AVERAGE(Inventory[[#This Row],[Total Net Profit]]/Inventory[[#This Row],[Quantity Sold]]),0)","v":0}]
[null,null,null,null,null,null,null,null,0,0,0,null,null,null,0,{"$f":"IF(Inventory[[#This Row],[Item SKU/ID]]=\"\",0,SUMPRODUCT((Quantity_Sold_1=Inventory[[#This Row],[Item SKU/ID]])*Net_Profit))","v":0},{"$f":"IFERROR(AVERAGE(Inventory[[#This Row],[Total Net Profit]]/Inventory[[#This Row],[Quantity Sold]]),0)","v":0}]
[null,null,null,null,null,null,null,null,0,0,0,null,null,null,0,{"$f":"IF(Inventory[[#This Row],[Item SKU/ID]]=\"\",0,SUMPRODUCT((Quantity_Sold_1=Inventory[[#This Row],[Item SKU/ID]])*Net_Profit))","v":0},{"$f":"IFERROR(AVERAGE(Inventory[[#This Row],[Total Net Profit]]/Inventory[[#This Row],[Quantity Sold]]),0)","v":0}]
[null,null,null,null,null,null,null,null,0,0,0,null,null,null,0,{"$f":"IF(Inventory[[#This Row],[Item SKU/ID]]=\"\",0,SUMPRODUCT((Quantity_Sold_1=Inventory[[#This Row],[Item SKU/ID]])*Net_Profit))","v":0},{"$f":"IFERROR(AVERAGE(Inventory[[#This Row],[Total Net Profit]]/Inventory[[#This Row],[Quantity Sold]]),0)","v":0}]
[null,null,null,null,null,null,null,null,0,0,0,null,null,null,0,{"$f":"IF(Inventory[[#This Row],[Item SKU/ID]]=\"\",0,SUMPRODUCT((Quantity_Sold_1=Inventory[[#This Row],[Item SKU/ID]])*Net_Profit))","v":0},{"$f":"IFERROR(AVERAGE(Inventory[[#This Row],[Total Net Profit]]/Inventory[[#This Row],[Quantity Sold]]),0)","v":0}]
[null,null,null,null,null,null,null,null,0,0,0,null,null,null,0,{"$f":"IF(Inventory[[#This Row],[Item SKU/ID]]=\"\",0,SUMPRODUCT((Quantity_Sold_1=Inventory[[#This Row],[Item SKU/ID]])*Net_Profit))","v":0},{"$f":"IFERROR(AVERAGE(Inventory[[#This Row],[Total Net Profit]]/Inventory[[#This Row],[Quantity Sold]]),0)","v":0}]
[null,null,null,null,null,null,null,null,0,0,0,null,null,null,0,{"$f":"IF(Inventory[[#This Row],[Item SKU/ID]]=\"\",0,SUMPRODUCT((Quantity_Sold_1=Inventory[[#This Row],[Item SKU/ID]])*Net_Profit))","v":0},{"$f":"IFERROR(AVERAGE(Inventory[[#This Row],[Total Net Profit]]/Inventory[[#This Row],[Quantity Sold]]),0)","v":0}]
[null,null,null,null,null,null,null,null,0,0,0,null,null,null,0,{"$f":"IF(Inventory[[#This Row],[Item SKU/ID]]=\"\",0,SUMPRODUCT((Quantity_Sold_1=Inventory[[#This Row],[Item SKU/ID]])*Net_Profit))","v":0},{"$f":"IFERROR(AVERAGE(Inventory[[#This Row],[Total Net Profit]]/Inventory[[#This Row],[Quantity Sold]]),0)","v":0}]
[null,null,null,null,null,null,null,null,0,0,0,null,null,null,0,{"$f":"IF(Inventory[[#This Row],[Item SKU/ID]]=\"\",0,SUMPRODUCT((Quantity_Sold_1=Inventory[[#This Row],[Item SKU/ID]])*Net_Profit))","v":0},{"$f":"IFERROR(AVERAGE(Inventory[[#This Row],[Total Net Profit]]/Inventory[[#This Row],[Quantity Sold]]),0)","v":0}]
[null,null,null,null,null,null,null,null,0,0,0,null,null,null,0,{"$f":"IF(Inventory[[#This Row],[Item SKU/ID]]=\"\",0,SUMPRODUCT((Quantity_Sold_1=Inventory[[#This Row],[Item SKU/ID]])*Net_Profit))","v":0},{"$f":"IFERROR(AVERAGE(Inventory[[#This Row],[Total Net Profit]]/Inventory[[#This Row],[Quantity Sold]]),0)","v":0}]
[null,null,null,null,null,null,null,null,0,0,0,null,null,null,0,{"$f":"IF(Inventory[[#This Row],[Item SKU/ID]]=\"\",0,SUMPRODUCT((Quantity_Sold_1=Inventory[[#This Row],[Item SKU/ID]])*Net_Profit))","v":0},{"$f":"IFERROR(AVERAGE(Inventory[[#This Row],[Total Net Profit]]/Inventory[[#This Row],[Quantity Sold]]),0)","v":0}]
[null,null,null,null,null,null,null,null,0,0,0,null,null,null,0,{"$f":"IF(Inventory[[#This Row],[Item SKU/ID]]=\"\",0,SUMPRODUCT((Quantity_Sold_1=Inventory[[#This Row],[Item SKU/ID]])*Net_Profit))","v":0},{"$f":"IFERROR(AVERAGE(Inventory[[#This Row],[Total Net Profit]]/Inventory[[#This Row],[Quantity Sold]]),0)","v":0}]
[null,null,null,null,null,null,null,null,0,0,0,null,null,null,0,{"$f":"IF(Inventory[[#This Row],[Item SKU/ID]]=\"\",0,SUMPRODUCT((Quantity_Sold_1=Inventory[[#This Row],[Item SKU/ID]])*Net_Profit))","v":0},{"$f":"IFERROR(AVERAGE(Inventory[[#This Row],[Total Net Profit]]/Inventory[[#This Row],[Quantity Sold]]),0)","v":0}]
[null,null,null,null,null,null,null,null,0,0,0,null,null,null,0,{"$f":"IF(Inventory[[#This Row],[Item SKU/ID]]=\"\",0,SUMPRODUCT((Quantity_Sold_1=Inventory[[#This Row],[Item SKU/ID]])*Net_Profit))","v":0},{"$f":"IFERROR(AVERAGE(Inventory[[#This Row],[Total Net Profit]]/Inventory[[#This Row],[Quantity Sold]]),0)","v":0}]
[null,null,null,null,null,null,null,null,0,0,0,null,null,null,0,{"$f":"IF(Inventory[[#This Row],[Item SKU/ID]]=\"\",0,SUMPRODUCT((Quantity_Sold_1=Inventory[[#This Row],[Item SKU/ID]])*Net_Profit))","v":0},{"$f":"IFERROR(AVERAGE(Inventory[[#This Row],[Total Net Profit]]/Inventory[[#This Row],[Quantity Sold]]),0)","v":0}]
[null,null,null,null,null,null,null,null,0,0,0,null,null,null,0,{"$f":"IF(Inventory[[#This Row],[Item SKU/ID]]=\"\",0,SUMPRODUCT((Quantity_Sold_1=Inventory[[#This Row],[Item SKU/ID]])*Net_Profit))","v":0},{"$f":"IFERROR(AVERAGE(Inventory[[#This Row],[Total Net Profit]]/Inventory[[#This Row],[Quantity Sold]]),0)","v":0}]
[null,null,null,null,null,null,null,null,0,0,0,null,null,null,0,{"$f":"IF(Inventory[[#This Row],[Item SKU/ID]]=\"\",0,SUMPRODUCT((Quantity_Sold_1=Inventory[[#This Row],[Item SKU/ID]])*Net_Profit))","v":0},{"$f":"IFERROR(AVERAGE(Inventory[[#This Row],[Total Net Profit]]/Inventory[[#This Row],[Quantity Sold]]),0)","v":0}]
[null,null,null,null,null,null,null,null,0,0,0,null,null,null,0,{"$f":"IF(Inventory[[#This Row],[Item SKU/ID]]=\"\",0,SUMPRODUCT((Quantity_Sold_1=Inventory[[#This Row],[Item SKU/ID]])*Net_Profit))","v":0},{"$f":"IFERROR(AVERAGE(Inventory[[#This Row],[Total Net Profit]]/Inventory[[#This Row],[Quantity Sold]]),0)","v":0}]
[null,null,null,null,null,null,null,null,0,0,0,null,null,null,0,{"$f":"IF(Inventory[[#This Row],[Item SKU/ID]]=\"\",0,SUMPRODUCT((Quantity_Sold_1=Inventory[[#This Row],[Item SKU/ID]])*Net_Profit))","v":0},{"$f":"IFERROR(AVERAGE(Inventory[[#This Row],[Total Net Profit]]/Inventory[[#This Row],[Quantity Sold]]),0)","v":0}]
[null,null,null,null,null,null,null,null,0,0,0,null,null,null,0,{"$f":"IF(Inventory[[#This Row],[Item SKU/ID]]=\"\",0,SUMPRODUCT((Quantity_Sold_1=Inventory[[#This Row],[Item SKU/ID]])*Net_Profit))","v":0},{"$f":"IFERROR(AVERAGE(Inventory[[#This Row],[Total Net Profit]]/Inventory[[#This Row],[Quantity Sold]]),0)","v":0}]
[null,null,null,null,null,null,null,null,0,0,0,null,null,null,0,{"$f":"IF(Inventory[[#This Row],[Item SKU/ID]]=\"\",0,SUMPRODUCT((Quantity_Sold_1=Inventory[[#This Row],[Item SKU/ID]])*Net_Profit))","v":0},{"$f":"IFERROR(AVERAGE(Inventory[[#This Row],[Total Net Profit]]/Inventory[[#This Row],[Quantity Sold]]),0)","v":0}]
[null,null,null,null,null,null,null,null,0,0,0,null,null,null,0,{"$f":"IF(Inventory[[#This Row],[Item SKU/ID]]=\"\",0,SUMPRODUCT((Quantity_Sold_1=Inventory[[#This Row],[Item SKU/ID]])*Net_Profit))","v":0},{"$f":"IFERROR(AVERAGE(Inventory[[#This Row],[Total Net Profit]]/Inventory[[#This Row],[Quantity Sold]]),0)","v":0}]
[null,null,null,null,null,null,null,null,0,0,0,null,null,null,0,{"$f":"IF(Inventory[[#This Row],[Item SKU/ID]]=\"\",0,SUMPRODUCT((Quantity_Sold_1=Inventory[[#This Row],[Item SKU/ID]])*Net_Profit))","v":0},{"$f":"IFERROR(AVERAGE(Inventory[[#This Row],[Total Net Profit]]/Inventory[[#This Row],[Quantity Sold]]),0)","v":0}]
[null,null,null,null,null,null,null,null,0,0,0,null,null,null,0,{"$f":"IF(Inventory[[#This Row],[Item SKU/ID]]=\"\",0,SUMPRODUCT((Quantity_Sold_1=Inventory[[#This Row],[Item SKU/ID]])*Net_Profit))","v":0},{"$f":"IFERROR(AVERAGE(Inventory[[#This Row],[Total Net Profit]]/Inventory[[#This Row],[Quantity Sold]]),0)","v":0}]
[null,null,null,null,null,null,null,null,0,0,0,null,null,null,0,{"$f":"IF(Inventory[[#This Row],[Item SKU/ID]]=\"\",0,SUMPRODUCT((Quantity_Sold_1=Inventory[[#This Row],[Item SKU/ID]])*Net_Profit))","v":0},{"$f":"IFERROR(AVERAGE(Inventory[[#This Row],[Total Net Profit]]/Inventory[[#This Row],[Quantity Sold]]),0)","v":0}]
[null,null,null,null,null,null,null,null,0,0,0,null,null,null,0,{"$f":"IF(Inventory[[#This Row],[Item SKU/ID]]=\"\",0,SUMPRODUCT((Quantity_Sold_1=Inventory[[#This Row],[Item SKU/ID]])*Net_Profit))","v":0},{"$f":"IFERROR(AVERAGE(Inventory[[#This Row],[Total Net Profit]]/Inventory[[#This Row],[Quantity Sold]]),0)","v":0}]
[null,null,null,null,null,null,null,null,0,0,0,null,null,null,0,{"$f":"IF(Inventory[[#This Row],[Item SKU/ID]]=\"\",0,SUMPRODUCT((Quantity_Sold_1=Inventory[[#This Row],[Item SKU/ID]])*Net_Profit))","v":0},{"$f":"IFERROR(AVERAGE(Inventory[[#This Row],[Total Net Profit]]/Inventory[[#This Row],[Quantity Sold]]),0)","v":0}]
[null,null,null,null,null,null,null,null,0,0,0,null,null,null,0,{"$f":"IF(Inventory[[#This Row],[Item SKU/ID]]=\"\",0,SUMPRODUCT((Quantity_Sold_1=Inventory[[#This Row],[Item SKU/ID]])*Net_Profit))","v":0},{"$f":"IFERROR(AVERAGE(Inventory[[#This Row],[Total Net Profit]]/Inventory[[#This Row],[Quantity Sold]]),0)","v":0}]
[null,null,null,null,null,null,null,null,0,0,0,null,null,null,0,{"$f":"IF(Inventory[[#This Row],[Item SKU/ID]]=\"\",0,SUMPRODUCT((Quantity_Sold_1=Inventory[[#This Row],[Item SKU/ID]])*Net_Profit))","v":0},{"$f":"IFERROR(AVERAGE(Inventory[[#This Row],[Total Net Profit]]/Inventory[[#This Row],[Quantity Sold]]),0)","v":0}]
[null,null,null,null,null,null,null,null,0,0,0,null,null,null,0,{"$f":"IF(Inventory[[#This Row],[Item SKU/ID]]=\"\",0,SUMPRODUCT((Quantity_Sold_1=Inventory[[#This Row],[Item SKU/ID]])*Net_Profit))","v":0},{"$f":"IFERROR(AVERAGE(Inventory[[#This Row],[Total Net Profit]]/Inventory[[#This Row],[Quantity Sold]]),0)","v":0}]
[null,null,null,null,null,null,null,null,0,0,0,null,null,null,0,{"$f":"IF(Inventory[[#This Row],[Item SKU/ID]]=\"\",0,SUMPRODUCT((Quantity_Sold_1=Inventory[[#This Row],[Item SKU/ID]])*Net_Profit))","v":0},{"$f":"IFERROR(AVERAGE(Inventory[[#This Row],[Total Net Profit]]/Inventory[[#This Row],[Quantity Sold]]),0)","v":0}]
[null,null,null,null,null,null,null,null,0,0,0,null,null,null,0,{"$f":"IF(Inventory[[#This Row],[Item SKU/ID]]=\"\",0,SUMPRODUCT((Quantity_Sold_1=Inventory[[#This Row],[Item SKU/ID]])*Net_Profit))","v":0},{"$f":"IFERROR(AVERAGE(Inventory[[#This Row],[Total Net Profit]]/Inventory[[#This Row],[Quantity Sold]]),0)","v":0}]
[null,null,null,null,null,null,null,null,0,0,0,null,null,null,0,{"$f":"IF(Inventory[[#This Row],[Item SKU/ID]]=\"\",0,SUMPRODUCT((Quantity_Sold_1=Inventory[[#This Row],[Item SKU/ID]])*Net_Profit))","v":0},{"$f":"IFERROR(AVERAGE(Inventory[[#This Row],[Total Net Profit]]/Inventory[[#This Row],[Quantity Sold]]),0)","v":0}]
[null,null,null,null,null,null,null,null,0,0,0,null,null,null,0,{"$f":"IF(Inventory[[#This Row],[Item SKU/ID]]=\"\",0,SUMPRODUCT((Quantity_Sold_1=Inventory[[#This Row],[Item SKU/ID]])*Net_Profit))","v":0},{"$f":"IFERROR(AVERAGE(Inventory[[#This Row],[Total Net Profit]]/Inventory[[#This Row],[Quantity Sold]]),0)","v":0}]
[null,null,null,null,null,null,null,null,0,0,0,null,null,null,0,{"$f":"IF(Inventory[[#This Row],[Item SKU/ID]]=\"\",0,SUMPRODUCT((Quantity_Sold_1=Inventory[[#This Row],[Item SKU/ID]])*Net_Profit))","v":0},{"$f":"IFERROR(AVERAGE(Inventory[[#This Row],[Total Net Profit]]/Inventory[[#This Row],[Quantity Sold]]),0)","v":0}]
[null,null,null,null,null,null,null,null,0,0,0,null,null,null,0,{"$f":"IF(Inventory[[#This Row],[Item SKU/ID]]=\"\",0,SUMPRODUCT((Quantity_Sold_1=Inventory[[#This Row],[Item SKU/ID]])*Net_Profit))","v":0},{"$f":"IFERROR(AVERAGE(Inventory[[#This Row],[Total Net Profit]]/Inventory[[#This Row],[Quantity Sold]]),0)","v":0}]
[null,null,null,null,null,null,null,null,0,0,0,null,null,null,0,{"$f":"IF(Inventory[[#This Row],[Item SKU/ID]]=\"\",0,SUMPRODUCT((Quantity_Sold_1=Inventory[[#This Row],[Item SKU/ID]])*Net_Profit))","v":0},{"$f":"IFERROR(AVERAGE(Inventory[[#This Row],[Total Net Profit]]/Inventory[[#This Row],[Quantity Sold]]),0)","v":0}]
[null,null,null,null,null,null,null,null,0,0,0,null,null,null,0,{"$f":"IF(Inventory[[#This Row],[Item SKU/ID]]=\"\",0,SUMPRODUCT((Quantity_Sold_1=Inventory[[#This Row],[Item SKU/ID]])*Net_Profit))","v":0},{"$f":"IFERROR(AVERAGE(Inventory[[#This Row],[Total Net Profit]]/Inventory[[#This Row],[Quantity Sold]]),0)","v":0}]
[null,null,null,null,null,null,null,null,0,0,0,null,null,null,0,{"$f":"IF(Inventory[[#This Row],[Item SKU/ID]]=\"\",0,SUMPRODUCT((Quantity_Sold_1=Inventory[[#This Row],[Item SKU/ID]])*Net_Profit))","v":0},{"$f":"IFERROR(AVERAGE(Inventory[[#This Row],[Total Net Profit]]/Inventory[[#This Row],[Quantity Sold]]),0)","v":0}]
[null,null,null,null,null,null,null,null,0,0,0,null,null,null,0,{"$f":"IF(Inventory[[#This Row],[Item SKU/ID]]=\"\",0,SUMPRODUCT((Quantity_Sold_1=Inventory[[#This Row],[Item SKU/ID]])*Net_Profit))","v":0},{"$f":"IFERROR(AVERAGE(Inventory[[#This Row],[Total Net Profit]]/Inventory[[#This Row],[Quantity Sold]]),0)","v":0}]
[null,null,null,null,null,null,null,null,0,0,0,null,null,null,0,{"$f":"IF(Inventory[[#This Row],[Item SKU/ID]]=\"\",0,SUMPRODUCT((Quantity_Sold_1=Inventory[[#This Row],[Item SKU/ID]])*Net_Profit))","v":0},{"$f":"IFERROR(AVERAGE(Inventory[[#This Row],[Total Net Profit]]/Inventory[[#This Row],[Quantity Sold]]),0)","v":0}]
[null,null,null,null,null,null,null,null,0,0,0,null,null,null,0,{"$f":"IF(Inventory[[#This Row],[Item SKU/ID]]=\"\",0,SUMPRODUCT((Quantity_Sold_1=Inventory[[#This Row],[Item SKU/ID]])*Net_Profit))","v":0},{"$f":"IFERROR(AVERAGE(Inventory[[#This Row],[Total Net Profit]]/Inventory[[#This Row],[Quantity Sold]]),0)","v":0}]
[null,null,null,null,null,null,null,null,0,0,0,null,null,null,0,{"$f":"IF(Inventory[[#This Row],[Item SKU/ID]]=\"\",0,SUMPRODUCT((Quantity_Sold_1=Inventory[[#This Row],[Item SKU/ID]])*Net_Profit))","v":0},{"$f":"IFERROR(AVERAGE(Inventory[[#This Row],[Total Net Profit]]/Inventory[[#This Row],[Quantity Sold]]),0)","v":0}]
[null,null,null,null,null,null,null,null,0,0,0,null,null,null,0,{"$f":"IF(Inventory[[#This Row],[Item SKU/ID]]=\"\",0,SUMPRODUCT((Quantity_Sold_1=Inventory[[#This Row],[Item SKU/ID]])*Net_Profit))","v":0},{"$f":"IFERROR(AVERAGE(Inventory[[#This Row],[Total Net Profit]]/Inventory[[#This Row],[Quantity Sold]]),0)","v":0}]
[null,null,null,null,null,null,null,null,0,0,0,null,null,null,0,{"$f":"IF(Inventory[[#This Row],[Item SKU/ID]]=\"\",0,SUMPRODUCT((Quantity_Sold_1=Inventory[[#This Row],[Item SKU/ID]])*Net_Profit))","v":0},{"$f":"IFERROR(AVERAGE(Inventory[[#This Row],[Total Net Profit]]/Inventory[[#This Row],[Quantity Sold]]),0)","v":0}]
[null,null,null,null,null,null,null,null,0,0,0,null,null,null,0,{"$f":"IF(Inventory[[#This Row],[Item SKU/ID]]=\"\",0,SUMPRODUCT((Quantity_Sold_1=Inventory[[#This Row],[Item SKU/ID]])*Net_Profit))","v":0},{"$f":"IFERROR(AVERAGE(Inventory[[#This Row],[Total Net Profit]]/Inventory[[#This Row],[Quantity Sold]]),0)","v":0}]
[null,null,null,null,null,null,null,null,0,0,0,null,null,null,0,{"$f":"IF(Inventory[[#This Row],[Item SKU/ID]]=\"\",0,SUMPRODUCT((Quantity_Sold_1=Inventory[[#This Row],[Item SKU/ID]])*Net_Profit))","v":0},{"$f":"IFERROR(AVERAGE(Inventory[[#This Row],[Total Net Profit]]/Inventory[[#This Row],[Quantity Sold]]),0)","v":0}]
[null,null,null,null,null,null,null,null,0,0,0,null,null,null,0,{"$f":"IF(Inventory[[#This Row],[Item SKU/ID]]=\"\",0,SUMPRODUCT((Quantity_Sold_1=Inventory[[#This Row],[Item SKU/ID]])*Net_Profit))","v":0},{"$f":"IFERROR(AVERAGE(Inventory[[#This Row],[Total Net Profit]]/Inventory[[#This Row],[Quantity Sold]]),0)","v":0}]
[null,null,null,null,null,null,null,null,0,0,0,null,null,null,0,{"$f":"IF(Inventory[[#This Row],[Item SKU/ID]]=\"\",0,SUMPRODUCT((Quantity_Sold_1=Inventory[[#This Row],[Item SKU/ID]])*Net_Profit))","v":0},{"$f":"IFERROR(AVERAGE(Inventory[[#This Row],[Total Net Profit]]/Inventory[[#This Row],[Quantity Sold]]),0)","v":0}]
[null,null,null,null,null,null,null,null,0,0,0,null,null,null,0,{"$f":"IF(Inventory[[#This Row],[Item SKU/ID]]=\"\",0,SUMPRODUCT((Quantity_Sold_1=Inventory[[#This Row],[Item SKU/ID]])*Net_Profit))","v":0},{"$f":"IFERROR(AVERAGE(Inventory[[#This Row],[Total Net Profit]]/Inventory[[#This Row],[Quantity Sold]]),0)","v":0}]
[null,null,null,null,null,null,null,null,0,0,0,null,null,null,0,{"$f":"IF(Inventory[[#This Row],[Item SKU/ID]]=\"\",0,SUMPRODUCT((Quantity_Sold_1=Inventory[[#This Row],[Item SKU/ID]])*Net_Profit))","v":0},{"$f":"IFERROR(AVERAGE(Inventory[[#This Row],[Total Net Profit]]/Inventory[[#This Row],[Quantity Sold]]),0)","v":0}]
[null,null,null,null,null,null,null,null,0,0,0,null,null,null,0,{"$f":"IF(Inventory[[#This Row],[Item SKU/ID]]=\"\",0,SUMPRODUCT((Quantity_Sold_1=Inventory[[#This Row],[Item SKU/ID]])*Net_Profit))","v":0},{"$f":"IFERROR(AVERAGE(Inventory[[#This Row],[Total Net Profit]]/Inventory[[#This Row],[Quantity Sold]]),0)","v":0}]
[null,null,null,null,null,null,null,null,0,0,0,null,null,null,0,{"$f":"IF(Inventory[[#This Row],[Item SKU/ID]]=\"\",0,SUMPRODUCT((Quantity_Sold_1=Inventory[[#This Row],[Item SKU/ID]])*Net_Profit))","v":0},{"$f":"IFERROR(AVERAGE(Inventory[[#This Row],[Total Net Profit]]/Inventory[[#This Row],[Quantity Sold]]),0)","v":0}]
[null,null,null,null,null,null,null,null,0,0,0,null,null,null,0,{"$f":"IF(Inventory[[#This Row],[Item SKU/ID]]=\"\",0,SUMPRODUCT((Quantity_Sold_1=Inventory[[#This Row],[Item SKU/ID]])*Net_Profit))","v":0},{"$f":"IFERROR(AVERAGE(Inventory[[#This Row],[Total Net Profit]]/Inventory[[#This Row],[Quantity Sold]]),0)","v":0}]
[null,null,null,null,null,null,null,null,0,0,0,null,null,null,0,{"$f":"IF(Inventory[[#This Row],[Item SKU/ID]]=\"\",0,SUMPRODUCT((Quantity_Sold_1=Inventory[[#This Row],[Item SKU/ID]])*Net_Profit))","v":0},{"$f":"IFERROR(AVERAGE(Inventory[[#This Row],[Total Net Profit]]/Inventory[[#This Row],[Quantity Sold]]),0)","v":0}]
[null,null,null,null,null,null,null,null,{"$f":"K3844*H3844","v":0},{"$f":"IF(F3844=\"\",0,SUMPRODUCT((Quantity_Sold_1=F3844)*Quantity_Sold_2))","v":0},{"$f":"G3844-J3844","v":0},null,null,null,{"$f":"K3844*H3844","v":0},{"$f":"IF(Inventory[[#This Row],[Item SKU/ID]]=\"\",0,SUMPRODUCT((Quantity_Sold_1=Inventory[[#This Row],[Item SKU/ID]])*Net_Profit))","v":0},{"$f":"IFERROR(AVERAGE(Inventory[[#This Row],[Total Net Profit]]/Inventory[[#This Row],[Quantity Sold]]),0)","v":0}]
[null,null,null,null,null,null,null,null,0,0,0,null,null,null,0,{"$f":"IF(Inventory[[#This Row],[Item SKU/ID]]=\"\",0,SUMPRODUCT((Quantity_Sold_1=Inventory[[#This Row],[Item SKU/ID]])*Net_Profit))","v":0},{"$f":"IFERROR(AVERAGE(Inventory[[#This Row],[Total Net Profit]]/Inventory[[#This Row],[Quantity Sold]]),0)","v":0}]
[null,null,null,null,null,null,null,null,0,0,0,null,null,null,0,{"$f":"IF(Inventory[[#This Row],[Item SKU/ID]]=\"\",0,SUMPRODUCT((Quantity_Sold_1=Inventory[[#This Row],[Item SKU/ID]])*Net_Profit))","v":0},{"$f":"IFERROR(AVERAGE(Inventory[[#This Row],[Total Net Profit]]/Inventory[[#This Row],[Quantity Sold]]),0)","v":0}]
[null,null,null,null,null,null,null,null,0,0,0,null,null,null,0,{"$f":"IF(Inventory[[#This Row],[Item SKU/ID]]=\"\",0,SUMPRODUCT((Quantity_Sold_1=Inventory[[#This Row],[Item SKU/ID]])*Net_Profit))","v":0},{"$f":"IFERROR(AVERAGE(Inventory[[#This Row],[Total Net Profit]]/Inventory[[#This Row],[Quantity Sold]]),0)","v":0}]
[null,null,null,null,null,null,null,null,0,0,0,null,null,null,0,{"$f":"IF(Inventory[[#This Row],[Item SKU/ID]]=\"\",0,SUMPRODUCT((Quantity_Sold_1=Inventory[[#This Row],[Item SKU/ID]])*Net_Profit))","v":0},{"$f":"IFERROR(AVERAGE(Inventory[[#This Row],[Total Net Profit]]/Inventory[[#This Row],[Quantity Sold]]),0)","v":0}]
[null,null,null,null,null,null,null,null,0,0,0,null,null,null,0,{"$f":"IF(Inventory[[#This Row],[Item SKU/ID]]=\"\",0,SUMPRODUCT((Quantity_Sold_1=Inventory[[#This Row],[Item SKU/ID]])*Net_Profit))","v":0},{"$f":"IFERROR(AVERAGE(Inventory[[#This Row],[Total Net Profit]]/Inventory[[#This Row],[Quantity Sold]]),0)","v":0}]
[null,null,null,null,null,null,null,null,0,0,0,null,null,null,0,{"$f":"IF(Inventory[[#This Row],[Item SKU/ID]]=\"\",0,SUMPRODUCT((Quantity_Sold_1=Inventory[[#This Row],[Item SKU/ID]])*Net_Profit))","v":0},{"$f":"IFERROR(AVERAGE(Inventory[[#This Row],[Total Net Profit]]/Inventory[[#This Row],[Quantity Sold]]),0)","v":0}]
[null,null,null,null,null,null,null,null,0,0,0,null,null,null,0,{"$f":"IF(Inventory[[#This Row],[Item SKU/ID]]=\"\",0,SUMPRODUCT((Quantity_Sold_1=Inventory[[#This Row],[Item SKU/ID]])*Net_Profit))","v":0},{"$f":"IFERROR(AVERAGE(Inventory[[#This Row],[Total Net Profit]]/Inventory[[#This Row],[Quantity Sold]]),0)","v":0}]
[null,null,null,null,null,null,null,null,0,0,0,null,null,null,0,{"$f":"IF(Inventory[[#This Row],[Item SKU/ID]]=\"\",0,SUMPRODUCT((Quantity_Sold_1=Inventory[[#This Row],[Item SKU/ID]])*Net_Profit))","v":0},{"$f":"IFERROR(AVERAGE(Inventory[[#This Row],[Total Net Profit]]/Inventory[[#This Row],[Quantity Sold]]),0)","v":0}]
[null,null,null,null,null,null,null,null,0,0,0,null,null,null,0,{"$f":"IF(Inventory[[#This Row],[Item SKU/ID]]=\"\",0,SUMPRODUCT((Quantity_Sold_1=Inventory[[#This Row],[Item SKU/ID]])*Net_Profit))","v":0},{"$f":"IFERROR(AVERAGE(Inventory[[#This Row],[Total Net Profit]]/Inventory[[#This Row],[Quantity Sold]]),0)","v":0}]
[null,null,null,null,null,null,null,null,0,0,0,null,null,null,0,{"$f":"IF(Inventory[[#This Row],[Item SKU/ID]]=\"\",0,SUMPRODUCT((Quantity_Sold_1=Inventory[[#This Row],[Item SKU/ID]])*Net_Profit))","v":0},{"$f":"IFERROR(AVERAGE(Inventory[[#This Row],[Total Net Profit]]/Inventory[[#This Row],[Quantity Sold]]),0)","v":0}]
[null,null,null,null,null,null,null,null,0,0,0,null,null,null,0,{"$f":"IF(Inventory[[#This Row],[Item SKU/ID]]=\"\",0,SUMPRODUCT((Quantity_Sold_1=Inventory[[#This Row],[Item SKU/ID]])*Net_Profit))","v":0},{"$f":"IFERROR(AVERAGE(Inventory[[#This Row],[Total Net Profit]]/Inventory[[#This Row],[Quantity Sold]]),0)","v":0}]
[null,null,null,null,null,null,null,null,0,0,0,null,null,null,0,{"$f":"IF(Inventory[[#This Row],[Item SKU/ID]]=\"\",0,SUMPRODUCT((Quantity_Sold_1=Inventory[[#This Row],[Item SKU/ID]])*Net_Profit))","v":0},{"$f":"IFERROR(AVERAGE(Inventory[[#This Row],[Total Net Profit]]/Inventory[[#This Row],[Quantity Sold]]),0)","v":0}]
[null,null,null,null,null,null,null,null,0,0,0,null,null,null,0,{"$f":"IF(Inventory[[#This Row],[Item SKU/ID]]=\"\",0,SUMPRODUCT((Quantity_Sold_1=Inventory[[#This Row],[Item SKU/ID]])*Net_Profit))","v":0},{"$f":"IFERROR(AVERAGE(Inventory[[#This Row],[Total Net Profit]]/Inventory[[#This Row],[Quantity Sold]]),0)","v":0}]
[null,null,null,null,null,null,null,null,0,0,0,null,null,null,0,{"$f":"IF(Inventory[[#This Row],[Item SKU/ID]]=\"\",0,SUMPRODUCT((Quantity_Sold_1=Inventory[[#This Row],[Item SKU/ID]])*Net_Profit))","v":0},{"$f":"IFERROR(AVERAGE(Inventory[[#This Row],[Total Net Profit]]/Inventory[[#This Row],[Quantity Sold]]),0)","v":0}]
[null,null,null,null,null,null,null,null,0,0,0,null,null,null,0,{"$f":"IF(Inventory[[#This Row],[Item SKU/ID]]=\"\",0,SUMPRODUCT((Quantity_Sold_1=Inventory[[#This Row],[Item SKU/ID]])*Net_Profit))","v":0},{"$f":"IFERROR(AVERAGE(Inventory[[#This Row],[Total Net Profit]]/Inventory[[#This Row],[Quantity Sold]]),0)","v":0}]
[null,null,null,null,null,null,null,null,0,0,0,null,null,null,0,{"$f":"IF(Inventory[[#This Row],[Item SKU/ID]]=\"\",0,SUMPRODUCT((Quantity_Sold_1=Inventory[[#This Row],[Item SKU/ID]])*Net_Profit))","v":0},{"$f":"IFERROR(AVERAGE(Inventory[[#This Row],[Total Net Profit]]/Inventory[[#This Row],[Quantity Sold]]),0)","v":0}]
[null,null,null,null,null,null,null,null,0,0,0,null,null,null,0,{"$f":"IF(Inventory[[#This Row],[Item SKU/ID]]=\"\",0,SUMPRODUCT((Quantity_Sold_1=Inventory[[#This Row],[Item SKU/ID]])*Net_Profit))","v":0},{"$f":"IFERROR(AVERAGE(Inventory[[#This Row],[Total Net Profit]]/Inventory[[#This Row],[Quantity Sold]]),0)","v":0}]
[null,null,null,null,null,null,null,null,0,0,0,null,null,null,0,{"$f":"IF(Inventory[[#This Row],[Item SKU/ID]]=\"\",0,SUMPRODUCT((Quantity_Sold_1=Inventory[[#This Row],[Item SKU/ID]])*Net_Profit))","v":0},{"$f":"IFERROR(AVERAGE(Inventory[[#This Row],[Total Net Profit]]/Inventory[[#This Row],[Quantity Sold]]),0)","v":0}]
[null,null,null,null,null,null,null,null,0,0,0,null,null,null,0,{"$f":"IF(Inventory[[#This Row],[Item SKU/ID]]=\"\",0,SUMPRODUCT((Quantity_Sold_1=Inventory[[#This Row],[Item SKU/ID]])*Net_Profit))","v":0},{"$f":"IFERROR(AVERAGE(Inventory[[#This Row],[Total Net Profit]]/Inventory[[#This Row],[Quantity Sold]]),0)","v":0}]
[null,null,null,null,null,null,null,null,0,0,0,null,null,null,0,{"$f":"IF(Inventory[[#This Row],[Item SKU/ID]]=\"\",0,SUMPRODUCT((Quantity_Sold_1=Inventory[[#This Row],[Item SKU/ID]])*Net_Profit))","v":0},{"$f":"IFERROR(AVERAGE(Inventory[[#This Row],[Total Net Profit]]/Inventory[[#This Row],[Quantity Sold]]),0)","v":0}]
[null,null,null,null,null,null,null,null,0,0,0,null,null,null,0,{"$f":"IF(Inventory[[#This Row],[Item SKU/ID]]=\"\",0,SUMPRODUCT((Quantity_Sold_1=Inventory[[#This Row],[Item SKU/ID]])*Net_Profit))","v":0},{"$f":"IFERROR(AVERAGE(Inventory[[#This Row],[Total Net Profit]]/Inventory[[#This Row],[Quantity Sold]]),0)","v":0}]
[null,null,null,null,null,null,null,null,0,0,0,null,null,null,0,{"$f":"IF(Inventory[[#This Row],[Item SKU/ID]]=\"\",0,SUMPRODUCT((Quantity_Sold_1=Inventory[[#This Row],[Item SKU/ID]])*Net_Profit))","v":0},{"$f":"IFERROR(AVERAGE(Inventory[[#This Row],[Total Net Profit]]/Inventory[[#This Row],[Quantity Sold]]),0)","v":0}]
[null,null,null,null,null,null,null,null,0,0,0,null,null,null,0,{"$f":"IF(Inventory[[#This Row],[Item SKU/ID]]=\"\",0,SUMPRODUCT((Quantity_Sold_1=Inventory[[#This Row],[Item SKU/ID]])*Net_Profit))","v":0},{"$f":"IFERROR(AVERAGE(Inventory[[#This Row],[Total Net Profit]]/Inventory[[#This Row],[Quantity Sold]]),0)","v":0}]
[null,null,null,null,null,null,null,null,0,0,0,null,null,null,0,{"$f":"IF(Inventory[[#This Row],[Item SKU/ID]]=\"\",0,SUMPRODUCT((Quantity_Sold_1=Inventory[[#This Row],[Item SKU/ID]])*Net_Profit))","v":0},{"$f":"IFERROR(AVERAGE(Inventory[[#This Row],[Total Net Profit]]/Inventory[[#This Row],[Quantity Sold]]),0)","v":0}]
[null,null,null,null,null,null,null,null,0,0,0,null,null,null,0,{"$f":"IF(Inventory[[#This Row],[Item SKU/ID]]=\"\",0,SUMPRODUCT((Quantity_Sold_1=Inventory[[#This Row],[Item SKU/ID]])*Net_Profit))","v":0},{"$f":"IFERROR(AVERAGE(Inventory[[#This Row],[Total Net Profit]]/Inventory[[#This Row],[Quantity Sold]]),0)","v":0}]
[null,null,null,null,null,null,null,null,0,0,0,null,null,null,0,{"$f":"IF(Inventory[[#This Row],[Item SKU/ID]]=\"\",0,SUMPRODUCT((Quantity_Sold_1=Inventory[[#This Row],[Item SKU/ID]])*Net_Profit))","v":0},{"$f":"IFERROR(AVERAGE(Inventory[[#This Row],[Total Net Profit]]/Inventory[[#This Row],[Quantity Sold]]),0)","v":0}]
[null,null,null,null,null,null,null,null,0,0,0,null,null,null,0,{"$f":"IF(Inventory[[#This Row],[Item SKU/ID]]=\"\",0,SUMPRODUCT((Quantity_Sold_1=Inventory[[#This Row],[Item SKU/ID]])*Net_Profit))","v":0},{"$f":"IFERROR(AVERAGE(Inventory[[#This Row],[Total Net Profit]]/Inventory[[#This Row],[Quantity Sold]]),0)","v":0}]
[null,null,null,null,null,null,null,null,0,0,0,null,null,null,0,{"$f":"IF(Inventory[[#This Row],[Item SKU/ID]]=\"\",0,SUMPRODUCT((Quantity_Sold_1=Inventory[[#This Row],[Item SKU/ID]])*Net_Profit))","v":0},{"$f":"IFERROR(AVERAGE(Inventory[[#This Row],[Total Net Profit]]/Inventory[[#This Row],[Quantity Sold]]),0)","v":0}]
[null,null,null,null,null,null,null,null,0,0,0,null,null,null,0,{"$f":"IF(Inventory[[#This Row],[Item SKU/ID]]=\"\",0,SUMPRODUCT((Quantity_Sold_1=Inventory[[#This Row],[Item SKU/ID]])*Net_Profit))","v":0},{"$f":"IFERROR(AVERAGE(Inventory[[#This Row],[Total Net Profit]]/Inventory[[#This Row],[Quantity Sold]]),0)","v":0}]
[null,null,null,null,null,null,null,null,0,0,0,null,null,null,0,{"$f":"IF(Inventory[[#This Row],[Item SKU/ID]]=\"\",0,SUMPRODUCT((Quantity_Sold_1=Inventory[[#This Row],[Item SKU/ID]])*Net_Profit))","v":0},{"$f":"IFERROR(AVERAGE(Inventory[[#This Row],[Total Net Profit]]/Inventory[[#This Row],[Quantity Sold]]),0)","v":0}]
[null,null,null,null,null,null,null,null,0,0,0,null,null,null,0,{"$f":"IF(Inventory[[#This Row],[Item SKU/ID]]=\"\",0,SUMPRODUCT((Quantity_Sold_1=Inventory[[#This Row],[Item SKU/ID]])*Net_Profit))","v":0},{"$f":"IFERROR(AVERAGE(Inventory[[#This Row],[Total Net Profit]]/Inventory[[#This Row],[Quantity Sold]]),0)","v":0}]
[null,null,null,null,null,null,null,null,0,0,0,null,null,null,0,{"$f":"IF(Inventory[[#This Row],[Item SKU/ID]]=\"\",0,SUMPRODUCT((Quantity_Sold_1=Inventory[[#This Row],[Item SKU/ID]])*Net_Profit))","v":0},{"$f":"IFERROR(AVERAGE(Inventory[[#This Row],[Total Net Profit]]/Inventory[[#This Row],[Quantity Sold]]),0)","v":0}]
[null,null,null,null,null,null,null,null,0,0,0,null,null,null,0,{"$f":"IF(Inventory[[#This Row],[Item SKU/ID]]=\"\",0,SUMPRODUCT((Quantity_Sold_1=Inventory[[#This Row],[Item SKU/ID]])*Net_Profit))","v":0},{"$f":"IFERROR(AVERAGE(Inventory[[#This Row],[Total Net Profit]]/Inventory[[#This Row],[Quantity Sold]]),0)","v":0}]
[null,null,null,null,null,null,null,null,0,0,0,null,null,null,0,{"$f":"IF(Inventory[[#This Row],[Item SKU/ID]]=\"\",0,SUMPRODUCT((Quantity_Sold_1=Inventory[[#This Row],[Item SKU/ID]])*Net_Profit))","v":0},{"$f":"IFERROR(AVERAGE(Inventory[[#This Row],[Total Net Profit]]/Inventory[[#This Row],[Quantity Sold]]),0)","v":0}]
[null,null,null,null,null,null,null,null,0,0,0,null,null,null,0,{"$f":"IF(Inventory[[#This Row],[Item SKU/ID]]=\"\",0,SUMPRODUCT((Quantity_Sold_1=Inventory[[#This Row],[Item SKU/ID]])*Net_Profit))","v":0},{"$f":"IFERROR(AVERAGE(Inventory[[#This Row],[Total Net Profit]]/Inventory[[#This Row],[Quantity Sold]]),0)","v":0}]
[null,null,null,null,null,null,null,null,0,0,0,null,null,null,0,{"$f":"IF(Inventory[[#This Row],[Item SKU/ID]]=\"\",0,SUMPRODUCT((Quantity_Sold_1=Inventory[[#This Row],[Item SKU/ID]])*Net_Profit))","v":0},{"$f":"IFERROR(AVERAGE(Inventory[[#This Row],[Total Net Profit]]/Inventory[[#This Row],[Quantity Sold]]),0)","v":0}]
[null,null,null,null,null,null,null,null,0,0,0,null,null,null,0,{"$f":"IF(Inventory[[#This Row],[Item SKU/ID]]=\"\",0,SUMPRODUCT((Quantity_Sold_1=Inventory[[#This Row],[Item SKU/ID]])*Net_Profit))","v":0},{"$f":"IFERROR(AVERAGE(Inventory[[#This Row],[Total Net Profit]]/Inventory[[#This Row],[Quantity Sold]]),0)","v":0}]
[null,null,null,null,null,null,null,null,0,0,0,null,null,null,0,{"$f":"IF(Inventory[[#This Row],[Item SKU/ID]]=\"\",0,SUMPRODUCT((Quantity_Sold_1=Inventory[[#This Row],[Item SKU/ID]])*Net_Profit))","v":0},{"$f":"IFERROR(AVERAGE(Inventory[[#This Row],[Total Net Profit]]/Inventory[[#This Row],[Quantity Sold]]),0)","v":0}]
[null,null,null,null,null,null,null,null,0,0,0,null,null,null,0,{"$f":"IF(Inventory[[#This Row],[Item SKU/ID]]=\"\",0,SUMPRODUCT((Quantity_Sold_1=Inventory[[#This Row],[Item SKU/ID]])*Net_Profit))","v":0},{"$f":"IFERROR(AVERAGE(Inventory[[#This Row],[Total Net Profit]]/Inventory[[#This Row],[Quantity Sold]]),0)","v":0}]
[null,null,null,null,null,null,null,null,0,0,0,null,null,null,0,{"$f":"IF(Inventory[[#This Row],[Item SKU/ID]]=\"\",0,SUMPRODUCT((Quantity_Sold_1=Inventory[[#This Row],[Item SKU/ID]])*Net_Profit))","v":0},{"$f":"IFERROR(AVERAGE(Inventory[[#This Row],[Total Net Profit]]/Inventory[[#This Row],[Quantity Sold]]),0)","v":0}]
[null,null,null,null,null,null,null,null,0,0,0,null,null,null,0,{"$f":"IF(Inventory[[#This Row],[Item SKU/ID]]=\"\",0,SUMPRODUCT((Quantity_Sold_1=Inventory[[#This Row],[Item SKU/ID]])*Net_Profit))","v":0},{"$f":"IFERROR(AVERAGE(Inventory[[#This Row],[Total Net Profit]]/Inventory[[#This Row],[Quantity Sold]]),0)","v":0}]
[null,null,null,null,null,null,null,null,0,0,0,null,null,null,0,{"$f":"IF(Inventory[[#This Row],[Item SKU/ID]]=\"\",0,SUMPRODUCT((Quantity_Sold_1=Inventory[[#This Row],[Item SKU/ID]])*Net_Profit))","v":0},{"$f":"IFERROR(AVERAGE(Inventory[[#This Row],[Total Net Profit]]/Inventory[[#This Row],[Quantity Sold]]),0)","v":0}]
[null,null,null,null,null,null,null,null,0,0,0,null,null,null,0,{"$f":"IF(Inventory[[#This Row],[Item SKU/ID]]=\"\",0,SUMPRODUCT((Quantity_Sold_1=Inventory[[#This Row],[Item SKU/ID]])*Net_Profit))","v":0},{"$f":"IFERROR(AVERAGE(Inventory[[#This Row],[Total Net Profit]]/Inventory[[#This Row],[Quantity Sold]]),0)","v":0}]
[null,null,null,null,null,null,null,null,0,0,0,null,null,null,0,{"$f":"IF(Inventory[[#This Row],[Item SKU/ID]]=\"\",0,SUMPRODUCT((Quantity_Sold_1=Inventory[[#This Row],[Item SKU/ID]])*Net_Profit))","v":0},{"$f":"IFERROR(AVERAGE(Inventory[[#This Row],[Total Net Profit]]/Inventory[[#This Row],[Quantity Sold]]),0)","v":0}]
[null,null,null,null,null,null,null,null,0,0,0,null,null,null,0,{"$f":"IF(Inventory[[#This Row],[Item SKU/ID]]=\"\",0,SUMPRODUCT((Quantity_Sold_1=Inventory[[#This Row],[Item SKU/ID]])*Net_Profit))","v":0},{"$f":"IFERROR(AVERAGE(Inventory[[#This Row],[Total Net Profit]]/Inventory[[#This Row],[Quantity Sold]]),0)","v":0}]
[null,null,null,null,null,null,null,null,0,0,0,null,null,null,0,{"$f":"IF(Inventory[[#This Row],[Item SKU/ID]]=\"\",0,SUMPRODUCT((Quantity_Sold_1=Inventory[[#This Row],[Item SKU/ID]])*Net_Profit))","v":0},{"$f":"IFERROR(AVERAGE(Inventory[[#This Row],[Total Net Profit]]/Inventory[[#This Row],[Quantity Sold]]),0)","v":0}]
[null,null,null,null,null,null,null,null,0,0,0,null,null,null,0,{"$f":"IF(Inventory[[#This Row],[Item SKU/ID]]=\"\",0,SUMPRODUCT((Quantity_Sold_1=Inventory[[#This Row],[Item SKU/ID]])*Net_Profit))","v":0},{"$f":"IFERROR(AVERAGE(Inventory[[#This Row],[Total Net Profit]]/Inventory[[#This Row],[Quantity Sold]]),0)","v":0}]
[null,null,null,null,null,null,null,null,0,0,0,null,null,null,0,{"$f":"IF(Inventory[[#This Row],[Item SKU/ID]]=\"\",0,SUMPRODUCT((Quantity_Sold_1=Inventory[[#This Row],[Item SKU/ID]])*Net_Profit))","v":0},{"$f":"IFERROR(AVERAGE(Inventory[[#This Row],[Total Net Profit]]/Inventory[[#This Row],[Quantity Sold]]),0)","v":0}]
[null,null,null,null,null,null,null,null,0,0,0,null,null,null,0,{"$f":"IF(Inventory[[#This Row],[Item SKU/ID]]=\"\",0,SUMPRODUCT((Quantity_Sold_1=Inventory[[#This Row],[Item SKU/ID]])*Net_Profit))","v":0},{"$f":"IFERROR(AVERAGE(Inventory[[#This Row],[Total Net Profit]]/Inventory[[#This Row],[Quantity Sold]]),0)","v":0}]
[null,null,null,null,null,null,null,null,0,0,0,null,null,null,0,{"$f":"IF(Inventory[[#This Row],[Item SKU/ID]]=\"\",0,SUMPRODUCT((Quantity_Sold_1=Inventory[[#This Row],[Item SKU/ID]])*Net_Profit))","v":0},{"$f":"IFERROR(AVERAGE(Inventory[[#This Row],[Total Net Profit]]/Inventory[[#This Row],[Quantity Sold]]),0)","v":0}]
[null,null,null,null,null,null,null,null,0,0,0,null,null,null,0,{"$f":"IF(Inventory[[#This Row],[Item SKU/ID]]=\"\",0,SUMPRODUCT((Quantity_Sold_1=Inventory[[#This Row],[Item SKU/ID]])*Net_Profit))","v":0},{"$f":"IFERROR(AVERAGE(Inventory[[#This Row],[Total Net Profit]]/Inventory[[#This Row],[Quantity Sold]]),0)","v":0}]
[null,null,null,null,null,null,null,null,0,0,0,null,null,null,0,{"$f":"IF(Inventory[[#This Row],[Item SKU/ID]]=\"\",0,SUMPRODUCT((Quantity_Sold_1=Inventory[[#This Row],[Item SKU/ID]])*Net_Profit))","v":0},{"$f":"IFERROR(AVERAGE(Inventory[[#This Row],[Total Net Profit]]/Inventory[[#This Row],[Quantity Sold]]),0)","v":0}]
[null,null,null,null,null,null,null,null,0,0,0,null,null,null,0,{"$f":"IF(Inventory[[#This Row],[Item SKU/ID]]=\"\",0,SUMPRODUCT((Quantity_Sold_1=Inventory[[#This Row],[Item SKU/ID]])*Net_Profit))","v":0},{"$f":"IFERROR(AVERAGE(Inventory[[#This Row],[Total Net Profit]]/Inventory[[#This Row],[Quantity Sold]]),0)","v":0}]
[null,null,null,null,null,null,null,null,0,0,0,null,null,null,0,{"$f":"IF(Inventory[[#This Row],[Item SKU/ID]]=\"\",0,SUMPRODUCT((Quantity_Sold_1=Inventory[[#This Row],[Item SKU/ID]])*Net_Profit))","v":0},{"$f":"IFERROR(AVERAGE(Inventory[[#This Row],[Total Net Profit]]/Inventory[[#This Row],[Quantity Sold]]),0)","v":0}]
[null,null,null,null,null,null,null,null,0,0,0,null,null,null,0,{"$f":"IF(Inventory[[#This Row],[Item SKU/ID]]=\"\",0,SUMPRODUCT((Quantity_Sold_1=Inventory[[#This Row],[Item SKU/ID]])*Net_Profit))","v":0},{"$f":"IFERROR(AVERAGE(Inventory[[#This Row],[Total Net Profit]]/Inventory[[#This Row],[Quantity Sold]]),0)","v":0}]
[null,null,null,null,null,null,null,null,0,0,0,null,null,null,0,{"$f":"IF(Inventory[[#This Row],[Item SKU/ID]]=\"\",0,SUMPRODUCT((Quantity_Sold_1=Inventory[[#This Row],[Item SKU/ID]])*Net_Profit))","v":0},{"$f":"IFERROR(AVERAGE(Inventory[[#This Row],[Total Net Profit]]/Inventory[[#This Row],[Quantity Sold]]),0)","v":0}]
[null,null,null,null,null,null,null,null,0,0,0,null,null,null,0,{"$f":"IF(Inventory[[#This Row],[Item SKU/ID]]=\"\",0,SUMPRODUCT((Quantity_Sold_1=Inventory[[#This Row],[Item SKU/ID]])*Net_Profit))","v":0},{"$f":"IFERROR(AVERAGE(Inventory[[#This Row],[Total Net Profit]]/Inventory[[#This Row],[Quantity Sold]]),0)","v":0}]
[null,null,null,null,null,null,null,null,0,0,0,null,null,null,0,{"$f":"IF(Inventory[[#This Row],[Item SKU/ID]]=\"\",0,SUMPRODUCT((Quantity_Sold_1=Inventory[[#This Row],[Item SKU/ID]])*Net_Profit))","v":0},{"$f":"IFERROR(AVERAGE(Inventory[[#This Row],[Total Net Profit]]/Inventory[[#This Row],[Quantity Sold]]),0)","v":0}]
[null,null,null,null,null,null,null,null,0,0,0,null,null,null,0,{"$f":"IF(Inventory[[#This Row],[Item SKU/ID]]=\"\",0,SUMPRODUCT((Quantity_Sold_1=Inventory[[#This Row],[Item SKU/ID]])*Net_Profit))","v":0},{"$f":"IFERROR(AVERAGE(Inventory[[#This Row],[Total Net Profit]]/Inventory[[#This Row],[Quantity Sold]]),0)","v":0}]
[null,null,null,null,null,null,null,null,0,0,0,null,null,null,0,{"$f":"IF(Inventory[[#This Row],[Item SKU/ID]]=\"\",0,SUMPRODUCT((Quantity_Sold_1=Inventory[[#This Row],[Item SKU/ID]])*Net_Profit))","v":0},{"$f":"IFERROR(AVERAGE(Inventory[[#This Row],[Total Net Profit]]/Inventory[[#This Row],[Quantity Sold]]),0)","v":0}]
[null,null,null,null,null,null,null,null,0,0,0,null,null,null,0,{"$f":"IF(Inventory[[#This Row],[Item SKU/ID]]=\"\",0,SUMPRODUCT((Quantity_Sold_1=Inventory[[#This Row],[Item SKU/ID]])*Net_Profit))","v":0},{"$f":"IFERROR(AVERAGE(Inventory[[#This Row],[Total Net Profit]]/Inventory[[#This Row],[Quantity Sold]]),0)","v":0}]
[null,null,null,null,null,null,null,null,0,0,0,null,null,null,0,{"$f":"IF(Inventory[[#This Row],[Item SKU/ID]]=\"\",0,SUMPRODUCT((Quantity_Sold_1=Inventory[[#This Row],[Item SKU/ID]])*Net_Profit))","v":0},{"$f":"IFERROR(AVERAGE(Inventory[[#This Row],[Total Net Profit]]/Inventory[[#This Row],[Quantity Sold]]),0)","v":0}]
[null,null,null,null,null,null,null,null,0,0,0,null,null,null,0,{"$f":"IF(Inventory[[#This Row],[Item SKU/ID]]=\"\",0,SUMPRODUCT((Quantity_Sold_1=Inventory[[#This Row],[Item SKU/ID]])*Net_Profit))","v":0},{"$f":"IFERROR(AVERAGE(Inventory[[#This Row],[Total Net Profit]]/Inventory[[#This Row],[Quantity Sold]]),0)","v":0}]
[null,null,null,null,null,null,null,null,{"$f":"K3908*H3908","v":0},{"$f":"IF(F3908=\"\",0,SUMPRODUCT((Quantity_Sold_1=F3908)*Quantity_Sold_2))","v":0},{"$f":"G3908-J3908","v":0},null,null,null,{"$f":"K3908*H3908","v":0},{"$f":"IF(Inventory[[#This Row],[Item SKU/ID]]=\"\",0,SUMPRODUCT((Quantity_Sold_1=Inventory[[#This Row],[Item SKU/ID]])*Net_Profit))","v":0},{"$f":"IFERROR(AVERAGE(Inventory[[#This Row],[Total Net Profit]]/Inventory[[#This Row],[Quantity Sold]]),0)","v":0}]
[null,null,null,null,null,null,null,null,0,0,0,null,null,null,0,{"$f":"IF(Inventory[[#This Row],[Item SKU/ID]]=\"\",0,SUMPRODUCT((Quantity_Sold_1=Inventory[[#This Row],[Item SKU/ID]])*Net_Profit))","v":0},{"$f":"IFERROR(AVERAGE(Inventory[[#This Row],[Total Net Profit]]/Inventory[[#This Row],[Quantity Sold]]),0)","v":0}]
[null,null,null,null,null,null,null,null,0,0,0,null,null,null,0,{"$f":"IF(Inventory[[#This Row],[Item SKU/ID]]=\"\",0,SUMPRODUCT((Quantity_Sold_1=Inventory[[#This Row],[Item SKU/ID]])*Net_Profit))","v":0},{"$f":"IFERROR(AVERAGE(Inventory[[#This Row],[Total Net Profit]]/Inventory[[#This Row],[Quantity Sold]]),0)","v":0}]
[null,null,null,null,null,null,null,null,0,0,0,null,null,null,0,{"$f":"IF(Inventory[[#This Row],[Item SKU/ID]]=\"\",0,SUMPRODUCT((Quantity_Sold_1=Inventory[[#This Row],[Item SKU/ID]])*Net_Profit))","v":0},{"$f":"IFERROR(AVERAGE(Inventory[[#This Row],[Total Net Profit]]/Inventory[[#This Row],[Quantity Sold]]),0)","v":0}]
[null,null,null,null,null,null,null,null,0,0,0,null,null,null,0,{"$f":"IF(Inventory[[#This Row],[Item SKU/ID]]=\"\",0,SUMPRODUCT((Quantity_Sold_1=Inventory[[#This Row],[Item SKU/ID]])*Net_Profit))","v":0},{"$f":"IFERROR(AVERAGE(Inventory[[#This Row],[Total Net Profit]]/Inventory[[#This Row],[Quantity Sold]]),0)","v":0}]
[null,null,null,null,null,null,null,null,0,0,0,null,null,null,0,{"$f":"IF(Inventory[[#This Row],[Item SKU/ID]]=\"\",0,SUMPRODUCT((Quantity_Sold_1=Inventory[[#This Row],[Item SKU/ID]])*Net_Profit))","v":0},{"$f":"IFERROR(AVERAGE(Inventory[[#This Row],[Total Net Profit]]/Inventory[[#This Row],[Quantity Sold]]),0)","v":0}]
[null,null,null,null,null,null,null,null,0,0,0,null,null,null,0,{"$f":"IF(Inventory[[#This Row],[Item SKU/ID]]=\"\",0,SUMPRODUCT((Quantity_Sold_1=Inventory[[#This Row],[Item SKU/ID]])*Net_Profit))","v":0},{"$f":"IFERROR(AVERAGE(Inventory[[#This Row],[Total Net Profit]]/Inventory[[#This Row],[Quantity Sold]]),0)","v":0}]
[null,null,null,null,null,null,null,null,0,0,0,null,null,null,0,{"$f":"IF(Inventory[[#This Row],[Item SKU/ID]]=\"\",0,SUMPRODUCT((Quantity_Sold_1=Inventory[[#This Row],[Item SKU/ID]])*Net_Profit))","v":0},{"$f":"IFERROR(AVERAGE(Inventory[[#This Row],[Total Net Profit]]/Inventory[[#This Row],[Quantity Sold]]),0)","v":0}]
[null,null,null,null,null,null,null,null,0,0,0,null,null,null,0,{"$f":"IF(Inventory[[#This Row],[Item SKU/ID]]=\"\",0,SUMPRODUCT((Quantity_Sold_1=Inventory[[#This Row],[Item SKU/ID]])*Net_Profit))","v":0},{"$f":"IFERROR(AVERAGE(Inventory[[#This Row],[Total Net Profit]]/Inventory[[#This Row],[Quantity Sold]]),0)","v":0}]
[null,null,null,null,null,null,null,null,0,0,0,null,null,null,0,{"$f":"IF(Inventory[[#This Row],[Item SKU/ID]]=\"\",0,SUMPRODUCT((Quantity_Sold_1=Inventory[[#This Row],[Item SKU/ID]])*Net_Profit))","v":0},{"$f":"IFERROR(AVERAGE(Inventory[[#This Row],[Total Net Profit]]/Inventory[[#This Row],[Quantity Sold]]),0)","v":0}]
[null,null,null,null,null,null,null,null,0,0,0,null,null,null,0,{"$f":"IF(Inventory[[#This Row],[Item SKU/ID]]=\"\",0,SUMPRODUCT((Quantity_Sold_1=Inventory[[#This Row],[Item SKU/ID]])*Net_Profit))","v":0},{"$f":"IFERROR(AVERAGE(Inventory[[#This Row],[Total Net Profit]]/Inventory[[#This Row],[Quantity Sold]]),0)","v":0}]
[null,null,null,null,null,null,null,null,0,0,0,null,null,null,0,{"$f":"IF(Inventory[[#This Row],[Item SKU/ID]]=\"\",0,SUMPRODUCT((Quantity_Sold_1=Inventory[[#This Row],[Item SKU/ID]])*Net_Profit))","v":0},{"$f":"IFERROR(AVERAGE(Inventory[[#This Row],[Total Net Profit]]/Inventory[[#This Row],[Quantity Sold]]),0)","v":0}]
[null,null,null,null,null,null,null,null,0,0,0,null,null,null,0,{"$f":"IF(Inventory[[#This Row],[Item SKU/ID]]=\"\",0,SUMPRODUCT((Quantity_Sold_1=Inventory[[#This Row],[Item SKU/ID]])*Net_Profit))","v":0},{"$f":"IFERROR(AVERAGE(Inventory[[#This Row],[Total Net Profit]]/Inventory[[#This Row],[Quantity Sold]]),0)","v":0}]
[null,null,null,null,null,null,null,null,0,0,0,null,null,null,0,{"$f":"IF(Inventory[[#This Row],[Item SKU/ID]]=\"\",0,SUMPRODUCT((Quantity_Sold_1=Inventory[[#This Row],[Item SKU/ID]])*Net_Profit))","v":0},{"$f":"IFERROR(AVERAGE(Inventory[[#This Row],[Total Net Profit]]/Inventory[[#This Row],[Quantity Sold]]),0)","v":0}]
[null,null,null,null,null,null,null,null,0,0,0,null,null,null,0,{"$f":"IF(Inventory[[#This Row],[Item SKU/ID]]=\"\",0,SUMPRODUCT((Quantity_Sold_1=Inventory[[#This Row],[Item SKU/ID]])*Net_Profit))","v":0},{"$f":"IFERROR(AVERAGE(Inventory[[#This Row],[Total Net Profit]]/Inventory[[#This Row],[Quantity Sold]]),0)","v":0}]
[null,null,null,null,null,null,null,null,0,0,0,null,null,null,0,{"$f":"IF(Inventory[[#This Row],[Item SKU/ID]]=\"\",0,SUMPRODUCT((Quantity_Sold_1=Inventory[[#This Row],[Item SKU/ID]])*Net_Profit))","v":0},{"$f":"IFERROR(AVERAGE(Inventory[[#This Row],[Total Net Profit]]/Inventory[[#This Row],[Quantity Sold]]),0)","v":0}]
[null,null,null,null,null,null,null,null,0,0,0,null,null,null,0,{"$f":"IF(Inventory[[#This Row],[Item SKU/ID]]=\"\",0,SUMPRODUCT((Quantity_Sold_1=Inventory[[#This Row],[Item SKU/ID]])*Net_Profit))","v":0},{"$f":"IFERROR(AVERAGE(Inventory[[#This Row],[Total Net Profit]]/Inventory[[#This Row],[Quantity Sold]]),0)","v":0}]
[null,null,null,null,null,null,null,null,0,0,0,null,null,null,0,{"$f":"IF(Inventory[[#This Row],[Item SKU/ID]]=\"\",0,SUMPRODUCT((Quantity_Sold_1=Inventory[[#This Row],[Item SKU/ID]])*Net_Profit))","v":0},{"$f":"IFERROR(AVERAGE(Inventory[[#This Row],[Total Net Profit]]/Inventory[[#This Row],[Quantity Sold]]),0)","v":0}]
[null,null,null,null,null,null,null,null,0,0,0,null,null,null,0,{"$f":"IF(Inventory[[#This Row],[Item SKU/ID]]=\"\",0,SUMPRODUCT((Quantity_Sold_1=Inventory[[#This Row],[Item SKU/ID]])*Net_Profit))","v":0},{"$f":"IFERROR(AVERAGE(Inventory[[#This Row],[Total Net Profit]]/Inventory[[#This Row],[Quantity Sold]]),0)","v":0}]
[null,null,null,null,null,null,null,null,0,0,0,null,null,null,0,{"$f":"IF(Inventory[[#This Row],[Item SKU/ID]]=\"\",0,SUMPRODUCT((Quantity_Sold_1=Inventory[[#This Row],[Item SKU/ID]])*Net_Profit))","v":0},{"$f":"IFERROR(AVERAGE(Inventory[[#This Row],[Total Net Profit]]/Inventory[[#This Row],[Quantity Sold]]),0)","v":0}]
[null,null,null,null,null,null,null,null,0,0,0,null,null,null,0,{"$f":"IF(Inventory[[#This Row],[Item SKU/ID]]=\"\",0,SUMPRODUCT((Quantity_Sold_1=Inventory[[#This Row],[Item SKU/ID]])*Net_Profit))","v":0},{"$f":"IFERROR(AVERAGE(Inventory[[#This Row],[Total Net Profit]]/Inventory[[#This Row],[Quantity Sold]]),0)","v":0}]
[null,null,null,null,null,null,null,null,0,0,0,null,null,null,0,{"$f":"IF(Inventory[[#This Row],[Item SKU/ID]]=\"\",0,SUMPRODUCT((Quantity_Sold_1=Inventory[[#This Row],[Item SKU/ID]])*Net_Profit))","v":0},{"$f":"IFERROR(AVERAGE(Inventory[[#This Row],[Total Net Profit]]/Inventory[[#This Row],[Quantity Sold]]),0)","v":0}]
[null,null,null,null,null,null,null,null,0,0,0,null,null,null,0,{"$f":"IF(Inventory[[#This Row],[Item SKU/ID]]=\"\",0,SUMPRODUCT((Quantity_Sold_1=Inventory[[#This Row],[Item SKU/ID]])*Net_Profit))","v":0},{"$f":"IFERROR(AVERAGE(Inventory[[#This Row],[Total Net Profit]]/Inventory[[#This Row],[Quantity Sold]]),0)","v":0}]
[null,null,null,null,null,null,null,null,0,0,0,null,null,null,0,{"$f":"IF(Inventory[[#This Row],[Item SKU/ID]]=\"\",0,SUMPRODUCT((Quantity_Sold_1=Inventory[[#This Row],[Item SKU/ID]])*Net_Profit))","v":0},{"$f":"IFERROR(AVERAGE(Inventory[[#This Row],[Total Net Profit]]/Inventory[[#This Row],[Quantity Sold]]),0)","v":0}]
[null,null,null,null,null,null,null,null,0,0,0,null,null,null,0,{"$f":"IF(Inventory[[#This Row],[Item SKU/ID]]=\"\",0,SUMPRODUCT((Quantity_Sold_1=Inventory[[#This Row],[Item SKU/ID]])*Net_Profit))","v":0},{"$f":"IFERROR(AVERAGE(Inventory[[#This Row],[Total Net Profit]]/Inventory[[#This Row],[Quantity Sold]]),0)","v":0}]
[null,null,null,null,null,null,null,null,0,0,0,null,null,null,0,{"$f":"IF(Inventory[[#This Row],[Item SKU/ID]]=\"\",0,SUMPRODUCT((Quantity_Sold_1=Inventory[[#This Row],[Item SKU/ID]])*Net_Profit))","v":0},{"$f":"IFERROR(AVERAGE(Inventory[[#This Row],[Total Net Profit]]/Inventory[[#This Row],[Quantity Sold]]),0)","v":0}]
[null,null,null,null,null,null,null,null,0,0,0,null,null,null,0,{"$f":"IF(Inventory[[#This Row],[Item SKU/ID]]=\"\",0,SUMPRODUCT((Quantity_Sold_1=Inventory[[#This Row],[Item SKU/ID]])*Net_Profit))","v":0},{"$f":"IFERROR(AVERAGE(Inventory[[#This Row],[Total Net Profit]]/Inventory[[#This Row],[Quantity Sold]]),0)","v":0}]
[null,null,null,null,null,null,null,null,0,0,0,null,null,null,0,{"$f":"IF(Inventory[[#This Row],[Item SKU/ID]]=\"\",0,SUMPRODUCT((Quantity_Sold_1=Inventory[[#This Row],[Item SKU/ID]])*Net_Profit))","v":0},{"$f":"IFERROR(AVERAGE(Inventory[[#This Row],[Total Net Profit]]/Inventory[[#This Row],[Quantity Sold]]),0)","v":0}]
[null,null,null,null,null,null,null,null,0,0,0,null,null,null,0,{"$f":"IF(Inventory[[#This Row],[Item SKU/ID]]=\"\",0,SUMPRODUCT((Quantity_Sold_1=Inventory[[#This Row],[Item SKU/ID]])*Net_Profit))","v":0},{"$f":"IFERROR(AVERAGE(Inventory[[#This Row],[Total Net Profit]]/Inventory[[#This Row],[Quantity Sold]]),0)","v":0}]
[null,null,null,null,null,null,null,null,0,0,0,null,null,null,0,{"$f":"IF(Inventory[[#This Row],[Item SKU/ID]]=\"\",0,SUMPRODUCT((Quantity_Sold_1=Inventory[[#This Row],[Item SKU/ID]])*Net_Profit))","v":0},{"$f":"IFERROR(AVERAGE(Inventory[[#This Row],[Total Net Profit]]/Inventory[[#This Row],[Quantity Sold]]),0)","v":0}]
[null,null,null,null,null,null,null,null,0,0,0,null,null,null,0,{"$f":"IF(Inventory[[#This Row],[Item SKU/ID]]=\"\",0,SUMPRODUCT((Quantity_Sold_1=Inventory[[#This Row],[Item SKU/ID]])*Net_Profit))","v":0},{"$f":"IFERROR(AVERAGE(Inventory[[#This Row],[Total Net Profit]]/Inventory[[#This Row],[Quantity Sold]]),0)","v":0}]
[null,null,null,null,null,null,null,null,0,0,0,null,null,null,0,{"$f":"IF(Inventory[[#This Row],[Item SKU/ID]]=\"\",0,SUMPRODUCT((Quantity_Sold_1=Inventory[[#This Row],[Item SKU/ID]])*Net_Profit))","v":0},{"$f":"IFERROR(AVERAGE(Inventory[[#This Row],[Total Net Profit]]/Inventory[[#This Row],[Quantity Sold]]),0)","v":0}]
[null,null,null,null,null,null,null,null,0,0,0,null,null,null,0,{"$f":"IF(Inventory[[#This Row],[Item SKU/ID]]=\"\",0,SUMPRODUCT((Quantity_Sold_1=Inventory[[#This Row],[Item SKU/ID]])*Net_Profit))","v":0},{"$f":"IFERROR(AVERAGE(Inventory[[#This Row],[Total Net Profit]]/Inventory[[#This Row],[Quantity Sold]]),0)","v":0}]
[null,null,null,null,null,null,null,null,0,0,0,null,null,null,0,{"$f":"IF(Inventory[[#This Row],[Item SKU/ID]]=\"\",0,SUMPRODUCT((Quantity_Sold_1=Inventory[[#This Row],[Item SKU/ID]])*Net_Profit))","v":0},{"$f":"IFERROR(AVERAGE(Inventory[[#This Row],[Total Net Profit]]/Inventory[[#This Row],[Quantity Sold]]),0)","v":0}]
[null,null,null,null,null,null,null,null,0,0,0,null,null,null,0,{"$f":"IF(Inventory[[#This Row],[Item SKU/ID]]=\"\",0,SUMPRODUCT((Quantity_Sold_1=Inventory[[#This Row],[Item SKU/ID]])*Net_Profit))","v":0},{"$f":"IFERROR(AVERAGE(Inventory[[#This Row],[Total Net Profit]]/Inventory[[#This Row],[Quantity Sold]]),0)","v":0}]
[null,null,null,null,null,null,null,null,0,0,0,null,null,null,0,{"$f":"IF(Inventory[[#This Row],[Item SKU/ID]]=\"\",0,SUMPRODUCT((Quantity_Sold_1=Inventory[[#This Row],[Item SKU/ID]])*Net_Profit))","v":0},{"$f":"IFERROR(AVERAGE(Inventory[[#This Row],[Total Net Profit]]/Inventory[[#This Row],[Quantity Sold]]),0)","v":0}]
[null,null,null,null,null,null,null,null,0,0,0,null,null,null,0,{"$f":"IF(Inventory[[#This Row],[Item SKU/ID]]=\"\",0,SUMPRODUCT((Quantity_Sold_1=Inventory[[#This Row],[Item SKU/ID]])*Net_Profit))","v":0},{"$f":"IFERROR(AVERAGE(Inventory[[#This Row],[Total Net Profit]]/Inventory[[#This Row],[Quantity Sold]]),0)","v":0}]
[null,null,null,null,null,null,null,null,0,0,0,null,null,null,0,{"$f":"IF(Inventory[[#This Row],[Item SKU/ID]]=\"\",0,SUMPRODUCT((Quantity_Sold_1=Inventory[[#This Row],[Item SKU/ID]])*Net_Profit))","v":0},{"$f":"IFERROR(AVERAGE(Inventory[[#This Row],[Total Net Profit]]/Inventory[[#This Row],[Quantity Sold]]),0)","v":0}]
[null,null,null,null,null,null,null,null,0,0,0,null,null,null,0,{"$f":"IF(Inventory[[#This Row],[Item SKU/ID]]=\"\",0,SUMPRODUCT((Quantity_Sold_1=Inventory[[#This Row],[Item SKU/ID]])*Net_Profit))","v":0},{"$f":"IFERROR(AVERAGE(Inventory[[#This Row],[Total Net Profit]]/Inventory[[#This Row],[Quantity Sold]]),0)","v":0}]
[null,null,null,null,null,null,null,null,0,0,0,null,null,null,0,{"$f":"IF(Inventory[[#This Row],[Item SKU/ID]]=\"\",0,SUMPRODUCT((Quantity_Sold_1=Inventory[[#This Row],[Item SKU/ID]])*Net_Profit))","v":0},{"$f":"IFERROR(AVERAGE(Inventory[[#This Row],[Total Net Profit]]/Inventory[[#This Row],[Quantity Sold]]),0)","v":0}]
[null,null,null,null,null,null,null,null,0,0,0,null,null,null,0,{"$f":"IF(Inventory[[#This Row],[Item SKU/ID]]=\"\",0,SUMPRODUCT((Quantity_Sold_1=Inventory[[#This Row],[Item SKU/ID]])*Net_Profit))","v":0},{"$f":"IFERROR(AVERAGE(Inventory[[#This Row],[Total Net Profit]]/Inventory[[#This Row],[Quantity Sold]]),0)","v":0}]
[null,null,null,null,null,null,null,null,0,0,0,null,null,null,0,{"$f":"IF(Inventory[[#This Row],[Item SKU/ID]]=\"\",0,SUMPRODUCT((Quantity_Sold_1=Inventory[[#This Row],[Item SKU/ID]])*Net_Profit))","v":0},{"$f":"IFERROR(AVERAGE(Inventory[[#This Row],[Total Net Profit]]/Inventory[[#This Row],[Quantity Sold]]),0)","v":0}]
[null,null,null,null,null,null,null,null,0,0,0,null,null,null,0,{"$f":"IF(Inventory[[#This Row],[Item SKU/ID]]=\"\",0,SUMPRODUCT((Quantity_Sold_1=Inventory[[#This Row],[Item SKU/ID]])*Net_Profit))","v":0},{"$f":"IFERROR(AVERAGE(Inventory[[#This Row],[Total Net Profit]]/Inventory[[#This Row],[Quantity Sold]]),0)","v":0}]
[null,null,null,null,null,null,null,null,0,0,0,null,null,null,0,{"$f":"IF(Inventory[[#This Row],[Item SKU/ID]]=\"\",0,SUMPRODUCT((Quantity_Sold_1=Inventory[[#This Row],[Item SKU/ID]])*Net_Profit))","v":0},{"$f":"IFERROR(AVERAGE(Inventory[[#This Row],[Total Net Profit]]/Inventory[[#This Row],[Quantity Sold]]),0)","v":0}]
[null,null,null,null,null,null,null,null,0,0,0,null,null,null,0,{"$f":"IF(Inventory[[#This Row],[Item SKU/ID]]=\"\",0,SUMPRODUCT((Quantity_Sold_1=Inventory[[#This Row],[Item SKU/ID]])*Net_Profit))","v":0},{"$f":"IFERROR(AVERAGE(Inventory[[#This Row],[Total Net Profit]]/Inventory[[#This Row],[Quantity Sold]]),0)","v":0}]
[null,null,null,null,null,null,null,null,0,0,0,null,null,null,0,{"$f":"IF(Inventory[[#This Row],[Item SKU/ID]]=\"\",0,SUMPRODUCT((Quantity_Sold_1=Inventory[[#This Row],[Item SKU/ID]])*Net_Profit))","v":0},{"$f":"IFERROR(AVERAGE(Inventory[[#This Row],[Total Net Profit]]/Inventory[[#This Row],[Quantity Sold]]),0)","v":0}]
[null,null,null,null,null,null,null,null,0,0,0,null,null,null,0,{"$f":"IF(Inventory[[#This Row],[Item SKU/ID]]=\"\",0,SUMPRODUCT((Quantity_Sold_1=Inventory[[#This Row],[Item SKU/ID]])*Net_Profit))","v":0},{"$f":"IFERROR(AVERAGE(Inventory[[#This Row],[Total Net Profit]]/Inventory[[#This Row],[Quantity Sold]]),0)","v":0}]
[null,null,null,null,null,null,null,null,0,0,0,null,null,null,0,{"$f":"IF(Inventory[[#This Row],[Item SKU/ID]]=\"\",0,SUMPRODUCT((Quantity_Sold_1=Inventory[[#This Row],[Item SKU/ID]])*Net_Profit))","v":0},{"$f":"IFERROR(AVERAGE(Inventory[[#This Row],[Total Net Profit]]/Inventory[[#This Row],[Quantity Sold]]),0)","v":0}]
[null,null,null,null,null,null,null,null,0,0,0,null,null,null,0,{"$f":"IF(Inventory[[#This Row],[Item SKU/ID]]=\"\",0,SUMPRODUCT((Quantity_Sold_1=Inventory[[#This Row],[Item SKU/ID]])*Net_Profit))","v":0},{"$f":"IFERROR(AVERAGE(Inventory[[#This Row],[Total Net Profit]]/Inventory[[#This Row],[Quantity Sold]]),0)","v":0}]
[null,null,null,null,null,null,null,null,0,0,0,null,null,null,0,{"$f":"IF(Inventory[[#This Row],[Item SKU/ID]]=\"\",0,SUMPRODUCT((Quantity_Sold_1=Inventory[[#This Row],[Item SKU/ID]])*Net_Profit))","v":0},{"$f":"IFERROR(AVERAGE(Inventory[[#This Row],[Total Net Profit]]/Inventory[[#This Row],[Quantity Sold]]),0)","v":0}]
[null,null,null,null,null,null,null,null,0,0,0,null,null,null,0,{"$f":"IF(Inventory[[#This Row],[Item SKU/ID]]=\"\",0,SUMPRODUCT((Quantity_Sold_1=Inventory[[#This Row],[Item SKU/ID]])*Net_Profit))","v":0},{"$f":"IFERROR(AVERAGE(Inventory[[#This Row],[Total Net Profit]]/Inventory[[#This Row],[Quantity Sold]]),0)","v":0}]
[null,null,null,null,null,null,null,null,0,0,0,null,null,null,0,{"$f":"IF(Inventory[[#This Row],[Item SKU/ID]]=\"\",0,SUMPRODUCT((Quantity_Sold_1=Inventory[[#This Row],[Item SKU/ID]])*Net_Profit))","v":0},{"$f":"IFERROR(AVERAGE(Inventory[[#This Row],[Total Net Profit]]/Inventory[[#This Row],[Quantity Sold]]),0)","v":0}]
[null,null,null,null,null,null,null,null,0,0,0,null,null,null,0,{"$f":"IF(Inventory[[#This Row],[Item SKU/ID]]=\"\",0,SUMPRODUCT((Quantity_Sold_1=Inventory[[#This Row],[Item SKU/ID]])*Net_Profit))","v":0},{"$f":"IFERROR(AVERAGE(Inventory[[#This Row],[Total Net Profit]]/Inventory[[#This Row],[Quantity Sold]]),0)","v":0}]
[null,null,null,null,null,null,null,null,0,0,0,null,null,null,0,{"$f":"IF(Inventory[[#This Row],[Item SKU/ID]]=\"\",0,SUMPRODUCT((Quantity_Sold_1=Inventory[[#This Row],[Item SKU/ID]])*Net_Profit))","v":0},{"$f":"IFERROR(AVERAGE(Inventory[[#This Row],[Total Net Profit]]/Inventory[[#This Row],[Quantity Sold]]),0)","v":0}]
[null,null,null,null,null,null,null,null,0,0,0,null,null,null,0,{"$f":"IF(Inventory[[#This Row],[Item SKU/ID]]=\"\",0,SUMPRODUCT((Quantity_Sold_1=Inventory[[#This Row],[Item SKU/ID]])*Net_Profit))","v":0},{"$f":"IFERROR(AVERAGE(Inventory[[#This Row],[Total Net Profit]]/Inventory[[#This Row],[Quantity Sold]]),0)","v":0}]
[null,null,null,null,null,null,null,null,0,0,0,null,null,null,0,{"$f":"IF(Inventory[[#This Row],[Item SKU/ID]]=\"\",0,SUMPRODUCT((Quantity_Sold_1=Inventory[[#This Row],[Item SKU/ID]])*Net_Profit))","v":0},{"$f":"IFERROR(AVERAGE(Inventory[[#This Row],[Total Net Profit]]/Inventory[[#This Row],[Quantity Sold]]),0)","v":0}]
[null,null,null,null,null,null,null,null,0,0,0,null,null,null,0,{"$f":"IF(Inventory[[#This Row],[Item SKU/ID]]=\"\",0,SUMPRODUCT((Quantity_Sold_1=Inventory[[#This Row],[Item SKU/ID]])*Net_Profit))","v":0},{"$f":"IFERROR(AVERAGE(Inventory[[#This Row],[Total Net Profit]]/Inventory[[#This Row],[Quantity Sold]]),0)","v":0}]
[null,null,null,null,null,null,null,null,0,0,0,null,null,null,0,{"$f":"IF(Inventory[[#This Row],[Item SKU/ID]]=\"\",0,SUMPRODUCT((Quantity_Sold_1=Inventory[[#This Row],[Item SKU/ID]])*Net_Profit))","v":0},{"$f":"IFERROR(AVERAGE(Inventory[[#This Row],[Total Net Profit]]/Inventory[[#This Row],[Quantity Sold]]),0)","v":0}]
[null,null,null,null,null,null,null,null,0,0,0,null,null,null,0,{"$f":"IF(Inventory[[#This Row],[Item SKU/ID]]=\"\",0,SUMPRODUCT((Quantity_Sold_1=Inventory[[#This Row],[Item SKU/ID]])*Net_Profit))","v":0},{"$f":"IFERROR(AVERAGE(Inventory[[#This Row],[Total Net Profit]]/Inventory[[#This Row],[Quantity Sold]]),0)","v":0}]
[null,null,null,null,null,null,null,null,0,0,0,null,null,null,0,{"$f":"IF(Inventory[[#This Row],[Item SKU/ID]]=\"\",0,SUMPRODUCT((Quantity_Sold_1=Inventory[[#This Row],[Item SKU/ID]])*Net_Profit))","v":0},{"$f":"IFERROR(AVERAGE(Inventory[[#This Row],[Total Net Profit]]/Inventory[[#This Row],[Quantity Sold]]),0)","v":0}]
[null,null,null,null,null,null,null,null,0,0,0,null,null,null,0,{"$f":"IF(Inventory[[#This Row],[Item SKU/ID]]=\"\",0,SUMPRODUCT((Quantity_Sold_1=Inventory[[#This Row],[Item SKU/ID]])*Net_Profit))","v":0},{"$f":"IFERROR(AVERAGE(Inventory[[#This Row],[Total Net Profit]]/Inventory[[#This Row],[Quantity Sold]]),0)","v":0}]
[null,null,null,null,null,null,null,null,0,0,0,null,null,null,0,{"$f":"IF(Inventory[[#This Row],[Item SKU/ID]]=\"\",0,SUMPRODUCT((Quantity_Sold_1=Inventory[[#This Row],[Item SKU/ID]])*Net_Profit))","v":0},{"$f":"IFERROR(AVERAGE(Inventory[[#This Row],[Total Net Profit]]/Inventory[[#This Row],[Quantity Sold]]),0)","v":0}]
[null,null,null,null,null,null,null,null,0,0,0,null,null,null,0,{"$f":"IF(Inventory[[#This Row],[Item SKU/ID]]=\"\",0,SUMPRODUCT((Quantity_Sold_1=Inventory[[#This Row],[Item SKU/ID]])*Net_Profit))","v":0},{"$f":"IFERROR(AVERAGE(Inventory[[#This Row],[Total Net Profit]]/Inventory[[#This Row],[Quantity Sold]]),0)","v":0}]
[null,null,null,null,null,null,null,null,0,0,0,null,null,null,0,{"$f":"IF(Inventory[[#This Row],[Item SKU/ID]]=\"\",0,SUMPRODUCT((Quantity_Sold_1=Inventory[[#This Row],[Item SKU/ID]])*Net_Profit))","v":0},{"$f":"IFERROR(AVERAGE(Inventory[[#This Row],[Total Net Profit]]/Inventory[[#This Row],[Quantity Sold]]),0)","v":0}]
[null,null,null,null,null,null,null,null,{"$f":"K3972*H3972","v":0},{"$f":"IF(F3972=\"\",0,SUMPRODUCT((Quantity_Sold_1=F3972)*Quantity_Sold_2))","v":0},{"$f":"G3972-J3972","v":0},null,null,null,{"$f":"K3972*H3972","v":0},{"$f":"IF(Inventory[[#This Row],[Item SKU/ID]]=\"\",0,SUMPRODUCT((Quantity_Sold_1=Inventory[[#This Row],[Item SKU/ID]])*Net_Profit))","v":0},{"$f":"IFERROR(AVERAGE(Inventory[[#This Row],[Total Net Profit]]/Inventory[[#This Row],[Quantity Sold]]),0)","v":0}]
[null,null,null,null,null,null,null,null,0,0,0,null,null,null,0,{"$f":"IF(Inventory[[#This Row],[Item SKU/ID]]=\"\",0,SUMPRODUCT((Quantity_Sold_1=Inventory[[#This Row],[Item SKU/ID]])*Net_Profit))","v":0},{"$f":"IFERROR(AVERAGE(Inventory[[#This Row],[Total Net Profit]]/Inventory[[#This Row],[Quantity Sold]]),0)","v":0}]
[null,null,null,null,null,null,null,null,0,0,0,null,null,null,0,{"$f":"IF(Inventory[[#This Row],[Item SKU/ID]]=\"\",0,SUMPRODUCT((Quantity_Sold_1=Inventory[[#This Row],[Item SKU/ID]])*Net_Profit))","v":0},{"$f":"IFERROR(AVERAGE(Inventory[[#This Row],[Total Net Profit]]/Inventory[[#This Row],[Quantity Sold]]),0)","v":0}]
[null,null,null,null,null,null,null,null,0,0,0,null,null,null,0,{"$f":"IF(Inventory[[#This Row],[Item SKU/ID]]=\"\",0,SUMPRODUCT((Quantity_Sold_1=Inventory[[#This Row],[Item SKU/ID]])*Net_Profit))","v":0},{"$f":"IFERROR(AVERAGE(Inventory[[#This Row],[Total Net Profit]]/Inventory[[#This Row],[Quantity Sold]]),0)","v":0}]
[null,null,null,null,null,null,null,null,0,0,0,null,null,null,0,{"$f":"IF(Inventory[[#This Row],[Item SKU/ID]]=\"\",0,SUMPRODUCT((Quantity_Sold_1=Inventory[[#This Row],[Item SKU/ID]])*Net_Profit))","v":0},{"$f":"IFERROR(AVERAGE(Inventory[[#This Row],[Total Net Profit]]/Inventory[[#This Row],[Quantity Sold]]),0)","v":0}]
[null,null,null,null,null,null,null,null,0,0,0,null,null,null,0,{"$f":"IF(Inventory[[#This Row],[Item SKU/ID]]=\"\",0,SUMPRODUCT((Quantity_Sold_1=Inventory[[#This Row],[Item SKU/ID]])*Net_Profit))","v":0},{"$f":"IFERROR(AVERAGE(Inventory[[#This Row],[Total Net Profit]]/Inventory[[#This Row],[Quantity Sold]]),0)","v":0}]
[null,null,null,null,null,null,null,null,0,0,0,null,null,null,0,{"$f":"IF(Inventory[[#This Row],[Item SKU/ID]]=\"\",0,SUMPRODUCT((Quantity_Sold_1=Inventory[[#This Row],[Item SKU/ID]])*Net_Profit))","v":0},{"$f":"IFERROR(AVERAGE(Inventory[[#This Row],[Total Net Profit]]/Inventory[[#This Row],[Quantity Sold]]),0)","v":0}]
[null,null,null,null,null,null,null,null,0,0,0,null,null,null,0,{"$f":"IF(Inventory[[#This Row],[Item SKU/ID]]=\"\",0,SUMPRODUCT((Quantity_Sold_1=Inventory[[#This Row],[Item SKU/ID]])*Net_Profit))","v":0},{"$f":"IFERROR(AVERAGE(Inventory[[#This Row],[Total Net Profit]]/Inventory[[#This Row],[Quantity Sold]]),0)","v":0}]
[null,null,null,null,null,null,null,null,0,0,0,null,null,null,0,{"$f":"IF(Inventory[[#This Row],[Item SKU/ID]]=\"\",0,SUMPRODUCT((Quantity_Sold_1=Inventory[[#This Row],[Item SKU/ID]])*Net_Profit))","v":0},{"$f":"IFERROR(AVERAGE(Inventory[[#This Row],[Total Net Profit]]/Inventory[[#This Row],[Quantity Sold]]),0)","v":0}]
[null,null,null,null,null,null,null,null,0,0,0,null,null,null,0,{"$f":"IF(Inventory[[#This Row],[Item SKU/ID]]=\"\",0,SUMPRODUCT((Quantity_Sold_1=Inventory[[#This Row],[Item SKU/ID]])*Net_Profit))","v":0},{"$f":"IFERROR(AVERAGE(Inventory[[#This Row],[Total Net Profit]]/Inventory[[#This Row],[Quantity Sold]]),0)","v":0}]
[null,null,null,null,null,null,null,null,0,0,0,null,null,null,0,{"$f":"IF(Inventory[[#This Row],[Item SKU/ID]]=\"\",0,SUMPRODUCT((Quantity_Sold_1=Inventory[[#This Row],[Item SKU/ID]])*Net_Profit))","v":0},{"$f":"IFERROR(AVERAGE(Inventory[[#This Row],[Total Net Profit]]/Inventory[[#This Row],[Quantity Sold]]),0)","v":0}]
[null,null,null,null,null,null,null,null,0,0,0,null,null,null,0,{"$f":"IF(Inventory[[#This Row],[Item SKU/ID]]=\"\",0,SUMPRODUCT((Quantity_Sold_1=Inventory[[#This Row],[Item SKU/ID]])*Net_Profit))","v":0},{"$f":"IFERROR(AVERAGE(Inventory[[#This Row],[Total Net Profit]]/Inventory[[#This Row],[Quantity Sold]]),0)","v":0}]
[null,null,null,null,null,null,null,null,0,0,0,null,null,null,0,{"$f":"IF(Inventory[[#This Row],[Item SKU/ID]]=\"\",0,SUMPRODUCT((Quantity_Sold_1=Inventory[[#This Row],[Item SKU/ID]])*Net_Profit))","v":0},{"$f":"IFERROR(AVERAGE(Inventory[[#This Row],[Total Net Profit]]/Inventory[[#This Row],[Quantity Sold]]),0)","v":0}]
[null,null,null,null,null,null,null,null,0,0,0,null,null,null,0,{"$f":"IF(Inventory[[#This Row],[Item SKU/ID]]=\"\",0,SUMPRODUCT((Quantity_Sold_1=Inventory[[#This Row],[Item SKU/ID]])*Net_Profit))","v":0},{"$f":"IFERROR(AVERAGE(Inventory[[#This Row],[Total Net Profit]]/Inventory[[#This Row],[Quantity Sold]]),0)","v":0}]
[null,null,null,null,null,null,null,null,0,0,0,null,null,null,0,{"$f":"IF(Inventory[[#This Row],[Item SKU/ID]]=\"\",0,SUMPRODUCT((Quantity_Sold_1=Inventory[[#This Row],[Item SKU/ID]])*Net_Profit))","v":0},{"$f":"IFERROR(AVERAGE(Inventory[[#This Row],[Total Net Profit]]/Inventory[[#This Row],[Quantity Sold]]),0)","v":0}]
[null,null,null,null,null,null,null,null,0,0,0,null,null,null,0,{"$f":"IF(Inventory[[#This Row],[Item SKU/ID]]=\"\",0,SUMPRODUCT((Quantity_Sold_1=Inventory[[#This Row],[Item SKU/ID]])*Net_Profit))","v":0},{"$f":"IFERROR(AVERAGE(Inventory[[#This Row],[Total Net Profit]]/Inventory[[#This Row],[Quantity Sold]]),0)","v":0}]
[null,null,null,null,null,null,null,null,0,0,0,null,null,null,0,{"$f":"IF(Inventory[[#This Row],[Item SKU/ID]]=\"\",0,SUMPRODUCT((Quantity_Sold_1=Inventory[[#This Row],[Item SKU/ID]])*Net_Profit))","v":0},{"$f":"IFERROR(AVERAGE(Inventory[[#This Row],[Total Net Profit]]/Inventory[[#This Row],[Quantity Sold]]),0)","v":0}]
[null,null,null,null,null,null,null,null,0,0,0,null,null,null,0,{"$f":"IF(Inventory[[#This Row],[Item SKU/ID]]=\"\",0,SUMPRODUCT((Quantity_Sold_1=Inventory[[#This Row],[Item SKU/ID]])*Net_Profit))","v":0},{"$f":"IFERROR(AVERAGE(Inventory[[#This Row],[Total Net Profit]]/Inventory[[#This Row],[Quantity Sold]]),0)","v":0}]
[null,null,null,null,null,null,null,null,0,0,0,null,null,null,0,{"$f":"IF(Inventory[[#This Row],[Item SKU/ID]]=\"\",0,SUMPRODUCT((Quantity_Sold_1=Inventory[[#This Row],[Item SKU/ID]])*Net_Profit))","v":0},{"$f":"IFERROR(AVERAGE(Inventory[[#This Row],[Total Net Profit]]/Inventory[[#This Row],[Quantity Sold]]),0)","v":0}]
[null,null,null,null,null,null,null,null,0,0,0,null,null,null,0,{"$f":"IF(Inventory[[#This Row],[Item SKU/ID]]=\"\",0,SUMPRODUCT((Quantity_Sold_1=Inventory[[#This Row],[Item SKU/ID]])*Net_Profit))","v":0},{"$f":"IFERROR(AVERAGE(Inventory[[#This Row],[Total Net Profit]]/Inventory[[#This Row],[Quantity Sold]]),0)","v":0}]
[null,null,null,null,null,null,null,null,0,0,0,null,null,null,0,{"$f":"IF(Inventory[[#This Row],[Item SKU/ID]]=\"\",0,SUMPRODUCT((Quantity_Sold_1=Inventory[[#This Row],[Item SKU/ID]])*Net_Profit))","v":0},{"$f":"IFERROR(AVERAGE(Inventory[[#This Row],[Total Net Profit]]/Inventory[[#This Row],[Quantity Sold]]),0)","v":0}]
[null,null,null,null,null,null,null,null,0,0,0,null,null,null,0,{"$f":"IF(Inventory[[#This Row],[Item SKU/ID]]=\"\",0,SUMPRODUCT((Quantity_Sold_1=Inventory[[#This Row],[Item SKU/ID]])*Net_Profit))","v":0},{"$f":"IFERROR(AVERAGE(Inventory[[#This Row],[Total Net Profit]]/Inventory[[#This Row],[Quantity Sold]]),0)","v":0}]
[null,null,null,null,null,null,null,null,0,0,0,null,null,null,0,{"$f":"IF(Inventory[[#This Row],[Item SKU/ID]]=\"\",0,SUMPRODUCT((Quantity_Sold_1=Inventory[[#This Row],[Item SKU/ID]])*Net_Profit))","v":0},{"$f":"IFERROR(AVERAGE(Inventory[[#This Row],[Total Net Profit]]/Inventory[[#This Row],[Quantity Sold]]),0)","v":0}]
[null,null,null,null,null,null,null,null,0,0,0,null,null,null,0,{"$f":"IF(Inventory[[#This Row],[Item SKU/ID]]=\"\",0,SUMPRODUCT((Quantity_Sold_1=Inventory[[#This Row],[Item SKU/ID]])*Net_Profit))","v":0},{"$f":"IFERROR(AVERAGE(Inventory[[#This Row],[Total Net Profit]]/Inventory[[#This Row],[Quantity Sold]]),0)","v":0}]
[null,null,null,null,null,null,null,null,0,0,0,null,null,null,0,{"$f":"IF(Inventory[[#This Row],[Item SKU/ID]]=\"\",0,SUMPRODUCT((Quantity_Sold_1=Inventory[[#This Row],[Item SKU/ID]])*Net_Profit))","v":0},{"$f":"IFERROR(AVERAGE(Inventory[[#This Row],[Total Net Profit]]/Inventory[[#This Row],[Quantity Sold]]),0)","v":0}]
[null,null,null,null,null,null,null,null,0,0,0,null,null,null,0,{"$f":"IF(Inventory[[#This Row],[Item SKU/ID]]=\"\",0,SUMPRODUCT((Quantity_Sold_1=Inventory[[#This Row],[Item SKU/ID]])*Net_Profit))","v":0},{"$f":"IFERROR(AVERAGE(Inventory[[#This Row],[Total Net Profit]]/Inventory[[#This Row],[Quantity Sold]]),0)","v":0}]
[null,null,null,null,null,null,null,null,0,0,0,null,null,null,0,{"$f":"IF(Inventory[[#This Row],[Item SKU/ID]]=\"\",0,SUMPRODUCT((Quantity_Sold_1=Inventory[[#This Row],[Item SKU/ID]])*Net_Profit))","v":0},{"$f":"IFERROR(AVERAGE(Inventory[[#This Row],[Total Net Profit]]/Inventory[[#This Row],[Quantity Sold]]),0)","v":0}]
[null,null,null,null,null,null,null,null,0,0,0,null,null,null,0,{"$f":"IF(Inventory[[#This Row],[Item SKU/ID]]=\"\",0,SUMPRODUCT((Quantity_Sold_1=Inventory[[#This Row],[Item SKU/ID]])*Net_Profit))","v":0},{"$f":"IFERROR(AVERAGE(Inventory[[#This Row],[Total Net Profit]]/Inventory[[#This Row],[Quantity Sold]]),0)","v":0}]
[null,null,null,null,null,null,null,null,0,0,0,null,null,null,0,{"$f":"IF(Inventory[[#This Row],[Item SKU/ID]]=\"\",0,SUMPRODUCT((Quantity_Sold_1=Inventory[[#This Row],[Item SKU/ID]])*Net_Profit))","v":0},{"$f":"IFERROR(AVERAGE(Inventory[[#This Row],[Total Net Profit]]/Inventory[[#This Row],[Quantity Sold]]),0)","v":0}]
[null,null,null,null,null,null,null,null,{"$f":"K4001*H4001","v":0},{"$f":"IF(F4001=\"\",0,SUMPRODUCT((Quantity_Sold_1=F4001)*Quantity_Sold_2))","v":0},{"$f":"G4001-J4001","v":0},null,null,null,{"$f":"K4001*H4001","v":0},{"$f":"IF(Inventory[[#This Row],[Item SKU/ID]]=\"\",0,SUMPRODUCT((Quantity_Sold_1=Inventory[[#This Row],[Item SKU/ID]])*Net_Profit))","v":0},{"$f":"IFERROR(AVERAGE(Inventory[[#This Row],[Total Net Profit]]/Inventory[[#This Row],[Quantity Sold]]),0)","v":0}]

{"sheet":"Monthly Summary","index":10,"n_rows":10,"n_cols":16,"rows_kept":10,"cut":false,"hidden":false,"merged":[]}
[]
[null,"Monthly Summary"]
[null,"Select Month","(All)"]
[]
[null,null,null,null,null,"Data"]
[null,"User"," Client","eBay Item Number","Item Title"," Purchase Price"," My Cost"," Comm."," Refund / Additional Payment"," Insertion Fees"," Paypal Fees "," Final Value Fee + Final Value Fee on Shipping "," S&H Charged"," Actual Shipping Cost "," Net Profit"," Sales Tax Collected"]
[null,"(blank)","(blank)","(blank)","(blank)",0,0,0,0,0,0,0,0,0,0,0]
[null,null,"(blank) Total",null,null,0,0,0,0,0,0,0,0,0,0,0]
[null,"(blank) Total",null,null,null,0,0,0,0,0,0,0,0,0,0,0]
[null,"Grand Total",null,null,null,0,0,0,0,0,0,0,0,0,0,0]

{"sheet":"Yearly Summary","index":11,"n_rows":9,"n_cols":15,"rows_kept":9,"cut":false,"hidden":false,"merged":[]}
[]
[null,"Yearly Summary"]
[]
[]
[null,null,null,null,"Data"]
[null,"User","Select Month","Client"," Purchase Price"," My Cost"," Comm."," Refund / Additional Payment"," Insertion Fees"," Paypal Fees "," Final Value Fee + Final Value Fee on Shipping "," S&H Charged"," Actual Shipping Cost "," Net Profit"," Sales Tax Collected"]
[null,"(blank)","(blank)","(blank)",0,0,0,0,0,0,0,0,0,0,0]
[null,"(blank) Total",null,null,0,0,0,0,0,0,0,0,0,0,0]
[null,"Grand Total",null,null,0,0,0,0,0,0,0,0,0,0,0]

{"sheet":"Clients","index":12,"n_rows":105,"n_cols":25,"rows_kept":105,"cut":false,"hidden":false,"merged":[]}
[null,"My Item",null,null,null,null,null,null,null,null,null,null,null,null,null,null,null,null,null,null,null,null,"USPS First-Class Mail "]
[null,"Consignees Drop-Down Menu",null,null,null,null,null,null,null,null,null,null,null,null,null,null,null,null,null,null,null,null,"Shipping Methods Drop-Down Menu"]
[null,"Client's Name (Owner of Item)","Flat % Comm on Purchase Price = 1\n\nFlat  % Comm after Fees = 2\n\nSliding % Comm on Purchase Price = 3\n\nSliding % Comm after Fees = 4","% Commission","Sliding Commission Level 1          \n\n($0-$L1)","Sliding Commission Level 1 \n\n(%)","Sliding Commission Level 2        \n\n($L1-$L2)","Sliding Commission Level 2 \n\n(%)","Sliding Commission Level 3\n\n($L2-$L3)","Sliding Commission Level 3 \n\n%","Sliding Commission Level 4 (%)\n\n (>$L3)","Minimum Commission Charge","Insertion Fee \n\n(1 Incl / 0 not Incl)","Final Value Fee  \n\n(1 Incl / 0 not Incl)","Paypal Fee  \n\n(1 Incl / 0 not Incl)","Include S&H = 1 \n\nInclude S&H for Item listed with free shipping = 2\n\nDo Not Include S&H = 0",null,"Quick Tip:",null,null,null,null,"Shipping Methods",null,"Quick Tip:"]
[null,"My Item",1,0,null,null,null,null,null,null,null,0,1,1,1,1,null,null,null,null,null,null,null,null,"Edit/Add additional Shipping Methods"]
[null,"Example A",3,0,100,0.25,150,0.2,500,0.1,0.05,2,1,1,1,1,null,null,null,null,null,null,"USPS First-Class Mail ",null,"to the list. They will then show up in the"]
[null,"Example B",1,0.5,null,null,null,null,null,null,null,0,1,1,1,1,null,null,null,null,null,null,"USPS Media Mail ",null,"drop-down tool on the eBay Selling tab"]
[null,"Owner 3",null,0,null,null,null,null,null,null,null,0,1,1,1,1,null,null,null,null,null,null,"USPS Standard Post"]
[null,"Owner 4",null,0,null,null,null,null,null,null,null,0,1,1,1,1,null,null,null,null,null,null,"USPS Priority Mail"]
[null,"Owner 5",null,0,null,null,null,null,null,null,null,0,1,1,1,1,null,null,null,null,null,null,"USPS Priority Mail Express "]
[null,"Owner 6",null,0,null,null,null,null,null,null,null,0,1,1,1,1,null,null,null,null,null,null,"--------------------------------------------"]
[null,"Owner 7",null,0,null,null,null,null,null,null,null,0,1,1,1,1,null,null,null,null,null,null,"UPS Ground"]
[null,"Owner 8",null,0,null,null,null,null,null,null,null,0,1,1,1,1,null,null,null,null,null,null,"UPS 3 Day Select"]
[null,"Owner 9",null,0,null,null,null,null,null,null,null,0,1,1,1,1,null,null,null,null,null,null,"UPS 2nd Day Air"]
[null,"Owner 10",null,0,null,null,null,null,null,null,null,0,1,1,1,1,null,null,null,null,null,null,"UPS Next Day Air"]
[null,"Owner 11",null,0,null,null,null,null,null,null,null,0,1,1,1,1,null,null,null,null,null,null,"--------------------------------------------"]
[null,"Owner 12",null,0,null,null,null,null,null,null,null,0,1,1,1,1,null,null,null,null,null,null,"FedEx Ground"]
[null,"Owner 13",null,0,null,null,null,null,null,null,null,0,1,1,1,1,null,null,null,null,null,null,"FedEx 2Day"]
[null,"Owner 14",null,0,null,null,null,null,null,null,null,0,1,1,1,1,null,null,null,null,null,null,"FedEx Standard Overnight"]
[null,"Owner 15",null,0,null,null,null,null,null,null,null,0,1,1,1,1,null,null,null,null,null,null,"--------------------------------------------"]
[null,"Owner 16",null,0,null,null,null,null,null,null,null,0,1,1,1,1,null,null,null,null,null,null,"Local Pickup"]
[null,"Owner 17",null,0,null,null,null,null,null,null,null,0,1,1,1,1]
[null,"Owner 18",null,0,null,null,null,null,null,null,null,0,1,1,1,1]
[null,"Owner 19",null,0,null,null,null,null,null,null,null,0,1,1,1,1]
[null,"Owner 20",null,0,null,null,null,null,null,null,null,0,1,1,1,1]
[null,"Owner 21",null,0,null,null,null,null,null,null,null,0,1,1,1,1]
[null,"Owner 22",null,0,null,null,null,null,null,null,null,0,1,1,1,1]
[null,"Owner 23",null,0,null,null,null,null,null,null,null,0,1,1,1,1]
[null,"Owner 24",null,0,null,null,null,null,null,null,null,0,1,1,1,1]
[null,"Owner 25",null,0,null,null,null,null,null,null,null,0,1,1,1,1]
[null,"Owner 26",null,0,null,null,null,null,null,null,null,0,1,1,1,1]
[null,"Owner 27",null,0,null,null,null,null,null,null,null,0,1,1,1,1]
[null,"Owner 28",null,0,null,null,null,null,null,null,null,0,1,1,1,1]
[null,"Owner 29",null,0,null,null,null,null,null,null,null,0,1,1,1,1]
[null,"Owner 30",null,0,null,null,null,null,null,null,null,0,1,1,1,1]
[null,"Owner 31",null,0,null,null,null,null,null,null,null,0,1,1,1,1,null,null,null,null,null,null,"List ends in the cell above."]
[null,"Owner 32",null,0,null,null,null,null,null,null,null,0,1,1,1,1]
[null,"Owner 33",null,0,null,null,null,null,null,null,null,0,1,1,1,1]
[null,"Owner 34",null,0,null,null,null,null,null,null,null,0,1,1,1,1]
[null,"Owner 35",null,0,null,null,null,null,null,null,null,0,1,1,1,1]
[null,"Owner 36",null,0,null,null,null,null,null,null,null,0,1,1,1,1]
[null,"Owner 37",null,0,null,null,null,null,null,null,null,0,1,1,1,1]
[null,"Owner 38",null,0,null,null,null,null,null,null,null,0,1,1,1,1]
[null,"Owner 39",null,0,null,null,null,null,null,null,null,0,1,1,1,1]
[null,"Owner 40",null,0,null,null,null,null,null,null,null,0,1,1,1,1]
[null,"Owner 41",null,0,null,null,null,null,null,null,null,0,1,1,1,1]
[null,"Owner 42",null,0,null,null,null,null,null,null,null,0,1,1,1,1]
[null,"Owner 43",null,0,null,null,null,null,null,null,null,0,1,1,1,1]
[null,"Owner 44",null,0,null,null,null,null,null,null,null,0,1,1,1,1]
[null,"Owner 45",null,0,null,null,null,null,null,null,null,0,1,1,1,1]
[null,"Owner 46",null,0,null,null,null,null,null,null,null,0,1,1,1,1]
[null,"Owner 47",null,0,null,null,null,null,null,null,null,0,1,1,1,1]
[null,"Owner 48",null,0,null,null,null,null,null,null,null,0,1,1,1,1]
[null,"Owner 49",null,0,null,null,null,null,null,null,null,0,1,1,1,1]
[null,"Owner 50",null,0,null,null,null,null,null,null,null,0,1,1,1,1]
[null,"Owner 51",null,0,null,null,null,null,null,null,null,0,1,1,1,1]
[null,"Owner 52",null,0,null,null,null,null,null,null,null,0,1,1,1,1]
[null,"Owner 53",null,0,null,null,null,null,null,null,null,0,1,1,1,1]
[null,"Owner 54",null,0,null,null,null,null,null,null,null,0,1,1,1,1]
[null,"Owner 55",null,0,null,null,null,null,null,null,null,0,1,1,1,1]
[null,"Owner 56",null,0,null,null,null,null,null,null,null,0,1,1,1,1]
[null,"Owner 57",null,0,null,null,null,null,null,null,null,0,1,1,1,1]
[null,"Owner 58",null,0,null,null,null,null,null,null,null,0,1,1,1,1]
[null,"Owner 59",null,0,null,null,null,null,null,null,null,0,1,1,1,1]
[null,"Owner 60",null,0,null,null,null,null,null,null,null,0,1,1,1,1]
[null,"Owner 61",null,0,null,null,null,null,null,null,null,0,1,1,1,1]
[null,"Owner 62",null,0,null,null,null,null,null,null,null,0,1,1,1,1]
[null,"Owner 63",null,0,null,null,null,null,null,null,null,0,1,1,1,1]
[null,"Owner 64",null,0,null,null,null,null,null,null,null,0,1,1,1,1]
[null,"Owner 65",null,0,null,null,null,null,null,null,null,0,1,1,1,1]
[null,"Owner 66",null,0,null,null,null,null,null,null,null,0,1,1,1,1]
[null,"Owner 67",null,0,null,null,null,null,null,null,null,0,1,1,1,1]
[null,"Owner 68",null,0,null,null,null,null,null,null,null,0,1,1,1,1]
[null,"Owner 69",null,0,null,null,null,null,null,null,null,0,1,1,1,1]
[null,"Owner 70",null,0,null,null,null,null,null,null,null,0,1,1,1,1]
[null,"Owner 71",null,0,null,null,null,null,null,null,null,0,1,1,1,1]
[null,"Owner 72",null,0,null,null,null,null,null,null,null,0,1,1,1,1]
[null,"Owner 73",null,0,null,null,null,null,null,null,null,0,1,1,1,1]
[null,"Owner 74",null,0,null,null,null,null,null,null,null,0,1,1,1,1]
[null,"Owner 75",null,0,null,null,null,null,null,null,null,0,1,1,1,1]
[null,"Owner 76",null,0,null,null,null,null,null,null,null,0,1,1,1,1]
[null,"Owner 77",null,0,null,null,null,null,null,null,null,0,1,1,1,1]
[null,"Owner 78",null,0,null,null,null,null,null,null,null,0,1,1,1,1]
[null,"Owner 79",null,0,null,null,null,null,null,null,null,0,1,1,1,1]
[null,"Owner 80",null,0,null,null,null,null,null,null,null,0,1,1,1,1]
[null,"Owner 81",null,0,null,null,null,null,null,null,null,0,1,1,1,1]
[null,"Owner 82",null,0,null,null,null,null,null,null,null,0,1,1,1,1]
[null,"Owner 83",null,0,null,null,null,null,null,null,null,0,1,1,1,1]
[null,"Owner 84",null,0,null,null,null,null,null,null,null,0,1,1,1,1]
[null,"Owner 85",null,0,null,null,null,null,null,null,null,0,1,1,1,1]
[null,"Owner 86",null,0,null,null,null,null,null,null,null,0,1,1,1,1]
[null,"Owner 87",null,0,null,null,null,null,null,null,null,0,1,1,1,1]
[null,"Owner 88",null,0,null,null,null,null,null,null,null,0,1,1,1,1]
[null,"Owner 89",null,0,null,null,null,null,null,null,null,0,1,1,1,1]
[null,"Owner 90",null,0,null,null,null,null,null,null,null,0,1,1,1,1]
[null,"Owner 91",null,0,null,null,null,null,null,null,null,0,1,1,1,1]
[null,"Owner 92",null,0,null,null,null,null,null,null,null,0,1,1,1,1]
[null,"Owner 93",null,0,null,null,null,null,null,null,null,0,1,1,1,1]
[null,"Owner 94",null,0,null,null,null,null,null,null,null,0,1,1,1,1]
[null,"Owner 95",null,0,null,null,null,null,null,null,null,0,1,1,1,1]
[null,"Owner 96",null,0,null,null,null,null,null,null,null,0,1,1,1,1]
[null,"Owner 97",null,0,null,null,null,null,null,null,null,0,1,1,1,1]
[null,"Owner 98",null,0,null,null,null,null,null,null,null,0,1,1,1,1]
[null,"Owner 99",null,0,null,null,null,null,null,null,null,0,1,1,1,1]
[null,"Owner 100",null,0,null,null,null,null,null,null,null,0,1,1,1,1]
[null,"List ends in the cell above."]

{"sheet":"Invoices","index":13,"n_rows":11,"n_cols":13,"rows_kept":11,"cut":false,"hidden":false,"merged":[]}
[]
[]
[null,null,"Invoices"]
[]
[]
[null,null,null,null,null,"Data"]
[null,"Client","Check Number","eBay Item Number","Item Title"," Purchase Price"," Commission Amount"," Refund or Additional Payment","Insertion Fee"," FVF + FVF Shipping"," Paypal Fee"," Shipping and Handling"," Net Profit"]
[null,"(blank)","0","(blank)","(blank)",0,0,0,0,0,0,0,0]
[null,null,"0 Total",null,null,0,0,0,0,0,0,0,0]
[null,"(blank) Total",null,null,null,0,0,0,0,0,0,0,0]
[null,"Grand Total",null,null,null,0,0,0,0,0,0,0,0]

{"sheet":"Checks","index":14,"n_rows":100,"n_cols":6,"rows_kept":100,"cut":false,"hidden":false,"merged":[]}
[null,"Checks Issued",null,"Count ",{"$f":"COUNTA(B4:B100)+4","v":4}]
[null,null,null,"Grand Total",{"$f":"SUM(E4:E100)","v":0}]
[null,"Check Number","Date","Status ","Amount","Client"]
[null,null,null,null,null,"My Item"]
[null,null,null,null,null,"My Item"]
[null,null,null,null,null,"My Item"]
[null,null,null,null,null,"My Item"]
[null,null,null,null,null,"My Item"]
[null,null,null,null,null,"My Item"]
[null,null,null,null,null,"My Item"]
[null,null,null,null,null,"My Item"]
[null,null,null,null,null,"My Item"]
[null,null,null,null,null,"My Item"]
[null,null,null,null,null,"My Item"]
[null,null,null,null,null,"My Item"]
[null,null,null,null,null,"My Item"]
[null,null,null,null,null,"My Item"]
[null,null,null,null,null,"My Item"]
[null,null,null,null,null,"My Item"]
[null,null,null,null,null,"My Item"]
[null,null,null,null,null,"My Item"]
[null,null,null,null,null,"My Item"]
[null,null,null,null,null,"My Item"]
[null,null,null,null,null,"My Item"]
[null,null,null,null,null,"My Item"]
[null,null,null,null,null,"My Item"]
[null,null,null,null,null,"My Item"]
[null,null,null,null,null,"My Item"]
[null,null,null,null,null,"My Item"]
[null,null,null,null,null,"My Item"]
[null,null,null,null,null,"My Item"]
[null,null,null,null,null,"My Item"]
[null,null,null,null,null,"My Item"]
[null,null,null,null,null,"My Item"]
[null,null,null,null,null,"My Item"]
[null,null,null,null,null,"My Item"]
[null,null,null,null,null,"My Item"]
[null,null,null,null,null,"My Item"]
[null,null,null,null,null,"My Item"]
[null,null,null,null,null,"My Item"]
[null,null,null,null,null,"My Item"]
[null,null,null,null,null,"My Item"]
[null,null,null,null,null,"My Item"]
[null,null,null,null,null,"My Item"]
[null,null,null,null,null,"My Item"]
[null,null,null,null,null,"My Item"]
[null,null,null,null,null,"My Item"]
[null,null,null,null,null,"My Item"]
[null,null,null,null,null,"My Item"]
[null,null,null,null,null,"My Item"]
[null,null,null,null,null,"My Item"]
[null,null,null,null,null,"My Item"]
[null,null,null,null,null,"My Item"]
[null,null,null,null,null,"My Item"]
[null,null,null,null,null,"My Item"]
[null,null,null,null,null,"My Item"]
[null,null,null,null,null,"My Item"]
[null,null,null,null,null,"My Item"]
[null,null,null,null,null,"My Item"]
[null,null,null,null,null,"My Item"]
[null,null,null,null,null,"My Item"]
[null,null,null,null,null,"My Item"]
[null,null,null,null,null,"My Item"]
[null,null,null,null,null,"My Item"]
[null,null,null,null,null,"My Item"]
[null,null,null,null,null,"My Item"]
[null,null,null,null,null,"My Item"]
[null,null,null,null,null,"My Item"]
[null,null,null,null,null,"My Item"]
[null,null,null,null,null,"My Item"]
[null,null,null,null,null,"My Item"]
[null,null,null,null,null,"My Item"]
[null,null,null,null,null,"My Item"]
[null,null,null,null,null,"My Item"]
[null,null,null,null,null,"My Item"]
[null,null,null,null,null,"My Item"]
[null,null,null,null,null,"My Item"]
[null,null,null,null,null,"My Item"]
[null,null,null,null,null,"My Item"]
[null,null,null,null,null,"My Item"]
[null,null,null,null,null,"My Item"]
[null,null,null,null,null,"My Item"]
[null,null,null,null,null,"My Item"]
[null,null,null,null,null,"My Item"]
[null,null,null,null,null,"My Item"]
[null,null,null,null,null,"My Item"]
[null,null,null,null,null,"My Item"]
[null,null,null,null,null,"My Item"]
[null,null,null,null,null,"My Item"]
[null,null,null,null,null,"My Item"]
[null,null,null,null,null,"My Item"]
[null,null,null,null,null,"My Item"]
[null,null,null,null,null,"My Item"]
[null,null,null,null,null,"My Item"]
[null,null,null,null,null,"My Item"]
[null,null,null,null,null,"My Item"]
[null,null,null,null,null,"My Item"]
[null,null,null,null,null,"My Item"]
[null,null,null,null,null,"My Item"]
[null,null,null,null,null,"My Item"]

{"sheet":"Donations","index":15,"n_rows":539,"n_cols":33,"rows_kept":539,"cut":false,"hidden":true,"merged":[[1,4,1,6],[1,7,1,9]]}
[]
[null,"Select Month","(All)",null,"Do not add data to this tab. All data entry should be made on the eBay Spreadsheet Tab."]
[]
[null,null,null,null,null,"Data"]
[null,"User","Charity","eBay Item Number","Donation         %"," Purchase Price"," Donation Amount"]
[null,"(blank)","(blank)","(blank)","(blank)",0,0]
[null,null,"(blank) Total",null,null,0,0]
[null,"(blank) Total",null,null,null,0,0]
[null,"Grand Total",null,null,null,0,0]
[]
[]
[]
[]
[]
[]
[]
[]
[]
[]
[]
[]
[]
[]
[]
[]
[]
[]
[]
[]
[]
[]
[]
[]
[]
[]
[]
[]
[]
[]
[]
[]
[]
[]
[]
[]
[]
[]
[]
[]
[]
[]
[]
[]
[]
[]
[]
[]
[]
[]
[]
[]
[]
[]
[]
[]
[]
[]
[]
[]
[]
[]
[]
[]
[]
[]
[]
[]
[]
[]
[]
[]
[]
[]
[]
[]
[]
[]
[]
[]
[]
[]
[]
[]
[]
[]
[]
[]
[]
[]
[]
[]
[]
[]
[]
[]
[]
[]
[]
[]
[]
[]
[]
[]
[]
[]
[]
[]
[]
[]
[]
[]
[]
[]
[]
[]
[]
[]
[]
[]
[]
[]
[]
[]
[]
[]
[]
[]
[]
[]
[]
[]
[]
[]
[]
[]
[]
[]
[]
[]
[]
[]
[]
[]
[]
[]
[]
[]
[]
[]
[]
[]
[]
[]
[]
[]
[]
[]
[]
[]
[]
[]
[]
[]
[]
[]
[]
[]
[]
[]
[]
[]
[]
[]
[]
[]
[]
[]
[]
[]
[]
[]
[]
[]
[]
[]
[]
[]
[]
[]
[]
[]
[]
[]
[]
[]
[]
[]
[]
[]
[]
[]
[]
[]
[]
[]
[]
[]
[]
[]
[]
[]
[]
[]
[]
[]
[]
[]
[]
[]
[]
[]
[]
[]
[]
[]
[]
[]
[]
[]
[]
[]
[]
[]
[]
[]
[]
[]
[]
[]
[]
[]
[]
[]
[]
[]
[]
[]
[]
[]
[]
[]
[]
[]
[]
[]
[]
[]
[]
[]
[]
[]
[]
[]
[]
[]
[]
[]
[]
[]
[]
[]
[]
[]
[]
[]
[]
[]
[]
[]
[]
[]
[]
[]
[]
[]
[]
[]
[]
[]
[]
[]
[]
[]
[]
[]
[]
[]
[]
[]
[]
[]
[]
[]
[]
[]
[]
[]
[]
[]
[]
[]
[]
[]
[]
[]
[]
[]
[]
[]
[]
[]
[]
[]
[]
[]
[]
[]
[]
[]
[]
[]
[]
[]
[]
[]
[]
[]
[]
[]
[]
[]
[]
[]
[]
[]
[]
[]
[]
[]
[]
[]
[]
[]
[]
[]
[]
[]
[]
[]
[]
[]
[]
[]
[]
[]
[]
[]
[]
[]
[]
[]
[]
[]
[]
[]
[]
[]
[]
[]
[]
[]
[]
[]
[]
[]
[]
[]
[]
[]
[]
[]
[]
[]
[]
[]
[]
[]
[]
[]
[]
[]
[]
[]
[]
[]
[]
[]
[]
[]
[]
[]
[]
[]
[]
[]
[]
[]
[]
[]
[]
[]
[]
[]
[]
[]
[]
[]
[]
[]
[]
[]
[]
[]
[]
[]
[]
[]
[]
[]
[]
[]
[]
[]
[]
[]
[]
[]
[]
[]
[]
[]
[]
[]
[]
[]
[]
[]
[]
[]
[]
[]
[]
[]
[]
[]
[]
[]
[]
[]
[]
[]
[]
[]
[]
[]
[]
[]
[]
[]
[]
[]
[]
[]
[]
[]
[]
[]
[]
[]
[]
[]
[]
[]
[]
[]
[]
[]
[]
[]
[]
[]
[]
[]
[]
[]
[]
[]
[]
[]
[]
[]
[]
[]
[]
[]
[]
[]
[]
[]
[]
[]
[]
[]
[]
[]
[]
[]
[]
[null,null,null,null,null,null,null,null,null,null,null,null,null,null,null,null,null,null,null,null,null,null,null,null,null,null,null,null,null,"260406357169","(blank)",0,0]

{"sheet":"eBay Fees","index":16,"n_rows":18,"n_cols":27,"rows_kept":18,"cut":false,"hidden":false,"merged":[]}
[{"$f":"SUBTOTAL(2,B:B)","v":0},"Record Count",{"$f":"COUNTA(INDEX(A:A,3):INDEX(A:A,50000))","v":0},null,"Select Year and Month to retrieve invoices older than 3 Months",{"$f":"SUM(INDEX(F:F,3):INDEX(F:F,$C$1+2))","v":0},{"$f":"SUM(INDEX(G:G,3):INDEX(G:G,$C$1+2))","v":0},{"$f":"SUM(INDEX(H:H,3):INDEX(H:H,$C$1+2))","v":0},null,null,null,null,null,null,{"$f":"Config!H19","v":"No Tokens Created"},{"$f":"Config!I19","v":0},{"$f":"Config!J19","v":0},{"$f":"Config!K19","v":0},{"$f":"Config!L19","v":0},"other",null,"Number of Items","eBay Item Number","Transaction #","Fee Type","Date","User"]
["eBay Item Number","Transaction #","Item Title","Fee Type","Date","Fee","Referral","FinalValue","VAT","User","OrderID","TransactionID","Month","2019-01-01T00:00:00.000Z","2019-01-01T00:00:00.000Z","2019-01-01T00:00:00.000Z","2019-01-01T00:00:00.000Z","2019-01-01T00:00:00.000Z","2019-01-01T00:00:00.000Z",null,null,{"$f":"DCOUNT(INDIRECT(\"A2:J\"&$C$1+5),\"eBay Item Number\",W1:AA2)","v":0}]
[]
[]
[null,null,null,null,null,null,null,null,null,null,null,null,null,null,null,null,null,null,null,null,null,null," "]
[null,null,null,null,null,null,null,null,null,null,null,null,null,null,"Listing Fees","Listing Fees","Listing Fees","Listing Fees","Listing Fees","Listing Fees","Total Listing Fees"]
[null,null,null,null,null,null,null,null,null,null,null,null,null,"Jan",{"$f":"SUMPRODUCT(($B$3:$B$50000<>111)*$F$3:$F$50000*($M$3:$M$50000=\"2019-01\")*($D$3:$D$50000<>\"FeeAUPostShippingLabel\")*($J$3:$J$50000=O1))","v":0},{"$f":"SUMPRODUCT(($B$3:$B$50000<>111)*$F$3:$F$50000*($M$3:$M$50000=\"2019-01\")*($D$3:$D$50000<>\"FeeAUPostShippingLabel\")*($J$3:$J$50000=P1))","v":0},0,0,0,{"$f":"SUMPRODUCT(($B$3:$B$50000<>111)*$F$3:$F$50000*($M$3:$M$50000=\"2019-01\")*($D$3:$D$50000<>\"FeeAUPostShippingLabel\"))-SUM(O7:S7)","v":0},{"$f":"SUM(O7:T7)","v":0}]
[null,null,null,null,null,null,null,null,null,null,null,null,null,"Feb",{"$f":"SUMPRODUCT(($B$3:$B$50000<>111)*$F$3:$F$50000*($M$3:$M$50000=\"2019-02\")*($D$3:$D$50000<>\"FeeAUPostShippingLabel\")*($J$3:$J$50000=O1))","v":0},{"$f":"SUMPRODUCT(($B$3:$B$50000<>111)*$F$3:$F$50000*($M$3:$M$50000=\"2019-02\")*($D$3:$D$50000<>\"FeeAUPostShippingLabel\")*($J$3:$J$50000=P1))","v":0},0,0,0,{"$f":"SUMPRODUCT(($B$3:$B$50000<>111)*$F$3:$F$50000*($M$3:$M$50000=\"2019-02\")*($D$3:$D$50000<>\"FeeAUPostShippingLabel\"))-SUM(O8:S8)","v":0},0]
[null,null,null,null,null,null,null,null,null,null,null,null,null,"Mar",{"$f":"SUMPRODUCT(($B$3:$B$50000<>111)*$F$3:$F$50000*($M$3:$M$50000=\"2019-03\")*($D$3:$D$50000<>\"FeeAUPostShippingLabel\")*($J$3:$J$50000=O1))","v":0},{"$f":"SUMPRODUCT(($B$3:$B$50000<>111)*$F$3:$F$50000*($M$3:$M$50000=\"2019-03\")*($D$3:$D$50000<>\"FeeAUPostShippingLabel\")*($J$3:$J$50000=P1))","v":0},0,0,{"$f":"SUMPRODUCT(($B$3:$B$50000<>111)*$F$3:$F$50000*($M$3:$M$50000=\"2019-03\")*($D$3:$D$50000<>\"FeeAUPostShippingLabel\")*($J$3:$J$50000=S2))","v":0},{"$f":"SUMPRODUCT(($B$3:$B$50000<>111)*$F$3:$F$50000*($M$3:$M$50000=\"2019-03\")*($D$3:$D$50000<>\"FeeAUPostShippingLabel\"))-SUM(O9:S9)","v":0},0]
[null,null,null,null,null,null,null,null,null,null,null,null,null,"Apr",{"$f":"SUMPRODUCT(($B$3:$B$50000<>111)*$F$3:$F$50000*($M$3:$M$50000=\"2019-04\")*($D$3:$D$50000<>\"FeeAUPostShippingLabel\")*($J$3:$J$50000=O1))","v":0},{"$f":"SUMPRODUCT(($B$3:$B$50000<>111)*$F$3:$F$50000*($M$3:$M$50000=\"2019-04\")*($D$3:$D$50000<>\"FeeAUPostShippingLabel\")*($J$3:$J$50000=P1))","v":0},0,0,0,{"$f":"SUMPRODUCT(($B$3:$B$50000<>111)*$F$3:$F$50000*($M$3:$M$50000=\"2019-04\")*($D$3:$D$50000<>\"FeeAUPostShippingLabel\"))-SUM(O10:S10)","v":0},0]
[null,null,null,null,null,null,null,null,null,null,null,null,null,"May",{"$f":"SUMPRODUCT(($B$3:$B$50000<>111)*$F$3:$F$50000*($M$3:$M$50000=\"2019-05\")*($D$3:$D$50000<>\"FeeAUPostShippingLabel\")*($J$3:$J$50000=O1))","v":0},{"$f":"SUMPRODUCT(($B$3:$B$50000<>111)*$F$3:$F$50000*($M$3:$M$50000=\"2019-05\")*($D$3:$D$50000<>\"FeeAUPostShippingLabel\")*($J$3:$J$50000=P1))","v":0},0,0,0,{"$f":"SUMPRODUCT(($B$3:$B$50000<>111)*$F$3:$F$50000*($M$3:$M$50000=\"2019-05\")*($D$3:$D$50000<>\"FeeAUPostShippingLabel\"))-SUM(O11:S11)","v":0},0]
[null,null,null,null,null,null,null,null,null,null,null,null,null,"Jun",{"$f":"SUMPRODUCT(($B$3:$B$50000<>111)*$F$3:$F$50000*($M$3:$M$50000=\"2019-06\")*($D$3:$D$50000<>\"FeeAUPostShippingLabel\")*($J$3:$J$50000=O1))","v":0},{"$f":"SUMPRODUCT(($B$3:$B$50000<>111)*$F$3:$F$50000*($M$3:$M$50000=\"2019-06\")*($D$3:$D$50000<>\"FeeAUPostShippingLabel\")*($J$3:$J$50000=P1))","v":0},0,0,0,{"$f":"SUMPRODUCT(($B$3:$B$50000<>111)*$F$3:$F$50000*($M$3:$M$50000=\"2019-06\")*($D$3:$D$50000<>\"FeeAUPostShippingLabel\"))-SUM(O12:S12)","v":0},0]
[null,null,null,null,null,null,null,null,null,null,null,null,null,"Jul",{"$f":"SUMPRODUCT(($B$3:$B$50000<>111)*$F$3:$F$50000*($M$3:$M$50000=\"2019-07\")*($D$3:$D$50000<>\"FeeAUPostShippingLabel\")*($J$3:$J$50000=O1))","v":0},{"$f":"SUMPRODUCT(($B$3:$B$50000<>111)*$F$3:$F$50000*($M$3:$M$50000=\"2019-07\")*($D$3:$D$50000<>\"FeeAUPostShippingLabel\")*($J$3:$J$50000=P1))","v":0},0,0,0,{"$f":"SUMPRODUCT(($B$3:$B$50000<>111)*$F$3:$F$50000*($M$3:$M$50000=\"2019-07\")*($D$3:$D$50000<>\"FeeAUPostShippingLabel\"))-SUM(O13:S13)","v":0},0]
[null,null,null,null,null,null,null,null,null,null,null,null,null,"Aug",{"$f":"SUMPRODUCT(($B$3:$B$50000<>111)*$F$3:$F$50000*($M$3:$M$50000=\"2019-08\")*($D$3:$D$50000<>\"FeeAUPostShippingLabel\")*($J$3:$J$50000=O1))","v":0},{"$f":"SUMPRODUCT(($B$3:$B$50000<>111)*$F$3:$F$50000*($M$3:$M$50000=\"2019-08\")*($D$3:$D$50000<>\"FeeAUPostShippingLabel\")*($J$3:$J$50000=P1))","v":0},0,0,0,{"$f":"SUMPRODUCT(($B$3:$B$50000<>111)*$F$3:$F$50000*($M$3:$M$50000=\"2019-08\")*($D$3:$D$50000<>\"FeeAUPostShippingLabel\"))-SUM(O14:S14)","v":0},0]
[null,null,null,null,null,null,null,null,null,null,null,null,null,"Sep",{"$f":"SUMPRODUCT(($B$3:$B$50000<>111)*$F$3:$F$50000*($M$3:$M$50000=\"2019-09\")*($D$3:$D$50000<>\"FeeAUPostShippingLabel\")*($J$3:$J$50000=O1))","v":0},{"$f":"SUMPRODUCT(($B$3:$B$50000<>111)*$F$3:$F$50000*($M$3:$M$50000=\"2019-09\")*($D$3:$D$50000<>\"FeeAUPostShippingLabel\")*($J$3:$J$50000=P1))","v":0},0,0,0,{"$f":"SUMPRODUCT(($B$3:$B$50000<>111)*$F$3:$F$50000*($M$3:$M$50000=\"2019-09\")*($D$3:$D$50000<>\"FeeAUPostShippingLabel\"))-SUM(O15:S15)","v":0},0]
[null,null,null,null,null,null,null,null,null,null,null,null,null,"Oct",{"$f":"SUMPRODUCT(($B$3:$B$50000<>111)*$F$3:$F$50000*($M$3:$M$50000=\"2019-10\")*($D$3:$D$50000<>\"FeeAUPostShippingLabel\")*($J$3:$J$50000=O1))","v":0},{"$f":"SUMPRODUCT(($B$3:$B$50000<>111)*$F$3:$F$50000*($M$3:$M$50000=\"2019-10\")*($D$3:$D$50000<>\"FeeAUPostShippingLabel\")*($J$3:$J$50000=P1))","v":0},0,0,0,{"$f":"SUMPRODUCT(($B$3:$B$50000<>111)*$F$3:$F$50000*($M$3:$M$50000=\"2019-10\")*($D$3:$D$50000<>\"FeeAUPostShippingLabel\"))-SUM(O16:S16)","v":0},0]
[null,null,null,null,null,null,null,null,null,null,null,null,null,"Nov",{"$f":"SUMPRODUCT(($B$3:$B$50000<>111)*$F$3:$F$50000*($M$3:$M$50000=\"2019-11\")*($D$3:$D$50000<>\"FeeAUPostShippingLabel\")*($J$3:$J$50000=O1))","v":0},{"$f":"SUMPRODUCT(($B$3:$B$50000<>111)*$F$3:$F$50000*($M$3:$M$50000=\"2019-11\")*($D$3:$D$50000<>\"FeeAUPostShippingLabel\")*($J$3:$J$50000=P1))","v":0},0,0,0,{"$f":"SUMPRODUCT(($B$3:$B$50000<>111)*$F$3:$F$50000*($M$3:$M$50000=\"2019-11\")*($D$3:$D$50000<>\"FeeAUPostShippingLabel\"))-SUM(O17:S17)","v":0},0]
[null,null,null,null,null,null,null,null,null,null,null,null,null,"Dec",{"$f":"SUMPRODUCT(($B$3:$B$50000<>111)*$F$3:$F$50000*($M$3:$M$50000=\"2019-12\")*($D$3:$D$50000<>\"FeeAUPostShippingLabel\")*($J$3:$J$50000=O1))","v":0},{"$f":"SUMPRODUCT(($B$3:$B$50000<>111)*$F$3:$F$50000*($M$3:$M$50000=\"2019-12\")*($D$3:$D$50000<>\"FeeAUPostShippingLabel\")*($J$3:$J$50000=P1))","v":0},0,0,0,{"$f":"SUMPRODUCT(($B$3:$B$50000<>111)*$F$3:$F$50000*($M$3:$M$50000=\"2019-12\")*($D$3:$D$50000<>\"FeeAUPostShippingLabel\"))-SUM(O18:S18)","v":0},0]

{"sheet":"Formulas","index":17,"n_rows":32,"n_cols":62,"rows_kept":32,"cut":false,"hidden":false,"merged":[]}
[]
[null,null,null,null,null,null,null,null,null,null,null,null,null,null,null,null,null,null,null,null,null,null,null,null,null,null,null,null,null,null,null,null,null,null,null,null,null,null,null,null,null,null,null,null,null,null,null,null,null,null,null,null,null,null,null,null,null,null,null,"Quick Tip: You can edit these formulas to customize your calculations",null,"Default Formulas"]
[null,"Column Header",null,null,null,null,null,null,null,null,null,null,null,null,null,null,null,null,null,null,null,null,null,null,null,null,null,null,null,null,null,null,null,null,null,null,null,null,null,null,null,null,null,null,null,null,null,null,null,null,null,null,null,null,null,null,null,null,null,"Formula used in calculation"]
[null,null,null,{"$f":"IF(ISERROR(MID(BH9,2,(FIND(\")\",BH9)-2))),0,MID(BH9,2,(FIND(\")\",BH9)-2)))","v":0}]
[null,"Insertion Fees ",null,null,null,null,null,null,null,null,null,null,null,null,null,null,null,null,null,null,null,null,null,null,null,null,null,null,null,null,null,null,null,null,null,null,null,null,null,null,null,null,null,null,null,null,null,null,null,null,null,null,null,null,null,null,null,null,null,{"$f":"IFERROR(SUMIFS('eBay Fees'!F:F,'eBay Fees'!A:A,INDEX(ItemIDCol,ROW()),'eBay Fees'!D:D,\"<>FeeAUPostShippingLabel\")*-1/COUNTIF(ItemIDCol,INDEX(ItemIDCol,ROW())),0)","v":0},null,{"$f":"IFERROR(SUMIFS('eBay Fees'!F:F,'eBay Fees'!A:A,INDEX(ItemIDCol,ROW()),'eBay Fees'!D:D,\"<>FeeAUPostShippingLabel\")*-1/COUNTIF(ItemIDCol,INDEX(ItemIDCol,ROW())),0)","v":0}]
[null,"Net Profit or Loss ",null,null,null,null,null,null,null,null,null,null,null,null,null,null,null,null,null,null,null,null,null,null,null,null,null,null,null,null,null,null,null,null,null,null,null,null,null,null,null,null,null,null,null,null,null,null,null,null,null,null,null,null,null,null,null,null,null,{"$f":"IF(INDEX(OwnerCol,ROW())=Clients!$B$4,INDEX(TransactionPriceCol,ROW())+INDEX(ShippingServiceCostCol,ROW())+INDEX(PaypalFeeCol,ROW())+INDEX(EbayFinalValueFeeCol,ROW())+INDEX(MyCostCol,ROW())+INDEX(ActualShippingCostCol,ROW())+INDEX(EbayInsertionFeeCol,ROW())+INDEX(RefundorCreditCol,ROW()),INDEX(CommissionCol,ROW())+INDEX(PaypalFeeCol,ROW())+INDEX(EbayInsertionFeeCol,ROW())+INDEX(EbayFinalValueFeeCol,ROW())+INDEX(ShippingServiceCostCol,ROW())+INDEX(ActualShippingCostCol,ROW())-INDEX(PaypalFeePTCol,ROW())-INDEX(InsertionFeePTCol,ROW())-INDEX(FinalValueFeePTCol,ROW())-INDEX(Blank1Col,ROW()))","v":{"$error":"#VALUE!"}},null,{"$f":"IF(INDEX(OwnerCol,ROW())=Clients!$B$4,INDEX(TransactionPriceCol,ROW())+INDEX(ShippingServiceCostCol,ROW())+INDEX(PaypalFeeCol,ROW())+INDEX(EbayFinalValueFeeCol,ROW())+INDEX(MyCostCol,ROW())+INDEX(ActualShippingCostCol,ROW())+INDEX(EbayInsertionFeeCol,ROW())+INDEX(RefundorCreditCol,ROW()),INDEX(CommissionCol,ROW())+INDEX(PaypalFeeCol,ROW())+INDEX(EbayInsertionFeeCol,ROW())+INDEX(EbayFinalValueFeeCol,ROW())+INDEX(ShippingServiceCostCol,ROW())+INDEX(ActualShippingCostCol,ROW())-INDEX(PaypalFeePTCol,ROW())-INDEX(InsertionFeePTCol,ROW())-INDEX(FinalValueFeePTCol,ROW())-INDEX(Blank1Col,ROW()))","v":{"$error":"#VALUE!"}}]
[null,"Month/Year",null,null,null,null,null,null,null,null,null,null,null,null,null,null,null,null,null,null,null,null,null,null,null,null,null,null,null,null,null,null,null,null,null,null,null,null,null,null,null,null,null,null,null,null,null,null,null,null,null,null,null,null,null,null,null,null,null,{"$f":"DATE(YEAR(INDEX(DateSoldCol,ROW())),MONTH(INDEX(DateSoldCol,ROW())),1)","v":1},null,{"$f":"DATE(YEAR(INDEX(DateSoldCol,ROW())),MONTH(INDEX(DateSoldCol,ROW())),1)","v":1}]
[null,"Final Value Fee",null,null,null,null,null,null,null,null,null,null,null,null,null,null,null,null,null,null,null,null,null,null,null,null,null,null,null,null,null,null,null,null,null,null,null,null,null,null,null,null,null,null,null,null,null,null,null,null,null,null,null,null,null,null,null,null,null,{"$f":"SUMIFS('eBay Fees'!H:H,'eBay Fees'!A:A,INDEX(ItemIDCol,ROW()),'eBay Fees'!K:K,CONCATENATE(INDEX(ItemIDCol,ROW()),\"-\",INDEX(TransactionIDCol,ROW())))*-1","v":0},null,{"$f":"SUMIFS('eBay Fees'!H:H,'eBay Fees'!A:A,INDEX(ItemIDCol,ROW()),'eBay Fees'!K:K,INDEX(OrderIDCol,ROW()))*-1","v":0}]
[null,"Selling Commission %",null,null,null,null,null,null,null,null,null,null,null,null,null,null,null,null,null,null,null,null,null,null,null,null,null,null,null,null,null,null,null,null,null,null,null,null,null,null,null,null,null,null,null,null,null,null,null,null,null,null,null,null,null,null,null,null,null,{"$f":"IF(VLOOKUP(INDEX(OwnerCol,ROW()),Clients!$B$4:$L$104,2,FALSE)<3,VLOOKUP(INDEX(OwnerCol,ROW()),Clients!$B$4:$L$104,3,FALSE),IF(INDEX(TransactionPriceCol,ROW())<=INDEX(CommSL1AmountCol,ROW()),INDEX(CommSL1PercentCol,ROW()),IF(INDEX(TransactionPriceCol,ROW())<=INDEX(CommSL2AmountCol,ROW()),INDEX(CommSL2PercentCol,ROW()),IF(INDEX(TransactionPriceCol,ROW())<=INDEX(CommSL3AmountCol,ROW()),INDEX(CommSL3PercentCol,ROW()),INDEX(CommSL4AmountCol,ROW())))))","v":{"$error":"#N/A"}},null,{"$f":"IF(VLOOKUP(INDEX(OwnerCol,ROW()),Clients!$B$4:$L$104,2,FALSE)<3,VLOOKUP(INDEX(OwnerCol,ROW()),Clients!$B$4:$L$104,3,FALSE),IF(INDEX(TransactionPriceCol,ROW())<=INDEX(CommSL1AmountCol,ROW()),INDEX(CommSL1PercentCol,ROW()),IF(INDEX(TransactionPriceCol,ROW())<=INDEX(CommSL2AmountCol,ROW()),INDEX(CommSL2PercentCol,ROW()),IF(INDEX(TransactionPriceCol,ROW())<=INDEX(CommSL3AmountCol,ROW()),INDEX(CommSL3PercentCol,ROW()),INDEX(CommSL4AmountCol,ROW())))))","v":{"$error":"#N/A"}}]
[null,"Commission Amount",null,null,null,null,null,null,null,null,null,null,null,null,null,null,null,null,null,null,null,null,null,null,null,null,null,null,null,null,null,null,null,null,null,null,null,null,null,null,null,null,null,null,null,null,null,null,null,null,null,null,null,null,null,null,null,null,null,{"$f":"ROUNDUP(IF(OR(VLOOKUP(INDEX(OwnerCol,ROW()),Clients!$B$4:$L$104,2,FALSE)=1,VLOOKUP(INDEX(OwnerCol,ROW()),Clients!$B$4:$L$104,2,FALSE)=3),IF((INDEX(PurchasePricePTCol,ROW())+INDEX(RefundorCreditCol,ROW()))*INDEX(PercentCommissionCol,ROW())<INDEX(CommSLMinCol,ROW()),INDEX(CommSLMinCol,ROW()),(INDEX(PurchasePricePTCol,ROW())+INDEX(RefundorCreditCol,ROW()))*INDEX(PercentCommissionCol,ROW())),IF((INDEX(PurchasePricePTCol,ROW())+INDEX(InsertionFeePTCol,ROW())+INDEX(FinalValueFeePTCol,ROW())+INDEX(PaypalFeePTCol,ROW())+INDEX(Blank1Col,ROW())+INDEX(RefundorCreditCol,ROW()))*INDEX(PercentCommissionCol,ROW())<INDEX(CommSLMinCol,ROW()),INDEX(CommSLMinCol,ROW()),(INDEX(PurchasePricePTCol,ROW())+INDEX(InsertionFeePTCol,ROW())+INDEX(FinalValueFeePTCol,ROW())+INDEX(PaypalFeePTCol,ROW())+INDEX(Blank1Col,ROW())+INDEX(RefundorCreditCol,ROW()))*INDEX(PercentCommissionCol,ROW()))),2)","v":{"$error":"#N/A"}},null,{"$f":"ROUNDUP(IF(OR(VLOOKUP(INDEX(OwnerCol,ROW()),Clients!$B$4:$L$104,2,FALSE)=1,VLOOKUP(INDEX(OwnerCol,ROW()),Clients!$B$4:$L$104,2,FALSE)=3),IF((INDEX(PurchasePricePTCol,ROW())+INDEX(RefundorCreditCol,ROW()))*INDEX(PercentCommissionCol,ROW())<INDEX(CommSLMinCol,ROW()),INDEX(CommSLMinCol,ROW()),(INDEX(PurchasePricePTCol,ROW())+INDEX(RefundorCreditCol,ROW()))*INDEX(PercentCommissionCol,ROW())),IF((INDEX(PurchasePricePTCol,ROW())+INDEX(InsertionFeePTCol,ROW())+INDEX(FinalValueFeePTCol,ROW())+INDEX(PaypalFeePTCol,ROW())+INDEX(Blank1Col,ROW())+INDEX(RefundorCreditCol,ROW()))*INDEX(PercentCommissionCol,ROW())<INDEX(CommSLMinCol,ROW()),INDEX(CommSLMinCol,ROW()),(INDEX(PurchasePricePTCol,ROW())+INDEX(InsertionFeePTCol,ROW())+INDEX(FinalValueFeePTCol,ROW())+INDEX(PaypalFeePTCol,ROW())+INDEX(Blank1Col,ROW())+INDEX(RefundorCreditCol,ROW()))*INDEX(PercentCommissionCol,ROW()))),2)","v":{"$error":"#N/A"}}]
[null,"Net Profit Invoice",null,null,null,null,null,null,null,null,null,null,null,null,null,null,null,null,null,null,null,null,null,null,null,null,null,null,null,null,null,null,null,null,null,null,null,null,null,null,null,null,null,null,null,null,null,null,null,null,null,null,null,null,null,null,null,null,null,{"$f":"IF(INDEX(OwnerCol,ROW())=Clients!$B$4,0,INDEX(PurchasePricePTCol,ROW())-INDEX(CommissionCol,ROW())+INDEX(InsertionFeePTCol,ROW())+INDEX(FinalValueFeePTCol,ROW())+INDEX(PaypalFeePTCol,ROW())+INDEX(Blank1Col,ROW())+INDEX(RefundorCreditCol,ROW()))","v":0},null,{"$f":"IF(INDEX(OwnerCol,ROW())=Clients!$B$4,0,INDEX(PurchasePricePTCol,ROW())-INDEX(CommissionCol,ROW())+INDEX(InsertionFeePTCol,ROW())+INDEX(FinalValueFeePTCol,ROW())+INDEX(PaypalFeePTCol,ROW())+INDEX(Blank1Col,ROW())+INDEX(RefundorCreditCol,ROW()))","v":0}]
[null,"Monthly Rev",null,null,null,null,null,null,null,null,null,null,null,null,null,null,null,null,null,null,null,null,null,null,null,null,null,null,null,null,null,null,null,null,null,null,null,null,null,null,null,null,null,null,null,null,null,null,null,null,null,null,null,null,null,null,null,null,null,{"$f":"INDEX(TransactionPriceCol,ROW())+INDEX(ShippingServiceCostCol,ROW())","v":0},null,{"$f":"INDEX(TransactionPriceCol,ROW())+INDEX(ShippingServiceCostCol,ROW())","v":0}]
[null,"Donation Amount",null,null,null,null,null,null,null,null,null,null,null,null,null,null,null,null,null,null,null,null,null,null,null,null,null,null,null,null,null,null,null,null,null,null,null,null,null,null,null,null,null,null,null,null,null,null,null,null,null,null,null,null,null,null,null,null,null,{"$f":"(INDEX(TransactionPriceCol,ROW()))*-INDEX(PercentCharityCol,ROW())","v":0},null,{"$f":"(INDEX(TransactionPriceCol,ROW()))*-INDEX(PercentCharityCol,ROW())","v":0}]
[null,"Purchase Price Pivot Table",null,null,null,null,null,null,null,null,null,null,null,null,null,null,null,null,null,null,null,null,null,null,null,null,null,null,null,null,null,null,null,null,null,null,null,null,null,null,null,null,null,null,null,null,null,null,null,null,null,null,null,null,null,null,null,null,null,{"$f":"IF(INDEX(OwnerCol,ROW())=Clients!$B$4,0,INDEX(TransactionPriceCol,ROW()))","v":0},null,{"$f":"IF(INDEX(OwnerCol,ROW())=Clients!$B$4,0,INDEX(TransactionPriceCol,ROW()))","v":0}]
[null,"Paypal Fee Pivot Table",null,null,null,null,null,null,null,null,null,null,null,null,null,null,null,null,null,null,null,null,null,null,null,null,null,null,null,null,null,null,null,null,null,null,null,null,null,null,null,null,null,null,null,null,null,null,null,null,null,null,null,null,null,null,null,null,null,{"$f":"IF(INDEX(OwnerCol,ROW())=Clients!$B$4,0,VLOOKUP(INDEX(OwnerCol,ROW()),Clients!$B$4:$P$104, 14, FALSE)*INDEX(PaypalFeeCol,ROW()))","v":{"$error":"#N/A"}},null,{"$f":"IF(INDEX(OwnerCol,ROW())=Clients!$B$4,0,VLOOKUP(INDEX(OwnerCol,ROW()),Clients!$B$4:$P$104, 14, FALSE)*INDEX(PaypalFeeCol,ROW()))","v":{"$error":"#N/A"}}]
[null,"Final Valve Fee Pivot Table",null,null,null,null,null,null,null,null,null,null,null,null,null,null,null,null,null,null,null,null,null,null,null,null,null,null,null,null,null,null,null,null,null,null,null,null,null,null,null,null,null,null,null,null,null,null,null,null,null,null,null,null,null,null,null,null,null,{"$f":"IF(INDEX(OwnerCol,ROW())=Clients!$B$4,0,VLOOKUP(INDEX(OwnerCol,ROW()),Clients!$B$4:$P$104,13,FALSE)*INDEX(EbayFinalValueFeeCol,ROW()))","v":{"$error":"#N/A"}},null,{"$f":"IF(INDEX(OwnerCol,ROW())=Clients!$B$4,0,VLOOKUP(INDEX(OwnerCol,ROW()),Clients!$B$4:$P$104,13,FALSE)*INDEX(EbayFinalValueFeeCol,ROW()))","v":{"$error":"#N/A"}}]
[null,"Insertion Fee Pivot Table",null,null,null,null,null,null,null,null,null,null,null,null,null,null,null,null,null,null,null,null,null,null,null,null,null,null,null,null,null,null,null,null,null,null,null,null,null,null,null,null,null,null,null,null,null,null,null,null,null,null,null,null,null,null,null,null,null,{"$f":"IF(INDEX(OwnerCol,ROW())=Clients!$B$4,0,VLOOKUP(INDEX(OwnerCol,ROW()),Clients!$B$4:$P$104,12,FALSE)*INDEX(EbayInsertionFeeCol,ROW()))","v":{"$error":"#N/A"}},null,{"$f":"IF(INDEX(OwnerCol,ROW())=Clients!$B$4,0,VLOOKUP(INDEX(OwnerCol,ROW()),Clients!$B$4:$P$104,12,FALSE)*INDEX(EbayInsertionFeeCol,ROW()))","v":{"$error":"#N/A"}}]
[null,"SKU Price",null,null,null,null,null,null,null,null,null,null,null,null,null,null,null,null,null,null,null,null,null,null,null,null,null,null,null,null,null,null,null,null,null,null,null,null,null,null,null,null,null,null,null,null,null,null,null,null,null,null,null,null,null,null,null,null,null,{"$f":"-IFERROR(VLOOKUP(INDEX(SKUCol,ROW()),Inventory!$F$4:$H$3992,3,FALSE)*INDEX(QuantityCol,ROW()),0)","v":0},null,{"$f":"-IFERROR(VLOOKUP(INDEX(SKUCol,ROW()),Inventory!$F$4:$H$4001,3,FALSE)*INDEX(QuantityCol,ROW()),0)","v":0}]
[null,"Final Value Fee"]
[null,"L1%",null,null,null,null,null,null,null,null,null,null,null,null,null,null,null,null,null,null,null,null,null,null,null,null,null,null,null,null,null,null,null,null,null,null,null,null,null,null,null,null,null,null,null,null,null,null,null,null,null,null,null,null,null,null,null,null,null,{"$f":"VLOOKUP(INDEX(OwnerCol,ROW()),Clients!$B$4:$L$104, 5, FALSE)","v":{"$error":"#N/A"}},null,{"$f":"VLOOKUP(INDEX(OwnerCol,ROW()),Clients!$B$4:$L$104, 5, FALSE)","v":{"$error":"#N/A"}}]
[null,"L1$",null,null,null,null,null,null,null,null,null,null,null,null,null,null,null,null,null,null,null,null,null,null,null,null,null,null,null,null,null,null,null,null,null,null,null,null,null,null,null,null,null,null,null,null,null,null,null,null,null,null,null,null,null,null,null,null,null,{"$f":"VLOOKUP(INDEX(OwnerCol,ROW()),Clients!$B$4:$L$104, 4, FALSE)","v":{"$error":"#N/A"}},null,{"$f":"VLOOKUP(INDEX(OwnerCol,ROW()),Clients!$B$4:$L$104, 4, FALSE)","v":{"$error":"#N/A"}}]
[null,"L2%",null,null,null,null,null,null,null,null,null,null,null,null,null,null,null,null,null,null,null,null,null,null,null,null,null,null,null,null,null,null,null,null,null,null,null,null,null,null,null,null,null,null,null,null,null,null,null,null,null,null,null,null,null,null,null,null,null,{"$f":"VLOOKUP(INDEX(OwnerCol,ROW()),Clients!$B$4:$L$104, 7, FALSE)","v":{"$error":"#N/A"}},null,{"$f":"VLOOKUP(INDEX(OwnerCol,ROW()),Clients!$B$4:$L$104, 7, FALSE)","v":{"$error":"#N/A"}}]
[null,"L2$",null,null,null,null,null,null,null,null,null,null,null,null,null,null,null,null,null,null,null,null,null,null,null,null,null,null,null,null,null,null,null,null,null,null,null,null,null,null,null,null,null,null,null,null,null,null,null,null,null,null,null,null,null,null,null,null,null,{"$f":"VLOOKUP(INDEX(OwnerCol,ROW()),Clients!$B$4:$L$104, 6, FALSE)","v":{"$error":"#N/A"}},null,{"$f":"VLOOKUP(INDEX(OwnerCol,ROW()),Clients!$B$4:$L$104, 6, FALSE)","v":{"$error":"#N/A"}}]
[null,"L3%",null,null,null,null,null,null,null,null,null,null,null,null,null,null,null,null,null,null,null,null,null,null,null,null,null,null,null,null,null,null,null,null,null,null,null,null,null,null,null,null,null,null,null,null,null,null,null,null,null,null,null,null,null,null,null,null,null,{"$f":"VLOOKUP(INDEX(OwnerCol,ROW()),Clients!$B$4:$L$104, 9, FALSE)","v":{"$error":"#N/A"}},null,{"$f":"VLOOKUP(INDEX(OwnerCol,ROW()),Clients!$B$4:$L$104, 9, FALSE)","v":{"$error":"#N/A"}}]
[null,"L3$",null,null,null,null,null,null,null,null,null,null,null,null,null,null,null,null,null,null,null,null,null,null,null,null,null,null,null,null,null,null,null,null,null,null,null,null,null,null,null,null,null,null,null,null,null,null,null,null,null,null,null,null,null,null,null,null,null,{"$f":"VLOOKUP(INDEX(OwnerCol,ROW()),Clients!$B$4:$L$104, 8, FALSE)","v":{"$error":"#N/A"}},null,{"$f":"VLOOKUP(INDEX(OwnerCol,ROW()),Clients!$B$4:$L$104, 8, FALSE)","v":{"$error":"#N/A"}}]
[null,">L4%",null,null,null,null,null,null,null,null,null,null,null,null,null,null,null,null,null,null,null,null,null,null,null,null,null,null,null,null,null,null,null,null,null,null,null,null,null,null,null,null,null,null,null,null,null,null,null,null,null,null,null,null,null,null,null,null,null,{"$f":"VLOOKUP(INDEX(OwnerCol,ROW()),Clients!$B$4:$L$104, 10, FALSE)","v":{"$error":"#N/A"}},null,{"$f":"VLOOKUP(INDEX(OwnerCol,ROW()),Clients!$B$4:$L$104, 10, FALSE)","v":{"$error":"#N/A"}}]
[null,"Min",null,null,null,null,null,null,null,null,null,null,null,null,null,null,null,null,null,null,null,null,null,null,null,null,null,null,null,null,null,null,null,null,null,null,null,null,null,null,null,null,null,null,null,null,null,null,null,null,null,null,null,null,null,null,null,null,null,{"$f":"VLOOKUP(INDEX(OwnerCol,ROW()),Clients!$B$4:$L$104, 11, FALSE)","v":{"$error":"#N/A"}},null,{"$f":"VLOOKUP(INDEX(OwnerCol,ROW()),Clients!$B$4:$L$104, 11, FALSE)","v":{"$error":"#N/A"}}]
[null,"SH",null,null,null,null,null,null,null,null,null,null,null,null,null,null,null,null,null,null,null,null,null,null,null,null,null,null,null,null,null,null,null,null,null,null,null,null,null,null,null,null,null,null,null,null,null,null,null,null,null,null,null,null,null,null,null,null,null,{"$f":"IF(INDEX(OwnerCol,ROW())=Clients!$B$4,0,IF(AND(VLOOKUP(INDEX(OwnerCol,ROW()),Clients!$B$4:$P$104,15,FALSE)=2,INDEX(ShippingServiceCostCol,ROW())=0),INDEX(ShippingServiceCostCol,ROW())+INDEX(ActualShippingCostCol,ROW()),IF(VLOOKUP(INDEX(OwnerCol,ROW()),Clients!$B$4:$P$104,15,FALSE)=1,INDEX(ShippingServiceCostCol,ROW())+INDEX(ActualShippingCostCol,ROW()),0)))","v":{"$error":"#N/A"}},null,{"$f":"IF(INDEX(OwnerCol,ROW())=Clients!$B$4,0,IF(AND(VLOOKUP(INDEX(OwnerCol,ROW()),Clients!$B$4:$P$104,15,FALSE)=2,INDEX(ShippingServiceCostCol,ROW())=0),INDEX(ShippingServiceCostCol,ROW())+INDEX(ActualShippingCostCol,ROW()),IF(VLOOKUP(INDEX(OwnerCol,ROW()),Clients!$B$4:$P$104,15,FALSE)=1,INDEX(ShippingServiceCostCol,ROW())+INDEX(ActualShippingCostCol,ROW()),0)))","v":{"$error":"#N/A"}}]
[null,"Variation"]
[null,"Blank 3"]
[null,"Blank 4"]
[null,"Blank 5"]

{"sheet":"Pivot Tables","index":18,"n_rows":14,"n_cols":17,"rows_kept":14,"cut":false,"hidden":true,"merged":[]}
[]
[null,"Day","Sales","SH Charged","Cost of Goods","Actual Shipping Costs","Listing Fees","Final Value Fees _ Final Value Fees on Shipping","Paypal Fees","Amount Due Consignors","Amount from Expenses Tab","Refunds_Additional Payments_TRS Discounts","TOTAL EXPENSES","Month","Gross Revenue","Net Profit","% Net Profit"]
[null,1,{"$f":"IFERROR(GETPIVOTDATA(\" Purchase Price\",'Yearly Summary 2'!$B$4,\"Month\",N3),0)","v":0},{"$f":"IFERROR(GETPIVOTDATA(\" S&H Charged\",'Yearly Summary 2'!$B$5,\"Month\",N3),0)","v":0},{"$f":"IFERROR(GETPIVOTDATA(\" My Cost\",'Yearly Summary 2'!$B$5,\"Month\",N3)*-1,0)","v":0},{"$f":"IFERROR(GETPIVOTDATA(\" Actual Shipping Cost \",'Yearly Summary 2'!$B$5,\"Month\",N3)*-1,0)","v":0},{"$f":"INDIRECT(\"'eBay Fees'!Q\"&B3+6)","v":0},{"$f":"IFERROR(GETPIVOTDATA(\" Final Value Fee + Final Value Fee on Shipping \",'Yearly Summary 2'!$B$5,\"Month\",N3)*-1,0)","v":0},{"$f":"IFERROR(GETPIVOTDATA(\" Paypal Fees \",'Yearly Summary 2'!$B$5,\"Month\",N3)*-1,0)","v":0},{"$f":"IFERROR(GETPIVOTDATA(\" Net Profit Invoice\",'Yearly Summary 2'!$B$5,\"Month\",N3),0)","v":0},{"$f":"IFERROR(GETPIVOTDATA(\"Cost\",Expenses!$L$3,\"Month\",N3),0)","v":0},{"$f":"-IFERROR(GETPIVOTDATA(\" Refund or Additional Payment\",'Yearly Summary 2'!$B$5,\"Month\",N3),0)","v":0},{"$f":"L3+K3+J3+I3+H3+G3+F3+E3","v":0},42736,{"$f":"C3+D3","v":0},{"$f":"O3-M3","v":0},{"$f":"IFERROR(P3/O3,0)","v":0}]
[null,2,{"$f":"IFERROR(GETPIVOTDATA(\" Purchase Price\",'Yearly Summary 2'!$B$4,\"Month\",N4),0)","v":0},{"$f":"IFERROR(GETPIVOTDATA(\" S&H Charged\",'Yearly Summary 2'!$B$5,\"Month\",N4),0)","v":0},{"$f":"IFERROR(GETPIVOTDATA(\" My Cost\",'Yearly Summary 2'!$B$5,\"Month\",N4)*-1,0)","v":0},{"$f":"IFERROR(GETPIVOTDATA(\" Actual Shipping Cost \",'Yearly Summary 2'!$B$5,\"Month\",N4)*-1,0)","v":0},0,{"$f":"IFERROR(GETPIVOTDATA(\" Final Value Fee + Final Value Fee on Shipping \",'Yearly Summary 2'!$B$5,\"Month\",N4)*-1,0)","v":0},{"$f":"IFERROR(GETPIVOTDATA(\" Paypal Fees \",'Yearly Summary 2'!$B$5,\"Month\",N4)*-1,0)","v":0},{"$f":"IFERROR(GETPIVOTDATA(\" Net Profit Invoice\",'Yearly Summary 2'!$B$5,\"Month\",N4),0)","v":0},{"$f":"IFERROR(GETPIVOTDATA(\"Cost\",Expenses!$L$3,\"Month\",N4),0)","v":0},{"$f":"-IFERROR(GETPIVOTDATA(\" Refund or Additional Payment\",'Yearly Summary 2'!$B$5,\"Month\",N4),0)","v":0},{"$f":"L4+K4+J4+I4+H4+G4+F4+E4","v":0},42767,0,0,0]
[null,3,{"$f":"IFERROR(GETPIVOTDATA(\" Purchase Price\",'Yearly Summary 2'!$B$4,\"Month\",N5),0)","v":0},{"$f":"IFERROR(GETPIVOTDATA(\" S&H Charged\",'Yearly Summary 2'!$B$5,\"Month\",N5),0)","v":0},{"$f":"IFERROR(GETPIVOTDATA(\" My Cost\",'Yearly Summary 2'!$B$5,\"Month\",N5)*-1,0)","v":0},{"$f":"IFERROR(GETPIVOTDATA(\" Actual Shipping Cost \",'Yearly Summary 2'!$B$5,\"Month\",N5)*-1,0)","v":0},0,{"$f":"IFERROR(GETPIVOTDATA(\" Final Value Fee + Final Value Fee on Shipping \",'Yearly Summary 2'!$B$5,\"Month\",N5)*-1,0)","v":0},{"$f":"IFERROR(GETPIVOTDATA(\" Paypal Fees \",'Yearly Summary 2'!$B$5,\"Month\",N5)*-1,0)","v":0},{"$f":"IFERROR(GETPIVOTDATA(\" Net Profit Invoice\",'Yearly Summary 2'!$B$5,\"Month\",N5),0)","v":0},{"$f":"IFERROR(GETPIVOTDATA(\"Cost\",Expenses!$L$3,\"Month\",N5),0)","v":0},{"$f":"-IFERROR(GETPIVOTDATA(\" Refund or Additional Payment\",'Yearly Summary 2'!$B$5,\"Month\",N5),0)","v":0},0,42795,0,0,0]
[null,4,{"$f":"IFERROR(GETPIVOTDATA(\" Purchase Price\",'Yearly Summary 2'!$B$4,\"Month\",N6),0)","v":0},{"$f":"IFERROR(GETPIVOTDATA(\" S&H Charged\",'Yearly Summary 2'!$B$5,\"Month\",N6),0)","v":0},{"$f":"IFERROR(GETPIVOTDATA(\" My Cost\",'Yearly Summary 2'!$B$5,\"Month\",N6)*-1,0)","v":0},{"$f":"IFERROR(GETPIVOTDATA(\" Actual Shipping Cost \",'Yearly Summary 2'!$B$5,\"Month\",N6)*-1,0)","v":0},0,{"$f":"IFERROR(GETPIVOTDATA(\" Final Value Fee + Final Value Fee on Shipping \",'Yearly Summary 2'!$B$5,\"Month\",N6)*-1,0)","v":0},{"$f":"IFERROR(GETPIVOTDATA(\" Paypal Fees \",'Yearly Summary 2'!$B$5,\"Month\",N6)*-1,0)","v":0},{"$f":"IFERROR(GETPIVOTDATA(\" Net Profit Invoice\",'Yearly Summary 2'!$B$5,\"Month\",N6),0)","v":0},{"$f":"IFERROR(GETPIVOTDATA(\"Cost\",Expenses!$L$3,\"Month\",N6),0)","v":0},{"$f":"-IFERROR(GETPIVOTDATA(\" Refund or Additional Payment\",'Yearly Summary 2'!$B$5,\"Month\",N6),0)","v":0},0,42826,0,0,0]
[null,5,{"$f":"IFERROR(GETPIVOTDATA(\" Purchase Price\",'Yearly Summary 2'!$B$4,\"Month\",N7),0)","v":0},{"$f":"IFERROR(GETPIVOTDATA(\" S&H Charged\",'Yearly Summary 2'!$B$5,\"Month\",N7),0)","v":0},{"$f":"IFERROR(GETPIVOTDATA(\" My Cost\",'Yearly Summary 2'!$B$5,\"Month\",N7)*-1,0)","v":0},{"$f":"IFERROR(GETPIVOTDATA(\" Actual Shipping Cost \",'Yearly Summary 2'!$B$5,\"Month\",N7)*-1,0)","v":0},0,{"$f":"IFERROR(GETPIVOTDATA(\" Final Value Fee + Final Value Fee on Shipping \",'Yearly Summary 2'!$B$5,\"Month\",N7)*-1,0)","v":0},{"$f":"IFERROR(GETPIVOTDATA(\" Paypal Fees \",'Yearly Summary 2'!$B$5,\"Month\",N7)*-1,0)","v":0},{"$f":"IFERROR(GETPIVOTDATA(\" Net Profit Invoice\",'Yearly Summary 2'!$B$5,\"Month\",N7),0)","v":0},{"$f":"IFERROR(GETPIVOTDATA(\"Cost\",Expenses!$L$3,\"Month\",N7),0)","v":0},{"$f":"-IFERROR(GETPIVOTDATA(\" Refund or Additional Payment\",'Yearly Summary 2'!$B$5,\"Month\",N7),0)","v":0},0,42856,0,0,0]
[null,6,{"$f":"IFERROR(GETPIVOTDATA(\" Purchase Price\",'Yearly Summary 2'!$B$4,\"Month\",N8),0)","v":0},{"$f":"IFERROR(GETPIVOTDATA(\" S&H Charged\",'Yearly Summary 2'!$B$5,\"Month\",N8),0)","v":0},{"$f":"IFERROR(GETPIVOTDATA(\" My Cost\",'Yearly Summary 2'!$B$5,\"Month\",N8)*-1,0)","v":0},{"$f":"IFERROR(GETPIVOTDATA(\" Actual Shipping Cost \",'Yearly Summary 2'!$B$5,\"Month\",N8)*-1,0)","v":0},0,{"$f":"IFERROR(GETPIVOTDATA(\" Final Value Fee + Final Value Fee on Shipping \",'Yearly Summary 2'!$B$5,\"Month\",N8)*-1,0)","v":0},{"$f":"IFERROR(GETPIVOTDATA(\" Paypal Fees \",'Yearly Summary 2'!$B$5,\"Month\",N8)*-1,0)","v":0},{"$f":"IFERROR(GETPIVOTDATA(\" Net Profit Invoice\",'Yearly Summary 2'!$B$5,\"Month\",N8),0)","v":0},{"$f":"IFERROR(GETPIVOTDATA(\"Cost\",Expenses!$L$3,\"Month\",N8),0)","v":0},{"$f":"-IFERROR(GETPIVOTDATA(\" Refund or Additional Payment\",'Yearly Summary 2'!$B$5,\"Month\",N8),0)","v":0},0,42887,0,0,0]
[null,7,{"$f":"IFERROR(GETPIVOTDATA(\" Purchase Price\",'Yearly Summary 2'!$B$4,\"Month\",N9),0)","v":0},{"$f":"IFERROR(GETPIVOTDATA(\" S&H Charged\",'Yearly Summary 2'!$B$5,\"Month\",N9),0)","v":0},{"$f":"IFERROR(GETPIVOTDATA(\" My Cost\",'Yearly Summary 2'!$B$5,\"Month\",N9)*-1,0)","v":0},{"$f":"IFERROR(GETPIVOTDATA(\" Actual Shipping Cost \",'Yearly Summary 2'!$B$5,\"Month\",N9)*-1,0)","v":0},0,{"$f":"IFERROR(GETPIVOTDATA(\" Final Value Fee + Final Value Fee on Shipping \",'Yearly Summary 2'!$B$5,\"Month\",N9)*-1,0)","v":0},{"$f":"IFERROR(GETPIVOTDATA(\" Paypal Fees \",'Yearly Summary 2'!$B$5,\"Month\",N9)*-1,0)","v":0},{"$f":"IFERROR(GETPIVOTDATA(\" Net Profit Invoice\",'Yearly Summary 2'!$B$5,\"Month\",N9),0)","v":0},{"$f":"IFERROR(GETPIVOTDATA(\"Cost\",Expenses!$L$3,\"Month\",N9),0)","v":0},{"$f":"-IFERROR(GETPIVOTDATA(\" Refund or Additional Payment\",'Yearly Summary 2'!$B$5,\"Month\",N9),0)","v":0},0,42917,0,0,0]
[null,8,{"$f":"IFERROR(GETPIVOTDATA(\" Purchase Price\",'Yearly Summary 2'!$B$4,\"Month\",N10),0)","v":0},{"$f":"IFERROR(GETPIVOTDATA(\" S&H Charged\",'Yearly Summary 2'!$B$5,\"Month\",N10),0)","v":0},{"$f":"IFERROR(GETPIVOTDATA(\" My Cost\",'Yearly Summary 2'!$B$5,\"Month\",N10)*-1,0)","v":0},{"$f":"IFERROR(GETPIVOTDATA(\" Actual Shipping Cost \",'Yearly Summary 2'!$B$5,\"Month\",N10)*-1,0)","v":0},0,{"$f":"IFERROR(GETPIVOTDATA(\" Final Value Fee + Final Value Fee on Shipping \",'Yearly Summary 2'!$B$5,\"Month\",N10)*-1,0)","v":0},{"$f":"IFERROR(GETPIVOTDATA(\" Paypal Fees \",'Yearly Summary 2'!$B$5,\"Month\",N10)*-1,0)","v":0},{"$f":"IFERROR(GETPIVOTDATA(\" Net Profit Invoice\",'Yearly Summary 2'!$B$5,\"Month\",N10),0)","v":0},{"$f":"IFERROR(GETPIVOTDATA(\"Cost\",Expenses!$L$3,\"Month\",N10),0)","v":0},{"$f":"-IFERROR(GETPIVOTDATA(\" Refund or Additional Payment\",'Yearly Summary 2'!$B$5,\"Month\",N10),0)","v":0},0,42948,0,0,0]
[null,9,{"$f":"IFERROR(GETPIVOTDATA(\" Purchase Price\",'Yearly Summary 2'!$B$4,\"Month\",N11),0)","v":0},{"$f":"IFERROR(GETPIVOTDATA(\" S&H Charged\",'Yearly Summary 2'!$B$5,\"Month\",N11),0)","v":0},{"$f":"IFERROR(GETPIVOTDATA(\" My Cost\",'Yearly Summary 2'!$B$5,\"Month\",N11)*-1,0)","v":0},{"$f":"IFERROR(GETPIVOTDATA(\" Actual Shipping Cost \",'Yearly Summary 2'!$B$5,\"Month\",N11)*-1,0)","v":0},0,{"$f":"IFERROR(GETPIVOTDATA(\" Final Value Fee + Final Value Fee on Shipping \",'Yearly Summary 2'!$B$5,\"Month\",N11)*-1,0)","v":0},{"$f":"IFERROR(GETPIVOTDATA(\" Paypal Fees \",'Yearly Summary 2'!$B$5,\"Month\",N11)*-1,0)","v":0},{"$f":"IFERROR(GETPIVOTDATA(\" Net Profit Invoice\",'Yearly Summary 2'!$B$5,\"Month\",N11),0)","v":0},{"$f":"IFERROR(GETPIVOTDATA(\"Cost\",Expenses!$L$3,\"Month\",N11),0)","v":0},{"$f":"-IFERROR(GETPIVOTDATA(\" Refund or Additional Payment\",'Yearly Summary 2'!$B$5,\"Month\",N11),0)","v":0},0,42979,0,0,0]
[null,10,{"$f":"IFERROR(GETPIVOTDATA(\" Purchase Price\",'Yearly Summary 2'!$B$4,\"Month\",N12),0)","v":0},{"$f":"IFERROR(GETPIVOTDATA(\" S&H Charged\",'Yearly Summary 2'!$B$5,\"Month\",N12),0)","v":0},{"$f":"IFERROR(GETPIVOTDATA(\" My Cost\",'Yearly Summary 2'!$B$5,\"Month\",N12)*-1,0)","v":0},{"$f":"IFERROR(GETPIVOTDATA(\" Actual Shipping Cost \",'Yearly Summary 2'!$B$5,\"Month\",N12)*-1,0)","v":0},0,{"$f":"IFERROR(GETPIVOTDATA(\" Final Value Fee + Final Value Fee on Shipping \",'Yearly Summary 2'!$B$5,\"Month\",N12)*-1,0)","v":0},{"$f":"IFERROR(GETPIVOTDATA(\" Paypal Fees \",'Yearly Summary 2'!$B$5,\"Month\",N12)*-1,0)","v":0},{"$f":"IFERROR(GETPIVOTDATA(\" Net Profit Invoice\",'Yearly Summary 2'!$B$5,\"Month\",N12),0)","v":0},{"$f":"IFERROR(GETPIVOTDATA(\"Cost\",Expenses!$L$3,\"Month\",N12),0)","v":0},{"$f":"-IFERROR(GETPIVOTDATA(\" Refund or Additional Payment\",'Yearly Summary 2'!$B$5,\"Month\",N12),0)","v":0},0,43009,0,0,0]
[null,11,{"$f":"IFERROR(GETPIVOTDATA(\" Purchase Price\",'Yearly Summary 2'!$B$4,\"Month\",N13),0)","v":0},{"$f":"IFERROR(GETPIVOTDATA(\" S&H Charged\",'Yearly Summary 2'!$B$5,\"Month\",N13),0)","v":0},{"$f":"IFERROR(GETPIVOTDATA(\" My Cost\",'Yearly Summary 2'!$B$5,\"Month\",N13)*-1,0)","v":0},{"$f":"IFERROR(GETPIVOTDATA(\" Actual Shipping Cost \",'Yearly Summary 2'!$B$5,\"Month\",N13)*-1,0)","v":0},0,{"$f":"IFERROR(GETPIVOTDATA(\" Final Value Fee + Final Value Fee on Shipping \",'Yearly Summary 2'!$B$5,\"Month\",N13)*-1,0)","v":0},{"$f":"IFERROR(GETPIVOTDATA(\" Paypal Fees \",'Yearly Summary 2'!$B$5,\"Month\",N13)*-1,0)","v":0},{"$f":"IFERROR(GETPIVOTDATA(\" Net Profit Invoice\",'Yearly Summary 2'!$B$5,\"Month\",N13),0)","v":0},{"$f":"IFERROR(GETPIVOTDATA(\"Cost\",Expenses!$L$3,\"Month\",N13),0)","v":0},{"$f":"-IFERROR(GETPIVOTDATA(\" Refund or Additional Payment\",'Yearly Summary 2'!$B$5,\"Month\",N13),0)","v":0},0,43040,0,0,0]
[null,12,{"$f":"IFERROR(GETPIVOTDATA(\" Purchase Price\",'Yearly Summary 2'!$B$4,\"Month\",N14),0)","v":0},{"$f":"IFERROR(GETPIVOTDATA(\" S&H Charged\",'Yearly Summary 2'!$B$5,\"Month\",N14),0)","v":0},{"$f":"IFERROR(GETPIVOTDATA(\" My Cost\",'Yearly Summary 2'!$B$5,\"Month\",N14)*-1,0)","v":0},{"$f":"IFERROR(GETPIVOTDATA(\" Actual Shipping Cost \",'Yearly Summary 2'!$B$5,\"Month\",N14)*-1,0)","v":0},0,{"$f":"IFERROR(GETPIVOTDATA(\" Final Value Fee + Final Value Fee on Shipping \",'Yearly Summary 2'!$B$5,\"Month\",N14)*-1,0)","v":0},{"$f":"IFERROR(GETPIVOTDATA(\" Paypal Fees \",'Yearly Summary 2'!$B$5,\"Month\",N14)*-1,0)","v":0},{"$f":"IFERROR(GETPIVOTDATA(\" Net Profit Invoice\",'Yearly Summary 2'!$B$5,\"Month\",N14),0)","v":0},{"$f":"IFERROR(GETPIVOTDATA(\"Cost\",Expenses!$L$3,\"Month\",N14),0)","v":0},{"$f":"-IFERROR(GETPIVOTDATA(\" Refund or Additional Payment\",'Yearly Summary 2'!$B$5,\"Month\",N14),0)","v":0},0,43070,0,0,0]

{"sheet":"References","index":19,"n_rows":10,"n_cols":7,"rows_kept":10,"cut":false,"hidden":true,"merged":[]}
[]
[]
[]
[]
["Count","Name","Description","GUID","Major","Minor","Full path"]
[1,"VBA","Visual Basic For Applications","{000204EF-0000-0000-C000-000000000046}",4,1,"C:\\PROGRA~1\\COMMON~1\\MICROS~1\\VBA\\VBA7\\VBE7.DLL"]
[2,"Excel","Microsoft Excel 14.0 Object Library","{00020813-0000-0000-C000-000000000046}",1,7,"C:\\Program Files\\Microsoft Office\\Office14\\EXCEL.EXE"]
[3,"MSForms","Microsoft Forms 2.0 Object Library","{0D452EE1-E08F-101A-852E-02608C4D0BB4}",2,0,"C:\\Program Files\\Microsoft Office\\Root\\VFS\\System\\FM20.DLL"]
[4,"MSXML2","Microsoft XML, v3.0","{F5078F18-C551-11D3-89B9-0000F81FE221}",3,0,"C:\\Windows\\System32\\msxml3.dll"]
[5,"Office","Microsoft Office 14.0 Object Library","{2DF8D04C-5BFA-101B-BDE5-00AA0044DE52}",2,5,"C:\\Program Files\\Common Files\\Microsoft Shared\\OFFICE14\\MSO.DLL"]

{"sheet":"Yearly Summary 2","index":20,"n_rows":9,"n_cols":23,"rows_kept":9,"cut":false,"hidden":true,"merged":[[1,6,1,9],[1,10,1,13]]}
[]
[null,"Summary",null,null,null,null,"Do not add data to this tab. All data entry should  be made on the eBay Spreadsheet Tab."]
[]
[null,null,null,null,"Data",null,null,null,null,null,null,null,null,null,null,null,null,null,null,null,null,"Data"]
[null,"Month","User","Buyers State / Province"," Purchase Price"," My Cost"," Comm."," Refund or Additional Payment"," Insertion Fees"," Paypal Fees "," Final Value Fee + Final Value Fee on Shipping "," S&H Charged"," Actual Shipping Cost "," Net Profit"," Net Profit Invoice"," Sales Tax Collected",null,null,null,null,"Buyers State / Province","Sum of Purchase Price","Sum of Sales Tax Collected"]
[null,"(blank)","(blank)","(blank)",0,0,0,0,0,0,0,0,0,0,0,0,null,null,null,null,"(blank)"]
[null,null,"(blank) Total",null,0,0,0,0,0,0,0,0,0,0,0,0,null,null,null,null,"Grand Total"]
[null,"(blank) Total",null,null,0,0,0,0,0,0,0,0,0,0,0,0]
[null,"Grand Total",null,null,0,0,0,0,0,0,0,0,0,0,0,0]

{"sheet":"Config","index":21,"n_rows":33,"n_cols":19,"rows_kept":33,"cut":false,"hidden":true,"merged":[]}
[null,null,null,null,"Updated Col References",0]
["Months",null,null,null,"Disable Shipping Prompt",true,null,null,null,null,"Site Code","Daylight Saving 1","Offset","Daylight Saving 2","Offset","Daylight Saving 3","Offset","Daylight Saving 4","Offset"]
["January",2018,null,null,"Shipping Error",false,null,null,null,"US",0,43466,-8,43534.083333333336,-7,43772.083333333336,-7,43830,-8]
["February",2019,null,null,"Do Not Get Unsold Items",true,null,null,null,"CA",2,43466,{"$f":"M3+3","v":-5},43534.083333333336,{"$f":"O3+3","v":-4},43772.083333333336,{"$f":"Q3+3","v":-4},43830,{"$f":"S3+3","v":-5}]
["March",2020,null,null,"Changing Layout",false,null,null,null,"UK",3,43466,{"$f":"M3+8","v":0},43555.041666666664,{"$f":"O3+8","v":1},43765.083333333336,{"$f":"Q3+8","v":1},43830,{"$f":"S3+8","v":0}]
["April",null,null,null,"Pull all Token",false,null,null,null,"AU",15,43466,{"$f":"M3+17","v":9},43562.125,{"$f":"O3+17","v":10},43744.083333333336,{"$f":"Q3+17","v":10},43830,{"$f":"S3+17","v":9}]
["May"]
["June"]
["July"]
["August"]
["September"]
["October"]
["November"]
["December"]
[]
["Month Selected","Year Selected",null,null,null,null,null,"2019-01-01T00:00:00.000Z"]
[1,2,null,null,null,null,"Last Updated"]
[null,{"$f":"INDEX(B3:B14,B17,0)","v":2019},null,null,null,null,{"$f":"IF(H19= \"No Tokens Created\", 0,COUNTA(H19:L19))","v":0},1]
[null,null,null,null,null,null,"Alias","No Tokens Created"]
[null,null,null,null,null,null,"Expiration Date"]
["Daylight Saving Date",null,null,null,null,null,"Auth Token"]
[{"$f":"IF($B$33=1,L3,IF($B$33=2,L4,IF($B$33=3,L5,L6)))","v":43466},{"$f":"IF($B$33=1,M3,IF($B$33=2,M4,IF($B$33=3,M5,M6)))","v":-8},null,null,null,null,"App ID"]
[{"$f":"IF($B$33=1,N3,IF($B$33=2,N4,IF($B$33=3,N5,N6)))","v":43534.083333333336},{"$f":"IF($B$33=1,O3,IF($B$33=2,O4,IF($B$33=3,O5,O6)))","v":-7},null,null,null,null,"Unlock Code"]
[{"$f":"IF($B$33=1,P3,IF($B$33=2,P4,IF($B$33=3,P5,P6)))","v":43772.083333333336},{"$f":"IF($B$33=1,Q3,IF($B$33=2,Q4,IF($B$33=3,Q5,Q6)))","v":-7},null,null,null,null,"Year Code",58293]
[{"$f":"IF($B$33=1,R3,IF($B$33=2,R4,IF($B$33=3,R5,R6)))","v":43830},{"$f":"IF($B$33=1,S3,IF($B$33=2,S4,IF($B$33=3,S5,S6)))","v":-8},null,null,null,null,"App ID Created"]
[]
["Site ID",{"$f":"IF($B$33=1,K3,IF($B$33=2,K4,IF($B$33=3,K5,K6)))","v":0},null,null,null,null,"Dropdown 1",{"$f":"IF(H19=0,\"\",H19)","v":"No Tokens Created"}]
[null,"US",0,null,null,null,"Dropdown 2",{"$f":"IF(I19=0,\"\",I19)","v":""}]
[null,"CA",2,null,null,null,"Dropdown 3",{"$f":"IF(J19=0,\"\",J19)","v":""}]
[null,"UK",3,null,null,null,"Dropdown 4",{"$f":"IF(K19=0,\"\",K19)","v":""}]
[null,"AU",15,null,null,null,"Dropdown 5",{"$f":"IF(L19=0,\"\",L19)","v":""}]
[]
[null,1]